{"text_format":"1","workbook":"xlsx","n_sheets":6,"sheets":["Blad1","IN","Tidsram","Blad3","UT","Blad2"],"not_rendered":{"charts":0,"images":0,"macros":1,"external_links":0,"defined_names":0,"comments":0,"pivot_tables":0},"unopened":[],"bounds":{"document_bytes":16777216,"sheet_cells":100000,"rows_first":2000,"rows_last":500,"rows_between":2000,"halvings":0,"cell_chars":16384,"cell_head_chars":4096},"cells_cut":0,"cells_raw":0,"read":"whole","date_system":"1900"}

{"sheet":"Blad1","index":0,"n_rows":3503,"n_cols":5,"rows_kept":3503,"cut":false,"hidden":true,"merged":[]}
[]
[]
[]
["FRÅNVARO",{"$f":"IN!B4","v":0},{"$f":"Blad3!E4","v":""},{"$f":"Blad3!G4","v":0},"Oanmäld frånvaro"]
["FRÅNVARO",{"$f":"IN!B5","v":0},{"$f":"Blad3!E5","v":""},{"$f":"Blad3!G5","v":0},"Oanmäld frånvaro"]
["FRÅNVARO",{"$f":"IN!B6","v":0},{"$f":"Blad3!E6","v":""},{"$f":"Blad3!G6","v":0},"Oanmäld frånvaro"]
["FRÅNVARO",{"$f":"IN!B7","v":0},{"$f":"Blad3!E7","v":""},{"$f":"Blad3!G7","v":0},"Oanmäld frånvaro"]
["FRÅNVARO",{"$f":"IN!B8","v":0},{"$f":"Blad3!E8","v":""},{"$f":"Blad3!G8","v":0},"Oanmäld frånvaro"]
["FRÅNVARO",{"$f":"IN!B9","v":0},{"$f":"Blad3!E9","v":""},{"$f":"Blad3!G9","v":0},"Oanmäld frånvaro"]
["FRÅNVARO",{"$f":"IN!B10","v":0},{"$f":"Blad3!E10","v":""},{"$f":"Blad3!G10","v":0},"Oanmäld frånvaro"]
["FRÅNVARO",{"$f":"IN!B11","v":0},{"$f":"Blad3!E11","v":""},{"$f":"Blad3!G11","v":0},"Oanmäld frånvaro"]
["FRÅNVARO",{"$f":"IN!B12","v":0},{"$f":"Blad3!E12","v":""},{"$f":"Blad3!G12","v":0},"Oanmäld frånvaro"]
["FRÅNVARO",{"$f":"IN!B13","v":0},{"$f":"Blad3!E13","v":""},{"$f":"Blad3!G13","v":0},"Oanmäld frånvaro"]
["FRÅNVARO",{"$f":"IN!B14","v":0},{"$f":"Blad3!E14","v":""},{"$f":"Blad3!G14","v":0},"Oanmäld frånvaro"]
["FRÅNVARO",{"$f":"IN!B15","v":0},{"$f":"Blad3!E15","v":""},{"$f":"Blad3!G15","v":0},"Oanmäld frånvaro"]
["FRÅNVARO",{"$f":"IN!B16","v":0},{"$f":"Blad3!E16","v":""},{"$f":"Blad3!G16","v":0},"Oanmäld frånvaro"]
["FRÅNVARO",{"$f":"IN!B17","v":0},{"$f":"Blad3!E17","v":""},{"$f":"Blad3!G17","v":0},"Oanmäld frånvaro"]
["FRÅNVARO",{"$f":"IN!B18","v":0},{"$f":"Blad3!E18","v":""},{"$f":"Blad3!G18","v":0},"Oanmäld frånvaro"]
["FRÅNVARO",{"$f":"IN!B19","v":0},{"$f":"Blad3!E19","v":""},{"$f":"Blad3!G19","v":0},"Oanmäld frånvaro"]
["FRÅNVARO",{"$f":"IN!B20","v":0},{"$f":"Blad3!E20","v":""},{"$f":"Blad3!G20","v":0},"Oanmäld frånvaro"]
["FRÅNVARO",{"$f":"IN!B21","v":0},{"$f":"Blad3!E21","v":""},{"$f":"Blad3!G21","v":0},"Oanmäld frånvaro"]
["FRÅNVARO",{"$f":"IN!B22","v":0},{"$f":"Blad3!E22","v":""},{"$f":"Blad3!G22","v":0},"Oanmäld frånvaro"]
["FRÅNVARO",{"$f":"IN!B23","v":0},{"$f":"Blad3!E23","v":""},{"$f":"Blad3!G23","v":0},"Oanmäld frånvaro"]
["FRÅNVARO",{"$f":"IN!B24","v":0},{"$f":"Blad3!E24","v":""},{"$f":"Blad3!G24","v":0},"Oanmäld frånvaro"]
["FRÅNVARO",{"$f":"IN!B25","v":0},{"$f":"Blad3!E25","v":""},{"$f":"Blad3!G25","v":0},"Oanmäld frånvaro"]
["FRÅNVARO",{"$f":"IN!B26","v":0},{"$f":"Blad3!E26","v":""},{"$f":"Blad3!G26","v":0},"Oanmäld frånvaro"]
["FRÅNVARO",{"$f":"IN!B27","v":0},{"$f":"Blad3!E27","v":""},{"$f":"Blad3!G27","v":0},"Oanmäld frånvaro"]
["FRÅNVARO",{"$f":"IN!B28","v":0},{"$f":"Blad3!E28","v":""},{"$f":"Blad3!G28","v":0},"Oanmäld frånvaro"]
["FRÅNVARO",{"$f":"IN!B29","v":0},{"$f":"Blad3!E29","v":""},{"$f":"Blad3!G29","v":0},"Oanmäld frånvaro"]
["FRÅNVARO",{"$f":"IN!B30","v":0},{"$f":"Blad3!E30","v":""},{"$f":"Blad3!G30","v":0},"Oanmäld frånvaro"]
["FRÅNVARO",{"$f":"IN!B31","v":0},{"$f":"Blad3!E31","v":""},{"$f":"Blad3!G31","v":0},"Oanmäld frånvaro"]
["FRÅNVARO",{"$f":"IN!B32","v":0},{"$f":"Blad3!E32","v":""},{"$f":"Blad3!G32","v":0},"Oanmäld frånvaro"]
["FRÅNVARO",{"$f":"IN!B33","v":0},{"$f":"Blad3!E33","v":""},{"$f":"Blad3!G33","v":0},"Oanmäld frånvaro"]
["FRÅNVARO",{"$f":"IN!B34","v":0},{"$f":"Blad3!E34","v":""},{"$f":"Blad3!G34","v":0},"Oanmäld frånvaro"]
["FRÅNVARO",{"$f":"IN!B35","v":0},{"$f":"Blad3!E35","v":""},{"$f":"Blad3!G35","v":0},"Oanmäld frånvaro"]
["FRÅNVARO",{"$f":"IN!B36","v":0},{"$f":"Blad3!E36","v":""},{"$f":"Blad3!G36","v":0},"Oanmäld frånvaro"]
["FRÅNVARO",{"$f":"IN!B37","v":0},{"$f":"Blad3!E37","v":""},{"$f":"Blad3!G37","v":0},"Oanmäld frånvaro"]
["FRÅNVARO",{"$f":"IN!B38","v":0},{"$f":"Blad3!E38","v":""},{"$f":"Blad3!G38","v":0},"Oanmäld frånvaro"]
["FRÅNVARO",{"$f":"IN!B39","v":0},{"$f":"Blad3!E39","v":""},{"$f":"Blad3!G39","v":0},"Oanmäld frånvaro"]
["FRÅNVARO",{"$f":"IN!B40","v":0},{"$f":"Blad3!E40","v":""},{"$f":"Blad3!G40","v":0},"Oanmäld frånvaro"]
["FRÅNVARO",{"$f":"IN!B41","v":0},{"$f":"Blad3!E41","v":""},{"$f":"Blad3!G41","v":0},"Oanmäld frånvaro"]
["FRÅNVARO",{"$f":"IN!B42","v":0},{"$f":"Blad3!E42","v":""},{"$f":"Blad3!G42","v":0},"Oanmäld frånvaro"]
["FRÅNVARO",{"$f":"IN!B43","v":0},{"$f":"Blad3!E43","v":""},{"$f":"Blad3!G43","v":0},"Oanmäld frånvaro"]
["FRÅNVARO",{"$f":"IN!B44","v":0},{"$f":"Blad3!E44","v":""},{"$f":"Blad3!G44","v":0},"Oanmäld frånvaro"]
["FRÅNVARO",{"$f":"IN!B45","v":0},{"$f":"Blad3!E45","v":""},{"$f":"Blad3!G45","v":0},"Oanmäld frånvaro"]
["FRÅNVARO",{"$f":"IN!B46","v":0},{"$f":"Blad3!E46","v":""},{"$f":"Blad3!G46","v":0},"Oanmäld frånvaro"]
["FRÅNVARO",{"$f":"IN!B47","v":0},{"$f":"Blad3!E47","v":""},{"$f":"Blad3!G47","v":0},"Oanmäld frånvaro"]
["FRÅNVARO",{"$f":"IN!B48","v":0},{"$f":"Blad3!E48","v":""},{"$f":"Blad3!G48","v":0},"Oanmäld frånvaro"]
["FRÅNVARO",{"$f":"IN!B49","v":0},{"$f":"Blad3!E49","v":""},{"$f":"Blad3!G49","v":0},"Oanmäld frånvaro"]
["FRÅNVARO",{"$f":"IN!B50","v":0},{"$f":"Blad3!E50","v":""},{"$f":"Blad3!G50","v":0},"Oanmäld frånvaro"]
["FRÅNVARO",{"$f":"IN!B51","v":0},{"$f":"Blad3!E51","v":""},{"$f":"Blad3!G51","v":0},"Oanmäld frånvaro"]
["FRÅNVARO",{"$f":"IN!B52","v":0},{"$f":"Blad3!E52","v":""},{"$f":"Blad3!G52","v":0},"Oanmäld frånvaro"]
["FRÅNVARO",{"$f":"IN!B53","v":0},{"$f":"Blad3!E53","v":""},{"$f":"Blad3!G53","v":0},"Oanmäld frånvaro"]
["FRÅNVARO",{"$f":"IN!B54","v":0},{"$f":"Blad3!E54","v":""},{"$f":"Blad3!G54","v":0},"Oanmäld frånvaro"]
["FRÅNVARO",{"$f":"IN!B55","v":0},{"$f":"Blad3!E55","v":""},{"$f":"Blad3!G55","v":0},"Oanmäld frånvaro"]
["FRÅNVARO",{"$f":"IN!B56","v":0},{"$f":"Blad3!E56","v":""},{"$f":"Blad3!G56","v":0},"Oanmäld frånvaro"]
["FRÅNVARO",{"$f":"IN!B57","v":0},{"$f":"Blad3!E57","v":""},{"$f":"Blad3!G57","v":0},"Oanmäld frånvaro"]
["FRÅNVARO",{"$f":"IN!B58","v":0},{"$f":"Blad3!E58","v":""},{"$f":"Blad3!G58","v":0},"Oanmäld frånvaro"]
["FRÅNVARO",{"$f":"IN!B59","v":0},{"$f":"Blad3!E59","v":""},{"$f":"Blad3!G59","v":0},"Oanmäld frånvaro"]
["FRÅNVARO",{"$f":"IN!B60","v":0},{"$f":"Blad3!E60","v":""},{"$f":"Blad3!G60","v":0},"Oanmäld frånvaro"]
["FRÅNVARO",{"$f":"IN!B61","v":0},{"$f":"Blad3!E61","v":""},{"$f":"Blad3!G61","v":0},"Oanmäld frånvaro"]
["FRÅNVARO",{"$f":"IN!B62","v":0},{"$f":"Blad3!E62","v":""},{"$f":"Blad3!G62","v":0},"Oanmäld frånvaro"]
["FRÅNVARO",{"$f":"IN!B63","v":0},{"$f":"Blad3!E63","v":""},{"$f":"Blad3!G63","v":0},"Oanmäld frånvaro"]
["FRÅNVARO",{"$f":"IN!B64","v":0},{"$f":"Blad3!E64","v":""},{"$f":"Blad3!G64","v":0},"Oanmäld frånvaro"]
["FRÅNVARO",{"$f":"IN!B65","v":0},{"$f":"Blad3!E65","v":""},{"$f":"Blad3!G65","v":0},"Oanmäld frånvaro"]
["FRÅNVARO",{"$f":"IN!B66","v":0},{"$f":"Blad3!E66","v":""},{"$f":"Blad3!G66","v":0},"Oanmäld frånvaro"]
["FRÅNVARO",{"$f":"IN!B67","v":0},{"$f":"Blad3!E67","v":""},{"$f":"Blad3!G67","v":0},"Oanmäld frånvaro"]
["FRÅNVARO",{"$f":"IN!B68","v":0},{"$f":"Blad3!E68","v":""},{"$f":"Blad3!G68","v":0},"Oanmäld frånvaro"]
["FRÅNVARO",{"$f":"IN!B69","v":0},{"$f":"Blad3!E69","v":""},{"$f":"Blad3!G69","v":0},"Oanmäld frånvaro"]
["FRÅNVARO",{"$f":"IN!B70","v":0},{"$f":"Blad3!E70","v":""},{"$f":"Blad3!G70","v":0},"Oanmäld frånvaro"]
["FRÅNVARO",{"$f":"IN!B71","v":0},{"$f":"Blad3!E71","v":""},{"$f":"Blad3!G71","v":0},"Oanmäld frånvaro"]
["FRÅNVARO",{"$f":"IN!B72","v":0},{"$f":"Blad3!E72","v":""},{"$f":"Blad3!G72","v":0},"Oanmäld frånvaro"]
["FRÅNVARO",{"$f":"IN!B73","v":0},{"$f":"Blad3!E73","v":""},{"$f":"Blad3!G73","v":0},"Oanmäld frånvaro"]
["FRÅNVARO",{"$f":"IN!B74","v":0},{"$f":"Blad3!E74","v":""},{"$f":"Blad3!G74","v":0},"Oanmäld frånvaro"]
["FRÅNVARO",{"$f":"IN!B75","v":0},{"$f":"Blad3!E75","v":""},{"$f":"Blad3!G75","v":0},"Oanmäld frånvaro"]
["FRÅNVARO",{"$f":"IN!B76","v":0},{"$f":"Blad3!E76","v":""},{"$f":"Blad3!G76","v":0},"Oanmäld frånvaro"]
["FRÅNVARO",{"$f":"IN!B77","v":0},{"$f":"Blad3!E77","v":""},{"$f":"Blad3!G77","v":0},"Oanmäld frånvaro"]
["FRÅNVARO",{"$f":"IN!B78","v":0},{"$f":"Blad3!E78","v":""},{"$f":"Blad3!G78","v":0},"Oanmäld frånvaro"]
["FRÅNVARO",{"$f":"IN!B79","v":0},{"$f":"Blad3!E79","v":""},{"$f":"Blad3!G79","v":0},"Oanmäld frånvaro"]
["FRÅNVARO",{"$f":"IN!B80","v":0},{"$f":"Blad3!E80","v":""},{"$f":"Blad3!G80","v":0},"Oanmäld frånvaro"]
["FRÅNVARO",{"$f":"IN!B81","v":0},{"$f":"Blad3!E81","v":""},{"$f":"Blad3!G81","v":0},"Oanmäld frånvaro"]
["FRÅNVARO",{"$f":"IN!B82","v":0},{"$f":"Blad3!E82","v":""},{"$f":"Blad3!G82","v":0},"Oanmäld frånvaro"]
["FRÅNVARO",{"$f":"IN!B83","v":0},{"$f":"Blad3!E83","v":""},{"$f":"Blad3!G83","v":0},"Oanmäld frånvaro"]
["FRÅNVARO",{"$f":"IN!B84","v":0},{"$f":"Blad3!E84","v":""},{"$f":"Blad3!G84","v":0},"Oanmäld frånvaro"]
["FRÅNVARO",{"$f":"IN!B85","v":0},{"$f":"Blad3!E85","v":""},{"$f":"Blad3!G85","v":0},"Oanmäld frånvaro"]
["FRÅNVARO",{"$f":"IN!B86","v":0},{"$f":"Blad3!E86","v":""},{"$f":"Blad3!G86","v":0},"Oanmäld frånvaro"]
["FRÅNVARO",{"$f":"IN!B87","v":0},{"$f":"Blad3!E87","v":""},{"$f":"Blad3!G87","v":0},"Oanmäld frånvaro"]
["FRÅNVARO",{"$f":"IN!B88","v":0},{"$f":"Blad3!E88","v":""},{"$f":"Blad3!G88","v":0},"Oanmäld frånvaro"]
["FRÅNVARO",{"$f":"IN!B89","v":0},{"$f":"Blad3!E89","v":""},{"$f":"Blad3!G89","v":0},"Oanmäld frånvaro"]
["FRÅNVARO",{"$f":"IN!B90","v":0},{"$f":"Blad3!E90","v":""},{"$f":"Blad3!G90","v":0},"Oanmäld frånvaro"]
["FRÅNVARO",{"$f":"IN!B91","v":0},{"$f":"Blad3!E91","v":""},{"$f":"Blad3!G91","v":0},"Oanmäld frånvaro"]
["FRÅNVARO",{"$f":"IN!B92","v":0},{"$f":"Blad3!E92","v":""},{"$f":"Blad3!G92","v":0},"Oanmäld frånvaro"]
["FRÅNVARO",{"$f":"IN!B93","v":0},{"$f":"Blad3!E93","v":""},{"$f":"Blad3!G93","v":0},"Oanmäld frånvaro"]
["FRÅNVARO",{"$f":"IN!B94","v":0},{"$f":"Blad3!E94","v":""},{"$f":"Blad3!G94","v":0},"Oanmäld frånvaro"]
["FRÅNVARO",{"$f":"IN!B95","v":0},{"$f":"Blad3!E95","v":""},{"$f":"Blad3!G95","v":0},"Oanmäld frånvaro"]
["FRÅNVARO",{"$f":"IN!B96","v":0},{"$f":"Blad3!E96","v":""},{"$f":"Blad3!G96","v":0},"Oanmäld frånvaro"]
["FRÅNVARO",{"$f":"IN!B97","v":0},{"$f":"Blad3!E97","v":""},{"$f":"Blad3!G97","v":0},"Oanmäld frånvaro"]
["FRÅNVARO",{"$f":"IN!B98","v":0},{"$f":"Blad3!E98","v":""},{"$f":"Blad3!G98","v":0},"Oanmäld frånvaro"]
["FRÅNVARO",{"$f":"IN!B99","v":0},{"$f":"Blad3!E99","v":""},{"$f":"Blad3!G99","v":0},"Oanmäld frånvaro"]
["FRÅNVARO",{"$f":"IN!B100","v":0},{"$f":"Blad3!E100","v":""},{"$f":"Blad3!G100","v":0},"Oanmäld frånvaro"]
["FRÅNVARO",{"$f":"IN!B101","v":0},{"$f":"Blad3!E101","v":""},{"$f":"Blad3!G101","v":0},"Oanmäld frånvaro"]
["FRÅNVARO",{"$f":"IN!B102","v":0},{"$f":"Blad3!E102","v":""},{"$f":"Blad3!G102","v":0},"Oanmäld frånvaro"]
["FRÅNVARO",{"$f":"IN!B103","v":0},{"$f":"Blad3!E103","v":""},{"$f":"Blad3!G103","v":0},"Oanmäld frånvaro"]
["FRÅNVARO",{"$f":"IN!B104","v":0},{"$f":"Blad3!E104","v":""},{"$f":"Blad3!G104","v":0},"Oanmäld frånvaro"]
["FRÅNVARO",{"$f":"IN!B105","v":0},{"$f":"Blad3!E105","v":""},{"$f":"Blad3!G105","v":0},"Oanmäld frånvaro"]
["FRÅNVARO",{"$f":"IN!B106","v":0},{"$f":"Blad3!E106","v":""},{"$f":"Blad3!G106","v":0},"Oanmäld frånvaro"]
["FRÅNVARO",{"$f":"IN!B107","v":0},{"$f":"Blad3!E107","v":""},{"$f":"Blad3!G107","v":0},"Oanmäld frånvaro"]
["FRÅNVARO",{"$f":"IN!B108","v":0},{"$f":"Blad3!E108","v":""},{"$f":"Blad3!G108","v":0},"Oanmäld frånvaro"]
["FRÅNVARO",{"$f":"IN!B109","v":0},{"$f":"Blad3!E109","v":""},{"$f":"Blad3!G109","v":0},"Oanmäld frånvaro"]
["FRÅNVARO",{"$f":"IN!B110","v":0},{"$f":"Blad3!E110","v":""},{"$f":"Blad3!G110","v":0},"Oanmäld frånvaro"]
["FRÅNVARO",{"$f":"IN!B111","v":0},{"$f":"Blad3!E111","v":""},{"$f":"Blad3!G111","v":0},"Oanmäld frånvaro"]
["FRÅNVARO",{"$f":"IN!B112","v":0},{"$f":"Blad3!E112","v":""},{"$f":"Blad3!G112","v":0},"Oanmäld frånvaro"]
["FRÅNVARO",{"$f":"IN!B113","v":0},{"$f":"Blad3!E113","v":""},{"$f":"Blad3!G113","v":0},"Oanmäld frånvaro"]
["FRÅNVARO",{"$f":"IN!B114","v":0},{"$f":"Blad3!E114","v":""},{"$f":"Blad3!G114","v":0},"Oanmäld frånvaro"]
["FRÅNVARO",{"$f":"IN!B115","v":0},{"$f":"Blad3!E115","v":""},{"$f":"Blad3!G115","v":0},"Oanmäld frånvaro"]
["FRÅNVARO",{"$f":"IN!B116","v":0},{"$f":"Blad3!E116","v":""},{"$f":"Blad3!G116","v":0},"Oanmäld frånvaro"]
["FRÅNVARO",{"$f":"IN!B117","v":0},{"$f":"Blad3!E117","v":""},{"$f":"Blad3!G117","v":0},"Oanmäld frånvaro"]
["FRÅNVARO",{"$f":"IN!B118","v":0},{"$f":"Blad3!E118","v":""},{"$f":"Blad3!G118","v":0},"Oanmäld frånvaro"]
["FRÅNVARO",{"$f":"IN!B119","v":0},{"$f":"Blad3!E119","v":""},{"$f":"Blad3!G119","v":0},"Oanmäld frånvaro"]
["FRÅNVARO",{"$f":"IN!B120","v":0},{"$f":"Blad3!E120","v":""},{"$f":"Blad3!G120","v":0},"Oanmäld frånvaro"]
["FRÅNVARO",{"$f":"IN!B121","v":0},{"$f":"Blad3!E121","v":""},{"$f":"Blad3!G121","v":0},"Oanmäld frånvaro"]
["FRÅNVARO",{"$f":"IN!B122","v":0},{"$f":"Blad3!E122","v":""},{"$f":"Blad3!G122","v":0},"Oanmäld frånvaro"]
["FRÅNVARO",{"$f":"IN!B123","v":0},{"$f":"Blad3!E123","v":""},{"$f":"Blad3!G123","v":0},"Oanmäld frånvaro"]
["FRÅNVARO",{"$f":"IN!B124","v":0},{"$f":"Blad3!E124","v":""},{"$f":"Blad3!G124","v":0},"Oanmäld frånvaro"]
["FRÅNVARO",{"$f":"IN!B125","v":0},{"$f":"Blad3!E125","v":""},{"$f":"Blad3!G125","v":0},"Oanmäld frånvaro"]
["FRÅNVARO",{"$f":"IN!B126","v":0},{"$f":"Blad3!E126","v":""},{"$f":"Blad3!G126","v":0},"Oanmäld frånvaro"]
["FRÅNVARO",{"$f":"IN!B127","v":0},{"$f":"Blad3!E127","v":""},{"$f":"Blad3!G127","v":0},"Oanmäld frånvaro"]
["FRÅNVARO",{"$f":"IN!B128","v":0},{"$f":"Blad3!E128","v":""},{"$f":"Blad3!G128","v":0},"Oanmäld frånvaro"]
["FRÅNVARO",{"$f":"IN!B129","v":0},{"$f":"Blad3!E129","v":""},{"$f":"Blad3!G129","v":0},"Oanmäld frånvaro"]
["FRÅNVARO",{"$f":"IN!B130","v":0},{"$f":"Blad3!E130","v":""},{"$f":"Blad3!G130","v":0},"Oanmäld frånvaro"]
["FRÅNVARO",{"$f":"IN!B131","v":0},{"$f":"Blad3!E131","v":""},{"$f":"Blad3!G131","v":0},"Oanmäld frånvaro"]
["FRÅNVARO",{"$f":"IN!B132","v":0},{"$f":"Blad3!E132","v":""},{"$f":"Blad3!G132","v":0},"Oanmäld frånvaro"]
["FRÅNVARO",{"$f":"IN!B133","v":0},{"$f":"Blad3!E133","v":""},{"$f":"Blad3!G133","v":0},"Oanmäld frånvaro"]
["FRÅNVARO",{"$f":"IN!B134","v":0},{"$f":"Blad3!E134","v":""},{"$f":"Blad3!G134","v":0},"Oanmäld frånvaro"]
["FRÅNVARO",{"$f":"IN!B135","v":0},{"$f":"Blad3!E135","v":""},{"$f":"Blad3!G135","v":0},"Oanmäld frånvaro"]
["FRÅNVARO",{"$f":"IN!B136","v":0},{"$f":"Blad3!E136","v":""},{"$f":"Blad3!G136","v":0},"Oanmäld frånvaro"]
["FRÅNVARO",{"$f":"IN!B137","v":0},{"$f":"Blad3!E137","v":""},{"$f":"Blad3!G137","v":0},"Oanmäld frånvaro"]
["FRÅNVARO",{"$f":"IN!B138","v":0},{"$f":"Blad3!E138","v":""},{"$f":"Blad3!G138","v":0},"Oanmäld frånvaro"]
["FRÅNVARO",{"$f":"IN!B139","v":0},{"$f":"Blad3!E139","v":""},{"$f":"Blad3!G139","v":0},"Oanmäld frånvaro"]
["FRÅNVARO",{"$f":"IN!B140","v":0},{"$f":"Blad3!E140","v":""},{"$f":"Blad3!G140","v":0},"Oanmäld frånvaro"]
["FRÅNVARO",{"$f":"IN!B141","v":0},{"$f":"Blad3!E141","v":""},{"$f":"Blad3!G141","v":0},"Oanmäld frånvaro"]
["FRÅNVARO",{"$f":"IN!B142","v":0},{"$f":"Blad3!E142","v":""},{"$f":"Blad3!G142","v":0},"Oanmäld frånvaro"]
["FRÅNVARO",{"$f":"IN!B143","v":0},{"$f":"Blad3!E143","v":""},{"$f":"Blad3!G143","v":0},"Oanmäld frånvaro"]
["FRÅNVARO",{"$f":"IN!B144","v":0},{"$f":"Blad3!E144","v":""},{"$f":"Blad3!G144","v":0},"Oanmäld frånvaro"]
["FRÅNVARO",{"$f":"IN!B145","v":0},{"$f":"Blad3!E145","v":""},{"$f":"Blad3!G145","v":0},"Oanmäld frånvaro"]
["FRÅNVARO",{"$f":"IN!B146","v":0},{"$f":"Blad3!E146","v":""},{"$f":"Blad3!G146","v":0},"Oanmäld frånvaro"]
["FRÅNVARO",{"$f":"IN!B147","v":0},{"$f":"Blad3!E147","v":""},{"$f":"Blad3!G147","v":0},"Oanmäld frånvaro"]
["FRÅNVARO",{"$f":"IN!B148","v":0},{"$f":"Blad3!E148","v":""},{"$f":"Blad3!G148","v":0},"Oanmäld frånvaro"]
["FRÅNVARO",{"$f":"IN!B149","v":0},{"$f":"Blad3!E149","v":""},{"$f":"Blad3!G149","v":0},"Oanmäld frånvaro"]
["FRÅNVARO",{"$f":"IN!B150","v":0},{"$f":"Blad3!E150","v":""},{"$f":"Blad3!G150","v":0},"Oanmäld frånvaro"]
["FRÅNVARO",{"$f":"IN!B151","v":0},{"$f":"Blad3!E151","v":""},{"$f":"Blad3!G151","v":0},"Oanmäld frånvaro"]
["FRÅNVARO",{"$f":"IN!B152","v":0},{"$f":"Blad3!E152","v":""},{"$f":"Blad3!G152","v":0},"Oanmäld frånvaro"]
["FRÅNVARO",{"$f":"IN!B153","v":0},{"$f":"Blad3!E153","v":""},{"$f":"Blad3!G153","v":0},"Oanmäld frånvaro"]
["FRÅNVARO",{"$f":"IN!B154","v":0},{"$f":"Blad3!E154","v":""},{"$f":"Blad3!G154","v":0},"Oanmäld frånvaro"]
["FRÅNVARO",{"$f":"IN!B155","v":0},{"$f":"Blad3!E155","v":""},{"$f":"Blad3!G155","v":0},"Oanmäld frånvaro"]
["FRÅNVARO",{"$f":"IN!B156","v":0},{"$f":"Blad3!E156","v":""},{"$f":"Blad3!G156","v":0},"Oanmäld frånvaro"]
["FRÅNVARO",{"$f":"IN!B157","v":0},{"$f":"Blad3!E157","v":""},{"$f":"Blad3!G157","v":0},"Oanmäld frånvaro"]
["FRÅNVARO",{"$f":"IN!B158","v":0},{"$f":"Blad3!E158","v":""},{"$f":"Blad3!G158","v":0},"Oanmäld frånvaro"]
["FRÅNVARO",{"$f":"IN!B159","v":0},{"$f":"Blad3!E159","v":""},{"$f":"Blad3!G159","v":0},"Oanmäld frånvaro"]
["FRÅNVARO",{"$f":"IN!B160","v":0},{"$f":"Blad3!E160","v":""},{"$f":"Blad3!G160","v":0},"Oanmäld frånvaro"]
["FRÅNVARO",{"$f":"IN!B161","v":0},{"$f":"Blad3!E161","v":""},{"$f":"Blad3!G161","v":0},"Oanmäld frånvaro"]
["FRÅNVARO",{"$f":"IN!B162","v":0},{"$f":"Blad3!E162","v":""},{"$f":"Blad3!G162","v":0},"Oanmäld frånvaro"]
["FRÅNVARO",{"$f":"IN!B163","v":0},{"$f":"Blad3!E163","v":""},{"$f":"Blad3!G163","v":0},"Oanmäld frånvaro"]
["FRÅNVARO",{"$f":"IN!B164","v":0},{"$f":"Blad3!E164","v":""},{"$f":"Blad3!G164","v":0},"Oanmäld frånvaro"]
["FRÅNVARO",{"$f":"IN!B165","v":0},{"$f":"Blad3!E165","v":""},{"$f":"Blad3!G165","v":0},"Oanmäld frånvaro"]
["FRÅNVARO",{"$f":"IN!B166","v":0},{"$f":"Blad3!E166","v":""},{"$f":"Blad3!G166","v":0},"Oanmäld frånvaro"]
["FRÅNVARO",{"$f":"IN!B167","v":0},{"$f":"Blad3!E167","v":""},{"$f":"Blad3!G167","v":0},"Oanmäld frånvaro"]
["FRÅNVARO",{"$f":"IN!B168","v":0},{"$f":"Blad3!E168","v":""},{"$f":"Blad3!G168","v":0},"Oanmäld frånvaro"]
["FRÅNVARO",{"$f":"IN!B169","v":0},{"$f":"Blad3!E169","v":""},{"$f":"Blad3!G169","v":0},"Oanmäld frånvaro"]
["FRÅNVARO",{"$f":"IN!B170","v":0},{"$f":"Blad3!E170","v":""},{"$f":"Blad3!G170","v":0},"Oanmäld frånvaro"]
["FRÅNVARO",{"$f":"IN!B171","v":0},{"$f":"Blad3!E171","v":""},{"$f":"Blad3!G171","v":0},"Oanmäld frånvaro"]
["FRÅNVARO",{"$f":"IN!B172","v":0},{"$f":"Blad3!E172","v":""},{"$f":"Blad3!G172","v":0},"Oanmäld frånvaro"]
["FRÅNVARO",{"$f":"IN!B173","v":0},{"$f":"Blad3!E173","v":""},{"$f":"Blad3!G173","v":0},"Oanmäld frånvaro"]
["FRÅNVARO",{"$f":"IN!B174","v":0},{"$f":"Blad3!E174","v":""},{"$f":"Blad3!G174","v":0},"Oanmäld frånvaro"]
["FRÅNVARO",{"$f":"IN!B175","v":0},{"$f":"Blad3!E175","v":""},{"$f":"Blad3!G175","v":0},"Oanmäld frånvaro"]
["FRÅNVARO",{"$f":"IN!B176","v":0},{"$f":"Blad3!E176","v":""},{"$f":"Blad3!G176","v":0},"Oanmäld frånvaro"]
["FRÅNVARO",{"$f":"IN!B177","v":0},{"$f":"Blad3!E177","v":""},{"$f":"Blad3!G177","v":0},"Oanmäld frånvaro"]
["FRÅNVARO",{"$f":"IN!B178","v":0},{"$f":"Blad3!E178","v":""},{"$f":"Blad3!G178","v":0},"Oanmäld frånvaro"]
["FRÅNVARO",{"$f":"IN!B179","v":0},{"$f":"Blad3!E179","v":""},{"$f":"Blad3!G179","v":0},"Oanmäld frånvaro"]
["FRÅNVARO",{"$f":"IN!B180","v":0},{"$f":"Blad3!E180","v":""},{"$f":"Blad3!G180","v":0},"Oanmäld frånvaro"]
["FRÅNVARO",{"$f":"IN!B181","v":0},{"$f":"Blad3!E181","v":""},{"$f":"Blad3!G181","v":0},"Oanmäld frånvaro"]
["FRÅNVARO",{"$f":"IN!B182","v":0},{"$f":"Blad3!E182","v":""},{"$f":"Blad3!G182","v":0},"Oanmäld frånvaro"]
["FRÅNVARO",{"$f":"IN!B183","v":0},{"$f":"Blad3!E183","v":""},{"$f":"Blad3!G183","v":0},"Oanmäld frånvaro"]
["FRÅNVARO",{"$f":"IN!B184","v":0},{"$f":"Blad3!E184","v":""},{"$f":"Blad3!G184","v":0},"Oanmäld frånvaro"]
["FRÅNVARO",{"$f":"IN!B185","v":0},{"$f":"Blad3!E185","v":""},{"$f":"Blad3!G185","v":0},"Oanmäld frånvaro"]
["FRÅNVARO",{"$f":"IN!B186","v":0},{"$f":"Blad3!E186","v":""},{"$f":"Blad3!G186","v":0},"Oanmäld frånvaro"]
["FRÅNVARO",{"$f":"IN!B187","v":0},{"$f":"Blad3!E187","v":""},{"$f":"Blad3!G187","v":0},"Oanmäld frånvaro"]
["FRÅNVARO",{"$f":"IN!B188","v":0},{"$f":"Blad3!E188","v":""},{"$f":"Blad3!G188","v":0},"Oanmäld frånvaro"]
["FRÅNVARO",{"$f":"IN!B189","v":0},{"$f":"Blad3!E189","v":""},{"$f":"Blad3!G189","v":0},"Oanmäld frånvaro"]
["FRÅNVARO",{"$f":"IN!B190","v":0},{"$f":"Blad3!E190","v":""},{"$f":"Blad3!G190","v":0},"Oanmäld frånvaro"]
["FRÅNVARO",{"$f":"IN!B191","v":0},{"$f":"Blad3!E191","v":""},{"$f":"Blad3!G191","v":0},"Oanmäld frånvaro"]
["FRÅNVARO",{"$f":"IN!B192","v":0},{"$f":"Blad3!E192","v":""},{"$f":"Blad3!G192","v":0},"Oanmäld frånvaro"]
["FRÅNVARO",{"$f":"IN!B193","v":0},{"$f":"Blad3!E193","v":""},{"$f":"Blad3!G193","v":0},"Oanmäld frånvaro"]
["FRÅNVARO",{"$f":"IN!B194","v":0},{"$f":"Blad3!E194","v":""},{"$f":"Blad3!G194","v":0},"Oanmäld frånvaro"]
["FRÅNVARO",{"$f":"IN!B195","v":0},{"$f":"Blad3!E195","v":""},{"$f":"Blad3!G195","v":0},"Oanmäld frånvaro"]
["FRÅNVARO",{"$f":"IN!B196","v":0},{"$f":"Blad3!E196","v":""},{"$f":"Blad3!G196","v":0},"Oanmäld frånvaro"]
["FRÅNVARO",{"$f":"IN!B197","v":0},{"$f":"Blad3!E197","v":""},{"$f":"Blad3!G197","v":0},"Oanmäld frånvaro"]
["FRÅNVARO",{"$f":"IN!B198","v":0},{"$f":"Blad3!E198","v":""},{"$f":"Blad3!G198","v":0},"Oanmäld frånvaro"]
["FRÅNVARO",{"$f":"IN!B199","v":0},{"$f":"Blad3!E199","v":""},{"$f":"Blad3!G199","v":0},"Oanmäld frånvaro"]
["FRÅNVARO",{"$f":"IN!B200","v":0},{"$f":"Blad3!E200","v":""},{"$f":"Blad3!G200","v":0},"Oanmäld frånvaro"]
["FRÅNVARO",{"$f":"IN!B201","v":0},{"$f":"Blad3!E201","v":""},{"$f":"Blad3!G201","v":0},"Oanmäld frånvaro"]
["FRÅNVARO",{"$f":"IN!B202","v":0},{"$f":"Blad3!E202","v":""},{"$f":"Blad3!G202","v":0},"Oanmäld frånvaro"]
["FRÅNVARO",{"$f":"IN!B203","v":0},{"$f":"Blad3!E203","v":""},{"$f":"Blad3!G203","v":0},"Oanmäld frånvaro"]
["FRÅNVARO",{"$f":"IN!B204","v":0},{"$f":"Blad3!E204","v":""},{"$f":"Blad3!G204","v":0},"Oanmäld frånvaro"]
["FRÅNVARO",{"$f":"IN!B205","v":0},{"$f":"Blad3!E205","v":""},{"$f":"Blad3!G205","v":0},"Oanmäld frånvaro"]
["FRÅNVARO",{"$f":"IN!B206","v":0},{"$f":"Blad3!E206","v":""},{"$f":"Blad3!G206","v":0},"Oanmäld frånvaro"]
["FRÅNVARO",{"$f":"IN!B207","v":0},{"$f":"Blad3!E207","v":""},{"$f":"Blad3!G207","v":0},"Oanmäld frånvaro"]
["FRÅNVARO",{"$f":"IN!B208","v":0},{"$f":"Blad3!E208","v":""},{"$f":"Blad3!G208","v":0},"Oanmäld frånvaro"]
["FRÅNVARO",{"$f":"IN!B209","v":0},{"$f":"Blad3!E209","v":""},{"$f":"Blad3!G209","v":0},"Oanmäld frånvaro"]
["FRÅNVARO",{"$f":"IN!B210","v":0},{"$f":"Blad3!E210","v":""},{"$f":"Blad3!G210","v":0},"Oanmäld frånvaro"]
["FRÅNVARO",{"$f":"IN!B211","v":0},{"$f":"Blad3!E211","v":""},{"$f":"Blad3!G211","v":0},"Oanmäld frånvaro"]
["FRÅNVARO",{"$f":"IN!B212","v":0},{"$f":"Blad3!E212","v":""},{"$f":"Blad3!G212","v":0},"Oanmäld frånvaro"]
["FRÅNVARO",{"$f":"IN!B213","v":0},{"$f":"Blad3!E213","v":""},{"$f":"Blad3!G213","v":0},"Oanmäld frånvaro"]
["FRÅNVARO",{"$f":"IN!B214","v":0},{"$f":"Blad3!E214","v":""},{"$f":"Blad3!G214","v":0},"Oanmäld frånvaro"]
["FRÅNVARO",{"$f":"IN!B215","v":0},{"$f":"Blad3!E215","v":""},{"$f":"Blad3!G215","v":0},"Oanmäld frånvaro"]
["FRÅNVARO",{"$f":"IN!B216","v":0},{"$f":"Blad3!E216","v":""},{"$f":"Blad3!G216","v":0},"Oanmäld frånvaro"]
["FRÅNVARO",{"$f":"IN!B217","v":0},{"$f":"Blad3!E217","v":""},{"$f":"Blad3!G217","v":0},"Oanmäld frånvaro"]
["FRÅNVARO",{"$f":"IN!B218","v":0},{"$f":"Blad3!E218","v":""},{"$f":"Blad3!G218","v":0},"Oanmäld frånvaro"]
["FRÅNVARO",{"$f":"IN!B219","v":0},{"$f":"Blad3!E219","v":""},{"$f":"Blad3!G219","v":0},"Oanmäld frånvaro"]
["FRÅNVARO",{"$f":"IN!B220","v":0},{"$f":"Blad3!E220","v":""},{"$f":"Blad3!G220","v":0},"Oanmäld frånvaro"]
["FRÅNVARO",{"$f":"IN!B221","v":0},{"$f":"Blad3!E221","v":""},{"$f":"Blad3!G221","v":0},"Oanmäld frånvaro"]
["FRÅNVARO",{"$f":"IN!B222","v":0},{"$f":"Blad3!E222","v":""},{"$f":"Blad3!G222","v":0},"Oanmäld frånvaro"]
["FRÅNVARO",{"$f":"IN!B223","v":0},{"$f":"Blad3!E223","v":""},{"$f":"Blad3!G223","v":0},"Oanmäld frånvaro"]
["FRÅNVARO",{"$f":"IN!B224","v":0},{"$f":"Blad3!E224","v":""},{"$f":"Blad3!G224","v":0},"Oanmäld frånvaro"]
["FRÅNVARO",{"$f":"IN!B225","v":0},{"$f":"Blad3!E225","v":""},{"$f":"Blad3!G225","v":0},"Oanmäld frånvaro"]
["FRÅNVARO",{"$f":"IN!B226","v":0},{"$f":"Blad3!E226","v":""},{"$f":"Blad3!G226","v":0},"Oanmäld frånvaro"]
["FRÅNVARO",{"$f":"IN!B227","v":0},{"$f":"Blad3!E227","v":""},{"$f":"Blad3!G227","v":0},"Oanmäld frånvaro"]
["FRÅNVARO",{"$f":"IN!B228","v":0},{"$f":"Blad3!E228","v":""},{"$f":"Blad3!G228","v":0},"Oanmäld frånvaro"]
["FRÅNVARO",{"$f":"IN!B229","v":0},{"$f":"Blad3!E229","v":""},{"$f":"Blad3!G229","v":0},"Oanmäld frånvaro"]
["FRÅNVARO",{"$f":"IN!B230","v":0},{"$f":"Blad3!E230","v":""},{"$f":"Blad3!G230","v":0},"Oanmäld frånvaro"]
["FRÅNVARO",{"$f":"IN!B231","v":0},{"$f":"Blad3!E231","v":""},{"$f":"Blad3!G231","v":0},"Oanmäld frånvaro"]
["FRÅNVARO",{"$f":"IN!B232","v":0},{"$f":"Blad3!E232","v":""},{"$f":"Blad3!G232","v":0},"Oanmäld frånvaro"]
["FRÅNVARO",{"$f":"IN!B233","v":0},{"$f":"Blad3!E233","v":""},{"$f":"Blad3!G233","v":0},"Oanmäld frånvaro"]
["FRÅNVARO",{"$f":"IN!B234","v":0},{"$f":"Blad3!E234","v":""},{"$f":"Blad3!G234","v":0},"Oanmäld frånvaro"]
["FRÅNVARO",{"$f":"IN!B235","v":0},{"$f":"Blad3!E235","v":""},{"$f":"Blad3!G235","v":0},"Oanmäld frånvaro"]
["FRÅNVARO",{"$f":"IN!B236","v":0},{"$f":"Blad3!E236","v":""},{"$f":"Blad3!G236","v":0},"Oanmäld frånvaro"]
["FRÅNVARO",{"$f":"IN!B237","v":0},{"$f":"Blad3!E237","v":""},{"$f":"Blad3!G237","v":0},"Oanmäld frånvaro"]
["FRÅNVARO",{"$f":"IN!B238","v":0},{"$f":"Blad3!E238","v":""},{"$f":"Blad3!G238","v":0},"Oanmäld frånvaro"]
["FRÅNVARO",{"$f":"IN!B239","v":0},{"$f":"Blad3!E239","v":""},{"$f":"Blad3!G239","v":0},"Oanmäld frånvaro"]
["FRÅNVARO",{"$f":"IN!B240","v":0},{"$f":"Blad3!E240","v":""},{"$f":"Blad3!G240","v":0},"Oanmäld frånvaro"]
["FRÅNVARO",{"$f":"IN!B241","v":0},{"$f":"Blad3!E241","v":""},{"$f":"Blad3!G241","v":0},"Oanmäld frånvaro"]
["FRÅNVARO",{"$f":"IN!B242","v":0},{"$f":"Blad3!E242","v":""},{"$f":"Blad3!G242","v":0},"Oanmäld frånvaro"]
["FRÅNVARO",{"$f":"IN!B243","v":0},{"$f":"Blad3!E243","v":""},{"$f":"Blad3!G243","v":0},"Oanmäld frånvaro"]
["FRÅNVARO",{"$f":"IN!B244","v":0},{"$f":"Blad3!E244","v":""},{"$f":"Blad3!G244","v":0},"Oanmäld frånvaro"]
["FRÅNVARO",{"$f":"IN!B245","v":0},{"$f":"Blad3!E245","v":""},{"$f":"Blad3!G245","v":0},"Oanmäld frånvaro"]
["FRÅNVARO",{"$f":"IN!B246","v":0},{"$f":"Blad3!E246","v":""},{"$f":"Blad3!G246","v":0},"Oanmäld frånvaro"]
["FRÅNVARO",{"$f":"IN!B247","v":0},{"$f":"Blad3!E247","v":""},{"$f":"Blad3!G247","v":0},"Oanmäld frånvaro"]
["FRÅNVARO",{"$f":"IN!B248","v":0},{"$f":"Blad3!E248","v":""},{"$f":"Blad3!G248","v":0},"Oanmäld frånvaro"]
["FRÅNVARO",{"$f":"IN!B249","v":0},{"$f":"Blad3!E249","v":""},{"$f":"Blad3!G249","v":0},"Oanmäld frånvaro"]
["FRÅNVARO",{"$f":"IN!B250","v":0},{"$f":"Blad3!E250","v":""},{"$f":"Blad3!G250","v":0},"Oanmäld frånvaro"]
["FRÅNVARO",{"$f":"IN!B251","v":0},{"$f":"Blad3!E251","v":""},{"$f":"Blad3!G251","v":0},"Oanmäld frånvaro"]
["FRÅNVARO",{"$f":"IN!B252","v":0},{"$f":"Blad3!E252","v":""},{"$f":"Blad3!G252","v":0},"Oanmäld frånvaro"]
["FRÅNVARO",{"$f":"IN!B253","v":0},{"$f":"Blad3!E253","v":""},{"$f":"Blad3!G253","v":0},"Oanmäld frånvaro"]
["FRÅNVARO",{"$f":"IN!B254","v":0},{"$f":"Blad3!E254","v":""},{"$f":"Blad3!G254","v":0},"Oanmäld frånvaro"]
["FRÅNVARO",{"$f":"IN!B255","v":0},{"$f":"Blad3!E255","v":""},{"$f":"Blad3!G255","v":0},"Oanmäld frånvaro"]
["FRÅNVARO",{"$f":"IN!B256","v":0},{"$f":"Blad3!E256","v":""},{"$f":"Blad3!G256","v":0},"Oanmäld frånvaro"]
["FRÅNVARO",{"$f":"IN!B257","v":0},{"$f":"Blad3!E257","v":""},{"$f":"Blad3!G257","v":0},"Oanmäld frånvaro"]
["FRÅNVARO",{"$f":"IN!B258","v":0},{"$f":"Blad3!E258","v":""},{"$f":"Blad3!G258","v":0},"Oanmäld frånvaro"]
["FRÅNVARO",{"$f":"IN!B259","v":0},{"$f":"Blad3!E259","v":""},{"$f":"Blad3!G259","v":0},"Oanmäld frånvaro"]
["FRÅNVARO",{"$f":"IN!B260","v":0},{"$f":"Blad3!E260","v":""},{"$f":"Blad3!G260","v":0},"Oanmäld frånvaro"]
["FRÅNVARO",{"$f":"IN!B261","v":0},{"$f":"Blad3!E261","v":""},{"$f":"Blad3!G261","v":0},"Oanmäld frånvaro"]
["FRÅNVARO",{"$f":"IN!B262","v":0},{"$f":"Blad3!E262","v":""},{"$f":"Blad3!G262","v":0},"Oanmäld frånvaro"]
["FRÅNVARO",{"$f":"IN!B263","v":0},{"$f":"Blad3!E263","v":""},{"$f":"Blad3!G263","v":0},"Oanmäld frånvaro"]
["FRÅNVARO",{"$f":"IN!B264","v":0},{"$f":"Blad3!E264","v":""},{"$f":"Blad3!G264","v":0},"Oanmäld frånvaro"]
["FRÅNVARO",{"$f":"IN!B265","v":0},{"$f":"Blad3!E265","v":""},{"$f":"Blad3!G265","v":0},"Oanmäld frånvaro"]
["FRÅNVARO",{"$f":"IN!B266","v":0},{"$f":"Blad3!E266","v":""},{"$f":"Blad3!G266","v":0},"Oanmäld frånvaro"]
["FRÅNVARO",{"$f":"IN!B267","v":0},{"$f":"Blad3!E267","v":""},{"$f":"Blad3!G267","v":0},"Oanmäld frånvaro"]
["FRÅNVARO",{"$f":"IN!B268","v":0},{"$f":"Blad3!E268","v":""},{"$f":"Blad3!G268","v":0},"Oanmäld frånvaro"]
["FRÅNVARO",{"$f":"IN!B269","v":0},{"$f":"Blad3!E269","v":""},{"$f":"Blad3!G269","v":0},"Oanmäld frånvaro"]
["FRÅNVARO",{"$f":"IN!B270","v":0},{"$f":"Blad3!E270","v":""},{"$f":"Blad3!G270","v":0},"Oanmäld frånvaro"]
["FRÅNVARO",{"$f":"IN!B271","v":0},{"$f":"Blad3!E271","v":""},{"$f":"Blad3!G271","v":0},"Oanmäld frånvaro"]
["FRÅNVARO",{"$f":"IN!B272","v":0},{"$f":"Blad3!E272","v":""},{"$f":"Blad3!G272","v":0},"Oanmäld frånvaro"]
["FRÅNVARO",{"$f":"IN!B273","v":0},{"$f":"Blad3!E273","v":""},{"$f":"Blad3!G273","v":0},"Oanmäld frånvaro"]
["FRÅNVARO",{"$f":"IN!B274","v":0},{"$f":"Blad3!E274","v":""},{"$f":"Blad3!G274","v":0},"Oanmäld frånvaro"]
["FRÅNVARO",{"$f":"IN!B275","v":0},{"$f":"Blad3!E275","v":""},{"$f":"Blad3!G275","v":0},"Oanmäld frånvaro"]
["FRÅNVARO",{"$f":"IN!B276","v":0},{"$f":"Blad3!E276","v":""},{"$f":"Blad3!G276","v":0},"Oanmäld frånvaro"]
["FRÅNVARO",{"$f":"IN!B277","v":0},{"$f":"Blad3!E277","v":""},{"$f":"Blad3!G277","v":0},"Oanmäld frånvaro"]
["FRÅNVARO",{"$f":"IN!B278","v":0},{"$f":"Blad3!E278","v":""},{"$f":"Blad3!G278","v":0},"Oanmäld frånvaro"]
["FRÅNVARO",{"$f":"IN!B279","v":0},{"$f":"Blad3!E279","v":""},{"$f":"Blad3!G279","v":0},"Oanmäld frånvaro"]
["FRÅNVARO",{"$f":"IN!B280","v":0},{"$f":"Blad3!E280","v":""},{"$f":"Blad3!G280","v":0},"Oanmäld frånvaro"]
["FRÅNVARO",{"$f":"IN!B281","v":0},{"$f":"Blad3!E281","v":""},{"$f":"Blad3!G281","v":0},"Oanmäld frånvaro"]
["FRÅNVARO",{"$f":"IN!B282","v":0},{"$f":"Blad3!E282","v":""},{"$f":"Blad3!G282","v":0},"Oanmäld frånvaro"]
["FRÅNVARO",{"$f":"IN!B283","v":0},{"$f":"Blad3!E283","v":""},{"$f":"Blad3!G283","v":0},"Oanmäld frånvaro"]
["FRÅNVARO",{"$f":"IN!B284","v":0},{"$f":"Blad3!E284","v":""},{"$f":"Blad3!G284","v":0},"Oanmäld frånvaro"]
["FRÅNVARO",{"$f":"IN!B285","v":0},{"$f":"Blad3!E285","v":""},{"$f":"Blad3!G285","v":0},"Oanmäld frånvaro"]
["FRÅNVARO",{"$f":"IN!B286","v":0},{"$f":"Blad3!E286","v":""},{"$f":"Blad3!G286","v":0},"Oanmäld frånvaro"]
["FRÅNVARO",{"$f":"IN!B287","v":0},{"$f":"Blad3!E287","v":""},{"$f":"Blad3!G287","v":0},"Oanmäld frånvaro"]
["FRÅNVARO",{"$f":"IN!B288","v":0},{"$f":"Blad3!E288","v":""},{"$f":"Blad3!G288","v":0},"Oanmäld frånvaro"]
["FRÅNVARO",{"$f":"IN!B289","v":0},{"$f":"Blad3!E289","v":""},{"$f":"Blad3!G289","v":0},"Oanmäld frånvaro"]
["FRÅNVARO",{"$f":"IN!B290","v":0},{"$f":"Blad3!E290","v":""},{"$f":"Blad3!G290","v":0},"Oanmäld frånvaro"]
["FRÅNVARO",{"$f":"IN!B291","v":0},{"$f":"Blad3!E291","v":""},{"$f":"Blad3!G291","v":0},"Oanmäld frånvaro"]
["FRÅNVARO",{"$f":"IN!B292","v":0},{"$f":"Blad3!E292","v":""},{"$f":"Blad3!G292","v":0},"Oanmäld frånvaro"]
["FRÅNVARO",{"$f":"IN!B293","v":0},{"$f":"Blad3!E293","v":""},{"$f":"Blad3!G293","v":0},"Oanmäld frånvaro"]
["FRÅNVARO",{"$f":"IN!B294","v":0},{"$f":"Blad3!E294","v":""},{"$f":"Blad3!G294","v":0},"Oanmäld frånvaro"]
["FRÅNVARO",{"$f":"IN!B295","v":0},{"$f":"Blad3!E295","v":""},{"$f":"Blad3!G295","v":0},"Oanmäld frånvaro"]
["FRÅNVARO",{"$f":"IN!B296","v":0},{"$f":"Blad3!E296","v":""},{"$f":"Blad3!G296","v":0},"Oanmäld frånvaro"]
["FRÅNVARO",{"$f":"IN!B297","v":0},{"$f":"Blad3!E297","v":""},{"$f":"Blad3!G297","v":0},"Oanmäld frånvaro"]
["FRÅNVARO",{"$f":"IN!B298","v":0},{"$f":"Blad3!E298","v":""},{"$f":"Blad3!G298","v":0},"Oanmäld frånvaro"]
["FRÅNVARO",{"$f":"IN!B299","v":0},{"$f":"Blad3!E299","v":""},{"$f":"Blad3!G299","v":0},"Oanmäld frånvaro"]
["FRÅNVARO",{"$f":"IN!B300","v":0},{"$f":"Blad3!E300","v":""},{"$f":"Blad3!G300","v":0},"Oanmäld frånvaro"]
["FRÅNVARO",{"$f":"IN!B301","v":0},{"$f":"Blad3!E301","v":""},{"$f":"Blad3!G301","v":0},"Oanmäld frånvaro"]
["FRÅNVARO",{"$f":"IN!B302","v":0},{"$f":"Blad3!E302","v":""},{"$f":"Blad3!G302","v":0},"Oanmäld frånvaro"]
["FRÅNVARO",{"$f":"IN!B303","v":0},{"$f":"Blad3!E303","v":""},{"$f":"Blad3!G303","v":0},"Oanmäld frånvaro"]
["FRÅNVARO",{"$f":"IN!B304","v":0},{"$f":"Blad3!E304","v":""},{"$f":"Blad3!G304","v":0},"Oanmäld frånvaro"]
["FRÅNVARO",{"$f":"IN!B305","v":0},{"$f":"Blad3!E305","v":""},{"$f":"Blad3!G305","v":0},"Oanmäld frånvaro"]
["FRÅNVARO",{"$f":"IN!B306","v":0},{"$f":"Blad3!E306","v":""},{"$f":"Blad3!G306","v":0},"Oanmäld frånvaro"]
["FRÅNVARO",{"$f":"IN!B307","v":0},{"$f":"Blad3!E307","v":""},{"$f":"Blad3!G307","v":0},"Oanmäld frånvaro"]
["FRÅNVARO",{"$f":"IN!B308","v":0},{"$f":"Blad3!E308","v":""},{"$f":"Blad3!G308","v":0},"Oanmäld frånvaro"]
["FRÅNVARO",{"$f":"IN!B309","v":0},{"$f":"Blad3!E309","v":""},{"$f":"Blad3!G309","v":0},"Oanmäld frånvaro"]
["FRÅNVARO",{"$f":"IN!B310","v":0},{"$f":"Blad3!E310","v":""},{"$f":"Blad3!G310","v":0},"Oanmäld frånvaro"]
["FRÅNVARO",{"$f":"IN!B311","v":0},{"$f":"Blad3!E311","v":""},{"$f":"Blad3!G311","v":0},"Oanmäld frånvaro"]
["FRÅNVARO",{"$f":"IN!B312","v":0},{"$f":"Blad3!E312","v":""},{"$f":"Blad3!G312","v":0},"Oanmäld frånvaro"]
["FRÅNVARO",{"$f":"IN!B313","v":0},{"$f":"Blad3!E313","v":""},{"$f":"Blad3!G313","v":0},"Oanmäld frånvaro"]
["FRÅNVARO",{"$f":"IN!B314","v":0},{"$f":"Blad3!E314","v":""},{"$f":"Blad3!G314","v":0},"Oanmäld frånvaro"]
["FRÅNVARO",{"$f":"IN!B315","v":0},{"$f":"Blad3!E315","v":""},{"$f":"Blad3!G315","v":0},"Oanmäld frånvaro"]
["FRÅNVARO",{"$f":"IN!B316","v":0},{"$f":"Blad3!E316","v":""},{"$f":"Blad3!G316","v":0},"Oanmäld frånvaro"]
["FRÅNVARO",{"$f":"IN!B317","v":0},{"$f":"Blad3!E317","v":""},{"$f":"Blad3!G317","v":0},"Oanmäld frånvaro"]
["FRÅNVARO",{"$f":"IN!B318","v":0},{"$f":"Blad3!E318","v":""},{"$f":"Blad3!G318","v":0},"Oanmäld frånvaro"]
["FRÅNVARO",{"$f":"IN!B319","v":0},{"$f":"Blad3!E319","v":""},{"$f":"Blad3!G319","v":0},"Oanmäld frånvaro"]
["FRÅNVARO",{"$f":"IN!B320","v":0},{"$f":"Blad3!E320","v":""},{"$f":"Blad3!G320","v":0},"Oanmäld frånvaro"]
["FRÅNVARO",{"$f":"IN!B321","v":0},{"$f":"Blad3!E321","v":""},{"$f":"Blad3!G321","v":0},"Oanmäld frånvaro"]
["FRÅNVARO",{"$f":"IN!B322","v":0},{"$f":"Blad3!E322","v":""},{"$f":"Blad3!G322","v":0},"Oanmäld frånvaro"]
["FRÅNVARO",{"$f":"IN!B323","v":0},{"$f":"Blad3!E323","v":""},{"$f":"Blad3!G323","v":0},"Oanmäld frånvaro"]
["FRÅNVARO",{"$f":"IN!B324","v":0},{"$f":"Blad3!E324","v":""},{"$f":"Blad3!G324","v":0},"Oanmäld frånvaro"]
["FRÅNVARO",{"$f":"IN!B325","v":0},{"$f":"Blad3!E325","v":""},{"$f":"Blad3!G325","v":0},"Oanmäld frånvaro"]
["FRÅNVARO",{"$f":"IN!B326","v":0},{"$f":"Blad3!E326","v":""},{"$f":"Blad3!G326","v":0},"Oanmäld frånvaro"]
["FRÅNVARO",{"$f":"IN!B327","v":0},{"$f":"Blad3!E327","v":""},{"$f":"Blad3!G327","v":0},"Oanmäld frånvaro"]
["FRÅNVARO",{"$f":"IN!B328","v":0},{"$f":"Blad3!E328","v":""},{"$f":"Blad3!G328","v":0},"Oanmäld frånvaro"]
["FRÅNVARO",{"$f":"IN!B329","v":0},{"$f":"Blad3!E329","v":""},{"$f":"Blad3!G329","v":0},"Oanmäld frånvaro"]
["FRÅNVARO",{"$f":"IN!B330","v":0},{"$f":"Blad3!E330","v":""},{"$f":"Blad3!G330","v":0},"Oanmäld frånvaro"]
["FRÅNVARO",{"$f":"IN!B331","v":0},{"$f":"Blad3!E331","v":""},{"$f":"Blad3!G331","v":0},"Oanmäld frånvaro"]
["FRÅNVARO",{"$f":"IN!B332","v":0},{"$f":"Blad3!E332","v":""},{"$f":"Blad3!G332","v":0},"Oanmäld frånvaro"]
["FRÅNVARO",{"$f":"IN!B333","v":0},{"$f":"Blad3!E333","v":""},{"$f":"Blad3!G333","v":0},"Oanmäld frånvaro"]
["FRÅNVARO",{"$f":"IN!B334","v":0},{"$f":"Blad3!E334","v":""},{"$f":"Blad3!G334","v":0},"Oanmäld frånvaro"]
["FRÅNVARO",{"$f":"IN!B335","v":0},{"$f":"Blad3!E335","v":""},{"$f":"Blad3!G335","v":0},"Oanmäld frånvaro"]
["FRÅNVARO",{"$f":"IN!B336","v":0},{"$f":"Blad3!E336","v":""},{"$f":"Blad3!G336","v":0},"Oanmäld frånvaro"]
["FRÅNVARO",{"$f":"IN!B337","v":0},{"$f":"Blad3!E337","v":""},{"$f":"Blad3!G337","v":0},"Oanmäld frånvaro"]
["FRÅNVARO",{"$f":"IN!B338","v":0},{"$f":"Blad3!E338","v":""},{"$f":"Blad3!G338","v":0},"Oanmäld frånvaro"]
["FRÅNVARO",{"$f":"IN!B339","v":0},{"$f":"Blad3!E339","v":""},{"$f":"Blad3!G339","v":0},"Oanmäld frånvaro"]
["FRÅNVARO",{"$f":"IN!B340","v":0},{"$f":"Blad3!E340","v":""},{"$f":"Blad3!G340","v":0},"Oanmäld frånvaro"]
["FRÅNVARO",{"$f":"IN!B341","v":0},{"$f":"Blad3!E341","v":""},{"$f":"Blad3!G341","v":0},"Oanmäld frånvaro"]
["FRÅNVARO",{"$f":"IN!B342","v":0},{"$f":"Blad3!E342","v":""},{"$f":"Blad3!G342","v":0},"Oanmäld frånvaro"]
["FRÅNVARO",{"$f":"IN!B343","v":0},{"$f":"Blad3!E343","v":""},{"$f":"Blad3!G343","v":0},"Oanmäld frånvaro"]
["FRÅNVARO",{"$f":"IN!B344","v":0},{"$f":"Blad3!E344","v":""},{"$f":"Blad3!G344","v":0},"Oanmäld frånvaro"]
["FRÅNVARO",{"$f":"IN!B345","v":0},{"$f":"Blad3!E345","v":""},{"$f":"Blad3!G345","v":0},"Oanmäld frånvaro"]
["FRÅNVARO",{"$f":"IN!B346","v":0},{"$f":"Blad3!E346","v":""},{"$f":"Blad3!G346","v":0},"Oanmäld frånvaro"]
["FRÅNVARO",{"$f":"IN!B347","v":0},{"$f":"Blad3!E347","v":""},{"$f":"Blad3!G347","v":0},"Oanmäld frånvaro"]
["FRÅNVARO",{"$f":"IN!B348","v":0},{"$f":"Blad3!E348","v":""},{"$f":"Blad3!G348","v":0},"Oanmäld frånvaro"]
["FRÅNVARO",{"$f":"IN!B349","v":0},{"$f":"Blad3!E349","v":""},{"$f":"Blad3!G349","v":0},"Oanmäld frånvaro"]
["FRÅNVARO",{"$f":"IN!B350","v":0},{"$f":"Blad3!E350","v":""},{"$f":"Blad3!G350","v":0},"Oanmäld frånvaro"]
["FRÅNVARO",{"$f":"IN!B351","v":0},{"$f":"Blad3!E351","v":""},{"$f":"Blad3!G351","v":0},"Oanmäld frånvaro"]
["FRÅNVARO",{"$f":"IN!B352","v":0},{"$f":"Blad3!E352","v":""},{"$f":"Blad3!G352","v":0},"Oanmäld frånvaro"]
["FRÅNVARO",{"$f":"IN!B353","v":0},{"$f":"Blad3!E353","v":""},{"$f":"Blad3!G353","v":0},"Oanmäld frånvaro"]
["FRÅNVARO",{"$f":"IN!B354","v":0},{"$f":"Blad3!E354","v":""},{"$f":"Blad3!G354","v":0},"Oanmäld frånvaro"]
["FRÅNVARO",{"$f":"IN!B355","v":0},{"$f":"Blad3!E355","v":""},{"$f":"Blad3!G355","v":0},"Oanmäld frånvaro"]
["FRÅNVARO",{"$f":"IN!B356","v":0},{"$f":"Blad3!E356","v":""},{"$f":"Blad3!G356","v":0},"Oanmäld frånvaro"]
["FRÅNVARO",{"$f":"IN!B357","v":0},{"$f":"Blad3!E357","v":""},{"$f":"Blad3!G357","v":0},"Oanmäld frånvaro"]
["FRÅNVARO",{"$f":"IN!B358","v":0},{"$f":"Blad3!E358","v":""},{"$f":"Blad3!G358","v":0},"Oanmäld frånvaro"]
["FRÅNVARO",{"$f":"IN!B359","v":0},{"$f":"Blad3!E359","v":""},{"$f":"Blad3!G359","v":0},"Oanmäld frånvaro"]
["FRÅNVARO",{"$f":"IN!B360","v":0},{"$f":"Blad3!E360","v":""},{"$f":"Blad3!G360","v":0},"Oanmäld frånvaro"]
["FRÅNVARO",{"$f":"IN!B361","v":0},{"$f":"Blad3!E361","v":""},{"$f":"Blad3!G361","v":0},"Oanmäld frånvaro"]
["FRÅNVARO",{"$f":"IN!B362","v":0},{"$f":"Blad3!E362","v":""},{"$f":"Blad3!G362","v":0},"Oanmäld frånvaro"]
["FRÅNVARO",{"$f":"IN!B363","v":0},{"$f":"Blad3!E363","v":""},{"$f":"Blad3!G363","v":0},"Oanmäld frånvaro"]
["FRÅNVARO",{"$f":"IN!B364","v":0},{"$f":"Blad3!E364","v":""},{"$f":"Blad3!G364","v":0},"Oanmäld frånvaro"]
["FRÅNVARO",{"$f":"IN!B365","v":0},{"$f":"Blad3!E365","v":""},{"$f":"Blad3!G365","v":0},"Oanmäld frånvaro"]
["FRÅNVARO",{"$f":"IN!B366","v":0},{"$f":"Blad3!E366","v":""},{"$f":"Blad3!G366","v":0},"Oanmäld frånvaro"]
["FRÅNVARO",{"$f":"IN!B367","v":0},{"$f":"Blad3!E367","v":""},{"$f":"Blad3!G367","v":0},"Oanmäld frånvaro"]
["FRÅNVARO",{"$f":"IN!B368","v":0},{"$f":"Blad3!E368","v":""},{"$f":"Blad3!G368","v":0},"Oanmäld frånvaro"]
["FRÅNVARO",{"$f":"IN!B369","v":0},{"$f":"Blad3!E369","v":""},{"$f":"Blad3!G369","v":0},"Oanmäld frånvaro"]
["FRÅNVARO",{"$f":"IN!B370","v":0},{"$f":"Blad3!E370","v":""},{"$f":"Blad3!G370","v":0},"Oanmäld frånvaro"]
["FRÅNVARO",{"$f":"IN!B371","v":0},{"$f":"Blad3!E371","v":""},{"$f":"Blad3!G371","v":0},"Oanmäld frånvaro"]
["FRÅNVARO",{"$f":"IN!B372","v":0},{"$f":"Blad3!E372","v":""},{"$f":"Blad3!G372","v":0},"Oanmäld frånvaro"]
["FRÅNVARO",{"$f":"IN!B373","v":0},{"$f":"Blad3!E373","v":""},{"$f":"Blad3!G373","v":0},"Oanmäld frånvaro"]
["FRÅNVARO",{"$f":"IN!B374","v":0},{"$f":"Blad3!E374","v":""},{"$f":"Blad3!G374","v":0},"Oanmäld frånvaro"]
["FRÅNVARO",{"$f":"IN!B375","v":0},{"$f":"Blad3!E375","v":""},{"$f":"Blad3!G375","v":0},"Oanmäld frånvaro"]
["FRÅNVARO",{"$f":"IN!B376","v":0},{"$f":"Blad3!E376","v":""},{"$f":"Blad3!G376","v":0},"Oanmäld frånvaro"]
["FRÅNVARO",{"$f":"IN!B377","v":0},{"$f":"Blad3!E377","v":""},{"$f":"Blad3!G377","v":0},"Oanmäld frånvaro"]
["FRÅNVARO",{"$f":"IN!B378","v":0},{"$f":"Blad3!E378","v":""},{"$f":"Blad3!G378","v":0},"Oanmäld frånvaro"]
["FRÅNVARO",{"$f":"IN!B379","v":0},{"$f":"Blad3!E379","v":""},{"$f":"Blad3!G379","v":0},"Oanmäld frånvaro"]
["FRÅNVARO",{"$f":"IN!B380","v":0},{"$f":"Blad3!E380","v":""},{"$f":"Blad3!G380","v":0},"Oanmäld frånvaro"]
["FRÅNVARO",{"$f":"IN!B381","v":0},{"$f":"Blad3!E381","v":""},{"$f":"Blad3!G381","v":0},"Oanmäld frånvaro"]
["FRÅNVARO",{"$f":"IN!B382","v":0},{"$f":"Blad3!E382","v":""},{"$f":"Blad3!G382","v":0},"Oanmäld frånvaro"]
["FRÅNVARO",{"$f":"IN!B383","v":0},{"$f":"Blad3!E383","v":""},{"$f":"Blad3!G383","v":0},"Oanmäld frånvaro"]
["FRÅNVARO",{"$f":"IN!B384","v":0},{"$f":"Blad3!E384","v":""},{"$f":"Blad3!G384","v":0},"Oanmäld frånvaro"]
["FRÅNVARO",{"$f":"IN!B385","v":0},{"$f":"Blad3!E385","v":""},{"$f":"Blad3!G385","v":0},"Oanmäld frånvaro"]
["FRÅNVARO",{"$f":"IN!B386","v":0},{"$f":"Blad3!E386","v":""},{"$f":"Blad3!G386","v":0},"Oanmäld frånvaro"]
["FRÅNVARO",{"$f":"IN!B387","v":0},{"$f":"Blad3!E387","v":""},{"$f":"Blad3!G387","v":0},"Oanmäld frånvaro"]
["FRÅNVARO",{"$f":"IN!B388","v":0},{"$f":"Blad3!E388","v":""},{"$f":"Blad3!G388","v":0},"Oanmäld frånvaro"]
["FRÅNVARO",{"$f":"IN!B389","v":0},{"$f":"Blad3!E389","v":""},{"$f":"Blad3!G389","v":0},"Oanmäld frånvaro"]
["FRÅNVARO",{"$f":"IN!B390","v":0},{"$f":"Blad3!E390","v":""},{"$f":"Blad3!G390","v":0},"Oanmäld frånvaro"]
["FRÅNVARO",{"$f":"IN!B391","v":0},{"$f":"Blad3!E391","v":""},{"$f":"Blad3!G391","v":0},"Oanmäld frånvaro"]
["FRÅNVARO",{"$f":"IN!B392","v":0},{"$f":"Blad3!E392","v":""},{"$f":"Blad3!G392","v":0},"Oanmäld frånvaro"]
["FRÅNVARO",{"$f":"IN!B393","v":0},{"$f":"Blad3!E393","v":""},{"$f":"Blad3!G393","v":0},"Oanmäld frånvaro"]
["FRÅNVARO",{"$f":"IN!B394","v":0},{"$f":"Blad3!E394","v":""},{"$f":"Blad3!G394","v":0},"Oanmäld frånvaro"]
["FRÅNVARO",{"$f":"IN!B395","v":0},{"$f":"Blad3!E395","v":""},{"$f":"Blad3!G395","v":0},"Oanmäld frånvaro"]
["FRÅNVARO",{"$f":"IN!B396","v":0},{"$f":"Blad3!E396","v":""},{"$f":"Blad3!G396","v":0},"Oanmäld frånvaro"]
["FRÅNVARO",{"$f":"IN!B397","v":0},{"$f":"Blad3!E397","v":""},{"$f":"Blad3!G397","v":0},"Oanmäld frånvaro"]
["FRÅNVARO",{"$f":"IN!B398","v":0},{"$f":"Blad3!E398","v":""},{"$f":"Blad3!G398","v":0},"Oanmäld frånvaro"]
["FRÅNVARO",{"$f":"IN!B399","v":0},{"$f":"Blad3!E399","v":""},{"$f":"Blad3!G399","v":0},"Oanmäld frånvaro"]
["FRÅNVARO",{"$f":"IN!B400","v":0},{"$f":"Blad3!E400","v":""},{"$f":"Blad3!G400","v":0},"Oanmäld frånvaro"]
["FRÅNVARO",{"$f":"IN!B401","v":0},{"$f":"Blad3!E401","v":""},{"$f":"Blad3!G401","v":0},"Oanmäld frånvaro"]
["FRÅNVARO",{"$f":"IN!B402","v":0},{"$f":"Blad3!E402","v":""},{"$f":"Blad3!G402","v":0},"Oanmäld frånvaro"]
["FRÅNVARO",{"$f":"IN!B403","v":0},{"$f":"Blad3!E403","v":""},{"$f":"Blad3!G403","v":0},"Oanmäld frånvaro"]
["FRÅNVARO",{"$f":"IN!B404","v":0},{"$f":"Blad3!E404","v":""},{"$f":"Blad3!G404","v":0},"Oanmäld frånvaro"]
["FRÅNVARO",{"$f":"IN!B405","v":0},{"$f":"Blad3!E405","v":""},{"$f":"Blad3!G405","v":0},"Oanmäld frånvaro"]
["FRÅNVARO",{"$f":"IN!B406","v":0},{"$f":"Blad3!E406","v":""},{"$f":"Blad3!G406","v":0},"Oanmäld frånvaro"]
["FRÅNVARO",{"$f":"IN!B407","v":0},{"$f":"Blad3!E407","v":""},{"$f":"Blad3!G407","v":0},"Oanmäld frånvaro"]
["FRÅNVARO",{"$f":"IN!B408","v":0},{"$f":"Blad3!E408","v":""},{"$f":"Blad3!G408","v":0},"Oanmäld frånvaro"]
["FRÅNVARO",{"$f":"IN!B409","v":0},{"$f":"Blad3!E409","v":""},{"$f":"Blad3!G409","v":0},"Oanmäld frånvaro"]
["FRÅNVARO",{"$f":"IN!B410","v":0},{"$f":"Blad3!E410","v":""},{"$f":"Blad3!G410","v":0},"Oanmäld frånvaro"]
["FRÅNVARO",{"$f":"IN!B411","v":0},{"$f":"Blad3!E411","v":""},{"$f":"Blad3!G411","v":0},"Oanmäld frånvaro"]
["FRÅNVARO",{"$f":"IN!B412","v":0},{"$f":"Blad3!E412","v":""},{"$f":"Blad3!G412","v":0},"Oanmäld frånvaro"]
["FRÅNVARO",{"$f":"IN!B413","v":0},{"$f":"Blad3!E413","v":""},{"$f":"Blad3!G413","v":0},"Oanmäld frånvaro"]
["FRÅNVARO",{"$f":"IN!B414","v":0},{"$f":"Blad3!E414","v":""},{"$f":"Blad3!G414","v":0},"Oanmäld frånvaro"]
["FRÅNVARO",{"$f":"IN!B415","v":0},{"$f":"Blad3!E415","v":""},{"$f":"Blad3!G415","v":0},"Oanmäld frånvaro"]
["FRÅNVARO",{"$f":"IN!B416","v":0},{"$f":"Blad3!E416","v":""},{"$f":"Blad3!G416","v":0},"Oanmäld frånvaro"]
["FRÅNVARO",{"$f":"IN!B417","v":0},{"$f":"Blad3!E417","v":""},{"$f":"Blad3!G417","v":0},"Oanmäld frånvaro"]
["FRÅNVARO",{"$f":"IN!B418","v":0},{"$f":"Blad3!E418","v":""},{"$f":"Blad3!G418","v":0},"Oanmäld frånvaro"]
["FRÅNVARO",{"$f":"IN!B419","v":0},{"$f":"Blad3!E419","v":""},{"$f":"Blad3!G419","v":0},"Oanmäld frånvaro"]
["FRÅNVARO",{"$f":"IN!B420","v":0},{"$f":"Blad3!E420","v":""},{"$f":"Blad3!G420","v":0},"Oanmäld frånvaro"]
["FRÅNVARO",{"$f":"IN!B421","v":0},{"$f":"Blad3!E421","v":""},{"$f":"Blad3!G421","v":0},"Oanmäld frånvaro"]
["FRÅNVARO",{"$f":"IN!B422","v":0},{"$f":"Blad3!E422","v":""},{"$f":"Blad3!G422","v":0},"Oanmäld frånvaro"]
["FRÅNVARO",{"$f":"IN!B423","v":0},{"$f":"Blad3!E423","v":""},{"$f":"Blad3!G423","v":0},"Oanmäld frånvaro"]
["FRÅNVARO",{"$f":"IN!B424","v":0},{"$f":"Blad3!E424","v":""},{"$f":"Blad3!G424","v":0},"Oanmäld frånvaro"]
["FRÅNVARO",{"$f":"IN!B425","v":0},{"$f":"Blad3!E425","v":""},{"$f":"Blad3!G425","v":0},"Oanmäld frånvaro"]
["FRÅNVARO",{"$f":"IN!B426","v":0},{"$f":"Blad3!E426","v":""},{"$f":"Blad3!G426","v":0},"Oanmäld frånvaro"]
["FRÅNVARO",{"$f":"IN!B427","v":0},{"$f":"Blad3!E427","v":""},{"$f":"Blad3!G427","v":0},"Oanmäld frånvaro"]
["FRÅNVARO",{"$f":"IN!B428","v":0},{"$f":"Blad3!E428","v":""},{"$f":"Blad3!G428","v":0},"Oanmäld frånvaro"]
["FRÅNVARO",{"$f":"IN!B429","v":0},{"$f":"Blad3!E429","v":""},{"$f":"Blad3!G429","v":0},"Oanmäld frånvaro"]
["FRÅNVARO",{"$f":"IN!B430","v":0},{"$f":"Blad3!E430","v":""},{"$f":"Blad3!G430","v":0},"Oanmäld frånvaro"]
["FRÅNVARO",{"$f":"IN!B431","v":0},{"$f":"Blad3!E431","v":""},{"$f":"Blad3!G431","v":0},"Oanmäld frånvaro"]
["FRÅNVARO",{"$f":"IN!B432","v":0},{"$f":"Blad3!E432","v":""},{"$f":"Blad3!G432","v":0},"Oanmäld frånvaro"]
["FRÅNVARO",{"$f":"IN!B433","v":0},{"$f":"Blad3!E433","v":""},{"$f":"Blad3!G433","v":0},"Oanmäld frånvaro"]
["FRÅNVARO",{"$f":"IN!B434","v":0},{"$f":"Blad3!E434","v":""},{"$f":"Blad3!G434","v":0},"Oanmäld frånvaro"]
["FRÅNVARO",{"$f":"IN!B435","v":0},{"$f":"Blad3!E435","v":""},{"$f":"Blad3!G435","v":0},"Oanmäld frånvaro"]
["FRÅNVARO",{"$f":"IN!B436","v":0},{"$f":"Blad3!E436","v":""},{"$f":"Blad3!G436","v":0},"Oanmäld frånvaro"]
["FRÅNVARO",{"$f":"IN!B437","v":0},{"$f":"Blad3!E437","v":""},{"$f":"Blad3!G437","v":0},"Oanmäld frånvaro"]
["FRÅNVARO",{"$f":"IN!B438","v":0},{"$f":"Blad3!E438","v":""},{"$f":"Blad3!G438","v":0},"Oanmäld frånvaro"]
["FRÅNVARO",{"$f":"IN!B439","v":0},{"$f":"Blad3!E439","v":""},{"$f":"Blad3!G439","v":0},"Oanmäld frånvaro"]
["FRÅNVARO",{"$f":"IN!B440","v":0},{"$f":"Blad3!E440","v":""},{"$f":"Blad3!G440","v":0},"Oanmäld frånvaro"]
["FRÅNVARO",{"$f":"IN!B441","v":0},{"$f":"Blad3!E441","v":""},{"$f":"Blad3!G441","v":0},"Oanmäld frånvaro"]
["FRÅNVARO",{"$f":"IN!B442","v":0},{"$f":"Blad3!E442","v":""},{"$f":"Blad3!G442","v":0},"Oanmäld frånvaro"]
["FRÅNVARO",{"$f":"IN!B443","v":0},{"$f":"Blad3!E443","v":""},{"$f":"Blad3!G443","v":0},"Oanmäld frånvaro"]
["FRÅNVARO",{"$f":"IN!B444","v":0},{"$f":"Blad3!E444","v":""},{"$f":"Blad3!G444","v":0},"Oanmäld frånvaro"]
["FRÅNVARO",{"$f":"IN!B445","v":0},{"$f":"Blad3!E445","v":""},{"$f":"Blad3!G445","v":0},"Oanmäld frånvaro"]
["FRÅNVARO",{"$f":"IN!B446","v":0},{"$f":"Blad3!E446","v":""},{"$f":"Blad3!G446","v":0},"Oanmäld frånvaro"]
["FRÅNVARO",{"$f":"IN!B447","v":0},{"$f":"Blad3!E447","v":""},{"$f":"Blad3!G447","v":0},"Oanmäld frånvaro"]
["FRÅNVARO",{"$f":"IN!B448","v":0},{"$f":"Blad3!E448","v":""},{"$f":"Blad3!G448","v":0},"Oanmäld frånvaro"]
["FRÅNVARO",{"$f":"IN!B449","v":0},{"$f":"Blad3!E449","v":""},{"$f":"Blad3!G449","v":0},"Oanmäld frånvaro"]
["FRÅNVARO",{"$f":"IN!B450","v":0},{"$f":"Blad3!E450","v":""},{"$f":"Blad3!G450","v":0},"Oanmäld frånvaro"]
["FRÅNVARO",{"$f":"IN!B451","v":0},{"$f":"Blad3!E451","v":""},{"$f":"Blad3!G451","v":0},"Oanmäld frånvaro"]
["FRÅNVARO",{"$f":"IN!B452","v":0},{"$f":"Blad3!E452","v":""},{"$f":"Blad3!G452","v":0},"Oanmäld frånvaro"]
["FRÅNVARO",{"$f":"IN!B453","v":0},{"$f":"Blad3!E453","v":""},{"$f":"Blad3!G453","v":0},"Oanmäld frånvaro"]
["FRÅNVARO",{"$f":"IN!B454","v":0},{"$f":"Blad3!E454","v":""},{"$f":"Blad3!G454","v":0},"Oanmäld frånvaro"]
["FRÅNVARO",{"$f":"IN!B455","v":0},{"$f":"Blad3!E455","v":""},{"$f":"Blad3!G455","v":0},"Oanmäld frånvaro"]
["FRÅNVARO",{"$f":"IN!B456","v":0},{"$f":"Blad3!E456","v":""},{"$f":"Blad3!G456","v":0},"Oanmäld frånvaro"]
["FRÅNVARO",{"$f":"IN!B457","v":0},{"$f":"Blad3!E457","v":""},{"$f":"Blad3!G457","v":0},"Oanmäld frånvaro"]
["FRÅNVARO",{"$f":"IN!B458","v":0},{"$f":"Blad3!E458","v":""},{"$f":"Blad3!G458","v":0},"Oanmäld frånvaro"]
["FRÅNVARO",{"$f":"IN!B459","v":0},{"$f":"Blad3!E459","v":""},{"$f":"Blad3!G459","v":0},"Oanmäld frånvaro"]
["FRÅNVARO",{"$f":"IN!B460","v":0},{"$f":"Blad3!E460","v":""},{"$f":"Blad3!G460","v":0},"Oanmäld frånvaro"]
["FRÅNVARO",{"$f":"IN!B461","v":0},{"$f":"Blad3!E461","v":""},{"$f":"Blad3!G461","v":0},"Oanmäld frånvaro"]
["FRÅNVARO",{"$f":"IN!B462","v":0},{"$f":"Blad3!E462","v":""},{"$f":"Blad3!G462","v":0},"Oanmäld frånvaro"]
["FRÅNVARO",{"$f":"IN!B463","v":0},{"$f":"Blad3!E463","v":""},{"$f":"Blad3!G463","v":0},"Oanmäld frånvaro"]
["FRÅNVARO",{"$f":"IN!B464","v":0},{"$f":"Blad3!E464","v":""},{"$f":"Blad3!G464","v":0},"Oanmäld frånvaro"]
["FRÅNVARO",{"$f":"IN!B465","v":0},{"$f":"Blad3!E465","v":""},{"$f":"Blad3!G465","v":0},"Oanmäld frånvaro"]
["FRÅNVARO",{"$f":"IN!B466","v":0},{"$f":"Blad3!E466","v":""},{"$f":"Blad3!G466","v":0},"Oanmäld frånvaro"]
["FRÅNVARO",{"$f":"IN!B467","v":0},{"$f":"Blad3!E467","v":""},{"$f":"Blad3!G467","v":0},"Oanmäld frånvaro"]
["FRÅNVARO",{"$f":"IN!B468","v":0},{"$f":"Blad3!E468","v":""},{"$f":"Blad3!G468","v":0},"Oanmäld frånvaro"]
["FRÅNVARO",{"$f":"IN!B469","v":0},{"$f":"Blad3!E469","v":""},{"$f":"Blad3!G469","v":0},"Oanmäld frånvaro"]
["FRÅNVARO",{"$f":"IN!B470","v":0},{"$f":"Blad3!E470","v":""},{"$f":"Blad3!G470","v":0},"Oanmäld frånvaro"]
["FRÅNVARO",{"$f":"IN!B471","v":0},{"$f":"Blad3!E471","v":""},{"$f":"Blad3!G471","v":0},"Oanmäld frånvaro"]
["FRÅNVARO",{"$f":"IN!B472","v":0},{"$f":"Blad3!E472","v":""},{"$f":"Blad3!G472","v":0},"Oanmäld frånvaro"]
["FRÅNVARO",{"$f":"IN!B473","v":0},{"$f":"Blad3!E473","v":""},{"$f":"Blad3!G473","v":0},"Oanmäld frånvaro"]
["FRÅNVARO",{"$f":"IN!B474","v":0},{"$f":"Blad3!E474","v":""},{"$f":"Blad3!G474","v":0},"Oanmäld frånvaro"]
["FRÅNVARO",{"$f":"IN!B475","v":0},{"$f":"Blad3!E475","v":""},{"$f":"Blad3!G475","v":0},"Oanmäld frånvaro"]
["FRÅNVARO",{"$f":"IN!B476","v":0},{"$f":"Blad3!E476","v":""},{"$f":"Blad3!G476","v":0},"Oanmäld frånvaro"]
["FRÅNVARO",{"$f":"IN!B477","v":0},{"$f":"Blad3!E477","v":""},{"$f":"Blad3!G477","v":0},"Oanmäld frånvaro"]
["FRÅNVARO",{"$f":"IN!B478","v":0},{"$f":"Blad3!E478","v":""},{"$f":"Blad3!G478","v":0},"Oanmäld frånvaro"]
["FRÅNVARO",{"$f":"IN!B479","v":0},{"$f":"Blad3!E479","v":""},{"$f":"Blad3!G479","v":0},"Oanmäld frånvaro"]
["FRÅNVARO",{"$f":"IN!B480","v":0},{"$f":"Blad3!E480","v":""},{"$f":"Blad3!G480","v":0},"Oanmäld frånvaro"]
["FRÅNVARO",{"$f":"IN!B481","v":0},{"$f":"Blad3!E481","v":""},{"$f":"Blad3!G481","v":0},"Oanmäld frånvaro"]
["FRÅNVARO",{"$f":"IN!B482","v":0},{"$f":"Blad3!E482","v":""},{"$f":"Blad3!G482","v":0},"Oanmäld frånvaro"]
["FRÅNVARO",{"$f":"IN!B483","v":0},{"$f":"Blad3!E483","v":""},{"$f":"Blad3!G483","v":0},"Oanmäld frånvaro"]
["FRÅNVARO",{"$f":"IN!B484","v":0},{"$f":"Blad3!E484","v":""},{"$f":"Blad3!G484","v":0},"Oanmäld frånvaro"]
["FRÅNVARO",{"$f":"IN!B485","v":0},{"$f":"Blad3!E485","v":""},{"$f":"Blad3!G485","v":0},"Oanmäld frånvaro"]
["FRÅNVARO",{"$f":"IN!B486","v":0},{"$f":"Blad3!E486","v":""},{"$f":"Blad3!G486","v":0},"Oanmäld frånvaro"]
["FRÅNVARO",{"$f":"IN!B487","v":0},{"$f":"Blad3!E487","v":""},{"$f":"Blad3!G487","v":0},"Oanmäld frånvaro"]
["FRÅNVARO",{"$f":"IN!B488","v":0},{"$f":"Blad3!E488","v":""},{"$f":"Blad3!G488","v":0},"Oanmäld frånvaro"]
["FRÅNVARO",{"$f":"IN!B489","v":0},{"$f":"Blad3!E489","v":""},{"$f":"Blad3!G489","v":0},"Oanmäld frånvaro"]
["FRÅNVARO",{"$f":"IN!B490","v":0},{"$f":"Blad3!E490","v":""},{"$f":"Blad3!G490","v":0},"Oanmäld frånvaro"]
["FRÅNVARO",{"$f":"IN!B491","v":0},{"$f":"Blad3!E491","v":""},{"$f":"Blad3!G491","v":0},"Oanmäld frånvaro"]
["FRÅNVARO",{"$f":"IN!B492","v":0},{"$f":"Blad3!E492","v":""},{"$f":"Blad3!G492","v":0},"Oanmäld frånvaro"]
["FRÅNVARO",{"$f":"IN!B493","v":0},{"$f":"Blad3!E493","v":""},{"$f":"Blad3!G493","v":0},"Oanmäld frånvaro"]
["FRÅNVARO",{"$f":"IN!B494","v":0},{"$f":"Blad3!E494","v":""},{"$f":"Blad3!G494","v":0},"Oanmäld frånvaro"]
["FRÅNVARO",{"$f":"IN!B495","v":0},{"$f":"Blad3!E495","v":""},{"$f":"Blad3!G495","v":0},"Oanmäld frånvaro"]
["FRÅNVARO",{"$f":"IN!B496","v":0},{"$f":"Blad3!E496","v":""},{"$f":"Blad3!G496","v":0},"Oanmäld frånvaro"]
["FRÅNVARO",{"$f":"IN!B497","v":0},{"$f":"Blad3!E497","v":""},{"$f":"Blad3!G497","v":0},"Oanmäld frånvaro"]
["FRÅNVARO",{"$f":"IN!B498","v":0},{"$f":"Blad3!E498","v":""},{"$f":"Blad3!G498","v":0},"Oanmäld frånvaro"]
["FRÅNVARO",{"$f":"IN!B499","v":0},{"$f":"Blad3!E499","v":""},{"$f":"Blad3!G499","v":0},"Oanmäld frånvaro"]
["FRÅNVARO",{"$f":"IN!B500","v":0},{"$f":"Blad3!E500","v":""},{"$f":"Blad3!G500","v":0},"Oanmäld frånvaro"]
["FRÅNVARO",{"$f":"IN!B501","v":0},{"$f":"Blad3!E501","v":""},{"$f":"Blad3!G501","v":0},"Oanmäld frånvaro"]
["FRÅNVARO",{"$f":"IN!B502","v":0},{"$f":"Blad3!E502","v":""},{"$f":"Blad3!G502","v":0},"Oanmäld frånvaro"]
["FRÅNVARO",{"$f":"IN!B503","v":0},{"$f":"Blad3!E503","v":""},{"$f":"Blad3!G503","v":0},"Oanmäld frånvaro"]
["FRÅNVARO",{"$f":"IN!B504","v":0},{"$f":"Blad3!E504","v":""},{"$f":"Blad3!G504","v":0},"Oanmäld frånvaro"]
["FRÅNVARO",{"$f":"IN!B505","v":0},{"$f":"Blad3!E505","v":""},{"$f":"Blad3!G505","v":0},"Oanmäld frånvaro"]
["FRÅNVARO",{"$f":"IN!B506","v":0},{"$f":"Blad3!E506","v":""},{"$f":"Blad3!G506","v":0},"Oanmäld frånvaro"]
["FRÅNVARO",{"$f":"IN!B507","v":0},{"$f":"Blad3!E507","v":""},{"$f":"Blad3!G507","v":0},"Oanmäld frånvaro"]
["FRÅNVARO",{"$f":"IN!B508","v":0},{"$f":"Blad3!E508","v":""},{"$f":"Blad3!G508","v":0},"Oanmäld frånvaro"]
["FRÅNVARO",{"$f":"IN!B509","v":0},{"$f":"Blad3!E509","v":""},{"$f":"Blad3!G509","v":0},"Oanmäld frånvaro"]
["FRÅNVARO",{"$f":"IN!B510","v":0},{"$f":"Blad3!E510","v":""},{"$f":"Blad3!G510","v":0},"Oanmäld frånvaro"]
["FRÅNVARO",{"$f":"IN!B511","v":0},{"$f":"Blad3!E511","v":""},{"$f":"Blad3!G511","v":0},"Oanmäld frånvaro"]
["FRÅNVARO",{"$f":"IN!B512","v":0},{"$f":"Blad3!E512","v":""},{"$f":"Blad3!G512","v":0},"Oanmäld frånvaro"]
["FRÅNVARO",{"$f":"IN!B513","v":0},{"$f":"Blad3!E513","v":""},{"$f":"Blad3!G513","v":0},"Oanmäld frånvaro"]
["FRÅNVARO",{"$f":"IN!B514","v":0},{"$f":"Blad3!E514","v":""},{"$f":"Blad3!G514","v":0},"Oanmäld frånvaro"]
["FRÅNVARO",{"$f":"IN!B515","v":0},{"$f":"Blad3!E515","v":""},{"$f":"Blad3!G515","v":0},"Oanmäld frånvaro"]
["FRÅNVARO",{"$f":"IN!B516","v":0},{"$f":"Blad3!E516","v":""},{"$f":"Blad3!G516","v":0},"Oanmäld frånvaro"]
["FRÅNVARO",{"$f":"IN!B517","v":0},{"$f":"Blad3!E517","v":""},{"$f":"Blad3!G517","v":0},"Oanmäld frånvaro"]
["FRÅNVARO",{"$f":"IN!B518","v":0},{"$f":"Blad3!E518","v":""},{"$f":"Blad3!G518","v":0},"Oanmäld frånvaro"]
["FRÅNVARO",{"$f":"IN!B519","v":0},{"$f":"Blad3!E519","v":""},{"$f":"Blad3!G519","v":0},"Oanmäld frånvaro"]
["FRÅNVARO",{"$f":"IN!B520","v":0},{"$f":"Blad3!E520","v":""},{"$f":"Blad3!G520","v":0},"Oanmäld frånvaro"]
["FRÅNVARO",{"$f":"IN!B521","v":0},{"$f":"Blad3!E521","v":""},{"$f":"Blad3!G521","v":0},"Oanmäld frånvaro"]
["FRÅNVARO",{"$f":"IN!B522","v":0},{"$f":"Blad3!E522","v":""},{"$f":"Blad3!G522","v":0},"Oanmäld frånvaro"]
["FRÅNVARO",{"$f":"IN!B523","v":0},{"$f":"Blad3!E523","v":""},{"$f":"Blad3!G523","v":0},"Oanmäld frånvaro"]
["FRÅNVARO",{"$f":"IN!B524","v":0},{"$f":"Blad3!E524","v":""},{"$f":"Blad3!G524","v":0},"Oanmäld frånvaro"]
["FRÅNVARO",{"$f":"IN!B525","v":0},{"$f":"Blad3!E525","v":""},{"$f":"Blad3!G525","v":0},"Oanmäld frånvaro"]
["FRÅNVARO",{"$f":"IN!B526","v":0},{"$f":"Blad3!E526","v":""},{"$f":"Blad3!G526","v":0},"Oanmäld frånvaro"]
["FRÅNVARO",{"$f":"IN!B527","v":0},{"$f":"Blad3!E527","v":""},{"$f":"Blad3!G527","v":0},"Oanmäld frånvaro"]
["FRÅNVARO",{"$f":"IN!B528","v":0},{"$f":"Blad3!E528","v":""},{"$f":"Blad3!G528","v":0},"Oanmäld frånvaro"]
["FRÅNVARO",{"$f":"IN!B529","v":0},{"$f":"Blad3!E529","v":""},{"$f":"Blad3!G529","v":0},"Oanmäld frånvaro"]
["FRÅNVARO",{"$f":"IN!B530","v":0},{"$f":"Blad3!E530","v":""},{"$f":"Blad3!G530","v":0},"Oanmäld frånvaro"]
["FRÅNVARO",{"$f":"IN!B531","v":0},{"$f":"Blad3!E531","v":""},{"$f":"Blad3!G531","v":0},"Oanmäld frånvaro"]
["FRÅNVARO",{"$f":"IN!B532","v":0},{"$f":"Blad3!E532","v":""},{"$f":"Blad3!G532","v":0},"Oanmäld frånvaro"]
["FRÅNVARO",{"$f":"IN!B533","v":0},{"$f":"Blad3!E533","v":""},{"$f":"Blad3!G533","v":0},"Oanmäld frånvaro"]
["FRÅNVARO",{"$f":"IN!B534","v":0},{"$f":"Blad3!E534","v":""},{"$f":"Blad3!G534","v":0},"Oanmäld frånvaro"]
["FRÅNVARO",{"$f":"IN!B535","v":0},{"$f":"Blad3!E535","v":""},{"$f":"Blad3!G535","v":0},"Oanmäld frånvaro"]
["FRÅNVARO",{"$f":"IN!B536","v":0},{"$f":"Blad3!E536","v":""},{"$f":"Blad3!G536","v":0},"Oanmäld frånvaro"]
["FRÅNVARO",{"$f":"IN!B537","v":0},{"$f":"Blad3!E537","v":""},{"$f":"Blad3!G537","v":0},"Oanmäld frånvaro"]
["FRÅNVARO",{"$f":"IN!B538","v":0},{"$f":"Blad3!E538","v":""},{"$f":"Blad3!G538","v":0},"Oanmäld frånvaro"]
["FRÅNVARO",{"$f":"IN!B539","v":0},{"$f":"Blad3!E539","v":""},{"$f":"Blad3!G539","v":0},"Oanmäld frånvaro"]
["FRÅNVARO",{"$f":"IN!B540","v":0},{"$f":"Blad3!E540","v":""},{"$f":"Blad3!G540","v":0},"Oanmäld frånvaro"]
["FRÅNVARO",{"$f":"IN!B541","v":0},{"$f":"Blad3!E541","v":""},{"$f":"Blad3!G541","v":0},"Oanmäld frånvaro"]
["FRÅNVARO",{"$f":"IN!B542","v":0},{"$f":"Blad3!E542","v":""},{"$f":"Blad3!G542","v":0},"Oanmäld frånvaro"]
["FRÅNVARO",{"$f":"IN!B543","v":0},{"$f":"Blad3!E543","v":""},{"$f":"Blad3!G543","v":0},"Oanmäld frånvaro"]
["FRÅNVARO",{"$f":"IN!B544","v":0},{"$f":"Blad3!E544","v":""},{"$f":"Blad3!G544","v":0},"Oanmäld frånvaro"]
["FRÅNVARO",{"$f":"IN!B545","v":0},{"$f":"Blad3!E545","v":""},{"$f":"Blad3!G545","v":0},"Oanmäld frånvaro"]
["FRÅNVARO",{"$f":"IN!B546","v":0},{"$f":"Blad3!E546","v":""},{"$f":"Blad3!G546","v":0},"Oanmäld frånvaro"]
["FRÅNVARO",{"$f":"IN!B547","v":0},{"$f":"Blad3!E547","v":""},{"$f":"Blad3!G547","v":0},"Oanmäld frånvaro"]
["FRÅNVARO",{"$f":"IN!B548","v":0},{"$f":"Blad3!E548","v":""},{"$f":"Blad3!G548","v":0},"Oanmäld frånvaro"]
["FRÅNVARO",{"$f":"IN!B549","v":0},{"$f":"Blad3!E549","v":""},{"$f":"Blad3!G549","v":0},"Oanmäld frånvaro"]
["FRÅNVARO",{"$f":"IN!B550","v":0},{"$f":"Blad3!E550","v":""},{"$f":"Blad3!G550","v":0},"Oanmäld frånvaro"]
["FRÅNVARO",{"$f":"IN!B551","v":0},{"$f":"Blad3!E551","v":""},{"$f":"Blad3!G551","v":0},"Oanmäld frånvaro"]
["FRÅNVARO",{"$f":"IN!B552","v":0},{"$f":"Blad3!E552","v":""},{"$f":"Blad3!G552","v":0},"Oanmäld frånvaro"]
["FRÅNVARO",{"$f":"IN!B553","v":0},{"$f":"Blad3!E553","v":""},{"$f":"Blad3!G553","v":0},"Oanmäld frånvaro"]
["FRÅNVARO",{"$f":"IN!B554","v":0},{"$f":"Blad3!E554","v":""},{"$f":"Blad3!G554","v":0},"Oanmäld frånvaro"]
["FRÅNVARO",{"$f":"IN!B555","v":0},{"$f":"Blad3!E555","v":""},{"$f":"Blad3!G555","v":0},"Oanmäld frånvaro"]
["FRÅNVARO",{"$f":"IN!B556","v":0},{"$f":"Blad3!E556","v":""},{"$f":"Blad3!G556","v":0},"Oanmäld frånvaro"]
["FRÅNVARO",{"$f":"IN!B557","v":0},{"$f":"Blad3!E557","v":""},{"$f":"Blad3!G557","v":0},"Oanmäld frånvaro"]
["FRÅNVARO",{"$f":"IN!B558","v":0},{"$f":"Blad3!E558","v":""},{"$f":"Blad3!G558","v":0},"Oanmäld frånvaro"]
["FRÅNVARO",{"$f":"IN!B559","v":0},{"$f":"Blad3!E559","v":""},{"$f":"Blad3!G559","v":0},"Oanmäld frånvaro"]
["FRÅNVARO",{"$f":"IN!B560","v":0},{"$f":"Blad3!E560","v":""},{"$f":"Blad3!G560","v":0},"Oanmäld frånvaro"]
["FRÅNVARO",{"$f":"IN!B561","v":0},{"$f":"Blad3!E561","v":""},{"$f":"Blad3!G561","v":0},"Oanmäld frånvaro"]
["FRÅNVARO",{"$f":"IN!B562","v":0},{"$f":"Blad3!E562","v":""},{"$f":"Blad3!G562","v":0},"Oanmäld frånvaro"]
["FRÅNVARO",{"$f":"IN!B563","v":0},{"$f":"Blad3!E563","v":""},{"$f":"Blad3!G563","v":0},"Oanmäld frånvaro"]
["FRÅNVARO",{"$f":"IN!B564","v":0},{"$f":"Blad3!E564","v":""},{"$f":"Blad3!G564","v":0},"Oanmäld frånvaro"]
["FRÅNVARO",{"$f":"IN!B565","v":0},{"$f":"Blad3!E565","v":""},{"$f":"Blad3!G565","v":0},"Oanmäld frånvaro"]
["FRÅNVARO",{"$f":"IN!B566","v":0},{"$f":"Blad3!E566","v":""},{"$f":"Blad3!G566","v":0},"Oanmäld frånvaro"]
["FRÅNVARO",{"$f":"IN!B567","v":0},{"$f":"Blad3!E567","v":""},{"$f":"Blad3!G567","v":0},"Oanmäld frånvaro"]
["FRÅNVARO",{"$f":"IN!B568","v":0},{"$f":"Blad3!E568","v":""},{"$f":"Blad3!G568","v":0},"Oanmäld frånvaro"]
["FRÅNVARO",{"$f":"IN!B569","v":0},{"$f":"Blad3!E569","v":""},{"$f":"Blad3!G569","v":0},"Oanmäld frånvaro"]
["FRÅNVARO",{"$f":"IN!B570","v":0},{"$f":"Blad3!E570","v":""},{"$f":"Blad3!G570","v":0},"Oanmäld frånvaro"]
["FRÅNVARO",{"$f":"IN!B571","v":0},{"$f":"Blad3!E571","v":""},{"$f":"Blad3!G571","v":0},"Oanmäld frånvaro"]
["FRÅNVARO",{"$f":"IN!B572","v":0},{"$f":"Blad3!E572","v":""},{"$f":"Blad3!G572","v":0},"Oanmäld frånvaro"]
["FRÅNVARO",{"$f":"IN!B573","v":0},{"$f":"Blad3!E573","v":""},{"$f":"Blad3!G573","v":0},"Oanmäld frånvaro"]
["FRÅNVARO",{"$f":"IN!B574","v":0},{"$f":"Blad3!E574","v":""},{"$f":"Blad3!G574","v":0},"Oanmäld frånvaro"]
["FRÅNVARO",{"$f":"IN!B575","v":0},{"$f":"Blad3!E575","v":""},{"$f":"Blad3!G575","v":0},"Oanmäld frånvaro"]
["FRÅNVARO",{"$f":"IN!B576","v":0},{"$f":"Blad3!E576","v":""},{"$f":"Blad3!G576","v":0},"Oanmäld frånvaro"]
["FRÅNVARO",{"$f":"IN!B577","v":0},{"$f":"Blad3!E577","v":""},{"$f":"Blad3!G577","v":0},"Oanmäld frånvaro"]
["FRÅNVARO",{"$f":"IN!B578","v":0},{"$f":"Blad3!E578","v":""},{"$f":"Blad3!G578","v":0},"Oanmäld frånvaro"]
["FRÅNVARO",{"$f":"IN!B579","v":0},{"$f":"Blad3!E579","v":""},{"$f":"Blad3!G579","v":0},"Oanmäld frånvaro"]
["FRÅNVARO",{"$f":"IN!B580","v":0},{"$f":"Blad3!E580","v":""},{"$f":"Blad3!G580","v":0},"Oanmäld frånvaro"]
["FRÅNVARO",{"$f":"IN!B581","v":0},{"$f":"Blad3!E581","v":""},{"$f":"Blad3!G581","v":0},"Oanmäld frånvaro"]
["FRÅNVARO",{"$f":"IN!B582","v":0},{"$f":"Blad3!E582","v":""},{"$f":"Blad3!G582","v":0},"Oanmäld frånvaro"]
["FRÅNVARO",{"$f":"IN!B583","v":0},{"$f":"Blad3!E583","v":""},{"$f":"Blad3!G583","v":0},"Oanmäld frånvaro"]
["FRÅNVARO",{"$f":"IN!B584","v":0},{"$f":"Blad3!E584","v":""},{"$f":"Blad3!G584","v":0},"Oanmäld frånvaro"]
["FRÅNVARO",{"$f":"IN!B585","v":0},{"$f":"Blad3!E585","v":""},{"$f":"Blad3!G585","v":0},"Oanmäld frånvaro"]
["FRÅNVARO",{"$f":"IN!B586","v":0},{"$f":"Blad3!E586","v":""},{"$f":"Blad3!G586","v":0},"Oanmäld frånvaro"]
["FRÅNVARO",{"$f":"IN!B587","v":0},{"$f":"Blad3!E587","v":""},{"$f":"Blad3!G587","v":0},"Oanmäld frånvaro"]
["FRÅNVARO",{"$f":"IN!B588","v":0},{"$f":"Blad3!E588","v":""},{"$f":"Blad3!G588","v":0},"Oanmäld frånvaro"]
["FRÅNVARO",{"$f":"IN!B589","v":0},{"$f":"Blad3!E589","v":""},{"$f":"Blad3!G589","v":0},"Oanmäld frånvaro"]
["FRÅNVARO",{"$f":"IN!B590","v":0},{"$f":"Blad3!E590","v":""},{"$f":"Blad3!G590","v":0},"Oanmäld frånvaro"]
["FRÅNVARO",{"$f":"IN!B591","v":0},{"$f":"Blad3!E591","v":""},{"$f":"Blad3!G591","v":0},"Oanmäld frånvaro"]
["FRÅNVARO",{"$f":"IN!B592","v":0},{"$f":"Blad3!E592","v":""},{"$f":"Blad3!G592","v":0},"Oanmäld frånvaro"]
["FRÅNVARO",{"$f":"IN!B593","v":0},{"$f":"Blad3!E593","v":""},{"$f":"Blad3!G593","v":0},"Oanmäld frånvaro"]
["FRÅNVARO",{"$f":"IN!B594","v":0},{"$f":"Blad3!E594","v":""},{"$f":"Blad3!G594","v":0},"Oanmäld frånvaro"]
["FRÅNVARO",{"$f":"IN!B595","v":0},{"$f":"Blad3!E595","v":""},{"$f":"Blad3!G595","v":0},"Oanmäld frånvaro"]
["FRÅNVARO",{"$f":"IN!B596","v":0},{"$f":"Blad3!E596","v":""},{"$f":"Blad3!G596","v":0},"Oanmäld frånvaro"]
["FRÅNVARO",{"$f":"IN!B597","v":0},{"$f":"Blad3!E597","v":""},{"$f":"Blad3!G597","v":0},"Oanmäld frånvaro"]
["FRÅNVARO",{"$f":"IN!B598","v":0},{"$f":"Blad3!E598","v":""},{"$f":"Blad3!G598","v":0},"Oanmäld frånvaro"]
["FRÅNVARO",{"$f":"IN!B599","v":0},{"$f":"Blad3!E599","v":""},{"$f":"Blad3!G599","v":0},"Oanmäld frånvaro"]
["FRÅNVARO",{"$f":"IN!B600","v":0},{"$f":"Blad3!E600","v":""},{"$f":"Blad3!G600","v":0},"Oanmäld frånvaro"]
["FRÅNVARO",{"$f":"IN!B601","v":0},{"$f":"Blad3!E601","v":""},{"$f":"Blad3!G601","v":0},"Oanmäld frånvaro"]
["FRÅNVARO",{"$f":"IN!B602","v":0},{"$f":"Blad3!E602","v":""},{"$f":"Blad3!G602","v":0},"Oanmäld frånvaro"]
["FRÅNVARO",{"$f":"IN!B603","v":0},{"$f":"Blad3!E603","v":""},{"$f":"Blad3!G603","v":0},"Oanmäld frånvaro"]
["FRÅNVARO",{"$f":"IN!B604","v":0},{"$f":"Blad3!E604","v":""},{"$f":"Blad3!G604","v":0},"Oanmäld frånvaro"]
["FRÅNVARO",{"$f":"IN!B605","v":0},{"$f":"Blad3!E605","v":""},{"$f":"Blad3!G605","v":0},"Oanmäld frånvaro"]
["FRÅNVARO",{"$f":"IN!B606","v":0},{"$f":"Blad3!E606","v":""},{"$f":"Blad3!G606","v":0},"Oanmäld frånvaro"]
["FRÅNVARO",{"$f":"IN!B607","v":0},{"$f":"Blad3!E607","v":""},{"$f":"Blad3!G607","v":0},"Oanmäld frånvaro"]
["FRÅNVARO",{"$f":"IN!B608","v":0},{"$f":"Blad3!E608","v":""},{"$f":"Blad3!G608","v":0},"Oanmäld frånvaro"]
["FRÅNVARO",{"$f":"IN!B609","v":0},{"$f":"Blad3!E609","v":""},{"$f":"Blad3!G609","v":0},"Oanmäld frånvaro"]
["FRÅNVARO",{"$f":"IN!B610","v":0},{"$f":"Blad3!E610","v":""},{"$f":"Blad3!G610","v":0},"Oanmäld frånvaro"]
["FRÅNVARO",{"$f":"IN!B611","v":0},{"$f":"Blad3!E611","v":""},{"$f":"Blad3!G611","v":0},"Oanmäld frånvaro"]
["FRÅNVARO",{"$f":"IN!B612","v":0},{"$f":"Blad3!E612","v":""},{"$f":"Blad3!G612","v":0},"Oanmäld frånvaro"]
["FRÅNVARO",{"$f":"IN!B613","v":0},{"$f":"Blad3!E613","v":""},{"$f":"Blad3!G613","v":0},"Oanmäld frånvaro"]
["FRÅNVARO",{"$f":"IN!B614","v":0},{"$f":"Blad3!E614","v":""},{"$f":"Blad3!G614","v":0},"Oanmäld frånvaro"]
["FRÅNVARO",{"$f":"IN!B615","v":0},{"$f":"Blad3!E615","v":""},{"$f":"Blad3!G615","v":0},"Oanmäld frånvaro"]
["FRÅNVARO",{"$f":"IN!B616","v":0},{"$f":"Blad3!E616","v":""},{"$f":"Blad3!G616","v":0},"Oanmäld frånvaro"]
["FRÅNVARO",{"$f":"IN!B617","v":0},{"$f":"Blad3!E617","v":""},{"$f":"Blad3!G617","v":0},"Oanmäld frånvaro"]
["FRÅNVARO",{"$f":"IN!B618","v":0},{"$f":"Blad3!E618","v":""},{"$f":"Blad3!G618","v":0},"Oanmäld frånvaro"]
["FRÅNVARO",{"$f":"IN!B619","v":0},{"$f":"Blad3!E619","v":""},{"$f":"Blad3!G619","v":0},"Oanmäld frånvaro"]
["FRÅNVARO",{"$f":"IN!B620","v":0},{"$f":"Blad3!E620","v":""},{"$f":"Blad3!G620","v":0},"Oanmäld frånvaro"]
["FRÅNVARO",{"$f":"IN!B621","v":0},{"$f":"Blad3!E621","v":""},{"$f":"Blad3!G621","v":0},"Oanmäld frånvaro"]
["FRÅNVARO",{"$f":"IN!B622","v":0},{"$f":"Blad3!E622","v":""},{"$f":"Blad3!G622","v":0},"Oanmäld frånvaro"]
["FRÅNVARO",{"$f":"IN!B623","v":0},{"$f":"Blad3!E623","v":""},{"$f":"Blad3!G623","v":0},"Oanmäld frånvaro"]
["FRÅNVARO",{"$f":"IN!B624","v":0},{"$f":"Blad3!E624","v":""},{"$f":"Blad3!G624","v":0},"Oanmäld frånvaro"]
["FRÅNVARO",{"$f":"IN!B625","v":0},{"$f":"Blad3!E625","v":""},{"$f":"Blad3!G625","v":0},"Oanmäld frånvaro"]
["FRÅNVARO",{"$f":"IN!B626","v":0},{"$f":"Blad3!E626","v":""},{"$f":"Blad3!G626","v":0},"Oanmäld frånvaro"]
["FRÅNVARO",{"$f":"IN!B627","v":0},{"$f":"Blad3!E627","v":""},{"$f":"Blad3!G627","v":0},"Oanmäld frånvaro"]
["FRÅNVARO",{"$f":"IN!B628","v":0},{"$f":"Blad3!E628","v":""},{"$f":"Blad3!G628","v":0},"Oanmäld frånvaro"]
["FRÅNVARO",{"$f":"IN!B629","v":0},{"$f":"Blad3!E629","v":""},{"$f":"Blad3!G629","v":0},"Oanmäld frånvaro"]
["FRÅNVARO",{"$f":"IN!B630","v":0},{"$f":"Blad3!E630","v":""},{"$f":"Blad3!G630","v":0},"Oanmäld frånvaro"]
["FRÅNVARO",{"$f":"IN!B631","v":0},{"$f":"Blad3!E631","v":""},{"$f":"Blad3!G631","v":0},"Oanmäld frånvaro"]
["FRÅNVARO",{"$f":"IN!B632","v":0},{"$f":"Blad3!E632","v":""},{"$f":"Blad3!G632","v":0},"Oanmäld frånvaro"]
["FRÅNVARO",{"$f":"IN!B633","v":0},{"$f":"Blad3!E633","v":""},{"$f":"Blad3!G633","v":0},"Oanmäld frånvaro"]
["FRÅNVARO",{"$f":"IN!B634","v":0},{"$f":"Blad3!E634","v":""},{"$f":"Blad3!G634","v":0},"Oanmäld frånvaro"]
["FRÅNVARO",{"$f":"IN!B635","v":0},{"$f":"Blad3!E635","v":""},{"$f":"Blad3!G635","v":0},"Oanmäld frånvaro"]
["FRÅNVARO",{"$f":"IN!B636","v":0},{"$f":"Blad3!E636","v":""},{"$f":"Blad3!G636","v":0},"Oanmäld frånvaro"]
["FRÅNVARO",{"$f":"IN!B637","v":0},{"$f":"Blad3!E637","v":""},{"$f":"Blad3!G637","v":0},"Oanmäld frånvaro"]
["FRÅNVARO",{"$f":"IN!B638","v":0},{"$f":"Blad3!E638","v":""},{"$f":"Blad3!G638","v":0},"Oanmäld frånvaro"]
["FRÅNVARO",{"$f":"IN!B639","v":0},{"$f":"Blad3!E639","v":""},{"$f":"Blad3!G639","v":0},"Oanmäld frånvaro"]
["FRÅNVARO",{"$f":"IN!B640","v":0},{"$f":"Blad3!E640","v":""},{"$f":"Blad3!G640","v":0},"Oanmäld frånvaro"]
["FRÅNVARO",{"$f":"IN!B641","v":0},{"$f":"Blad3!E641","v":""},{"$f":"Blad3!G641","v":0},"Oanmäld frånvaro"]
["FRÅNVARO",{"$f":"IN!B642","v":0},{"$f":"Blad3!E642","v":""},{"$f":"Blad3!G642","v":0},"Oanmäld frånvaro"]
["FRÅNVARO",{"$f":"IN!B643","v":0},{"$f":"Blad3!E643","v":""},{"$f":"Blad3!G643","v":0},"Oanmäld frånvaro"]
["FRÅNVARO",{"$f":"IN!B644","v":0},{"$f":"Blad3!E644","v":""},{"$f":"Blad3!G644","v":0},"Oanmäld frånvaro"]
["FRÅNVARO",{"$f":"IN!B645","v":0},{"$f":"Blad3!E645","v":""},{"$f":"Blad3!G645","v":0},"Oanmäld frånvaro"]
["FRÅNVARO",{"$f":"IN!B646","v":0},{"$f":"Blad3!E646","v":""},{"$f":"Blad3!G646","v":0},"Oanmäld frånvaro"]
["FRÅNVARO",{"$f":"IN!B647","v":0},{"$f":"Blad3!E647","v":""},{"$f":"Blad3!G647","v":0},"Oanmäld frånvaro"]
["FRÅNVARO",{"$f":"IN!B648","v":0},{"$f":"Blad3!E648","v":""},{"$f":"Blad3!G648","v":0},"Oanmäld frånvaro"]
["FRÅNVARO",{"$f":"IN!B649","v":0},{"$f":"Blad3!E649","v":""},{"$f":"Blad3!G649","v":0},"Oanmäld frånvaro"]
["FRÅNVARO",{"$f":"IN!B650","v":0},{"$f":"Blad3!E650","v":""},{"$f":"Blad3!G650","v":0},"Oanmäld frånvaro"]
["FRÅNVARO",{"$f":"IN!B651","v":0},{"$f":"Blad3!E651","v":""},{"$f":"Blad3!G651","v":0},"Oanmäld frånvaro"]
["FRÅNVARO",{"$f":"IN!B652","v":0},{"$f":"Blad3!E652","v":""},{"$f":"Blad3!G652","v":0},"Oanmäld frånvaro"]
["FRÅNVARO",{"$f":"IN!B653","v":0},{"$f":"Blad3!E653","v":""},{"$f":"Blad3!G653","v":0},"Oanmäld frånvaro"]
["FRÅNVARO",{"$f":"IN!B654","v":0},{"$f":"Blad3!E654","v":""},{"$f":"Blad3!G654","v":0},"Oanmäld frånvaro"]
["FRÅNVARO",{"$f":"IN!B655","v":0},{"$f":"Blad3!E655","v":""},{"$f":"Blad3!G655","v":0},"Oanmäld frånvaro"]
["FRÅNVARO",{"$f":"IN!B656","v":0},{"$f":"Blad3!E656","v":""},{"$f":"Blad3!G656","v":0},"Oanmäld frånvaro"]
["FRÅNVARO",{"$f":"IN!B657","v":0},{"$f":"Blad3!E657","v":""},{"$f":"Blad3!G657","v":0},"Oanmäld frånvaro"]
["FRÅNVARO",{"$f":"IN!B658","v":0},{"$f":"Blad3!E658","v":""},{"$f":"Blad3!G658","v":0},"Oanmäld frånvaro"]
["FRÅNVARO",{"$f":"IN!B659","v":0},{"$f":"Blad3!E659","v":""},{"$f":"Blad3!G659","v":0},"Oanmäld frånvaro"]
["FRÅNVARO",{"$f":"IN!B660","v":0},{"$f":"Blad3!E660","v":""},{"$f":"Blad3!G660","v":0},"Oanmäld frånvaro"]
["FRÅNVARO",{"$f":"IN!B661","v":0},{"$f":"Blad3!E661","v":""},{"$f":"Blad3!G661","v":0},"Oanmäld frånvaro"]
["FRÅNVARO",{"$f":"IN!B662","v":0},{"$f":"Blad3!E662","v":""},{"$f":"Blad3!G662","v":0},"Oanmäld frånvaro"]
["FRÅNVARO",{"$f":"IN!B663","v":0},{"$f":"Blad3!E663","v":""},{"$f":"Blad3!G663","v":0},"Oanmäld frånvaro"]
["FRÅNVARO",{"$f":"IN!B664","v":0},{"$f":"Blad3!E664","v":""},{"$f":"Blad3!G664","v":0},"Oanmäld frånvaro"]
["FRÅNVARO",{"$f":"IN!B665","v":0},{"$f":"Blad3!E665","v":""},{"$f":"Blad3!G665","v":0},"Oanmäld frånvaro"]
["FRÅNVARO",{"$f":"IN!B666","v":0},{"$f":"Blad3!E666","v":""},{"$f":"Blad3!G666","v":0},"Oanmäld frånvaro"]
["FRÅNVARO",{"$f":"IN!B667","v":0},{"$f":"Blad3!E667","v":""},{"$f":"Blad3!G667","v":0},"Oanmäld frånvaro"]
["FRÅNVARO",{"$f":"IN!B668","v":0},{"$f":"Blad3!E668","v":""},{"$f":"Blad3!G668","v":0},"Oanmäld frånvaro"]
["FRÅNVARO",{"$f":"IN!B669","v":0},{"$f":"Blad3!E669","v":""},{"$f":"Blad3!G669","v":0},"Oanmäld frånvaro"]
["FRÅNVARO",{"$f":"IN!B670","v":0},{"$f":"Blad3!E670","v":""},{"$f":"Blad3!G670","v":0},"Oanmäld frånvaro"]
["FRÅNVARO",{"$f":"IN!B671","v":0},{"$f":"Blad3!E671","v":""},{"$f":"Blad3!G671","v":0},"Oanmäld frånvaro"]
["FRÅNVARO",{"$f":"IN!B672","v":0},{"$f":"Blad3!E672","v":""},{"$f":"Blad3!G672","v":0},"Oanmäld frånvaro"]
["FRÅNVARO",{"$f":"IN!B673","v":0},{"$f":"Blad3!E673","v":""},{"$f":"Blad3!G673","v":0},"Oanmäld frånvaro"]
["FRÅNVARO",{"$f":"IN!B674","v":0},{"$f":"Blad3!E674","v":""},{"$f":"Blad3!G674","v":0},"Oanmäld frånvaro"]
["FRÅNVARO",{"$f":"IN!B675","v":0},{"$f":"Blad3!E675","v":""},{"$f":"Blad3!G675","v":0},"Oanmäld frånvaro"]
["FRÅNVARO",{"$f":"IN!B676","v":0},{"$f":"Blad3!E676","v":""},{"$f":"Blad3!G676","v":0},"Oanmäld frånvaro"]
["FRÅNVARO",{"$f":"IN!B677","v":0},{"$f":"Blad3!E677","v":""},{"$f":"Blad3!G677","v":0},"Oanmäld frånvaro"]
["FRÅNVARO",{"$f":"IN!B678","v":0},{"$f":"Blad3!E678","v":""},{"$f":"Blad3!G678","v":0},"Oanmäld frånvaro"]
["FRÅNVARO",{"$f":"IN!B679","v":0},{"$f":"Blad3!E679","v":""},{"$f":"Blad3!G679","v":0},"Oanmäld frånvaro"]
["FRÅNVARO",{"$f":"IN!B680","v":0},{"$f":"Blad3!E680","v":""},{"$f":"Blad3!G680","v":0},"Oanmäld frånvaro"]
["FRÅNVARO",{"$f":"IN!B681","v":0},{"$f":"Blad3!E681","v":""},{"$f":"Blad3!G681","v":0},"Oanmäld frånvaro"]
["FRÅNVARO",{"$f":"IN!B682","v":0},{"$f":"Blad3!E682","v":""},{"$f":"Blad3!G682","v":0},"Oanmäld frånvaro"]
["FRÅNVARO",{"$f":"IN!B683","v":0},{"$f":"Blad3!E683","v":""},{"$f":"Blad3!G683","v":0},"Oanmäld frånvaro"]
["FRÅNVARO",{"$f":"IN!B684","v":0},{"$f":"Blad3!E684","v":""},{"$f":"Blad3!G684","v":0},"Oanmäld frånvaro"]
["FRÅNVARO",{"$f":"IN!B685","v":0},{"$f":"Blad3!E685","v":""},{"$f":"Blad3!G685","v":0},"Oanmäld frånvaro"]
["FRÅNVARO",{"$f":"IN!B686","v":0},{"$f":"Blad3!E686","v":""},{"$f":"Blad3!G686","v":0},"Oanmäld frånvaro"]
["FRÅNVARO",{"$f":"IN!B687","v":0},{"$f":"Blad3!E687","v":""},{"$f":"Blad3!G687","v":0},"Oanmäld frånvaro"]
["FRÅNVARO",{"$f":"IN!B688","v":0},{"$f":"Blad3!E688","v":""},{"$f":"Blad3!G688","v":0},"Oanmäld frånvaro"]
["FRÅNVARO",{"$f":"IN!B689","v":0},{"$f":"Blad3!E689","v":""},{"$f":"Blad3!G689","v":0},"Oanmäld frånvaro"]
["FRÅNVARO",{"$f":"IN!B690","v":0},{"$f":"Blad3!E690","v":""},{"$f":"Blad3!G690","v":0},"Oanmäld frånvaro"]
["FRÅNVARO",{"$f":"IN!B691","v":0},{"$f":"Blad3!E691","v":""},{"$f":"Blad3!G691","v":0},"Oanmäld frånvaro"]
["FRÅNVARO",{"$f":"IN!B692","v":0},{"$f":"Blad3!E692","v":""},{"$f":"Blad3!G692","v":0},"Oanmäld frånvaro"]
["FRÅNVARO",{"$f":"IN!B693","v":0},{"$f":"Blad3!E693","v":""},{"$f":"Blad3!G693","v":0},"Oanmäld frånvaro"]
["FRÅNVARO",{"$f":"IN!B694","v":0},{"$f":"Blad3!E694","v":""},{"$f":"Blad3!G694","v":0},"Oanmäld frånvaro"]
["FRÅNVARO",{"$f":"IN!B695","v":0},{"$f":"Blad3!E695","v":""},{"$f":"Blad3!G695","v":0},"Oanmäld frånvaro"]
["FRÅNVARO",{"$f":"IN!B696","v":0},{"$f":"Blad3!E696","v":""},{"$f":"Blad3!G696","v":0},"Oanmäld frånvaro"]
["FRÅNVARO",{"$f":"IN!B697","v":0},{"$f":"Blad3!E697","v":""},{"$f":"Blad3!G697","v":0},"Oanmäld frånvaro"]
["FRÅNVARO",{"$f":"IN!B698","v":0},{"$f":"Blad3!E698","v":""},{"$f":"Blad3!G698","v":0},"Oanmäld frånvaro"]
["FRÅNVARO",{"$f":"IN!B699","v":0},{"$f":"Blad3!E699","v":""},{"$f":"Blad3!G699","v":0},"Oanmäld frånvaro"]
["FRÅNVARO",{"$f":"IN!B700","v":0},{"$f":"Blad3!E700","v":""},{"$f":"Blad3!G700","v":0},"Oanmäld frånvaro"]
["FRÅNVARO",{"$f":"IN!B701","v":0},{"$f":"Blad3!E701","v":""},{"$f":"Blad3!G701","v":0},"Oanmäld frånvaro"]
["FRÅNVARO",{"$f":"IN!B702","v":0},{"$f":"Blad3!E702","v":""},{"$f":"Blad3!G702","v":0},"Oanmäld frånvaro"]
["FRÅNVARO",{"$f":"IN!B703","v":0},{"$f":"Blad3!E703","v":""},{"$f":"Blad3!G703","v":0},"Oanmäld frånvaro"]
["FRÅNVARO",{"$f":"IN!B704","v":0},{"$f":"Blad3!E704","v":""},{"$f":"Blad3!G704","v":0},"Oanmäld frånvaro"]
["FRÅNVARO",{"$f":"IN!B705","v":0},{"$f":"Blad3!E705","v":""},{"$f":"Blad3!G705","v":0},"Oanmäld frånvaro"]
["FRÅNVARO",{"$f":"IN!B706","v":0},{"$f":"Blad3!E706","v":""},{"$f":"Blad3!G706","v":0},"Oanmäld frånvaro"]
["FRÅNVARO",{"$f":"IN!B707","v":0},{"$f":"Blad3!E707","v":""},{"$f":"Blad3!G707","v":0},"Oanmäld frånvaro"]
["FRÅNVARO",{"$f":"IN!B708","v":0},{"$f":"Blad3!E708","v":""},{"$f":"Blad3!G708","v":0},"Oanmäld frånvaro"]
["FRÅNVARO",{"$f":"IN!B709","v":0},{"$f":"Blad3!E709","v":""},{"$f":"Blad3!G709","v":0},"Oanmäld frånvaro"]
["FRÅNVARO",{"$f":"IN!B710","v":0},{"$f":"Blad3!E710","v":""},{"$f":"Blad3!G710","v":0},"Oanmäld frånvaro"]
["FRÅNVARO",{"$f":"IN!B711","v":0},{"$f":"Blad3!E711","v":""},{"$f":"Blad3!G711","v":0},"Oanmäld frånvaro"]
["FRÅNVARO",{"$f":"IN!B712","v":0},{"$f":"Blad3!E712","v":""},{"$f":"Blad3!G712","v":0},"Oanmäld frånvaro"]
["FRÅNVARO",{"$f":"IN!B713","v":0},{"$f":"Blad3!E713","v":""},{"$f":"Blad3!G713","v":0},"Oanmäld frånvaro"]
["FRÅNVARO",{"$f":"IN!B714","v":0},{"$f":"Blad3!E714","v":""},{"$f":"Blad3!G714","v":0},"Oanmäld frånvaro"]
["FRÅNVARO",{"$f":"IN!B715","v":0},{"$f":"Blad3!E715","v":""},{"$f":"Blad3!G715","v":0},"Oanmäld frånvaro"]
["FRÅNVARO",{"$f":"IN!B716","v":0},{"$f":"Blad3!E716","v":""},{"$f":"Blad3!G716","v":0},"Oanmäld frånvaro"]
["FRÅNVARO",{"$f":"IN!B717","v":0},{"$f":"Blad3!E717","v":""},{"$f":"Blad3!G717","v":0},"Oanmäld frånvaro"]
["FRÅNVARO",{"$f":"IN!B718","v":0},{"$f":"Blad3!E718","v":""},{"$f":"Blad3!G718","v":0},"Oanmäld frånvaro"]
["FRÅNVARO",{"$f":"IN!B719","v":0},{"$f":"Blad3!E719","v":""},{"$f":"Blad3!G719","v":0},"Oanmäld frånvaro"]
["FRÅNVARO",{"$f":"IN!B720","v":0},{"$f":"Blad3!E720","v":""},{"$f":"Blad3!G720","v":0},"Oanmäld frånvaro"]
["FRÅNVARO",{"$f":"IN!B721","v":0},{"$f":"Blad3!E721","v":""},{"$f":"Blad3!G721","v":0},"Oanmäld frånvaro"]
["FRÅNVARO",{"$f":"IN!B722","v":0},{"$f":"Blad3!E722","v":""},{"$f":"Blad3!G722","v":0},"Oanmäld frånvaro"]
["FRÅNVARO",{"$f":"IN!B723","v":0},{"$f":"Blad3!E723","v":""},{"$f":"Blad3!G723","v":0},"Oanmäld frånvaro"]
["FRÅNVARO",{"$f":"IN!B724","v":0},{"$f":"Blad3!E724","v":""},{"$f":"Blad3!G724","v":0},"Oanmäld frånvaro"]
["FRÅNVARO",{"$f":"IN!B725","v":0},{"$f":"Blad3!E725","v":""},{"$f":"Blad3!G725","v":0},"Oanmäld frånvaro"]
["FRÅNVARO",{"$f":"IN!B726","v":0},{"$f":"Blad3!E726","v":""},{"$f":"Blad3!G726","v":0},"Oanmäld frånvaro"]
["FRÅNVARO",{"$f":"IN!B727","v":0},{"$f":"Blad3!E727","v":""},{"$f":"Blad3!G727","v":0},"Oanmäld frånvaro"]
["FRÅNVARO",{"$f":"IN!B728","v":0},{"$f":"Blad3!E728","v":""},{"$f":"Blad3!G728","v":0},"Oanmäld frånvaro"]
["FRÅNVARO",{"$f":"IN!B729","v":0},{"$f":"Blad3!E729","v":""},{"$f":"Blad3!G729","v":0},"Oanmäld frånvaro"]
["FRÅNVARO",{"$f":"IN!B730","v":0},{"$f":"Blad3!E730","v":""},{"$f":"Blad3!G730","v":0},"Oanmäld frånvaro"]
["FRÅNVARO",{"$f":"IN!B731","v":0},{"$f":"Blad3!E731","v":""},{"$f":"Blad3!G731","v":0},"Oanmäld frånvaro"]
["FRÅNVARO",{"$f":"IN!B732","v":0},{"$f":"Blad3!E732","v":""},{"$f":"Blad3!G732","v":0},"Oanmäld frånvaro"]
["FRÅNVARO",{"$f":"IN!B733","v":0},{"$f":"Blad3!E733","v":""},{"$f":"Blad3!G733","v":0},"Oanmäld frånvaro"]
["FRÅNVARO",{"$f":"IN!B734","v":0},{"$f":"Blad3!E734","v":""},{"$f":"Blad3!G734","v":0},"Oanmäld frånvaro"]
["FRÅNVARO",{"$f":"IN!B735","v":0},{"$f":"Blad3!E735","v":""},{"$f":"Blad3!G735","v":0},"Oanmäld frånvaro"]
["FRÅNVARO",{"$f":"IN!B736","v":0},{"$f":"Blad3!E736","v":""},{"$f":"Blad3!G736","v":0},"Oanmäld frånvaro"]
["FRÅNVARO",{"$f":"IN!B737","v":0},{"$f":"Blad3!E737","v":""},{"$f":"Blad3!G737","v":0},"Oanmäld frånvaro"]
["FRÅNVARO",{"$f":"IN!B738","v":0},{"$f":"Blad3!E738","v":""},{"$f":"Blad3!G738","v":0},"Oanmäld frånvaro"]
["FRÅNVARO",{"$f":"IN!B739","v":0},{"$f":"Blad3!E739","v":""},{"$f":"Blad3!G739","v":0},"Oanmäld frånvaro"]
["FRÅNVARO",{"$f":"IN!B740","v":0},{"$f":"Blad3!E740","v":""},{"$f":"Blad3!G740","v":0},"Oanmäld frånvaro"]
["FRÅNVARO",{"$f":"IN!B741","v":0},{"$f":"Blad3!E741","v":""},{"$f":"Blad3!G741","v":0},"Oanmäld frånvaro"]
["FRÅNVARO",{"$f":"IN!B742","v":0},{"$f":"Blad3!E742","v":""},{"$f":"Blad3!G742","v":0},"Oanmäld frånvaro"]
["FRÅNVARO",{"$f":"IN!B743","v":0},{"$f":"Blad3!E743","v":""},{"$f":"Blad3!G743","v":0},"Oanmäld frånvaro"]
["FRÅNVARO",{"$f":"IN!B744","v":0},{"$f":"Blad3!E744","v":""},{"$f":"Blad3!G744","v":0},"Oanmäld frånvaro"]
["FRÅNVARO",{"$f":"IN!B745","v":0},{"$f":"Blad3!E745","v":""},{"$f":"Blad3!G745","v":0},"Oanmäld frånvaro"]
["FRÅNVARO",{"$f":"IN!B746","v":0},{"$f":"Blad3!E746","v":""},{"$f":"Blad3!G746","v":0},"Oanmäld frånvaro"]
["FRÅNVARO",{"$f":"IN!B747","v":0},{"$f":"Blad3!E747","v":""},{"$f":"Blad3!G747","v":0},"Oanmäld frånvaro"]
["FRÅNVARO",{"$f":"IN!B748","v":0},{"$f":"Blad3!E748","v":""},{"$f":"Blad3!G748","v":0},"Oanmäld frånvaro"]
["FRÅNVARO",{"$f":"IN!B749","v":0},{"$f":"Blad3!E749","v":""},{"$f":"Blad3!G749","v":0},"Oanmäld frånvaro"]
["FRÅNVARO",{"$f":"IN!B750","v":0},{"$f":"Blad3!E750","v":""},{"$f":"Blad3!G750","v":0},"Oanmäld frånvaro"]
["FRÅNVARO",{"$f":"IN!B751","v":0},{"$f":"Blad3!E751","v":""},{"$f":"Blad3!G751","v":0},"Oanmäld frånvaro"]
["FRÅNVARO",{"$f":"IN!B752","v":0},{"$f":"Blad3!E752","v":""},{"$f":"Blad3!G752","v":0},"Oanmäld frånvaro"]
["FRÅNVARO",{"$f":"IN!B753","v":0},{"$f":"Blad3!E753","v":""},{"$f":"Blad3!G753","v":0},"Oanmäld frånvaro"]
["FRÅNVARO",{"$f":"IN!B754","v":0},{"$f":"Blad3!E754","v":""},{"$f":"Blad3!G754","v":0},"Oanmäld frånvaro"]
["FRÅNVARO",{"$f":"IN!B755","v":0},{"$f":"Blad3!E755","v":""},{"$f":"Blad3!G755","v":0},"Oanmäld frånvaro"]
["FRÅNVARO",{"$f":"IN!B756","v":0},{"$f":"Blad3!E756","v":""},{"$f":"Blad3!G756","v":0},"Oanmäld frånvaro"]
["FRÅNVARO",{"$f":"IN!B757","v":0},{"$f":"Blad3!E757","v":""},{"$f":"Blad3!G757","v":0},"Oanmäld frånvaro"]
["FRÅNVARO",{"$f":"IN!B758","v":0},{"$f":"Blad3!E758","v":""},{"$f":"Blad3!G758","v":0},"Oanmäld frånvaro"]
["FRÅNVARO",{"$f":"IN!B759","v":0},{"$f":"Blad3!E759","v":""},{"$f":"Blad3!G759","v":0},"Oanmäld frånvaro"]
["FRÅNVARO",{"$f":"IN!B760","v":0},{"$f":"Blad3!E760","v":""},{"$f":"Blad3!G760","v":0},"Oanmäld frånvaro"]
["FRÅNVARO",{"$f":"IN!B761","v":0},{"$f":"Blad3!E761","v":""},{"$f":"Blad3!G761","v":0},"Oanmäld frånvaro"]
["FRÅNVARO",{"$f":"IN!B762","v":0},{"$f":"Blad3!E762","v":""},{"$f":"Blad3!G762","v":0},"Oanmäld frånvaro"]
["FRÅNVARO",{"$f":"IN!B763","v":0},{"$f":"Blad3!E763","v":""},{"$f":"Blad3!G763","v":0},"Oanmäld frånvaro"]
["FRÅNVARO",{"$f":"IN!B764","v":0},{"$f":"Blad3!E764","v":""},{"$f":"Blad3!G764","v":0},"Oanmäld frånvaro"]
["FRÅNVARO",{"$f":"IN!B765","v":0},{"$f":"Blad3!E765","v":""},{"$f":"Blad3!G765","v":0},"Oanmäld frånvaro"]
["FRÅNVARO",{"$f":"IN!B766","v":0},{"$f":"Blad3!E766","v":""},{"$f":"Blad3!G766","v":0},"Oanmäld frånvaro"]
["FRÅNVARO",{"$f":"IN!B767","v":0},{"$f":"Blad3!E767","v":""},{"$f":"Blad3!G767","v":0},"Oanmäld frånvaro"]
["FRÅNVARO",{"$f":"IN!B768","v":0},{"$f":"Blad3!E768","v":""},{"$f":"Blad3!G768","v":0},"Oanmäld frånvaro"]
["FRÅNVARO",{"$f":"IN!B769","v":0},{"$f":"Blad3!E769","v":""},{"$f":"Blad3!G769","v":0},"Oanmäld frånvaro"]
["FRÅNVARO",{"$f":"IN!B770","v":0},{"$f":"Blad3!E770","v":""},{"$f":"Blad3!G770","v":0},"Oanmäld frånvaro"]
["FRÅNVARO",{"$f":"IN!B771","v":0},{"$f":"Blad3!E771","v":""},{"$f":"Blad3!G771","v":0},"Oanmäld frånvaro"]
["FRÅNVARO",{"$f":"IN!B772","v":0},{"$f":"Blad3!E772","v":""},{"$f":"Blad3!G772","v":0},"Oanmäld frånvaro"]
["FRÅNVARO",{"$f":"IN!B773","v":0},{"$f":"Blad3!E773","v":""},{"$f":"Blad3!G773","v":0},"Oanmäld frånvaro"]
["FRÅNVARO",{"$f":"IN!B774","v":0},{"$f":"Blad3!E774","v":""},{"$f":"Blad3!G774","v":0},"Oanmäld frånvaro"]
["FRÅNVARO",{"$f":"IN!B775","v":0},{"$f":"Blad3!E775","v":""},{"$f":"Blad3!G775","v":0},"Oanmäld frånvaro"]
["FRÅNVARO",{"$f":"IN!B776","v":0},{"$f":"Blad3!E776","v":""},{"$f":"Blad3!G776","v":0},"Oanmäld frånvaro"]
["FRÅNVARO",{"$f":"IN!B777","v":0},{"$f":"Blad3!E777","v":""},{"$f":"Blad3!G777","v":0},"Oanmäld frånvaro"]
["FRÅNVARO",{"$f":"IN!B778","v":0},{"$f":"Blad3!E778","v":""},{"$f":"Blad3!G778","v":0},"Oanmäld frånvaro"]
["FRÅNVARO",{"$f":"IN!B779","v":0},{"$f":"Blad3!E779","v":""},{"$f":"Blad3!G779","v":0},"Oanmäld frånvaro"]
["FRÅNVARO",{"$f":"IN!B780","v":0},{"$f":"Blad3!E780","v":""},{"$f":"Blad3!G780","v":0},"Oanmäld frånvaro"]
["FRÅNVARO",{"$f":"IN!B781","v":0},{"$f":"Blad3!E781","v":""},{"$f":"Blad3!G781","v":0},"Oanmäld frånvaro"]
["FRÅNVARO",{"$f":"IN!B782","v":0},{"$f":"Blad3!E782","v":""},{"$f":"Blad3!G782","v":0},"Oanmäld frånvaro"]
["FRÅNVARO",{"$f":"IN!B783","v":0},{"$f":"Blad3!E783","v":""},{"$f":"Blad3!G783","v":0},"Oanmäld frånvaro"]
["FRÅNVARO",{"$f":"IN!B784","v":0},{"$f":"Blad3!E784","v":""},{"$f":"Blad3!G784","v":0},"Oanmäld frånvaro"]
["FRÅNVARO",{"$f":"IN!B785","v":0},{"$f":"Blad3!E785","v":""},{"$f":"Blad3!G785","v":0},"Oanmäld frånvaro"]
["FRÅNVARO",{"$f":"IN!B786","v":0},{"$f":"Blad3!E786","v":""},{"$f":"Blad3!G786","v":0},"Oanmäld frånvaro"]
["FRÅNVARO",{"$f":"IN!B787","v":0},{"$f":"Blad3!E787","v":""},{"$f":"Blad3!G787","v":0},"Oanmäld frånvaro"]
["FRÅNVARO",{"$f":"IN!B788","v":0},{"$f":"Blad3!E788","v":""},{"$f":"Blad3!G788","v":0},"Oanmäld frånvaro"]
["FRÅNVARO",{"$f":"IN!B789","v":0},{"$f":"Blad3!E789","v":""},{"$f":"Blad3!G789","v":0},"Oanmäld frånvaro"]
["FRÅNVARO",{"$f":"IN!B790","v":0},{"$f":"Blad3!E790","v":""},{"$f":"Blad3!G790","v":0},"Oanmäld frånvaro"]
["FRÅNVARO",{"$f":"IN!B791","v":0},{"$f":"Blad3!E791","v":""},{"$f":"Blad3!G791","v":0},"Oanmäld frånvaro"]
["FRÅNVARO",{"$f":"IN!B792","v":0},{"$f":"Blad3!E792","v":""},{"$f":"Blad3!G792","v":0},"Oanmäld frånvaro"]
["FRÅNVARO",{"$f":"IN!B793","v":0},{"$f":"Blad3!E793","v":""},{"$f":"Blad3!G793","v":0},"Oanmäld frånvaro"]
["FRÅNVARO",{"$f":"IN!B794","v":0},{"$f":"Blad3!E794","v":""},{"$f":"Blad3!G794","v":0},"Oanmäld frånvaro"]
["FRÅNVARO",{"$f":"IN!B795","v":0},{"$f":"Blad3!E795","v":""},{"$f":"Blad3!G795","v":0},"Oanmäld frånvaro"]
["FRÅNVARO",{"$f":"IN!B796","v":0},{"$f":"Blad3!E796","v":""},{"$f":"Blad3!G796","v":0},"Oanmäld frånvaro"]
["FRÅNVARO",{"$f":"IN!B797","v":0},{"$f":"Blad3!E797","v":""},{"$f":"Blad3!G797","v":0},"Oanmäld frånvaro"]
["FRÅNVARO",{"$f":"IN!B798","v":0},{"$f":"Blad3!E798","v":""},{"$f":"Blad3!G798","v":0},"Oanmäld frånvaro"]
["FRÅNVARO",{"$f":"IN!B799","v":0},{"$f":"Blad3!E799","v":""},{"$f":"Blad3!G799","v":0},"Oanmäld frånvaro"]
["FRÅNVARO",{"$f":"IN!B800","v":0},{"$f":"Blad3!E800","v":""},{"$f":"Blad3!G800","v":0},"Oanmäld frånvaro"]
["FRÅNVARO",{"$f":"IN!B801","v":0},{"$f":"Blad3!E801","v":""},{"$f":"Blad3!G801","v":0},"Oanmäld frånvaro"]
["FRÅNVARO",{"$f":"IN!B802","v":0},{"$f":"Blad3!E802","v":""},{"$f":"Blad3!G802","v":0},"Oanmäld frånvaro"]
["FRÅNVARO",{"$f":"IN!B803","v":0},{"$f":"Blad3!E803","v":""},{"$f":"Blad3!G803","v":0},"Oanmäld frånvaro"]
["FRÅNVARO",{"$f":"IN!B804","v":0},{"$f":"Blad3!E804","v":""},{"$f":"Blad3!G804","v":0},"Oanmäld frånvaro"]
["FRÅNVARO",{"$f":"IN!B805","v":0},{"$f":"Blad3!E805","v":""},{"$f":"Blad3!G805","v":0},"Oanmäld frånvaro"]
["FRÅNVARO",{"$f":"IN!B806","v":0},{"$f":"Blad3!E806","v":""},{"$f":"Blad3!G806","v":0},"Oanmäld frånvaro"]
["FRÅNVARO",{"$f":"IN!B807","v":0},{"$f":"Blad3!E807","v":""},{"$f":"Blad3!G807","v":0},"Oanmäld frånvaro"]
["FRÅNVARO",{"$f":"IN!B808","v":0},{"$f":"Blad3!E808","v":""},{"$f":"Blad3!G808","v":0},"Oanmäld frånvaro"]
["FRÅNVARO",{"$f":"IN!B809","v":0},{"$f":"Blad3!E809","v":""},{"$f":"Blad3!G809","v":0},"Oanmäld frånvaro"]
["FRÅNVARO",{"$f":"IN!B810","v":0},{"$f":"Blad3!E810","v":""},{"$f":"Blad3!G810","v":0},"Oanmäld frånvaro"]
["FRÅNVARO",{"$f":"IN!B811","v":0},{"$f":"Blad3!E811","v":""},{"$f":"Blad3!G811","v":0},"Oanmäld frånvaro"]
["FRÅNVARO",{"$f":"IN!B812","v":0},{"$f":"Blad3!E812","v":""},{"$f":"Blad3!G812","v":0},"Oanmäld frånvaro"]
["FRÅNVARO",{"$f":"IN!B813","v":0},{"$f":"Blad3!E813","v":""},{"$f":"Blad3!G813","v":0},"Oanmäld frånvaro"]
["FRÅNVARO",{"$f":"IN!B814","v":0},{"$f":"Blad3!E814","v":""},{"$f":"Blad3!G814","v":0},"Oanmäld frånvaro"]
["FRÅNVARO",{"$f":"IN!B815","v":0},{"$f":"Blad3!E815","v":""},{"$f":"Blad3!G815","v":0},"Oanmäld frånvaro"]
["FRÅNVARO",{"$f":"IN!B816","v":0},{"$f":"Blad3!E816","v":""},{"$f":"Blad3!G816","v":0},"Oanmäld frånvaro"]
["FRÅNVARO",{"$f":"IN!B817","v":0},{"$f":"Blad3!E817","v":""},{"$f":"Blad3!G817","v":0},"Oanmäld frånvaro"]
["FRÅNVARO",{"$f":"IN!B818","v":0},{"$f":"Blad3!E818","v":""},{"$f":"Blad3!G818","v":0},"Oanmäld frånvaro"]
["FRÅNVARO",{"$f":"IN!B819","v":0},{"$f":"Blad3!E819","v":""},{"$f":"Blad3!G819","v":0},"Oanmäld frånvaro"]
["FRÅNVARO",{"$f":"IN!B820","v":0},{"$f":"Blad3!E820","v":""},{"$f":"Blad3!G820","v":0},"Oanmäld frånvaro"]
["FRÅNVARO",{"$f":"IN!B821","v":0},{"$f":"Blad3!E821","v":""},{"$f":"Blad3!G821","v":0},"Oanmäld frånvaro"]
["FRÅNVARO",{"$f":"IN!B822","v":0},{"$f":"Blad3!E822","v":""},{"$f":"Blad3!G822","v":0},"Oanmäld frånvaro"]
["FRÅNVARO",{"$f":"IN!B823","v":0},{"$f":"Blad3!E823","v":""},{"$f":"Blad3!G823","v":0},"Oanmäld frånvaro"]
["FRÅNVARO",{"$f":"IN!B824","v":0},{"$f":"Blad3!E824","v":""},{"$f":"Blad3!G824","v":0},"Oanmäld frånvaro"]
["FRÅNVARO",{"$f":"IN!B825","v":0},{"$f":"Blad3!E825","v":""},{"$f":"Blad3!G825","v":0},"Oanmäld frånvaro"]
["FRÅNVARO",{"$f":"IN!B826","v":0},{"$f":"Blad3!E826","v":""},{"$f":"Blad3!G826","v":0},"Oanmäld frånvaro"]
["FRÅNVARO",{"$f":"IN!B827","v":0},{"$f":"Blad3!E827","v":""},{"$f":"Blad3!G827","v":0},"Oanmäld frånvaro"]
["FRÅNVARO",{"$f":"IN!B828","v":0},{"$f":"Blad3!E828","v":""},{"$f":"Blad3!G828","v":0},"Oanmäld frånvaro"]
["FRÅNVARO",{"$f":"IN!B829","v":0},{"$f":"Blad3!E829","v":""},{"$f":"Blad3!G829","v":0},"Oanmäld frånvaro"]
["FRÅNVARO",{"$f":"IN!B830","v":0},{"$f":"Blad3!E830","v":""},{"$f":"Blad3!G830","v":0},"Oanmäld frånvaro"]
["FRÅNVARO",{"$f":"IN!B831","v":0},{"$f":"Blad3!E831","v":""},{"$f":"Blad3!G831","v":0},"Oanmäld frånvaro"]
["FRÅNVARO",{"$f":"IN!B832","v":0},{"$f":"Blad3!E832","v":""},{"$f":"Blad3!G832","v":0},"Oanmäld frånvaro"]
["FRÅNVARO",{"$f":"IN!B833","v":0},{"$f":"Blad3!E833","v":""},{"$f":"Blad3!G833","v":0},"Oanmäld frånvaro"]
["FRÅNVARO",{"$f":"IN!B834","v":0},{"$f":"Blad3!E834","v":""},{"$f":"Blad3!G834","v":0},"Oanmäld frånvaro"]
["FRÅNVARO",{"$f":"IN!B835","v":0},{"$f":"Blad3!E835","v":""},{"$f":"Blad3!G835","v":0},"Oanmäld frånvaro"]
["FRÅNVARO",{"$f":"IN!B836","v":0},{"$f":"Blad3!E836","v":""},{"$f":"Blad3!G836","v":0},"Oanmäld frånvaro"]
["FRÅNVARO",{"$f":"IN!B837","v":0},{"$f":"Blad3!E837","v":""},{"$f":"Blad3!G837","v":0},"Oanmäld frånvaro"]
["FRÅNVARO",{"$f":"IN!B838","v":0},{"$f":"Blad3!E838","v":""},{"$f":"Blad3!G838","v":0},"Oanmäld frånvaro"]
["FRÅNVARO",{"$f":"IN!B839","v":0},{"$f":"Blad3!E839","v":""},{"$f":"Blad3!G839","v":0},"Oanmäld frånvaro"]
["FRÅNVARO",{"$f":"IN!B840","v":0},{"$f":"Blad3!E840","v":""},{"$f":"Blad3!G840","v":0},"Oanmäld frånvaro"]
["FRÅNVARO",{"$f":"IN!B841","v":0},{"$f":"Blad3!E841","v":""},{"$f":"Blad3!G841","v":0},"Oanmäld frånvaro"]
["FRÅNVARO",{"$f":"IN!B842","v":0},{"$f":"Blad3!E842","v":""},{"$f":"Blad3!G842","v":0},"Oanmäld frånvaro"]
["FRÅNVARO",{"$f":"IN!B843","v":0},{"$f":"Blad3!E843","v":""},{"$f":"Blad3!G843","v":0},"Oanmäld frånvaro"]
["FRÅNVARO",{"$f":"IN!B844","v":0},{"$f":"Blad3!E844","v":""},{"$f":"Blad3!G844","v":0},"Oanmäld frånvaro"]
["FRÅNVARO",{"$f":"IN!B845","v":0},{"$f":"Blad3!E845","v":""},{"$f":"Blad3!G845","v":0},"Oanmäld frånvaro"]
["FRÅNVARO",{"$f":"IN!B846","v":0},{"$f":"Blad3!E846","v":""},{"$f":"Blad3!G846","v":0},"Oanmäld frånvaro"]
["FRÅNVARO",{"$f":"IN!B847","v":0},{"$f":"Blad3!E847","v":""},{"$f":"Blad3!G847","v":0},"Oanmäld frånvaro"]
["FRÅNVARO",{"$f":"IN!B848","v":0},{"$f":"Blad3!E848","v":""},{"$f":"Blad3!G848","v":0},"Oanmäld frånvaro"]
["FRÅNVARO",{"$f":"IN!B849","v":0},{"$f":"Blad3!E849","v":""},{"$f":"Blad3!G849","v":0},"Oanmäld frånvaro"]
["FRÅNVARO",{"$f":"IN!B850","v":0},{"$f":"Blad3!E850","v":""},{"$f":"Blad3!G850","v":0},"Oanmäld frånvaro"]
["FRÅNVARO",{"$f":"IN!B851","v":0},{"$f":"Blad3!E851","v":""},{"$f":"Blad3!G851","v":0},"Oanmäld frånvaro"]
["FRÅNVARO",{"$f":"IN!B852","v":0},{"$f":"Blad3!E852","v":""},{"$f":"Blad3!G852","v":0},"Oanmäld frånvaro"]
["FRÅNVARO",{"$f":"IN!B853","v":0},{"$f":"Blad3!E853","v":""},{"$f":"Blad3!G853","v":0},"Oanmäld frånvaro"]
["FRÅNVARO",{"$f":"IN!B854","v":0},{"$f":"Blad3!E854","v":""},{"$f":"Blad3!G854","v":0},"Oanmäld frånvaro"]
["FRÅNVARO",{"$f":"IN!B855","v":0},{"$f":"Blad3!E855","v":""},{"$f":"Blad3!G855","v":0},"Oanmäld frånvaro"]
["FRÅNVARO",{"$f":"IN!B856","v":0},{"$f":"Blad3!E856","v":""},{"$f":"Blad3!G856","v":0},"Oanmäld frånvaro"]
["FRÅNVARO",{"$f":"IN!B857","v":0},{"$f":"Blad3!E857","v":""},{"$f":"Blad3!G857","v":0},"Oanmäld frånvaro"]
["FRÅNVARO",{"$f":"IN!B858","v":0},{"$f":"Blad3!E858","v":""},{"$f":"Blad3!G858","v":0},"Oanmäld frånvaro"]
["FRÅNVARO",{"$f":"IN!B859","v":0},{"$f":"Blad3!E859","v":""},{"$f":"Blad3!G859","v":0},"Oanmäld frånvaro"]
["FRÅNVARO",{"$f":"IN!B860","v":0},{"$f":"Blad3!E860","v":""},{"$f":"Blad3!G860","v":0},"Oanmäld frånvaro"]
["FRÅNVARO",{"$f":"IN!B861","v":0},{"$f":"Blad3!E861","v":""},{"$f":"Blad3!G861","v":0},"Oanmäld frånvaro"]
["FRÅNVARO",{"$f":"IN!B862","v":0},{"$f":"Blad3!E862","v":""},{"$f":"Blad3!G862","v":0},"Oanmäld frånvaro"]
["FRÅNVARO",{"$f":"IN!B863","v":0},{"$f":"Blad3!E863","v":""},{"$f":"Blad3!G863","v":0},"Oanmäld frånvaro"]
["FRÅNVARO",{"$f":"IN!B864","v":0},{"$f":"Blad3!E864","v":""},{"$f":"Blad3!G864","v":0},"Oanmäld frånvaro"]
["FRÅNVARO",{"$f":"IN!B865","v":0},{"$f":"Blad3!E865","v":""},{"$f":"Blad3!G865","v":0},"Oanmäld frånvaro"]
["FRÅNVARO",{"$f":"IN!B866","v":0},{"$f":"Blad3!E866","v":""},{"$f":"Blad3!G866","v":0},"Oanmäld frånvaro"]
["FRÅNVARO",{"$f":"IN!B867","v":0},{"$f":"Blad3!E867","v":""},{"$f":"Blad3!G867","v":0},"Oanmäld frånvaro"]
["FRÅNVARO",{"$f":"IN!B868","v":0},{"$f":"Blad3!E868","v":""},{"$f":"Blad3!G868","v":0},"Oanmäld frånvaro"]
["FRÅNVARO",{"$f":"IN!B869","v":0},{"$f":"Blad3!E869","v":""},{"$f":"Blad3!G869","v":0},"Oanmäld frånvaro"]
["FRÅNVARO",{"$f":"IN!B870","v":0},{"$f":"Blad3!E870","v":""},{"$f":"Blad3!G870","v":0},"Oanmäld frånvaro"]
["FRÅNVARO",{"$f":"IN!B871","v":0},{"$f":"Blad3!E871","v":""},{"$f":"Blad3!G871","v":0},"Oanmäld frånvaro"]
["FRÅNVARO",{"$f":"IN!B872","v":0},{"$f":"Blad3!E872","v":""},{"$f":"Blad3!G872","v":0},"Oanmäld frånvaro"]
["FRÅNVARO",{"$f":"IN!B873","v":0},{"$f":"Blad3!E873","v":""},{"$f":"Blad3!G873","v":0},"Oanmäld frånvaro"]
["FRÅNVARO",{"$f":"IN!B874","v":0},{"$f":"Blad3!E874","v":""},{"$f":"Blad3!G874","v":0},"Oanmäld frånvaro"]
["FRÅNVARO",{"$f":"IN!B875","v":0},{"$f":"Blad3!E875","v":""},{"$f":"Blad3!G875","v":0},"Oanmäld frånvaro"]
["FRÅNVARO",{"$f":"IN!B876","v":0},{"$f":"Blad3!E876","v":""},{"$f":"Blad3!G876","v":0},"Oanmäld frånvaro"]
["FRÅNVARO",{"$f":"IN!B877","v":0},{"$f":"Blad3!E877","v":""},{"$f":"Blad3!G877","v":0},"Oanmäld frånvaro"]
["FRÅNVARO",{"$f":"IN!B878","v":0},{"$f":"Blad3!E878","v":""},{"$f":"Blad3!G878","v":0},"Oanmäld frånvaro"]
["FRÅNVARO",{"$f":"IN!B879","v":0},{"$f":"Blad3!E879","v":""},{"$f":"Blad3!G879","v":0},"Oanmäld frånvaro"]
["FRÅNVARO",{"$f":"IN!B880","v":0},{"$f":"Blad3!E880","v":""},{"$f":"Blad3!G880","v":0},"Oanmäld frånvaro"]
["FRÅNVARO",{"$f":"IN!B881","v":0},{"$f":"Blad3!E881","v":""},{"$f":"Blad3!G881","v":0},"Oanmäld frånvaro"]
["FRÅNVARO",{"$f":"IN!B882","v":0},{"$f":"Blad3!E882","v":""},{"$f":"Blad3!G882","v":0},"Oanmäld frånvaro"]
["FRÅNVARO",{"$f":"IN!B883","v":0},{"$f":"Blad3!E883","v":""},{"$f":"Blad3!G883","v":0},"Oanmäld frånvaro"]
["FRÅNVARO",{"$f":"IN!B884","v":0},{"$f":"Blad3!E884","v":""},{"$f":"Blad3!G884","v":0},"Oanmäld frånvaro"]
["FRÅNVARO",{"$f":"IN!B885","v":0},{"$f":"Blad3!E885","v":""},{"$f":"Blad3!G885","v":0},"Oanmäld frånvaro"]
["FRÅNVARO",{"$f":"IN!B886","v":0},{"$f":"Blad3!E886","v":""},{"$f":"Blad3!G886","v":0},"Oanmäld frånvaro"]
["FRÅNVARO",{"$f":"IN!B887","v":0},{"$f":"Blad3!E887","v":""},{"$f":"Blad3!G887","v":0},"Oanmäld frånvaro"]
["FRÅNVARO",{"$f":"IN!B888","v":0},{"$f":"Blad3!E888","v":""},{"$f":"Blad3!G888","v":0},"Oanmäld frånvaro"]
["FRÅNVARO",{"$f":"IN!B889","v":0},{"$f":"Blad3!E889","v":""},{"$f":"Blad3!G889","v":0},"Oanmäld frånvaro"]
["FRÅNVARO",{"$f":"IN!B890","v":0},{"$f":"Blad3!E890","v":""},{"$f":"Blad3!G890","v":0},"Oanmäld frånvaro"]
["FRÅNVARO",{"$f":"IN!B891","v":0},{"$f":"Blad3!E891","v":""},{"$f":"Blad3!G891","v":0},"Oanmäld frånvaro"]
["FRÅNVARO",{"$f":"IN!B892","v":0},{"$f":"Blad3!E892","v":""},{"$f":"Blad3!G892","v":0},"Oanmäld frånvaro"]
["FRÅNVARO",{"$f":"IN!B893","v":0},{"$f":"Blad3!E893","v":""},{"$f":"Blad3!G893","v":0},"Oanmäld frånvaro"]
["FRÅNVARO",{"$f":"IN!B894","v":0},{"$f":"Blad3!E894","v":""},{"$f":"Blad3!G894","v":0},"Oanmäld frånvaro"]
["FRÅNVARO",{"$f":"IN!B895","v":0},{"$f":"Blad3!E895","v":""},{"$f":"Blad3!G895","v":0},"Oanmäld frånvaro"]
["FRÅNVARO",{"$f":"IN!B896","v":0},{"$f":"Blad3!E896","v":""},{"$f":"Blad3!G896","v":0},"Oanmäld frånvaro"]
["FRÅNVARO",{"$f":"IN!B897","v":0},{"$f":"Blad3!E897","v":""},{"$f":"Blad3!G897","v":0},"Oanmäld frånvaro"]
["FRÅNVARO",{"$f":"IN!B898","v":0},{"$f":"Blad3!E898","v":""},{"$f":"Blad3!G898","v":0},"Oanmäld frånvaro"]
["FRÅNVARO",{"$f":"IN!B899","v":0},{"$f":"Blad3!E899","v":""},{"$f":"Blad3!G899","v":0},"Oanmäld frånvaro"]
["FRÅNVARO",{"$f":"IN!B900","v":0},{"$f":"Blad3!E900","v":""},{"$f":"Blad3!G900","v":0},"Oanmäld frånvaro"]
["FRÅNVARO",{"$f":"IN!B901","v":0},{"$f":"Blad3!E901","v":""},{"$f":"Blad3!G901","v":0},"Oanmäld frånvaro"]
["FRÅNVARO",{"$f":"IN!B902","v":0},{"$f":"Blad3!E902","v":""},{"$f":"Blad3!G902","v":0},"Oanmäld frånvaro"]
["FRÅNVARO",{"$f":"IN!B903","v":0},{"$f":"Blad3!E903","v":""},{"$f":"Blad3!G903","v":0},"Oanmäld frånvaro"]
["FRÅNVARO",{"$f":"IN!B904","v":0},{"$f":"Blad3!E904","v":""},{"$f":"Blad3!G904","v":0},"Oanmäld frånvaro"]
["FRÅNVARO",{"$f":"IN!B905","v":0},{"$f":"Blad3!E905","v":""},{"$f":"Blad3!G905","v":0},"Oanmäld frånvaro"]
["FRÅNVARO",{"$f":"IN!B906","v":0},{"$f":"Blad3!E906","v":""},{"$f":"Blad3!G906","v":0},"Oanmäld frånvaro"]
["FRÅNVARO",{"$f":"IN!B907","v":0},{"$f":"Blad3!E907","v":""},{"$f":"Blad3!G907","v":0},"Oanmäld frånvaro"]
["FRÅNVARO",{"$f":"IN!B908","v":0},{"$f":"Blad3!E908","v":""},{"$f":"Blad3!G908","v":0},"Oanmäld frånvaro"]
["FRÅNVARO",{"$f":"IN!B909","v":0},{"$f":"Blad3!E909","v":""},{"$f":"Blad3!G909","v":0},"Oanmäld frånvaro"]
["FRÅNVARO",{"$f":"IN!B910","v":0},{"$f":"Blad3!E910","v":""},{"$f":"Blad3!G910","v":0},"Oanmäld frånvaro"]
["FRÅNVARO",{"$f":"IN!B911","v":0},{"$f":"Blad3!E911","v":""},{"$f":"Blad3!G911","v":0},"Oanmäld frånvaro"]
["FRÅNVARO",{"$f":"IN!B912","v":0},{"$f":"Blad3!E912","v":""},{"$f":"Blad3!G912","v":0},"Oanmäld frånvaro"]
["FRÅNVARO",{"$f":"IN!B913","v":0},{"$f":"Blad3!E913","v":""},{"$f":"Blad3!G913","v":0},"Oanmäld frånvaro"]
["FRÅNVARO",{"$f":"IN!B914","v":0},{"$f":"Blad3!E914","v":""},{"$f":"Blad3!G914","v":0},"Oanmäld frånvaro"]
["FRÅNVARO",{"$f":"IN!B915","v":0},{"$f":"Blad3!E915","v":""},{"$f":"Blad3!G915","v":0},"Oanmäld frånvaro"]
["FRÅNVARO",{"$f":"IN!B916","v":0},{"$f":"Blad3!E916","v":""},{"$f":"Blad3!G916","v":0},"Oanmäld frånvaro"]
["FRÅNVARO",{"$f":"IN!B917","v":0},{"$f":"Blad3!E917","v":""},{"$f":"Blad3!G917","v":0},"Oanmäld frånvaro"]
["FRÅNVARO",{"$f":"IN!B918","v":0},{"$f":"Blad3!E918","v":""},{"$f":"Blad3!G918","v":0},"Oanmäld frånvaro"]
["FRÅNVARO",{"$f":"IN!B919","v":0},{"$f":"Blad3!E919","v":""},{"$f":"Blad3!G919","v":0},"Oanmäld frånvaro"]
["FRÅNVARO",{"$f":"IN!B920","v":0},{"$f":"Blad3!E920","v":""},{"$f":"Blad3!G920","v":0},"Oanmäld frånvaro"]
["FRÅNVARO",{"$f":"IN!B921","v":0},{"$f":"Blad3!E921","v":""},{"$f":"Blad3!G921","v":0},"Oanmäld frånvaro"]
["FRÅNVARO",{"$f":"IN!B922","v":0},{"$f":"Blad3!E922","v":""},{"$f":"Blad3!G922","v":0},"Oanmäld frånvaro"]
["FRÅNVARO",{"$f":"IN!B923","v":0},{"$f":"Blad3!E923","v":""},{"$f":"Blad3!G923","v":0},"Oanmäld frånvaro"]
["FRÅNVARO",{"$f":"IN!B924","v":0},{"$f":"Blad3!E924","v":""},{"$f":"Blad3!G924","v":0},"Oanmäld frånvaro"]
["FRÅNVARO",{"$f":"IN!B925","v":0},{"$f":"Blad3!E925","v":""},{"$f":"Blad3!G925","v":0},"Oanmäld frånvaro"]
["FRÅNVARO",{"$f":"IN!B926","v":0},{"$f":"Blad3!E926","v":""},{"$f":"Blad3!G926","v":0},"Oanmäld frånvaro"]
["FRÅNVARO",{"$f":"IN!B927","v":0},{"$f":"Blad3!E927","v":""},{"$f":"Blad3!G927","v":0},"Oanmäld frånvaro"]
["FRÅNVARO",{"$f":"IN!B928","v":0},{"$f":"Blad3!E928","v":""},{"$f":"Blad3!G928","v":0},"Oanmäld frånvaro"]
["FRÅNVARO",{"$f":"IN!B929","v":0},{"$f":"Blad3!E929","v":""},{"$f":"Blad3!G929","v":0},"Oanmäld frånvaro"]
["FRÅNVARO",{"$f":"IN!B930","v":0},{"$f":"Blad3!E930","v":""},{"$f":"Blad3!G930","v":0},"Oanmäld frånvaro"]
["FRÅNVARO",{"$f":"IN!B931","v":0},{"$f":"Blad3!E931","v":""},{"$f":"Blad3!G931","v":0},"Oanmäld frånvaro"]
["FRÅNVARO",{"$f":"IN!B932","v":0},{"$f":"Blad3!E932","v":""},{"$f":"Blad3!G932","v":0},"Oanmäld frånvaro"]
["FRÅNVARO",{"$f":"IN!B933","v":0},{"$f":"Blad3!E933","v":""},{"$f":"Blad3!G933","v":0},"Oanmäld frånvaro"]
["FRÅNVARO",{"$f":"IN!B934","v":0},{"$f":"Blad3!E934","v":""},{"$f":"Blad3!G934","v":0},"Oanmäld frånvaro"]
["FRÅNVARO",{"$f":"IN!B935","v":0},{"$f":"Blad3!E935","v":""},{"$f":"Blad3!G935","v":0},"Oanmäld frånvaro"]
["FRÅNVARO",{"$f":"IN!B936","v":0},{"$f":"Blad3!E936","v":""},{"$f":"Blad3!G936","v":0},"Oanmäld frånvaro"]
["FRÅNVARO",{"$f":"IN!B937","v":0},{"$f":"Blad3!E937","v":""},{"$f":"Blad3!G937","v":0},"Oanmäld frånvaro"]
["FRÅNVARO",{"$f":"IN!B938","v":0},{"$f":"Blad3!E938","v":""},{"$f":"Blad3!G938","v":0},"Oanmäld frånvaro"]
["FRÅNVARO",{"$f":"IN!B939","v":0},{"$f":"Blad3!E939","v":""},{"$f":"Blad3!G939","v":0},"Oanmäld frånvaro"]
["FRÅNVARO",{"$f":"IN!B940","v":0},{"$f":"Blad3!E940","v":""},{"$f":"Blad3!G940","v":0},"Oanmäld frånvaro"]
["FRÅNVARO",{"$f":"IN!B941","v":0},{"$f":"Blad3!E941","v":""},{"$f":"Blad3!G941","v":0},"Oanmäld frånvaro"]
["FRÅNVARO",{"$f":"IN!B942","v":0},{"$f":"Blad3!E942","v":""},{"$f":"Blad3!G942","v":0},"Oanmäld frånvaro"]
["FRÅNVARO",{"$f":"IN!B943","v":0},{"$f":"Blad3!E943","v":""},{"$f":"Blad3!G943","v":0},"Oanmäld frånvaro"]
["FRÅNVARO",{"$f":"IN!B944","v":0},{"$f":"Blad3!E944","v":""},{"$f":"Blad3!G944","v":0},"Oanmäld frånvaro"]
["FRÅNVARO",{"$f":"IN!B945","v":0},{"$f":"Blad3!E945","v":""},{"$f":"Blad3!G945","v":0},"Oanmäld frånvaro"]
["FRÅNVARO",{"$f":"IN!B946","v":0},{"$f":"Blad3!E946","v":""},{"$f":"Blad3!G946","v":0},"Oanmäld frånvaro"]
["FRÅNVARO",{"$f":"IN!B947","v":0},{"$f":"Blad3!E947","v":""},{"$f":"Blad3!G947","v":0},"Oanmäld frånvaro"]
["FRÅNVARO",{"$f":"IN!B948","v":0},{"$f":"Blad3!E948","v":""},{"$f":"Blad3!G948","v":0},"Oanmäld frånvaro"]
["FRÅNVARO",{"$f":"IN!B949","v":0},{"$f":"Blad3!E949","v":""},{"$f":"Blad3!G949","v":0},"Oanmäld frånvaro"]
["FRÅNVARO",{"$f":"IN!B950","v":0},{"$f":"Blad3!E950","v":""},{"$f":"Blad3!G950","v":0},"Oanmäld frånvaro"]
["FRÅNVARO",{"$f":"IN!B951","v":0},{"$f":"Blad3!E951","v":""},{"$f":"Blad3!G951","v":0},"Oanmäld frånvaro"]
["FRÅNVARO",{"$f":"IN!B952","v":0},{"$f":"Blad3!E952","v":""},{"$f":"Blad3!G952","v":0},"Oanmäld frånvaro"]
["FRÅNVARO",{"$f":"IN!B953","v":0},{"$f":"Blad3!E953","v":""},{"$f":"Blad3!G953","v":0},"Oanmäld frånvaro"]
["FRÅNVARO",{"$f":"IN!B954","v":0},{"$f":"Blad3!E954","v":""},{"$f":"Blad3!G954","v":0},"Oanmäld frånvaro"]
["FRÅNVARO",{"$f":"IN!B955","v":0},{"$f":"Blad3!E955","v":""},{"$f":"Blad3!G955","v":0},"Oanmäld frånvaro"]
["FRÅNVARO",{"$f":"IN!B956","v":0},{"$f":"Blad3!E956","v":""},{"$f":"Blad3!G956","v":0},"Oanmäld frånvaro"]
["FRÅNVARO",{"$f":"IN!B957","v":0},{"$f":"Blad3!E957","v":""},{"$f":"Blad3!G957","v":0},"Oanmäld frånvaro"]
["FRÅNVARO",{"$f":"IN!B958","v":0},{"$f":"Blad3!E958","v":""},{"$f":"Blad3!G958","v":0},"Oanmäld frånvaro"]
["FRÅNVARO",{"$f":"IN!B959","v":0},{"$f":"Blad3!E959","v":""},{"$f":"Blad3!G959","v":0},"Oanmäld frånvaro"]
["FRÅNVARO",{"$f":"IN!B960","v":0},{"$f":"Blad3!E960","v":""},{"$f":"Blad3!G960","v":0},"Oanmäld frånvaro"]
["FRÅNVARO",{"$f":"IN!B961","v":0},{"$f":"Blad3!E961","v":""},{"$f":"Blad3!G961","v":0},"Oanmäld frånvaro"]
["FRÅNVARO",{"$f":"IN!B962","v":0},{"$f":"Blad3!E962","v":""},{"$f":"Blad3!G962","v":0},"Oanmäld frånvaro"]
["FRÅNVARO",{"$f":"IN!B963","v":0},{"$f":"Blad3!E963","v":""},{"$f":"Blad3!G963","v":0},"Oanmäld frånvaro"]
["FRÅNVARO",{"$f":"IN!B964","v":0},{"$f":"Blad3!E964","v":""},{"$f":"Blad3!G964","v":0},"Oanmäld frånvaro"]
["FRÅNVARO",{"$f":"IN!B965","v":0},{"$f":"Blad3!E965","v":""},{"$f":"Blad3!G965","v":0},"Oanmäld frånvaro"]
["FRÅNVARO",{"$f":"IN!B966","v":0},{"$f":"Blad3!E966","v":""},{"$f":"Blad3!G966","v":0},"Oanmäld frånvaro"]
["FRÅNVARO",{"$f":"IN!B967","v":0},{"$f":"Blad3!E967","v":""},{"$f":"Blad3!G967","v":0},"Oanmäld frånvaro"]
["FRÅNVARO",{"$f":"IN!B968","v":0},{"$f":"Blad3!E968","v":""},{"$f":"Blad3!G968","v":0},"Oanmäld frånvaro"]
["FRÅNVARO",{"$f":"IN!B969","v":0},{"$f":"Blad3!E969","v":""},{"$f":"Blad3!G969","v":0},"Oanmäld frånvaro"]
["FRÅNVARO",{"$f":"IN!B970","v":0},{"$f":"Blad3!E970","v":""},{"$f":"Blad3!G970","v":0},"Oanmäld frånvaro"]
["FRÅNVARO",{"$f":"IN!B971","v":0},{"$f":"Blad3!E971","v":""},{"$f":"Blad3!G971","v":0},"Oanmäld frånvaro"]
["FRÅNVARO",{"$f":"IN!B972","v":0},{"$f":"Blad3!E972","v":""},{"$f":"Blad3!G972","v":0},"Oanmäld frånvaro"]
["FRÅNVARO",{"$f":"IN!B973","v":0},{"$f":"Blad3!E973","v":""},{"$f":"Blad3!G973","v":0},"Oanmäld frånvaro"]
["FRÅNVARO",{"$f":"IN!B974","v":0},{"$f":"Blad3!E974","v":""},{"$f":"Blad3!G974","v":0},"Oanmäld frånvaro"]
["FRÅNVARO",{"$f":"IN!B975","v":0},{"$f":"Blad3!E975","v":""},{"$f":"Blad3!G975","v":0},"Oanmäld frånvaro"]
["FRÅNVARO",{"$f":"IN!B976","v":0},{"$f":"Blad3!E976","v":""},{"$f":"Blad3!G976","v":0},"Oanmäld frånvaro"]
["FRÅNVARO",{"$f":"IN!B977","v":0},{"$f":"Blad3!E977","v":""},{"$f":"Blad3!G977","v":0},"Oanmäld frånvaro"]
["FRÅNVARO",{"$f":"IN!B978","v":0},{"$f":"Blad3!E978","v":""},{"$f":"Blad3!G978","v":0},"Oanmäld frånvaro"]
["FRÅNVARO",{"$f":"IN!B979","v":0},{"$f":"Blad3!E979","v":""},{"$f":"Blad3!G979","v":0},"Oanmäld frånvaro"]
["FRÅNVARO",{"$f":"IN!B980","v":0},{"$f":"Blad3!E980","v":""},{"$f":"Blad3!G980","v":0},"Oanmäld frånvaro"]
["FRÅNVARO",{"$f":"IN!B981","v":0},{"$f":"Blad3!E981","v":""},{"$f":"Blad3!G981","v":0},"Oanmäld frånvaro"]
["FRÅNVARO",{"$f":"IN!B982","v":0},{"$f":"Blad3!E982","v":""},{"$f":"Blad3!G982","v":0},"Oanmäld frånvaro"]
["FRÅNVARO",{"$f":"IN!B983","v":0},{"$f":"Blad3!E983","v":""},{"$f":"Blad3!G983","v":0},"Oanmäld frånvaro"]
["FRÅNVARO",{"$f":"IN!B984","v":0},{"$f":"Blad3!E984","v":""},{"$f":"Blad3!G984","v":0},"Oanmäld frånvaro"]
["FRÅNVARO",{"$f":"IN!B985","v":0},{"$f":"Blad3!E985","v":""},{"$f":"Blad3!G985","v":0},"Oanmäld frånvaro"]
["FRÅNVARO",{"$f":"IN!B986","v":0},{"$f":"Blad3!E986","v":""},{"$f":"Blad3!G986","v":0},"Oanmäld frånvaro"]
["FRÅNVARO",{"$f":"IN!B987","v":0},{"$f":"Blad3!E987","v":""},{"$f":"Blad3!G987","v":0},"Oanmäld frånvaro"]
["FRÅNVARO",{"$f":"IN!B988","v":0},{"$f":"Blad3!E988","v":""},{"$f":"Blad3!G988","v":0},"Oanmäld frånvaro"]
["FRÅNVARO",{"$f":"IN!B989","v":0},{"$f":"Blad3!E989","v":""},{"$f":"Blad3!G989","v":0},"Oanmäld frånvaro"]
["FRÅNVARO",{"$f":"IN!B990","v":0},{"$f":"Blad3!E990","v":""},{"$f":"Blad3!G990","v":0},"Oanmäld frånvaro"]
["FRÅNVARO",{"$f":"IN!B991","v":0},{"$f":"Blad3!E991","v":""},{"$f":"Blad3!G991","v":0},"Oanmäld frånvaro"]
["FRÅNVARO",{"$f":"IN!B992","v":0},{"$f":"Blad3!E992","v":""},{"$f":"Blad3!G992","v":0},"Oanmäld frånvaro"]
["FRÅNVARO",{"$f":"IN!B993","v":0},{"$f":"Blad3!E993","v":""},{"$f":"Blad3!G993","v":0},"Oanmäld frånvaro"]
["FRÅNVARO",{"$f":"IN!B994","v":0},{"$f":"Blad3!E994","v":""},{"$f":"Blad3!G994","v":0},"Oanmäld frånvaro"]
["FRÅNVARO",{"$f":"IN!B995","v":0},{"$f":"Blad3!E995","v":""},{"$f":"Blad3!G995","v":0},"Oanmäld frånvaro"]
["FRÅNVARO",{"$f":"IN!B996","v":0},{"$f":"Blad3!E996","v":""},{"$f":"Blad3!G996","v":0},"Oanmäld frånvaro"]
["FRÅNVARO",{"$f":"IN!B997","v":0},{"$f":"Blad3!E997","v":""},{"$f":"Blad3!G997","v":0},"Oanmäld frånvaro"]
["FRÅNVARO",{"$f":"IN!B998","v":0},{"$f":"Blad3!E998","v":""},{"$f":"Blad3!G998","v":0},"Oanmäld frånvaro"]
["FRÅNVARO",{"$f":"IN!B999","v":0},{"$f":"Blad3!E999","v":""},{"$f":"Blad3!G999","v":0},"Oanmäld frånvaro"]
["FRÅNVARO",{"$f":"IN!B1000","v":0},{"$f":"Blad3!E1000","v":""},{"$f":"Blad3!G1000","v":0},"Oanmäld frånvaro"]
["FRÅNVARO",{"$f":"IN!B1001","v":0},{"$f":"Blad3!E1001","v":""},{"$f":"Blad3!G1001","v":0},"Oanmäld frånvaro"]
["FRÅNVARO",{"$f":"IN!B1002","v":0},{"$f":"Blad3!E1002","v":""},{"$f":"Blad3!G1002","v":0},"Oanmäld frånvaro"]
["FRÅNVARO",{"$f":"IN!B1003","v":0},{"$f":"Blad3!E1003","v":""},{"$f":"Blad3!G1003","v":0},"Oanmäld frånvaro"]
["FRÅNVARO",{"$f":"IN!B1004","v":0},{"$f":"Blad3!E1004","v":""},{"$f":"Blad3!G1004","v":0},"Oanmäld frånvaro"]
["FRÅNVARO",{"$f":"IN!B1005","v":0},{"$f":"Blad3!E1005","v":""},{"$f":"Blad3!G1005","v":0},"Oanmäld frånvaro"]
["FRÅNVARO",{"$f":"IN!B1006","v":0},{"$f":"Blad3!E1006","v":""},{"$f":"Blad3!G1006","v":0},"Oanmäld frånvaro"]
["FRÅNVARO",{"$f":"IN!B1007","v":0},{"$f":"Blad3!E1007","v":""},{"$f":"Blad3!G1007","v":0},"Oanmäld frånvaro"]
["FRÅNVARO",{"$f":"IN!B1008","v":0},{"$f":"Blad3!E1008","v":""},{"$f":"Blad3!G1008","v":0},"Oanmäld frånvaro"]
["FRÅNVARO",{"$f":"IN!B1009","v":0},{"$f":"Blad3!E1009","v":""},{"$f":"Blad3!G1009","v":0},"Oanmäld frånvaro"]
["FRÅNVARO",{"$f":"IN!B1010","v":0},{"$f":"Blad3!E1010","v":""},{"$f":"Blad3!G1010","v":0},"Oanmäld frånvaro"]
["FRÅNVARO",{"$f":"IN!B1011","v":0},{"$f":"Blad3!E1011","v":""},{"$f":"Blad3!G1011","v":0},"Oanmäld frånvaro"]
["FRÅNVARO",{"$f":"IN!B1012","v":0},{"$f":"Blad3!E1012","v":""},{"$f":"Blad3!G1012","v":0},"Oanmäld frånvaro"]
["FRÅNVARO",{"$f":"IN!B1013","v":0},{"$f":"Blad3!E1013","v":""},{"$f":"Blad3!G1013","v":0},"Oanmäld frånvaro"]
["FRÅNVARO",{"$f":"IN!B1014","v":0},{"$f":"Blad3!E1014","v":""},{"$f":"Blad3!G1014","v":0},"Oanmäld frånvaro"]
["FRÅNVARO",{"$f":"IN!B1015","v":0},{"$f":"Blad3!E1015","v":""},{"$f":"Blad3!G1015","v":0},"Oanmäld frånvaro"]
["FRÅNVARO",{"$f":"IN!B1016","v":0},{"$f":"Blad3!E1016","v":""},{"$f":"Blad3!G1016","v":0},"Oanmäld frånvaro"]
["FRÅNVARO",{"$f":"IN!B1017","v":0},{"$f":"Blad3!E1017","v":""},{"$f":"Blad3!G1017","v":0},"Oanmäld frånvaro"]
["FRÅNVARO",{"$f":"IN!B1018","v":0},{"$f":"Blad3!E1018","v":""},{"$f":"Blad3!G1018","v":0},"Oanmäld frånvaro"]
["FRÅNVARO",{"$f":"IN!B1019","v":0},{"$f":"Blad3!E1019","v":""},{"$f":"Blad3!G1019","v":0},"Oanmäld frånvaro"]
["FRÅNVARO",{"$f":"IN!B1020","v":0},{"$f":"Blad3!E1020","v":""},{"$f":"Blad3!G1020","v":0},"Oanmäld frånvaro"]
["FRÅNVARO",{"$f":"IN!B1021","v":0},{"$f":"Blad3!E1021","v":""},{"$f":"Blad3!G1021","v":0},"Oanmäld frånvaro"]
["FRÅNVARO",{"$f":"IN!B1022","v":0},{"$f":"Blad3!E1022","v":""},{"$f":"Blad3!G1022","v":0},"Oanmäld frånvaro"]
["FRÅNVARO",{"$f":"IN!B1023","v":0},{"$f":"Blad3!E1023","v":""},{"$f":"Blad3!G1023","v":0},"Oanmäld frånvaro"]
["FRÅNVARO",{"$f":"IN!B1024","v":0},{"$f":"Blad3!E1024","v":""},{"$f":"Blad3!G1024","v":0},"Oanmäld frånvaro"]
["FRÅNVARO",{"$f":"IN!B1025","v":0},{"$f":"Blad3!E1025","v":""},{"$f":"Blad3!G1025","v":0},"Oanmäld frånvaro"]
["FRÅNVARO",{"$f":"IN!B1026","v":0},{"$f":"Blad3!E1026","v":""},{"$f":"Blad3!G1026","v":0},"Oanmäld frånvaro"]
["FRÅNVARO",{"$f":"IN!B1027","v":0},{"$f":"Blad3!E1027","v":""},{"$f":"Blad3!G1027","v":0},"Oanmäld frånvaro"]
["FRÅNVARO",{"$f":"IN!B1028","v":0},{"$f":"Blad3!E1028","v":""},{"$f":"Blad3!G1028","v":0},"Oanmäld frånvaro"]
["FRÅNVARO",{"$f":"IN!B1029","v":0},{"$f":"Blad3!E1029","v":""},{"$f":"Blad3!G1029","v":0},"Oanmäld frånvaro"]
["FRÅNVARO",{"$f":"IN!B1030","v":0},{"$f":"Blad3!E1030","v":""},{"$f":"Blad3!G1030","v":0},"Oanmäld frånvaro"]
["FRÅNVARO",{"$f":"IN!B1031","v":0},{"$f":"Blad3!E1031","v":""},{"$f":"Blad3!G1031","v":0},"Oanmäld frånvaro"]
["FRÅNVARO",{"$f":"IN!B1032","v":0},{"$f":"Blad3!E1032","v":""},{"$f":"Blad3!G1032","v":0},"Oanmäld frånvaro"]
["FRÅNVARO",{"$f":"IN!B1033","v":0},{"$f":"Blad3!E1033","v":""},{"$f":"Blad3!G1033","v":0},"Oanmäld frånvaro"]
["FRÅNVARO",{"$f":"IN!B1034","v":0},{"$f":"Blad3!E1034","v":""},{"$f":"Blad3!G1034","v":0},"Oanmäld frånvaro"]
["FRÅNVARO",{"$f":"IN!B1035","v":0},{"$f":"Blad3!E1035","v":""},{"$f":"Blad3!G1035","v":0},"Oanmäld frånvaro"]
["FRÅNVARO",{"$f":"IN!B1036","v":0},{"$f":"Blad3!E1036","v":""},{"$f":"Blad3!G1036","v":0},"Oanmäld frånvaro"]
["FRÅNVARO",{"$f":"IN!B1037","v":0},{"$f":"Blad3!E1037","v":""},{"$f":"Blad3!G1037","v":0},"Oanmäld frånvaro"]
["FRÅNVARO",{"$f":"IN!B1038","v":0},{"$f":"Blad3!E1038","v":""},{"$f":"Blad3!G1038","v":0},"Oanmäld frånvaro"]
["FRÅNVARO",{"$f":"IN!B1039","v":0},{"$f":"Blad3!E1039","v":""},{"$f":"Blad3!G1039","v":0},"Oanmäld frånvaro"]
["FRÅNVARO",{"$f":"IN!B1040","v":0},{"$f":"Blad3!E1040","v":""},{"$f":"Blad3!G1040","v":0},"Oanmäld frånvaro"]
["FRÅNVARO",{"$f":"IN!B1041","v":0},{"$f":"Blad3!E1041","v":""},{"$f":"Blad3!G1041","v":0},"Oanmäld frånvaro"]
["FRÅNVARO",{"$f":"IN!B1042","v":0},{"$f":"Blad3!E1042","v":""},{"$f":"Blad3!G1042","v":0},"Oanmäld frånvaro"]
["FRÅNVARO",{"$f":"IN!B1043","v":0},{"$f":"Blad3!E1043","v":""},{"$f":"Blad3!G1043","v":0},"Oanmäld frånvaro"]
["FRÅNVARO",{"$f":"IN!B1044","v":0},{"$f":"Blad3!E1044","v":""},{"$f":"Blad3!G1044","v":0},"Oanmäld frånvaro"]
["FRÅNVARO",{"$f":"IN!B1045","v":0},{"$f":"Blad3!E1045","v":""},{"$f":"Blad3!G1045","v":0},"Oanmäld frånvaro"]
["FRÅNVARO",{"$f":"IN!B1046","v":0},{"$f":"Blad3!E1046","v":""},{"$f":"Blad3!G1046","v":0},"Oanmäld frånvaro"]
["FRÅNVARO",{"$f":"IN!B1047","v":0},{"$f":"Blad3!E1047","v":""},{"$f":"Blad3!G1047","v":0},"Oanmäld frånvaro"]
["FRÅNVARO",{"$f":"IN!B1048","v":0},{"$f":"Blad3!E1048","v":""},{"$f":"Blad3!G1048","v":0},"Oanmäld frånvaro"]
["FRÅNVARO",{"$f":"IN!B1049","v":0},{"$f":"Blad3!E1049","v":""},{"$f":"Blad3!G1049","v":0},"Oanmäld frånvaro"]
["FRÅNVARO",{"$f":"IN!B1050","v":0},{"$f":"Blad3!E1050","v":""},{"$f":"Blad3!G1050","v":0},"Oanmäld frånvaro"]
["FRÅNVARO",{"$f":"IN!B1051","v":0},{"$f":"Blad3!E1051","v":""},{"$f":"Blad3!G1051","v":0},"Oanmäld frånvaro"]
["FRÅNVARO",{"$f":"IN!B1052","v":0},{"$f":"Blad3!E1052","v":""},{"$f":"Blad3!G1052","v":0},"Oanmäld frånvaro"]
["FRÅNVARO",{"$f":"IN!B1053","v":0},{"$f":"Blad3!E1053","v":""},{"$f":"Blad3!G1053","v":0},"Oanmäld frånvaro"]
["FRÅNVARO",{"$f":"IN!B1054","v":0},{"$f":"Blad3!E1054","v":""},{"$f":"Blad3!G1054","v":0},"Oanmäld frånvaro"]
["FRÅNVARO",{"$f":"IN!B1055","v":0},{"$f":"Blad3!E1055","v":""},{"$f":"Blad3!G1055","v":0},"Oanmäld frånvaro"]
["FRÅNVARO",{"$f":"IN!B1056","v":0},{"$f":"Blad3!E1056","v":""},{"$f":"Blad3!G1056","v":0},"Oanmäld frånvaro"]
["FRÅNVARO",{"$f":"IN!B1057","v":0},{"$f":"Blad3!E1057","v":""},{"$f":"Blad3!G1057","v":0},"Oanmäld frånvaro"]
["FRÅNVARO",{"$f":"IN!B1058","v":0},{"$f":"Blad3!E1058","v":""},{"$f":"Blad3!G1058","v":0},"Oanmäld frånvaro"]
["FRÅNVARO",{"$f":"IN!B1059","v":0},{"$f":"Blad3!E1059","v":""},{"$f":"Blad3!G1059","v":0},"Oanmäld frånvaro"]
["FRÅNVARO",{"$f":"IN!B1060","v":0},{"$f":"Blad3!E1060","v":""},{"$f":"Blad3!G1060","v":0},"Oanmäld frånvaro"]
["FRÅNVARO",{"$f":"IN!B1061","v":0},{"$f":"Blad3!E1061","v":""},{"$f":"Blad3!G1061","v":0},"Oanmäld frånvaro"]
["FRÅNVARO",{"$f":"IN!B1062","v":0},{"$f":"Blad3!E1062","v":""},{"$f":"Blad3!G1062","v":0},"Oanmäld frånvaro"]
["FRÅNVARO",{"$f":"IN!B1063","v":0},{"$f":"Blad3!E1063","v":""},{"$f":"Blad3!G1063","v":0},"Oanmäld frånvaro"]
["FRÅNVARO",{"$f":"IN!B1064","v":0},{"$f":"Blad3!E1064","v":""},{"$f":"Blad3!G1064","v":0},"Oanmäld frånvaro"]
["FRÅNVARO",{"$f":"IN!B1065","v":0},{"$f":"Blad3!E1065","v":""},{"$f":"Blad3!G1065","v":0},"Oanmäld frånvaro"]
["FRÅNVARO",{"$f":"IN!B1066","v":0},{"$f":"Blad3!E1066","v":""},{"$f":"Blad3!G1066","v":0},"Oanmäld frånvaro"]
["FRÅNVARO",{"$f":"IN!B1067","v":0},{"$f":"Blad3!E1067","v":""},{"$f":"Blad3!G1067","v":0},"Oanmäld frånvaro"]
["FRÅNVARO",{"$f":"IN!B1068","v":0},{"$f":"Blad3!E1068","v":""},{"$f":"Blad3!G1068","v":0},"Oanmäld frånvaro"]
["FRÅNVARO",{"$f":"IN!B1069","v":0},{"$f":"Blad3!E1069","v":""},{"$f":"Blad3!G1069","v":0},"Oanmäld frånvaro"]
["FRÅNVARO",{"$f":"IN!B1070","v":0},{"$f":"Blad3!E1070","v":""},{"$f":"Blad3!G1070","v":0},"Oanmäld frånvaro"]
["FRÅNVARO",{"$f":"IN!B1071","v":0},{"$f":"Blad3!E1071","v":""},{"$f":"Blad3!G1071","v":0},"Oanmäld frånvaro"]
["FRÅNVARO",{"$f":"IN!B1072","v":0},{"$f":"Blad3!E1072","v":""},{"$f":"Blad3!G1072","v":0},"Oanmäld frånvaro"]
["FRÅNVARO",{"$f":"IN!B1073","v":0},{"$f":"Blad3!E1073","v":""},{"$f":"Blad3!G1073","v":0},"Oanmäld frånvaro"]
["FRÅNVARO",{"$f":"IN!B1074","v":0},{"$f":"Blad3!E1074","v":""},{"$f":"Blad3!G1074","v":0},"Oanmäld frånvaro"]
["FRÅNVARO",{"$f":"IN!B1075","v":0},{"$f":"Blad3!E1075","v":""},{"$f":"Blad3!G1075","v":0},"Oanmäld frånvaro"]
["FRÅNVARO",{"$f":"IN!B1076","v":0},{"$f":"Blad3!E1076","v":""},{"$f":"Blad3!G1076","v":0},"Oanmäld frånvaro"]
["FRÅNVARO",{"$f":"IN!B1077","v":0},{"$f":"Blad3!E1077","v":""},{"$f":"Blad3!G1077","v":0},"Oanmäld frånvaro"]
["FRÅNVARO",{"$f":"IN!B1078","v":0},{"$f":"Blad3!E1078","v":""},{"$f":"Blad3!G1078","v":0},"Oanmäld frånvaro"]
["FRÅNVARO",{"$f":"IN!B1079","v":0},{"$f":"Blad3!E1079","v":""},{"$f":"Blad3!G1079","v":0},"Oanmäld frånvaro"]
["FRÅNVARO",{"$f":"IN!B1080","v":0},{"$f":"Blad3!E1080","v":""},{"$f":"Blad3!G1080","v":0},"Oanmäld frånvaro"]
["FRÅNVARO",{"$f":"IN!B1081","v":0},{"$f":"Blad3!E1081","v":""},{"$f":"Blad3!G1081","v":0},"Oanmäld frånvaro"]
["FRÅNVARO",{"$f":"IN!B1082","v":0},{"$f":"Blad3!E1082","v":""},{"$f":"Blad3!G1082","v":0},"Oanmäld frånvaro"]
["FRÅNVARO",{"$f":"IN!B1083","v":0},{"$f":"Blad3!E1083","v":""},{"$f":"Blad3!G1083","v":0},"Oanmäld frånvaro"]
["FRÅNVARO",{"$f":"IN!B1084","v":0},{"$f":"Blad3!E1084","v":""},{"$f":"Blad3!G1084","v":0},"Oanmäld frånvaro"]
["FRÅNVARO",{"$f":"IN!B1085","v":0},{"$f":"Blad3!E1085","v":""},{"$f":"Blad3!G1085","v":0},"Oanmäld frånvaro"]
["FRÅNVARO",{"$f":"IN!B1086","v":0},{"$f":"Blad3!E1086","v":""},{"$f":"Blad3!G1086","v":0},"Oanmäld frånvaro"]
["FRÅNVARO",{"$f":"IN!B1087","v":0},{"$f":"Blad3!E1087","v":""},{"$f":"Blad3!G1087","v":0},"Oanmäld frånvaro"]
["FRÅNVARO",{"$f":"IN!B1088","v":0},{"$f":"Blad3!E1088","v":""},{"$f":"Blad3!G1088","v":0},"Oanmäld frånvaro"]
["FRÅNVARO",{"$f":"IN!B1089","v":0},{"$f":"Blad3!E1089","v":""},{"$f":"Blad3!G1089","v":0},"Oanmäld frånvaro"]
["FRÅNVARO",{"$f":"IN!B1090","v":0},{"$f":"Blad3!E1090","v":""},{"$f":"Blad3!G1090","v":0},"Oanmäld frånvaro"]
["FRÅNVARO",{"$f":"IN!B1091","v":0},{"$f":"Blad3!E1091","v":""},{"$f":"Blad3!G1091","v":0},"Oanmäld frånvaro"]
["FRÅNVARO",{"$f":"IN!B1092","v":0},{"$f":"Blad3!E1092","v":""},{"$f":"Blad3!G1092","v":0},"Oanmäld frånvaro"]
["FRÅNVARO",{"$f":"IN!B1093","v":0},{"$f":"Blad3!E1093","v":""},{"$f":"Blad3!G1093","v":0},"Oanmäld frånvaro"]
["FRÅNVARO",{"$f":"IN!B1094","v":0},{"$f":"Blad3!E1094","v":""},{"$f":"Blad3!G1094","v":0},"Oanmäld frånvaro"]
["FRÅNVARO",{"$f":"IN!B1095","v":0},{"$f":"Blad3!E1095","v":""},{"$f":"Blad3!G1095","v":0},"Oanmäld frånvaro"]
["FRÅNVARO",{"$f":"IN!B1096","v":0},{"$f":"Blad3!E1096","v":""},{"$f":"Blad3!G1096","v":0},"Oanmäld frånvaro"]
["FRÅNVARO",{"$f":"IN!B1097","v":0},{"$f":"Blad3!E1097","v":""},{"$f":"Blad3!G1097","v":0},"Oanmäld frånvaro"]
["FRÅNVARO",{"$f":"IN!B1098","v":0},{"$f":"Blad3!E1098","v":""},{"$f":"Blad3!G1098","v":0},"Oanmäld frånvaro"]
["FRÅNVARO",{"$f":"IN!B1099","v":0},{"$f":"Blad3!E1099","v":""},{"$f":"Blad3!G1099","v":0},"Oanmäld frånvaro"]
["FRÅNVARO",{"$f":"IN!B1100","v":0},{"$f":"Blad3!E1100","v":""},{"$f":"Blad3!G1100","v":0},"Oanmäld frånvaro"]
["FRÅNVARO",{"$f":"IN!B1101","v":0},{"$f":"Blad3!E1101","v":""},{"$f":"Blad3!G1101","v":0},"Oanmäld frånvaro"]
["FRÅNVARO",{"$f":"IN!B1102","v":0},{"$f":"Blad3!E1102","v":""},{"$f":"Blad3!G1102","v":0},"Oanmäld frånvaro"]
["FRÅNVARO",{"$f":"IN!B1103","v":0},{"$f":"Blad3!E1103","v":""},{"$f":"Blad3!G1103","v":0},"Oanmäld frånvaro"]
["FRÅNVARO",{"$f":"IN!B1104","v":0},{"$f":"Blad3!E1104","v":""},{"$f":"Blad3!G1104","v":0},"Oanmäld frånvaro"]
["FRÅNVARO",{"$f":"IN!B1105","v":0},{"$f":"Blad3!E1105","v":""},{"$f":"Blad3!G1105","v":0},"Oanmäld frånvaro"]
["FRÅNVARO",{"$f":"IN!B1106","v":0},{"$f":"Blad3!E1106","v":""},{"$f":"Blad3!G1106","v":0},"Oanmäld frånvaro"]
["FRÅNVARO",{"$f":"IN!B1107","v":0},{"$f":"Blad3!E1107","v":""},{"$f":"Blad3!G1107","v":0},"Oanmäld frånvaro"]
["FRÅNVARO",{"$f":"IN!B1108","v":0},{"$f":"Blad3!E1108","v":""},{"$f":"Blad3!G1108","v":0},"Oanmäld frånvaro"]
["FRÅNVARO",{"$f":"IN!B1109","v":0},{"$f":"Blad3!E1109","v":""},{"$f":"Blad3!G1109","v":0},"Oanmäld frånvaro"]
["FRÅNVARO",{"$f":"IN!B1110","v":0},{"$f":"Blad3!E1110","v":""},{"$f":"Blad3!G1110","v":0},"Oanmäld frånvaro"]
["FRÅNVARO",{"$f":"IN!B1111","v":0},{"$f":"Blad3!E1111","v":""},{"$f":"Blad3!G1111","v":0},"Oanmäld frånvaro"]
["FRÅNVARO",{"$f":"IN!B1112","v":0},{"$f":"Blad3!E1112","v":""},{"$f":"Blad3!G1112","v":0},"Oanmäld frånvaro"]
["FRÅNVARO",{"$f":"IN!B1113","v":0},{"$f":"Blad3!E1113","v":""},{"$f":"Blad3!G1113","v":0},"Oanmäld frånvaro"]
["FRÅNVARO",{"$f":"IN!B1114","v":0},{"$f":"Blad3!E1114","v":""},{"$f":"Blad3!G1114","v":0},"Oanmäld frånvaro"]
["FRÅNVARO",{"$f":"IN!B1115","v":0},{"$f":"Blad3!E1115","v":""},{"$f":"Blad3!G1115","v":0},"Oanmäld frånvaro"]
["FRÅNVARO",{"$f":"IN!B1116","v":0},{"$f":"Blad3!E1116","v":""},{"$f":"Blad3!G1116","v":0},"Oanmäld frånvaro"]
["FRÅNVARO",{"$f":"IN!B1117","v":0},{"$f":"Blad3!E1117","v":""},{"$f":"Blad3!G1117","v":0},"Oanmäld frånvaro"]
["FRÅNVARO",{"$f":"IN!B1118","v":0},{"$f":"Blad3!E1118","v":""},{"$f":"Blad3!G1118","v":0},"Oanmäld frånvaro"]
["FRÅNVARO",{"$f":"IN!B1119","v":0},{"$f":"Blad3!E1119","v":""},{"$f":"Blad3!G1119","v":0},"Oanmäld frånvaro"]
["FRÅNVARO",{"$f":"IN!B1120","v":0},{"$f":"Blad3!E1120","v":""},{"$f":"Blad3!G1120","v":0},"Oanmäld frånvaro"]
["FRÅNVARO",{"$f":"IN!B1121","v":0},{"$f":"Blad3!E1121","v":""},{"$f":"Blad3!G1121","v":0},"Oanmäld frånvaro"]
["FRÅNVARO",{"$f":"IN!B1122","v":0},{"$f":"Blad3!E1122","v":""},{"$f":"Blad3!G1122","v":0},"Oanmäld frånvaro"]
["FRÅNVARO",{"$f":"IN!B1123","v":0},{"$f":"Blad3!E1123","v":""},{"$f":"Blad3!G1123","v":0},"Oanmäld frånvaro"]
["FRÅNVARO",{"$f":"IN!B1124","v":0},{"$f":"Blad3!E1124","v":""},{"$f":"Blad3!G1124","v":0},"Oanmäld frånvaro"]
["FRÅNVARO",{"$f":"IN!B1125","v":0},{"$f":"Blad3!E1125","v":""},{"$f":"Blad3!G1125","v":0},"Oanmäld frånvaro"]
["FRÅNVARO",{"$f":"IN!B1126","v":0},{"$f":"Blad3!E1126","v":""},{"$f":"Blad3!G1126","v":0},"Oanmäld frånvaro"]
["FRÅNVARO",{"$f":"IN!B1127","v":0},{"$f":"Blad3!E1127","v":""},{"$f":"Blad3!G1127","v":0},"Oanmäld frånvaro"]
["FRÅNVARO",{"$f":"IN!B1128","v":0},{"$f":"Blad3!E1128","v":""},{"$f":"Blad3!G1128","v":0},"Oanmäld frånvaro"]
["FRÅNVARO",{"$f":"IN!B1129","v":0},{"$f":"Blad3!E1129","v":""},{"$f":"Blad3!G1129","v":0},"Oanmäld frånvaro"]
["FRÅNVARO",{"$f":"IN!B1130","v":0},{"$f":"Blad3!E1130","v":""},{"$f":"Blad3!G1130","v":0},"Oanmäld frånvaro"]
["FRÅNVARO",{"$f":"IN!B1131","v":0},{"$f":"Blad3!E1131","v":""},{"$f":"Blad3!G1131","v":0},"Oanmäld frånvaro"]
["FRÅNVARO",{"$f":"IN!B1132","v":0},{"$f":"Blad3!E1132","v":""},{"$f":"Blad3!G1132","v":0},"Oanmäld frånvaro"]
["FRÅNVARO",{"$f":"IN!B1133","v":0},{"$f":"Blad3!E1133","v":""},{"$f":"Blad3!G1133","v":0},"Oanmäld frånvaro"]
["FRÅNVARO",{"$f":"IN!B1134","v":0},{"$f":"Blad3!E1134","v":""},{"$f":"Blad3!G1134","v":0},"Oanmäld frånvaro"]
["FRÅNVARO",{"$f":"IN!B1135","v":0},{"$f":"Blad3!E1135","v":""},{"$f":"Blad3!G1135","v":0},"Oanmäld frånvaro"]
["FRÅNVARO",{"$f":"IN!B1136","v":0},{"$f":"Blad3!E1136","v":""},{"$f":"Blad3!G1136","v":0},"Oanmäld frånvaro"]
["FRÅNVARO",{"$f":"IN!B1137","v":0},{"$f":"Blad3!E1137","v":""},{"$f":"Blad3!G1137","v":0},"Oanmäld frånvaro"]
["FRÅNVARO",{"$f":"IN!B1138","v":0},{"$f":"Blad3!E1138","v":""},{"$f":"Blad3!G1138","v":0},"Oanmäld frånvaro"]
["FRÅNVARO",{"$f":"IN!B1139","v":0},{"$f":"Blad3!E1139","v":""},{"$f":"Blad3!G1139","v":0},"Oanmäld frånvaro"]
["FRÅNVARO",{"$f":"IN!B1140","v":0},{"$f":"Blad3!E1140","v":""},{"$f":"Blad3!G1140","v":0},"Oanmäld frånvaro"]
["FRÅNVARO",{"$f":"IN!B1141","v":0},{"$f":"Blad3!E1141","v":""},{"$f":"Blad3!G1141","v":0},"Oanmäld frånvaro"]
["FRÅNVARO",{"$f":"IN!B1142","v":0},{"$f":"Blad3!E1142","v":""},{"$f":"Blad3!G1142","v":0},"Oanmäld frånvaro"]
["FRÅNVARO",{"$f":"IN!B1143","v":0},{"$f":"Blad3!E1143","v":""},{"$f":"Blad3!G1143","v":0},"Oanmäld frånvaro"]
["FRÅNVARO",{"$f":"IN!B1144","v":0},{"$f":"Blad3!E1144","v":""},{"$f":"Blad3!G1144","v":0},"Oanmäld frånvaro"]
["FRÅNVARO",{"$f":"IN!B1145","v":0},{"$f":"Blad3!E1145","v":""},{"$f":"Blad3!G1145","v":0},"Oanmäld frånvaro"]
["FRÅNVARO",{"$f":"IN!B1146","v":0},{"$f":"Blad3!E1146","v":""},{"$f":"Blad3!G1146","v":0},"Oanmäld frånvaro"]
["FRÅNVARO",{"$f":"IN!B1147","v":0},{"$f":"Blad3!E1147","v":""},{"$f":"Blad3!G1147","v":0},"Oanmäld frånvaro"]
["FRÅNVARO",{"$f":"IN!B1148","v":0},{"$f":"Blad3!E1148","v":""},{"$f":"Blad3!G1148","v":0},"Oanmäld frånvaro"]
["FRÅNVARO",{"$f":"IN!B1149","v":0},{"$f":"Blad3!E1149","v":""},{"$f":"Blad3!G1149","v":0},"Oanmäld frånvaro"]
["FRÅNVARO",{"$f":"IN!B1150","v":0},{"$f":"Blad3!E1150","v":""},{"$f":"Blad3!G1150","v":0},"Oanmäld frånvaro"]
["FRÅNVARO",{"$f":"IN!B1151","v":0},{"$f":"Blad3!E1151","v":""},{"$f":"Blad3!G1151","v":0},"Oanmäld frånvaro"]
["FRÅNVARO",{"$f":"IN!B1152","v":0},{"$f":"Blad3!E1152","v":""},{"$f":"Blad3!G1152","v":0},"Oanmäld frånvaro"]
["FRÅNVARO",{"$f":"IN!B1153","v":0},{"$f":"Blad3!E1153","v":""},{"$f":"Blad3!G1153","v":0},"Oanmäld frånvaro"]
["FRÅNVARO",{"$f":"IN!B1154","v":0},{"$f":"Blad3!E1154","v":""},{"$f":"Blad3!G1154","v":0},"Oanmäld frånvaro"]
["FRÅNVARO",{"$f":"IN!B1155","v":0},{"$f":"Blad3!E1155","v":""},{"$f":"Blad3!G1155","v":0},"Oanmäld frånvaro"]
["FRÅNVARO",{"$f":"IN!B1156","v":0},{"$f":"Blad3!E1156","v":""},{"$f":"Blad3!G1156","v":0},"Oanmäld frånvaro"]
["FRÅNVARO",{"$f":"IN!B1157","v":0},{"$f":"Blad3!E1157","v":""},{"$f":"Blad3!G1157","v":0},"Oanmäld frånvaro"]
["FRÅNVARO",{"$f":"IN!B1158","v":0},{"$f":"Blad3!E1158","v":""},{"$f":"Blad3!G1158","v":0},"Oanmäld frånvaro"]
["FRÅNVARO",{"$f":"IN!B1159","v":0},{"$f":"Blad3!E1159","v":""},{"$f":"Blad3!G1159","v":0},"Oanmäld frånvaro"]
["FRÅNVARO",{"$f":"IN!B1160","v":0},{"$f":"Blad3!E1160","v":""},{"$f":"Blad3!G1160","v":0},"Oanmäld frånvaro"]
["FRÅNVARO",{"$f":"IN!B1161","v":0},{"$f":"Blad3!E1161","v":""},{"$f":"Blad3!G1161","v":0},"Oanmäld frånvaro"]
["FRÅNVARO",{"$f":"IN!B1162","v":0},{"$f":"Blad3!E1162","v":""},{"$f":"Blad3!G1162","v":0},"Oanmäld frånvaro"]
["FRÅNVARO",{"$f":"IN!B1163","v":0},{"$f":"Blad3!E1163","v":""},{"$f":"Blad3!G1163","v":0},"Oanmäld frånvaro"]
["FRÅNVARO",{"$f":"IN!B1164","v":0},{"$f":"Blad3!E1164","v":""},{"$f":"Blad3!G1164","v":0},"Oanmäld frånvaro"]
["FRÅNVARO",{"$f":"IN!B1165","v":0},{"$f":"Blad3!E1165","v":""},{"$f":"Blad3!G1165","v":0},"Oanmäld frånvaro"]
["FRÅNVARO",{"$f":"IN!B1166","v":0},{"$f":"Blad3!E1166","v":""},{"$f":"Blad3!G1166","v":0},"Oanmäld frånvaro"]
["FRÅNVARO",{"$f":"IN!B1167","v":0},{"$f":"Blad3!E1167","v":""},{"$f":"Blad3!G1167","v":0},"Oanmäld frånvaro"]
["FRÅNVARO",{"$f":"IN!B1168","v":0},{"$f":"Blad3!E1168","v":""},{"$f":"Blad3!G1168","v":0},"Oanmäld frånvaro"]
["FRÅNVARO",{"$f":"IN!B1169","v":0},{"$f":"Blad3!E1169","v":""},{"$f":"Blad3!G1169","v":0},"Oanmäld frånvaro"]
["FRÅNVARO",{"$f":"IN!B1170","v":0},{"$f":"Blad3!E1170","v":""},{"$f":"Blad3!G1170","v":0},"Oanmäld frånvaro"]
["FRÅNVARO",{"$f":"IN!B1171","v":0},{"$f":"Blad3!E1171","v":""},{"$f":"Blad3!G1171","v":0},"Oanmäld frånvaro"]
["FRÅNVARO",{"$f":"IN!B1172","v":0},{"$f":"Blad3!E1172","v":""},{"$f":"Blad3!G1172","v":0},"Oanmäld frånvaro"]
["FRÅNVARO",{"$f":"IN!B1173","v":0},{"$f":"Blad3!E1173","v":""},{"$f":"Blad3!G1173","v":0},"Oanmäld frånvaro"]
["FRÅNVARO",{"$f":"IN!B1174","v":0},{"$f":"Blad3!E1174","v":""},{"$f":"Blad3!G1174","v":0},"Oanmäld frånvaro"]
["FRÅNVARO",{"$f":"IN!B1175","v":0},{"$f":"Blad3!E1175","v":""},{"$f":"Blad3!G1175","v":0},"Oanmäld frånvaro"]
["FRÅNVARO",{"$f":"IN!B1176","v":0},{"$f":"Blad3!E1176","v":""},{"$f":"Blad3!G1176","v":0},"Oanmäld frånvaro"]
["FRÅNVARO",{"$f":"IN!B1177","v":0},{"$f":"Blad3!E1177","v":""},{"$f":"Blad3!G1177","v":0},"Oanmäld frånvaro"]
["FRÅNVARO",{"$f":"IN!B1178","v":0},{"$f":"Blad3!E1178","v":""},{"$f":"Blad3!G1178","v":0},"Oanmäld frånvaro"]
["FRÅNVARO",{"$f":"IN!B1179","v":0},{"$f":"Blad3!E1179","v":""},{"$f":"Blad3!G1179","v":0},"Oanmäld frånvaro"]
["FRÅNVARO",{"$f":"IN!B1180","v":0},{"$f":"Blad3!E1180","v":""},{"$f":"Blad3!G1180","v":0},"Oanmäld frånvaro"]
["FRÅNVARO",{"$f":"IN!B1181","v":0},{"$f":"Blad3!E1181","v":""},{"$f":"Blad3!G1181","v":0},"Oanmäld frånvaro"]
["FRÅNVARO",{"$f":"IN!B1182","v":0},{"$f":"Blad3!E1182","v":""},{"$f":"Blad3!G1182","v":0},"Oanmäld frånvaro"]
["FRÅNVARO",{"$f":"IN!B1183","v":0},{"$f":"Blad3!E1183","v":""},{"$f":"Blad3!G1183","v":0},"Oanmäld frånvaro"]
["FRÅNVARO",{"$f":"IN!B1184","v":0},{"$f":"Blad3!E1184","v":""},{"$f":"Blad3!G1184","v":0},"Oanmäld frånvaro"]
["FRÅNVARO",{"$f":"IN!B1185","v":0},{"$f":"Blad3!E1185","v":""},{"$f":"Blad3!G1185","v":0},"Oanmäld frånvaro"]
["FRÅNVARO",{"$f":"IN!B1186","v":0},{"$f":"Blad3!E1186","v":""},{"$f":"Blad3!G1186","v":0},"Oanmäld frånvaro"]
["FRÅNVARO",{"$f":"IN!B1187","v":0},{"$f":"Blad3!E1187","v":""},{"$f":"Blad3!G1187","v":0},"Oanmäld frånvaro"]
["FRÅNVARO",{"$f":"IN!B1188","v":0},{"$f":"Blad3!E1188","v":""},{"$f":"Blad3!G1188","v":0},"Oanmäld frånvaro"]
["FRÅNVARO",{"$f":"IN!B1189","v":0},{"$f":"Blad3!E1189","v":""},{"$f":"Blad3!G1189","v":0},"Oanmäld frånvaro"]
["FRÅNVARO",{"$f":"IN!B1190","v":0},{"$f":"Blad3!E1190","v":""},{"$f":"Blad3!G1190","v":0},"Oanmäld frånvaro"]
["FRÅNVARO",{"$f":"IN!B1191","v":0},{"$f":"Blad3!E1191","v":""},{"$f":"Blad3!G1191","v":0},"Oanmäld frånvaro"]
["FRÅNVARO",{"$f":"IN!B1192","v":0},{"$f":"Blad3!E1192","v":""},{"$f":"Blad3!G1192","v":0},"Oanmäld frånvaro"]
["FRÅNVARO",{"$f":"IN!B1193","v":0},{"$f":"Blad3!E1193","v":""},{"$f":"Blad3!G1193","v":0},"Oanmäld frånvaro"]
["FRÅNVARO",{"$f":"IN!B1194","v":0},{"$f":"Blad3!E1194","v":""},{"$f":"Blad3!G1194","v":0},"Oanmäld frånvaro"]
["FRÅNVARO",{"$f":"IN!B1195","v":0},{"$f":"Blad3!E1195","v":""},{"$f":"Blad3!G1195","v":0},"Oanmäld frånvaro"]
["FRÅNVARO",{"$f":"IN!B1196","v":0},{"$f":"Blad3!E1196","v":""},{"$f":"Blad3!G1196","v":0},"Oanmäld frånvaro"]
["FRÅNVARO",{"$f":"IN!B1197","v":0},{"$f":"Blad3!E1197","v":""},{"$f":"Blad3!G1197","v":0},"Oanmäld frånvaro"]
["FRÅNVARO",{"$f":"IN!B1198","v":0},{"$f":"Blad3!E1198","v":""},{"$f":"Blad3!G1198","v":0},"Oanmäld frånvaro"]
["FRÅNVARO",{"$f":"IN!B1199","v":0},{"$f":"Blad3!E1199","v":""},{"$f":"Blad3!G1199","v":0},"Oanmäld frånvaro"]
["FRÅNVARO",{"$f":"IN!B1200","v":0},{"$f":"Blad3!E1200","v":""},{"$f":"Blad3!G1200","v":0},"Oanmäld frånvaro"]
["FRÅNVARO",{"$f":"IN!B1201","v":0},{"$f":"Blad3!E1201","v":""},{"$f":"Blad3!G1201","v":0},"Oanmäld frånvaro"]
["FRÅNVARO",{"$f":"IN!B1202","v":0},{"$f":"Blad3!E1202","v":""},{"$f":"Blad3!G1202","v":0},"Oanmäld frånvaro"]
["FRÅNVARO",{"$f":"IN!B1203","v":0},{"$f":"Blad3!E1203","v":""},{"$f":"Blad3!G1203","v":0},"Oanmäld frånvaro"]
["FRÅNVARO",{"$f":"IN!B1204","v":0},{"$f":"Blad3!E1204","v":""},{"$f":"Blad3!G1204","v":0},"Oanmäld frånvaro"]
["FRÅNVARO",{"$f":"IN!B1205","v":0},{"$f":"Blad3!E1205","v":""},{"$f":"Blad3!G1205","v":0},"Oanmäld frånvaro"]
["FRÅNVARO",{"$f":"IN!B1206","v":0},{"$f":"Blad3!E1206","v":""},{"$f":"Blad3!G1206","v":0},"Oanmäld frånvaro"]
["FRÅNVARO",{"$f":"IN!B1207","v":0},{"$f":"Blad3!E1207","v":""},{"$f":"Blad3!G1207","v":0},"Oanmäld frånvaro"]
["FRÅNVARO",{"$f":"IN!B1208","v":0},{"$f":"Blad3!E1208","v":""},{"$f":"Blad3!G1208","v":0},"Oanmäld frånvaro"]
["FRÅNVARO",{"$f":"IN!B1209","v":0},{"$f":"Blad3!E1209","v":""},{"$f":"Blad3!G1209","v":0},"Oanmäld frånvaro"]
["FRÅNVARO",{"$f":"IN!B1210","v":0},{"$f":"Blad3!E1210","v":""},{"$f":"Blad3!G1210","v":0},"Oanmäld frånvaro"]
["FRÅNVARO",{"$f":"IN!B1211","v":0},{"$f":"Blad3!E1211","v":""},{"$f":"Blad3!G1211","v":0},"Oanmäld frånvaro"]
["FRÅNVARO",{"$f":"IN!B1212","v":0},{"$f":"Blad3!E1212","v":""},{"$f":"Blad3!G1212","v":0},"Oanmäld frånvaro"]
["FRÅNVARO",{"$f":"IN!B1213","v":0},{"$f":"Blad3!E1213","v":""},{"$f":"Blad3!G1213","v":0},"Oanmäld frånvaro"]
["FRÅNVARO",{"$f":"IN!B1214","v":0},{"$f":"Blad3!E1214","v":""},{"$f":"Blad3!G1214","v":0},"Oanmäld frånvaro"]
["FRÅNVARO",{"$f":"IN!B1215","v":0},{"$f":"Blad3!E1215","v":""},{"$f":"Blad3!G1215","v":0},"Oanmäld frånvaro"]
["FRÅNVARO",{"$f":"IN!B1216","v":0},{"$f":"Blad3!E1216","v":""},{"$f":"Blad3!G1216","v":0},"Oanmäld frånvaro"]
["FRÅNVARO",{"$f":"IN!B1217","v":0},{"$f":"Blad3!E1217","v":""},{"$f":"Blad3!G1217","v":0},"Oanmäld frånvaro"]
["FRÅNVARO",{"$f":"IN!B1218","v":0},{"$f":"Blad3!E1218","v":""},{"$f":"Blad3!G1218","v":0},"Oanmäld frånvaro"]
["FRÅNVARO",{"$f":"IN!B1219","v":0},{"$f":"Blad3!E1219","v":""},{"$f":"Blad3!G1219","v":0},"Oanmäld frånvaro"]
["FRÅNVARO",{"$f":"IN!B1220","v":0},{"$f":"Blad3!E1220","v":""},{"$f":"Blad3!G1220","v":0},"Oanmäld frånvaro"]
["FRÅNVARO",{"$f":"IN!B1221","v":0},{"$f":"Blad3!E1221","v":""},{"$f":"Blad3!G1221","v":0},"Oanmäld frånvaro"]
["FRÅNVARO",{"$f":"IN!B1222","v":0},{"$f":"Blad3!E1222","v":""},{"$f":"Blad3!G1222","v":0},"Oanmäld frånvaro"]
["FRÅNVARO",{"$f":"IN!B1223","v":0},{"$f":"Blad3!E1223","v":""},{"$f":"Blad3!G1223","v":0},"Oanmäld frånvaro"]
["FRÅNVARO",{"$f":"IN!B1224","v":0},{"$f":"Blad3!E1224","v":""},{"$f":"Blad3!G1224","v":0},"Oanmäld frånvaro"]
["FRÅNVARO",{"$f":"IN!B1225","v":0},{"$f":"Blad3!E1225","v":""},{"$f":"Blad3!G1225","v":0},"Oanmäld frånvaro"]
["FRÅNVARO",{"$f":"IN!B1226","v":0},{"$f":"Blad3!E1226","v":""},{"$f":"Blad3!G1226","v":0},"Oanmäld frånvaro"]
["FRÅNVARO",{"$f":"IN!B1227","v":0},{"$f":"Blad3!E1227","v":""},{"$f":"Blad3!G1227","v":0},"Oanmäld frånvaro"]
["FRÅNVARO",{"$f":"IN!B1228","v":0},{"$f":"Blad3!E1228","v":""},{"$f":"Blad3!G1228","v":0},"Oanmäld frånvaro"]
["FRÅNVARO",{"$f":"IN!B1229","v":0},{"$f":"Blad3!E1229","v":""},{"$f":"Blad3!G1229","v":0},"Oanmäld frånvaro"]
["FRÅNVARO",{"$f":"IN!B1230","v":0},{"$f":"Blad3!E1230","v":""},{"$f":"Blad3!G1230","v":0},"Oanmäld frånvaro"]
["FRÅNVARO",{"$f":"IN!B1231","v":0},{"$f":"Blad3!E1231","v":""},{"$f":"Blad3!G1231","v":0},"Oanmäld frånvaro"]
["FRÅNVARO",{"$f":"IN!B1232","v":0},{"$f":"Blad3!E1232","v":""},{"$f":"Blad3!G1232","v":0},"Oanmäld frånvaro"]
["FRÅNVARO",{"$f":"IN!B1233","v":0},{"$f":"Blad3!E1233","v":""},{"$f":"Blad3!G1233","v":0},"Oanmäld frånvaro"]
["FRÅNVARO",{"$f":"IN!B1234","v":0},{"$f":"Blad3!E1234","v":""},{"$f":"Blad3!G1234","v":0},"Oanmäld frånvaro"]
["FRÅNVARO",{"$f":"IN!B1235","v":0},{"$f":"Blad3!E1235","v":""},{"$f":"Blad3!G1235","v":0},"Oanmäld frånvaro"]
["FRÅNVARO",{"$f":"IN!B1236","v":0},{"$f":"Blad3!E1236","v":""},{"$f":"Blad3!G1236","v":0},"Oanmäld frånvaro"]
["FRÅNVARO",{"$f":"IN!B1237","v":0},{"$f":"Blad3!E1237","v":""},{"$f":"Blad3!G1237","v":0},"Oanmäld frånvaro"]
["FRÅNVARO",{"$f":"IN!B1238","v":0},{"$f":"Blad3!E1238","v":""},{"$f":"Blad3!G1238","v":0},"Oanmäld frånvaro"]
["FRÅNVARO",{"$f":"IN!B1239","v":0},{"$f":"Blad3!E1239","v":""},{"$f":"Blad3!G1239","v":0},"Oanmäld frånvaro"]
["FRÅNVARO",{"$f":"IN!B1240","v":0},{"$f":"Blad3!E1240","v":""},{"$f":"Blad3!G1240","v":0},"Oanmäld frånvaro"]
["FRÅNVARO",{"$f":"IN!B1241","v":0},{"$f":"Blad3!E1241","v":""},{"$f":"Blad3!G1241","v":0},"Oanmäld frånvaro"]
["FRÅNVARO",{"$f":"IN!B1242","v":0},{"$f":"Blad3!E1242","v":""},{"$f":"Blad3!G1242","v":0},"Oanmäld frånvaro"]
["FRÅNVARO",{"$f":"IN!B1243","v":0},{"$f":"Blad3!E1243","v":""},{"$f":"Blad3!G1243","v":0},"Oanmäld frånvaro"]
["FRÅNVARO",{"$f":"IN!B1244","v":0},{"$f":"Blad3!E1244","v":""},{"$f":"Blad3!G1244","v":0},"Oanmäld frånvaro"]
["FRÅNVARO",{"$f":"IN!B1245","v":0},{"$f":"Blad3!E1245","v":""},{"$f":"Blad3!G1245","v":0},"Oanmäld frånvaro"]
["FRÅNVARO",{"$f":"IN!B1246","v":0},{"$f":"Blad3!E1246","v":""},{"$f":"Blad3!G1246","v":0},"Oanmäld frånvaro"]
["FRÅNVARO",{"$f":"IN!B1247","v":0},{"$f":"Blad3!E1247","v":""},{"$f":"Blad3!G1247","v":0},"Oanmäld frånvaro"]
["FRÅNVARO",{"$f":"IN!B1248","v":0},{"$f":"Blad3!E1248","v":""},{"$f":"Blad3!G1248","v":0},"Oanmäld frånvaro"]
["FRÅNVARO",{"$f":"IN!B1249","v":0},{"$f":"Blad3!E1249","v":""},{"$f":"Blad3!G1249","v":0},"Oanmäld frånvaro"]
["FRÅNVARO",{"$f":"IN!B1250","v":0},{"$f":"Blad3!E1250","v":""},{"$f":"Blad3!G1250","v":0},"Oanmäld frånvaro"]
["FRÅNVARO",{"$f":"IN!B1251","v":0},{"$f":"Blad3!E1251","v":""},{"$f":"Blad3!G1251","v":0},"Oanmäld frånvaro"]
["FRÅNVARO",{"$f":"IN!B1252","v":0},{"$f":"Blad3!E1252","v":""},{"$f":"Blad3!G1252","v":0},"Oanmäld frånvaro"]
["FRÅNVARO",{"$f":"IN!B1253","v":0},{"$f":"Blad3!E1253","v":""},{"$f":"Blad3!G1253","v":0},"Oanmäld frånvaro"]
["FRÅNVARO",{"$f":"IN!B1254","v":0},{"$f":"Blad3!E1254","v":""},{"$f":"Blad3!G1254","v":0},"Oanmäld frånvaro"]
["FRÅNVARO",{"$f":"IN!B1255","v":0},{"$f":"Blad3!E1255","v":""},{"$f":"Blad3!G1255","v":0},"Oanmäld frånvaro"]
["FRÅNVARO",{"$f":"IN!B1256","v":0},{"$f":"Blad3!E1256","v":""},{"$f":"Blad3!G1256","v":0},"Oanmäld frånvaro"]
["FRÅNVARO",{"$f":"IN!B1257","v":0},{"$f":"Blad3!E1257","v":""},{"$f":"Blad3!G1257","v":0},"Oanmäld frånvaro"]
["FRÅNVARO",{"$f":"IN!B1258","v":0},{"$f":"Blad3!E1258","v":""},{"$f":"Blad3!G1258","v":0},"Oanmäld frånvaro"]
["FRÅNVARO",{"$f":"IN!B1259","v":0},{"$f":"Blad3!E1259","v":""},{"$f":"Blad3!G1259","v":0},"Oanmäld frånvaro"]
["FRÅNVARO",{"$f":"IN!B1260","v":0},{"$f":"Blad3!E1260","v":""},{"$f":"Blad3!G1260","v":0},"Oanmäld frånvaro"]
["FRÅNVARO",{"$f":"IN!B1261","v":0},{"$f":"Blad3!E1261","v":""},{"$f":"Blad3!G1261","v":0},"Oanmäld frånvaro"]
["FRÅNVARO",{"$f":"IN!B1262","v":0},{"$f":"Blad3!E1262","v":""},{"$f":"Blad3!G1262","v":0},"Oanmäld frånvaro"]
["FRÅNVARO",{"$f":"IN!B1263","v":0},{"$f":"Blad3!E1263","v":""},{"$f":"Blad3!G1263","v":0},"Oanmäld frånvaro"]
["FRÅNVARO",{"$f":"IN!B1264","v":0},{"$f":"Blad3!E1264","v":""},{"$f":"Blad3!G1264","v":0},"Oanmäld frånvaro"]
["FRÅNVARO",{"$f":"IN!B1265","v":0},{"$f":"Blad3!E1265","v":""},{"$f":"Blad3!G1265","v":0},"Oanmäld frånvaro"]
["FRÅNVARO",{"$f":"IN!B1266","v":0},{"$f":"Blad3!E1266","v":""},{"$f":"Blad3!G1266","v":0},"Oanmäld frånvaro"]
["FRÅNVARO",{"$f":"IN!B1267","v":0},{"$f":"Blad3!E1267","v":""},{"$f":"Blad3!G1267","v":0},"Oanmäld frånvaro"]
["FRÅNVARO",{"$f":"IN!B1268","v":0},{"$f":"Blad3!E1268","v":""},{"$f":"Blad3!G1268","v":0},"Oanmäld frånvaro"]
["FRÅNVARO",{"$f":"IN!B1269","v":0},{"$f":"Blad3!E1269","v":""},{"$f":"Blad3!G1269","v":0},"Oanmäld frånvaro"]
["FRÅNVARO",{"$f":"IN!B1270","v":0},{"$f":"Blad3!E1270","v":""},{"$f":"Blad3!G1270","v":0},"Oanmäld frånvaro"]
["FRÅNVARO",{"$f":"IN!B1271","v":0},{"$f":"Blad3!E1271","v":""},{"$f":"Blad3!G1271","v":0},"Oanmäld frånvaro"]
["FRÅNVARO",{"$f":"IN!B1272","v":0},{"$f":"Blad3!E1272","v":""},{"$f":"Blad3!G1272","v":0},"Oanmäld frånvaro"]
["FRÅNVARO",{"$f":"IN!B1273","v":0},{"$f":"Blad3!E1273","v":""},{"$f":"Blad3!G1273","v":0},"Oanmäld frånvaro"]
["FRÅNVARO",{"$f":"IN!B1274","v":0},{"$f":"Blad3!E1274","v":""},{"$f":"Blad3!G1274","v":0},"Oanmäld frånvaro"]
["FRÅNVARO",{"$f":"IN!B1275","v":0},{"$f":"Blad3!E1275","v":""},{"$f":"Blad3!G1275","v":0},"Oanmäld frånvaro"]
["FRÅNVARO",{"$f":"IN!B1276","v":0},{"$f":"Blad3!E1276","v":""},{"$f":"Blad3!G1276","v":0},"Oanmäld frånvaro"]
["FRÅNVARO",{"$f":"IN!B1277","v":0},{"$f":"Blad3!E1277","v":""},{"$f":"Blad3!G1277","v":0},"Oanmäld frånvaro"]
["FRÅNVARO",{"$f":"IN!B1278","v":0},{"$f":"Blad3!E1278","v":""},{"$f":"Blad3!G1278","v":0},"Oanmäld frånvaro"]
["FRÅNVARO",{"$f":"IN!B1279","v":0},{"$f":"Blad3!E1279","v":""},{"$f":"Blad3!G1279","v":0},"Oanmäld frånvaro"]
["FRÅNVARO",{"$f":"IN!B1280","v":0},{"$f":"Blad3!E1280","v":""},{"$f":"Blad3!G1280","v":0},"Oanmäld frånvaro"]
["FRÅNVARO",{"$f":"IN!B1281","v":0},{"$f":"Blad3!E1281","v":""},{"$f":"Blad3!G1281","v":0},"Oanmäld frånvaro"]
["FRÅNVARO",{"$f":"IN!B1282","v":0},{"$f":"Blad3!E1282","v":""},{"$f":"Blad3!G1282","v":0},"Oanmäld frånvaro"]
["FRÅNVARO",{"$f":"IN!B1283","v":0},{"$f":"Blad3!E1283","v":""},{"$f":"Blad3!G1283","v":0},"Oanmäld frånvaro"]
["FRÅNVARO",{"$f":"IN!B1284","v":0},{"$f":"Blad3!E1284","v":""},{"$f":"Blad3!G1284","v":0},"Oanmäld frånvaro"]
["FRÅNVARO",{"$f":"IN!B1285","v":0},{"$f":"Blad3!E1285","v":""},{"$f":"Blad3!G1285","v":0},"Oanmäld frånvaro"]
["FRÅNVARO",{"$f":"IN!B1286","v":0},{"$f":"Blad3!E1286","v":""},{"$f":"Blad3!G1286","v":0},"Oanmäld frånvaro"]
["FRÅNVARO",{"$f":"IN!B1287","v":0},{"$f":"Blad3!E1287","v":""},{"$f":"Blad3!G1287","v":0},"Oanmäld frånvaro"]
["FRÅNVARO",{"$f":"IN!B1288","v":0},{"$f":"Blad3!E1288","v":""},{"$f":"Blad3!G1288","v":0},"Oanmäld frånvaro"]
["FRÅNVARO",{"$f":"IN!B1289","v":0},{"$f":"Blad3!E1289","v":""},{"$f":"Blad3!G1289","v":0},"Oanmäld frånvaro"]
["FRÅNVARO",{"$f":"IN!B1290","v":0},{"$f":"Blad3!E1290","v":""},{"$f":"Blad3!G1290","v":0},"Oanmäld frånvaro"]
["FRÅNVARO",{"$f":"IN!B1291","v":0},{"$f":"Blad3!E1291","v":""},{"$f":"Blad3!G1291","v":0},"Oanmäld frånvaro"]
["FRÅNVARO",{"$f":"IN!B1292","v":0},{"$f":"Blad3!E1292","v":""},{"$f":"Blad3!G1292","v":0},"Oanmäld frånvaro"]
["FRÅNVARO",{"$f":"IN!B1293","v":0},{"$f":"Blad3!E1293","v":""},{"$f":"Blad3!G1293","v":0},"Oanmäld frånvaro"]
["FRÅNVARO",{"$f":"IN!B1294","v":0},{"$f":"Blad3!E1294","v":""},{"$f":"Blad3!G1294","v":0},"Oanmäld frånvaro"]
["FRÅNVARO",{"$f":"IN!B1295","v":0},{"$f":"Blad3!E1295","v":""},{"$f":"Blad3!G1295","v":0},"Oanmäld frånvaro"]
["FRÅNVARO",{"$f":"IN!B1296","v":0},{"$f":"Blad3!E1296","v":""},{"$f":"Blad3!G1296","v":0},"Oanmäld frånvaro"]
["FRÅNVARO",{"$f":"IN!B1297","v":0},{"$f":"Blad3!E1297","v":""},{"$f":"Blad3!G1297","v":0},"Oanmäld frånvaro"]
["FRÅNVARO",{"$f":"IN!B1298","v":0},{"$f":"Blad3!E1298","v":""},{"$f":"Blad3!G1298","v":0},"Oanmäld frånvaro"]
["FRÅNVARO",{"$f":"IN!B1299","v":0},{"$f":"Blad3!E1299","v":""},{"$f":"Blad3!G1299","v":0},"Oanmäld frånvaro"]
["FRÅNVARO",{"$f":"IN!B1300","v":0},{"$f":"Blad3!E1300","v":""},{"$f":"Blad3!G1300","v":0},"Oanmäld frånvaro"]
["FRÅNVARO",{"$f":"IN!B1301","v":0},{"$f":"Blad3!E1301","v":""},{"$f":"Blad3!G1301","v":0},"Oanmäld frånvaro"]
["FRÅNVARO",{"$f":"IN!B1302","v":0},{"$f":"Blad3!E1302","v":""},{"$f":"Blad3!G1302","v":0},"Oanmäld frånvaro"]
["FRÅNVARO",{"$f":"IN!B1303","v":0},{"$f":"Blad3!E1303","v":""},{"$f":"Blad3!G1303","v":0},"Oanmäld frånvaro"]
["FRÅNVARO",{"$f":"IN!B1304","v":0},{"$f":"Blad3!E1304","v":""},{"$f":"Blad3!G1304","v":0},"Oanmäld frånvaro"]
["FRÅNVARO",{"$f":"IN!B1305","v":0},{"$f":"Blad3!E1305","v":""},{"$f":"Blad3!G1305","v":0},"Oanmäld frånvaro"]
["FRÅNVARO",{"$f":"IN!B1306","v":0},{"$f":"Blad3!E1306","v":""},{"$f":"Blad3!G1306","v":0},"Oanmäld frånvaro"]
["FRÅNVARO",{"$f":"IN!B1307","v":0},{"$f":"Blad3!E1307","v":""},{"$f":"Blad3!G1307","v":0},"Oanmäld frånvaro"]
["FRÅNVARO",{"$f":"IN!B1308","v":0},{"$f":"Blad3!E1308","v":""},{"$f":"Blad3!G1308","v":0},"Oanmäld frånvaro"]
["FRÅNVARO",{"$f":"IN!B1309","v":0},{"$f":"Blad3!E1309","v":""},{"$f":"Blad3!G1309","v":0},"Oanmäld frånvaro"]
["FRÅNVARO",{"$f":"IN!B1310","v":0},{"$f":"Blad3!E1310","v":""},{"$f":"Blad3!G1310","v":0},"Oanmäld frånvaro"]
["FRÅNVARO",{"$f":"IN!B1311","v":0},{"$f":"Blad3!E1311","v":""},{"$f":"Blad3!G1311","v":0},"Oanmäld frånvaro"]
["FRÅNVARO",{"$f":"IN!B1312","v":0},{"$f":"Blad3!E1312","v":""},{"$f":"Blad3!G1312","v":0},"Oanmäld frånvaro"]
["FRÅNVARO",{"$f":"IN!B1313","v":0},{"$f":"Blad3!E1313","v":""},{"$f":"Blad3!G1313","v":0},"Oanmäld frånvaro"]
["FRÅNVARO",{"$f":"IN!B1314","v":0},{"$f":"Blad3!E1314","v":""},{"$f":"Blad3!G1314","v":0},"Oanmäld frånvaro"]
["FRÅNVARO",{"$f":"IN!B1315","v":0},{"$f":"Blad3!E1315","v":""},{"$f":"Blad3!G1315","v":0},"Oanmäld frånvaro"]
["FRÅNVARO",{"$f":"IN!B1316","v":0},{"$f":"Blad3!E1316","v":""},{"$f":"Blad3!G1316","v":0},"Oanmäld frånvaro"]
["FRÅNVARO",{"$f":"IN!B1317","v":0},{"$f":"Blad3!E1317","v":""},{"$f":"Blad3!G1317","v":0},"Oanmäld frånvaro"]
["FRÅNVARO",{"$f":"IN!B1318","v":0},{"$f":"Blad3!E1318","v":""},{"$f":"Blad3!G1318","v":0},"Oanmäld frånvaro"]
["FRÅNVARO",{"$f":"IN!B1319","v":0},{"$f":"Blad3!E1319","v":""},{"$f":"Blad3!G1319","v":0},"Oanmäld frånvaro"]
["FRÅNVARO",{"$f":"IN!B1320","v":0},{"$f":"Blad3!E1320","v":""},{"$f":"Blad3!G1320","v":0},"Oanmäld frånvaro"]
["FRÅNVARO",{"$f":"IN!B1321","v":0},{"$f":"Blad3!E1321","v":""},{"$f":"Blad3!G1321","v":0},"Oanmäld frånvaro"]
["FRÅNVARO",{"$f":"IN!B1322","v":0},{"$f":"Blad3!E1322","v":""},{"$f":"Blad3!G1322","v":0},"Oanmäld frånvaro"]
["FRÅNVARO",{"$f":"IN!B1323","v":0},{"$f":"Blad3!E1323","v":""},{"$f":"Blad3!G1323","v":0},"Oanmäld frånvaro"]
["FRÅNVARO",{"$f":"IN!B1324","v":0},{"$f":"Blad3!E1324","v":""},{"$f":"Blad3!G1324","v":0},"Oanmäld frånvaro"]
["FRÅNVARO",{"$f":"IN!B1325","v":0},{"$f":"Blad3!E1325","v":""},{"$f":"Blad3!G1325","v":0},"Oanmäld frånvaro"]
["FRÅNVARO",{"$f":"IN!B1326","v":0},{"$f":"Blad3!E1326","v":""},{"$f":"Blad3!G1326","v":0},"Oanmäld frånvaro"]
["FRÅNVARO",{"$f":"IN!B1327","v":0},{"$f":"Blad3!E1327","v":""},{"$f":"Blad3!G1327","v":0},"Oanmäld frånvaro"]
["FRÅNVARO",{"$f":"IN!B1328","v":0},{"$f":"Blad3!E1328","v":""},{"$f":"Blad3!G1328","v":0},"Oanmäld frånvaro"]
["FRÅNVARO",{"$f":"IN!B1329","v":0},{"$f":"Blad3!E1329","v":""},{"$f":"Blad3!G1329","v":0},"Oanmäld frånvaro"]
["FRÅNVARO",{"$f":"IN!B1330","v":0},{"$f":"Blad3!E1330","v":""},{"$f":"Blad3!G1330","v":0},"Oanmäld frånvaro"]
["FRÅNVARO",{"$f":"IN!B1331","v":0},{"$f":"Blad3!E1331","v":""},{"$f":"Blad3!G1331","v":0},"Oanmäld frånvaro"]
["FRÅNVARO",{"$f":"IN!B1332","v":0},{"$f":"Blad3!E1332","v":""},{"$f":"Blad3!G1332","v":0},"Oanmäld frånvaro"]
["FRÅNVARO",{"$f":"IN!B1333","v":0},{"$f":"Blad3!E1333","v":""},{"$f":"Blad3!G1333","v":0},"Oanmäld frånvaro"]
["FRÅNVARO",{"$f":"IN!B1334","v":0},{"$f":"Blad3!E1334","v":""},{"$f":"Blad3!G1334","v":0},"Oanmäld frånvaro"]
["FRÅNVARO",{"$f":"IN!B1335","v":0},{"$f":"Blad3!E1335","v":""},{"$f":"Blad3!G1335","v":0},"Oanmäld frånvaro"]
["FRÅNVARO",{"$f":"IN!B1336","v":0},{"$f":"Blad3!E1336","v":""},{"$f":"Blad3!G1336","v":0},"Oanmäld frånvaro"]
["FRÅNVARO",{"$f":"IN!B1337","v":0},{"$f":"Blad3!E1337","v":""},{"$f":"Blad3!G1337","v":0},"Oanmäld frånvaro"]
["FRÅNVARO",{"$f":"IN!B1338","v":0},{"$f":"Blad3!E1338","v":""},{"$f":"Blad3!G1338","v":0},"Oanmäld frånvaro"]
["FRÅNVARO",{"$f":"IN!B1339","v":0},{"$f":"Blad3!E1339","v":""},{"$f":"Blad3!G1339","v":0},"Oanmäld frånvaro"]
["FRÅNVARO",{"$f":"IN!B1340","v":0},{"$f":"Blad3!E1340","v":""},{"$f":"Blad3!G1340","v":0},"Oanmäld frånvaro"]
["FRÅNVARO",{"$f":"IN!B1341","v":0},{"$f":"Blad3!E1341","v":""},{"$f":"Blad3!G1341","v":0},"Oanmäld frånvaro"]
["FRÅNVARO",{"$f":"IN!B1342","v":0},{"$f":"Blad3!E1342","v":""},{"$f":"Blad3!G1342","v":0},"Oanmäld frånvaro"]
["FRÅNVARO",{"$f":"IN!B1343","v":0},{"$f":"Blad3!E1343","v":""},{"$f":"Blad3!G1343","v":0},"Oanmäld frånvaro"]
["FRÅNVARO",{"$f":"IN!B1344","v":0},{"$f":"Blad3!E1344","v":""},{"$f":"Blad3!G1344","v":0},"Oanmäld frånvaro"]
["FRÅNVARO",{"$f":"IN!B1345","v":0},{"$f":"Blad3!E1345","v":""},{"$f":"Blad3!G1345","v":0},"Oanmäld frånvaro"]
["FRÅNVARO",{"$f":"IN!B1346","v":0},{"$f":"Blad3!E1346","v":""},{"$f":"Blad3!G1346","v":0},"Oanmäld frånvaro"]
["FRÅNVARO",{"$f":"IN!B1347","v":0},{"$f":"Blad3!E1347","v":""},{"$f":"Blad3!G1347","v":0},"Oanmäld frånvaro"]
["FRÅNVARO",{"$f":"IN!B1348","v":0},{"$f":"Blad3!E1348","v":""},{"$f":"Blad3!G1348","v":0},"Oanmäld frånvaro"]
["FRÅNVARO",{"$f":"IN!B1349","v":0},{"$f":"Blad3!E1349","v":""},{"$f":"Blad3!G1349","v":0},"Oanmäld frånvaro"]
["FRÅNVARO",{"$f":"IN!B1350","v":0},{"$f":"Blad3!E1350","v":""},{"$f":"Blad3!G1350","v":0},"Oanmäld frånvaro"]
["FRÅNVARO",{"$f":"IN!B1351","v":0},{"$f":"Blad3!E1351","v":""},{"$f":"Blad3!G1351","v":0},"Oanmäld frånvaro"]
["FRÅNVARO",{"$f":"IN!B1352","v":0},{"$f":"Blad3!E1352","v":""},{"$f":"Blad3!G1352","v":0},"Oanmäld frånvaro"]
["FRÅNVARO",{"$f":"IN!B1353","v":0},{"$f":"Blad3!E1353","v":""},{"$f":"Blad3!G1353","v":0},"Oanmäld frånvaro"]
["FRÅNVARO",{"$f":"IN!B1354","v":0},{"$f":"Blad3!E1354","v":""},{"$f":"Blad3!G1354","v":0},"Oanmäld frånvaro"]
["FRÅNVARO",{"$f":"IN!B1355","v":0},{"$f":"Blad3!E1355","v":""},{"$f":"Blad3!G1355","v":0},"Oanmäld frånvaro"]
["FRÅNVARO",{"$f":"IN!B1356","v":0},{"$f":"Blad3!E1356","v":""},{"$f":"Blad3!G1356","v":0},"Oanmäld frånvaro"]
["FRÅNVARO",{"$f":"IN!B1357","v":0},{"$f":"Blad3!E1357","v":""},{"$f":"Blad3!G1357","v":0},"Oanmäld frånvaro"]
["FRÅNVARO",{"$f":"IN!B1358","v":0},{"$f":"Blad3!E1358","v":""},{"$f":"Blad3!G1358","v":0},"Oanmäld frånvaro"]
["FRÅNVARO",{"$f":"IN!B1359","v":0},{"$f":"Blad3!E1359","v":""},{"$f":"Blad3!G1359","v":0},"Oanmäld frånvaro"]
["FRÅNVARO",{"$f":"IN!B1360","v":0},{"$f":"Blad3!E1360","v":""},{"$f":"Blad3!G1360","v":0},"Oanmäld frånvaro"]
["FRÅNVARO",{"$f":"IN!B1361","v":0},{"$f":"Blad3!E1361","v":""},{"$f":"Blad3!G1361","v":0},"Oanmäld frånvaro"]
["FRÅNVARO",{"$f":"IN!B1362","v":0},{"$f":"Blad3!E1362","v":""},{"$f":"Blad3!G1362","v":0},"Oanmäld frånvaro"]
["FRÅNVARO",{"$f":"IN!B1363","v":0},{"$f":"Blad3!E1363","v":""},{"$f":"Blad3!G1363","v":0},"Oanmäld frånvaro"]
["FRÅNVARO",{"$f":"IN!B1364","v":0},{"$f":"Blad3!E1364","v":""},{"$f":"Blad3!G1364","v":0},"Oanmäld frånvaro"]
["FRÅNVARO",{"$f":"IN!B1365","v":0},{"$f":"Blad3!E1365","v":""},{"$f":"Blad3!G1365","v":0},"Oanmäld frånvaro"]
["FRÅNVARO",{"$f":"IN!B1366","v":0},{"$f":"Blad3!E1366","v":""},{"$f":"Blad3!G1366","v":0},"Oanmäld frånvaro"]
["FRÅNVARO",{"$f":"IN!B1367","v":0},{"$f":"Blad3!E1367","v":""},{"$f":"Blad3!G1367","v":0},"Oanmäld frånvaro"]
["FRÅNVARO",{"$f":"IN!B1368","v":0},{"$f":"Blad3!E1368","v":""},{"$f":"Blad3!G1368","v":0},"Oanmäld frånvaro"]
["FRÅNVARO",{"$f":"IN!B1369","v":0},{"$f":"Blad3!E1369","v":""},{"$f":"Blad3!G1369","v":0},"Oanmäld frånvaro"]
["FRÅNVARO",{"$f":"IN!B1370","v":0},{"$f":"Blad3!E1370","v":""},{"$f":"Blad3!G1370","v":0},"Oanmäld frånvaro"]
["FRÅNVARO",{"$f":"IN!B1371","v":0},{"$f":"Blad3!E1371","v":""},{"$f":"Blad3!G1371","v":0},"Oanmäld frånvaro"]
["FRÅNVARO",{"$f":"IN!B1372","v":0},{"$f":"Blad3!E1372","v":""},{"$f":"Blad3!G1372","v":0},"Oanmäld frånvaro"]
["FRÅNVARO",{"$f":"IN!B1373","v":0},{"$f":"Blad3!E1373","v":""},{"$f":"Blad3!G1373","v":0},"Oanmäld frånvaro"]
["FRÅNVARO",{"$f":"IN!B1374","v":0},{"$f":"Blad3!E1374","v":""},{"$f":"Blad3!G1374","v":0},"Oanmäld frånvaro"]
["FRÅNVARO",{"$f":"IN!B1375","v":0},{"$f":"Blad3!E1375","v":""},{"$f":"Blad3!G1375","v":0},"Oanmäld frånvaro"]
["FRÅNVARO",{"$f":"IN!B1376","v":0},{"$f":"Blad3!E1376","v":""},{"$f":"Blad3!G1376","v":0},"Oanmäld frånvaro"]
["FRÅNVARO",{"$f":"IN!B1377","v":0},{"$f":"Blad3!E1377","v":""},{"$f":"Blad3!G1377","v":0},"Oanmäld frånvaro"]
["FRÅNVARO",{"$f":"IN!B1378","v":0},{"$f":"Blad3!E1378","v":""},{"$f":"Blad3!G1378","v":0},"Oanmäld frånvaro"]
["FRÅNVARO",{"$f":"IN!B1379","v":0},{"$f":"Blad3!E1379","v":""},{"$f":"Blad3!G1379","v":0},"Oanmäld frånvaro"]
["FRÅNVARO",{"$f":"IN!B1380","v":0},{"$f":"Blad3!E1380","v":""},{"$f":"Blad3!G1380","v":0},"Oanmäld frånvaro"]
["FRÅNVARO",{"$f":"IN!B1381","v":0},{"$f":"Blad3!E1381","v":""},{"$f":"Blad3!G1381","v":0},"Oanmäld frånvaro"]
["FRÅNVARO",{"$f":"IN!B1382","v":0},{"$f":"Blad3!E1382","v":""},{"$f":"Blad3!G1382","v":0},"Oanmäld frånvaro"]
["FRÅNVARO",{"$f":"IN!B1383","v":0},{"$f":"Blad3!E1383","v":""},{"$f":"Blad3!G1383","v":0},"Oanmäld frånvaro"]
["FRÅNVARO",{"$f":"IN!B1384","v":0},{"$f":"Blad3!E1384","v":""},{"$f":"Blad3!G1384","v":0},"Oanmäld frånvaro"]
["FRÅNVARO",{"$f":"IN!B1385","v":0},{"$f":"Blad3!E1385","v":""},{"$f":"Blad3!G1385","v":0},"Oanmäld frånvaro"]
["FRÅNVARO",{"$f":"IN!B1386","v":0},{"$f":"Blad3!E1386","v":""},{"$f":"Blad3!G1386","v":0},"Oanmäld frånvaro"]
["FRÅNVARO",{"$f":"IN!B1387","v":0},{"$f":"Blad3!E1387","v":""},{"$f":"Blad3!G1387","v":0},"Oanmäld frånvaro"]
["FRÅNVARO",{"$f":"IN!B1388","v":0},{"$f":"Blad3!E1388","v":""},{"$f":"Blad3!G1388","v":0},"Oanmäld frånvaro"]
["FRÅNVARO",{"$f":"IN!B1389","v":0},{"$f":"Blad3!E1389","v":""},{"$f":"Blad3!G1389","v":0},"Oanmäld frånvaro"]
["FRÅNVARO",{"$f":"IN!B1390","v":0},{"$f":"Blad3!E1390","v":""},{"$f":"Blad3!G1390","v":0},"Oanmäld frånvaro"]
["FRÅNVARO",{"$f":"IN!B1391","v":0},{"$f":"Blad3!E1391","v":""},{"$f":"Blad3!G1391","v":0},"Oanmäld frånvaro"]
["FRÅNVARO",{"$f":"IN!B1392","v":0},{"$f":"Blad3!E1392","v":""},{"$f":"Blad3!G1392","v":0},"Oanmäld frånvaro"]
["FRÅNVARO",{"$f":"IN!B1393","v":0},{"$f":"Blad3!E1393","v":""},{"$f":"Blad3!G1393","v":0},"Oanmäld frånvaro"]
["FRÅNVARO",{"$f":"IN!B1394","v":0},{"$f":"Blad3!E1394","v":""},{"$f":"Blad3!G1394","v":0},"Oanmäld frånvaro"]
["FRÅNVARO",{"$f":"IN!B1395","v":0},{"$f":"Blad3!E1395","v":""},{"$f":"Blad3!G1395","v":0},"Oanmäld frånvaro"]
["FRÅNVARO",{"$f":"IN!B1396","v":0},{"$f":"Blad3!E1396","v":""},{"$f":"Blad3!G1396","v":0},"Oanmäld frånvaro"]
["FRÅNVARO",{"$f":"IN!B1397","v":0},{"$f":"Blad3!E1397","v":""},{"$f":"Blad3!G1397","v":0},"Oanmäld frånvaro"]
["FRÅNVARO",{"$f":"IN!B1398","v":0},{"$f":"Blad3!E1398","v":""},{"$f":"Blad3!G1398","v":0},"Oanmäld frånvaro"]
["FRÅNVARO",{"$f":"IN!B1399","v":0},{"$f":"Blad3!E1399","v":""},{"$f":"Blad3!G1399","v":0},"Oanmäld frånvaro"]
["FRÅNVARO",{"$f":"IN!B1400","v":0},{"$f":"Blad3!E1400","v":""},{"$f":"Blad3!G1400","v":0},"Oanmäld frånvaro"]
["FRÅNVARO",{"$f":"IN!B1401","v":0},{"$f":"Blad3!E1401","v":""},{"$f":"Blad3!G1401","v":0},"Oanmäld frånvaro"]
["FRÅNVARO",{"$f":"IN!B1402","v":0},{"$f":"Blad3!E1402","v":""},{"$f":"Blad3!G1402","v":0},"Oanmäld frånvaro"]
["FRÅNVARO",{"$f":"IN!B1403","v":0},{"$f":"Blad3!E1403","v":""},{"$f":"Blad3!G1403","v":0},"Oanmäld frånvaro"]
["FRÅNVARO",{"$f":"IN!B1404","v":0},{"$f":"Blad3!E1404","v":""},{"$f":"Blad3!G1404","v":0},"Oanmäld frånvaro"]
["FRÅNVARO",{"$f":"IN!B1405","v":0},{"$f":"Blad3!E1405","v":""},{"$f":"Blad3!G1405","v":0},"Oanmäld frånvaro"]
["FRÅNVARO",{"$f":"IN!B1406","v":0},{"$f":"Blad3!E1406","v":""},{"$f":"Blad3!G1406","v":0},"Oanmäld frånvaro"]
["FRÅNVARO",{"$f":"IN!B1407","v":0},{"$f":"Blad3!E1407","v":""},{"$f":"Blad3!G1407","v":0},"Oanmäld frånvaro"]
["FRÅNVARO",{"$f":"IN!B1408","v":0},{"$f":"Blad3!E1408","v":""},{"$f":"Blad3!G1408","v":0},"Oanmäld frånvaro"]
["FRÅNVARO",{"$f":"IN!B1409","v":0},{"$f":"Blad3!E1409","v":""},{"$f":"Blad3!G1409","v":0},"Oanmäld frånvaro"]
["FRÅNVARO",{"$f":"IN!B1410","v":0},{"$f":"Blad3!E1410","v":""},{"$f":"Blad3!G1410","v":0},"Oanmäld frånvaro"]
["FRÅNVARO",{"$f":"IN!B1411","v":0},{"$f":"Blad3!E1411","v":""},{"$f":"Blad3!G1411","v":0},"Oanmäld frånvaro"]
["FRÅNVARO",{"$f":"IN!B1412","v":0},{"$f":"Blad3!E1412","v":""},{"$f":"Blad3!G1412","v":0},"Oanmäld frånvaro"]
["FRÅNVARO",{"$f":"IN!B1413","v":0},{"$f":"Blad3!E1413","v":""},{"$f":"Blad3!G1413","v":0},"Oanmäld frånvaro"]
["FRÅNVARO",{"$f":"IN!B1414","v":0},{"$f":"Blad3!E1414","v":""},{"$f":"Blad3!G1414","v":0},"Oanmäld frånvaro"]
["FRÅNVARO",{"$f":"IN!B1415","v":0},{"$f":"Blad3!E1415","v":""},{"$f":"Blad3!G1415","v":0},"Oanmäld frånvaro"]
["FRÅNVARO",{"$f":"IN!B1416","v":0},{"$f":"Blad3!E1416","v":""},{"$f":"Blad3!G1416","v":0},"Oanmäld frånvaro"]
["FRÅNVARO",{"$f":"IN!B1417","v":0},{"$f":"Blad3!E1417","v":""},{"$f":"Blad3!G1417","v":0},"Oanmäld frånvaro"]
["FRÅNVARO",{"$f":"IN!B1418","v":0},{"$f":"Blad3!E1418","v":""},{"$f":"Blad3!G1418","v":0},"Oanmäld frånvaro"]
["FRÅNVARO",{"$f":"IN!B1419","v":0},{"$f":"Blad3!E1419","v":""},{"$f":"Blad3!G1419","v":0},"Oanmäld frånvaro"]
["FRÅNVARO",{"$f":"IN!B1420","v":0},{"$f":"Blad3!E1420","v":""},{"$f":"Blad3!G1420","v":0},"Oanmäld frånvaro"]
["FRÅNVARO",{"$f":"IN!B1421","v":0},{"$f":"Blad3!E1421","v":""},{"$f":"Blad3!G1421","v":0},"Oanmäld frånvaro"]
["FRÅNVARO",{"$f":"IN!B1422","v":0},{"$f":"Blad3!E1422","v":""},{"$f":"Blad3!G1422","v":0},"Oanmäld frånvaro"]
["FRÅNVARO",{"$f":"IN!B1423","v":0},{"$f":"Blad3!E1423","v":""},{"$f":"Blad3!G1423","v":0},"Oanmäld frånvaro"]
["FRÅNVARO",{"$f":"IN!B1424","v":0},{"$f":"Blad3!E1424","v":""},{"$f":"Blad3!G1424","v":0},"Oanmäld frånvaro"]
["FRÅNVARO",{"$f":"IN!B1425","v":0},{"$f":"Blad3!E1425","v":""},{"$f":"Blad3!G1425","v":0},"Oanmäld frånvaro"]
["FRÅNVARO",{"$f":"IN!B1426","v":0},{"$f":"Blad3!E1426","v":""},{"$f":"Blad3!G1426","v":0},"Oanmäld frånvaro"]
["FRÅNVARO",{"$f":"IN!B1427","v":0},{"$f":"Blad3!E1427","v":""},{"$f":"Blad3!G1427","v":0},"Oanmäld frånvaro"]
["FRÅNVARO",{"$f":"IN!B1428","v":0},{"$f":"Blad3!E1428","v":""},{"$f":"Blad3!G1428","v":0},"Oanmäld frånvaro"]
["FRÅNVARO",{"$f":"IN!B1429","v":0},{"$f":"Blad3!E1429","v":""},{"$f":"Blad3!G1429","v":0},"Oanmäld frånvaro"]
["FRÅNVARO",{"$f":"IN!B1430","v":0},{"$f":"Blad3!E1430","v":""},{"$f":"Blad3!G1430","v":0},"Oanmäld frånvaro"]
["FRÅNVARO",{"$f":"IN!B1431","v":0},{"$f":"Blad3!E1431","v":""},{"$f":"Blad3!G1431","v":0},"Oanmäld frånvaro"]
["FRÅNVARO",{"$f":"IN!B1432","v":0},{"$f":"Blad3!E1432","v":""},{"$f":"Blad3!G1432","v":0},"Oanmäld frånvaro"]
["FRÅNVARO",{"$f":"IN!B1433","v":0},{"$f":"Blad3!E1433","v":""},{"$f":"Blad3!G1433","v":0},"Oanmäld frånvaro"]
["FRÅNVARO",{"$f":"IN!B1434","v":0},{"$f":"Blad3!E1434","v":""},{"$f":"Blad3!G1434","v":0},"Oanmäld frånvaro"]
["FRÅNVARO",{"$f":"IN!B1435","v":0},{"$f":"Blad3!E1435","v":""},{"$f":"Blad3!G1435","v":0},"Oanmäld frånvaro"]
["FRÅNVARO",{"$f":"IN!B1436","v":0},{"$f":"Blad3!E1436","v":""},{"$f":"Blad3!G1436","v":0},"Oanmäld frånvaro"]
["FRÅNVARO",{"$f":"IN!B1437","v":0},{"$f":"Blad3!E1437","v":""},{"$f":"Blad3!G1437","v":0},"Oanmäld frånvaro"]
["FRÅNVARO",{"$f":"IN!B1438","v":0},{"$f":"Blad3!E1438","v":""},{"$f":"Blad3!G1438","v":0},"Oanmäld frånvaro"]
["FRÅNVARO",{"$f":"IN!B1439","v":0},{"$f":"Blad3!E1439","v":""},{"$f":"Blad3!G1439","v":0},"Oanmäld frånvaro"]
["FRÅNVARO",{"$f":"IN!B1440","v":0},{"$f":"Blad3!E1440","v":""},{"$f":"Blad3!G1440","v":0},"Oanmäld frånvaro"]
["FRÅNVARO",{"$f":"IN!B1441","v":0},{"$f":"Blad3!E1441","v":""},{"$f":"Blad3!G1441","v":0},"Oanmäld frånvaro"]
["FRÅNVARO",{"$f":"IN!B1442","v":0},{"$f":"Blad3!E1442","v":""},{"$f":"Blad3!G1442","v":0},"Oanmäld frånvaro"]
["FRÅNVARO",{"$f":"IN!B1443","v":0},{"$f":"Blad3!E1443","v":""},{"$f":"Blad3!G1443","v":0},"Oanmäld frånvaro"]
["FRÅNVARO",{"$f":"IN!B1444","v":0},{"$f":"Blad3!E1444","v":""},{"$f":"Blad3!G1444","v":0},"Oanmäld frånvaro"]
["FRÅNVARO",{"$f":"IN!B1445","v":0},{"$f":"Blad3!E1445","v":""},{"$f":"Blad3!G1445","v":0},"Oanmäld frånvaro"]
["FRÅNVARO",{"$f":"IN!B1446","v":0},{"$f":"Blad3!E1446","v":""},{"$f":"Blad3!G1446","v":0},"Oanmäld frånvaro"]
["FRÅNVARO",{"$f":"IN!B1447","v":0},{"$f":"Blad3!E1447","v":""},{"$f":"Blad3!G1447","v":0},"Oanmäld frånvaro"]
["FRÅNVARO",{"$f":"IN!B1448","v":0},{"$f":"Blad3!E1448","v":""},{"$f":"Blad3!G1448","v":0},"Oanmäld frånvaro"]
["FRÅNVARO",{"$f":"IN!B1449","v":0},{"$f":"Blad3!E1449","v":""},{"$f":"Blad3!G1449","v":0},"Oanmäld frånvaro"]
["FRÅNVARO",{"$f":"IN!B1450","v":0},{"$f":"Blad3!E1450","v":""},{"$f":"Blad3!G1450","v":0},"Oanmäld frånvaro"]
["FRÅNVARO",{"$f":"IN!B1451","v":0},{"$f":"Blad3!E1451","v":""},{"$f":"Blad3!G1451","v":0},"Oanmäld frånvaro"]
["FRÅNVARO",{"$f":"IN!B1452","v":0},{"$f":"Blad3!E1452","v":""},{"$f":"Blad3!G1452","v":0},"Oanmäld frånvaro"]
["FRÅNVARO",{"$f":"IN!B1453","v":0},{"$f":"Blad3!E1453","v":""},{"$f":"Blad3!G1453","v":0},"Oanmäld frånvaro"]
["FRÅNVARO",{"$f":"IN!B1454","v":0},{"$f":"Blad3!E1454","v":""},{"$f":"Blad3!G1454","v":0},"Oanmäld frånvaro"]
["FRÅNVARO",{"$f":"IN!B1455","v":0},{"$f":"Blad3!E1455","v":""},{"$f":"Blad3!G1455","v":0},"Oanmäld frånvaro"]
["FRÅNVARO",{"$f":"IN!B1456","v":0},{"$f":"Blad3!E1456","v":""},{"$f":"Blad3!G1456","v":0},"Oanmäld frånvaro"]
["FRÅNVARO",{"$f":"IN!B1457","v":0},{"$f":"Blad3!E1457","v":""},{"$f":"Blad3!G1457","v":0},"Oanmäld frånvaro"]
["FRÅNVARO",{"$f":"IN!B1458","v":0},{"$f":"Blad3!E1458","v":""},{"$f":"Blad3!G1458","v":0},"Oanmäld frånvaro"]
["FRÅNVARO",{"$f":"IN!B1459","v":0},{"$f":"Blad3!E1459","v":""},{"$f":"Blad3!G1459","v":0},"Oanmäld frånvaro"]
["FRÅNVARO",{"$f":"IN!B1460","v":0},{"$f":"Blad3!E1460","v":""},{"$f":"Blad3!G1460","v":0},"Oanmäld frånvaro"]
["FRÅNVARO",{"$f":"IN!B1461","v":0},{"$f":"Blad3!E1461","v":""},{"$f":"Blad3!G1461","v":0},"Oanmäld frånvaro"]
["FRÅNVARO",{"$f":"IN!B1462","v":0},{"$f":"Blad3!E1462","v":""},{"$f":"Blad3!G1462","v":0},"Oanmäld frånvaro"]
["FRÅNVARO",{"$f":"IN!B1463","v":0},{"$f":"Blad3!E1463","v":""},{"$f":"Blad3!G1463","v":0},"Oanmäld frånvaro"]
["FRÅNVARO",{"$f":"IN!B1464","v":0},{"$f":"Blad3!E1464","v":""},{"$f":"Blad3!G1464","v":0},"Oanmäld frånvaro"]
["FRÅNVARO",{"$f":"IN!B1465","v":0},{"$f":"Blad3!E1465","v":""},{"$f":"Blad3!G1465","v":0},"Oanmäld frånvaro"]
["FRÅNVARO",{"$f":"IN!B1466","v":0},{"$f":"Blad3!E1466","v":""},{"$f":"Blad3!G1466","v":0},"Oanmäld frånvaro"]
["FRÅNVARO",{"$f":"IN!B1467","v":0},{"$f":"Blad3!E1467","v":""},{"$f":"Blad3!G1467","v":0},"Oanmäld frånvaro"]
["FRÅNVARO",{"$f":"IN!B1468","v":0},{"$f":"Blad3!E1468","v":""},{"$f":"Blad3!G1468","v":0},"Oanmäld frånvaro"]
["FRÅNVARO",{"$f":"IN!B1469","v":0},{"$f":"Blad3!E1469","v":""},{"$f":"Blad3!G1469","v":0},"Oanmäld frånvaro"]
["FRÅNVARO",{"$f":"IN!B1470","v":0},{"$f":"Blad3!E1470","v":""},{"$f":"Blad3!G1470","v":0},"Oanmäld frånvaro"]
["FRÅNVARO",{"$f":"IN!B1471","v":0},{"$f":"Blad3!E1471","v":""},{"$f":"Blad3!G1471","v":0},"Oanmäld frånvaro"]
["FRÅNVARO",{"$f":"IN!B1472","v":0},{"$f":"Blad3!E1472","v":""},{"$f":"Blad3!G1472","v":0},"Oanmäld frånvaro"]
["FRÅNVARO",{"$f":"IN!B1473","v":0},{"$f":"Blad3!E1473","v":""},{"$f":"Blad3!G1473","v":0},"Oanmäld frånvaro"]
["FRÅNVARO",{"$f":"IN!B1474","v":0},{"$f":"Blad3!E1474","v":""},{"$f":"Blad3!G1474","v":0},"Oanmäld frånvaro"]
["FRÅNVARO",{"$f":"IN!B1475","v":0},{"$f":"Blad3!E1475","v":""},{"$f":"Blad3!G1475","v":0},"Oanmäld frånvaro"]
["FRÅNVARO",{"$f":"IN!B1476","v":0},{"$f":"Blad3!E1476","v":""},{"$f":"Blad3!G1476","v":0},"Oanmäld frånvaro"]
["FRÅNVARO",{"$f":"IN!B1477","v":0},{"$f":"Blad3!E1477","v":""},{"$f":"Blad3!G1477","v":0},"Oanmäld frånvaro"]
["FRÅNVARO",{"$f":"IN!B1478","v":0},{"$f":"Blad3!E1478","v":""},{"$f":"Blad3!G1478","v":0},"Oanmäld frånvaro"]
["FRÅNVARO",{"$f":"IN!B1479","v":0},{"$f":"Blad3!E1479","v":""},{"$f":"Blad3!G1479","v":0},"Oanmäld frånvaro"]
["FRÅNVARO",{"$f":"IN!B1480","v":0},{"$f":"Blad3!E1480","v":""},{"$f":"Blad3!G1480","v":0},"Oanmäld frånvaro"]
["FRÅNVARO",{"$f":"IN!B1481","v":0},{"$f":"Blad3!E1481","v":""},{"$f":"Blad3!G1481","v":0},"Oanmäld frånvaro"]
["FRÅNVARO",{"$f":"IN!B1482","v":0},{"$f":"Blad3!E1482","v":""},{"$f":"Blad3!G1482","v":0},"Oanmäld frånvaro"]
["FRÅNVARO",{"$f":"IN!B1483","v":0},{"$f":"Blad3!E1483","v":""},{"$f":"Blad3!G1483","v":0},"Oanmäld frånvaro"]
["FRÅNVARO",{"$f":"IN!B1484","v":0},{"$f":"Blad3!E1484","v":""},{"$f":"Blad3!G1484","v":0},"Oanmäld frånvaro"]
["FRÅNVARO",{"$f":"IN!B1485","v":0},{"$f":"Blad3!E1485","v":""},{"$f":"Blad3!G1485","v":0},"Oanmäld frånvaro"]
["FRÅNVARO",{"$f":"IN!B1486","v":0},{"$f":"Blad3!E1486","v":""},{"$f":"Blad3!G1486","v":0},"Oanmäld frånvaro"]
["FRÅNVARO",{"$f":"IN!B1487","v":0},{"$f":"Blad3!E1487","v":""},{"$f":"Blad3!G1487","v":0},"Oanmäld frånvaro"]
["FRÅNVARO",{"$f":"IN!B1488","v":0},{"$f":"Blad3!E1488","v":""},{"$f":"Blad3!G1488","v":0},"Oanmäld frånvaro"]
["FRÅNVARO",{"$f":"IN!B1489","v":0},{"$f":"Blad3!E1489","v":""},{"$f":"Blad3!G1489","v":0},"Oanmäld frånvaro"]
["FRÅNVARO",{"$f":"IN!B1490","v":0},{"$f":"Blad3!E1490","v":""},{"$f":"Blad3!G1490","v":0},"Oanmäld frånvaro"]
["FRÅNVARO",{"$f":"IN!B1491","v":0},{"$f":"Blad3!E1491","v":""},{"$f":"Blad3!G1491","v":0},"Oanmäld frånvaro"]
["FRÅNVARO",{"$f":"IN!B1492","v":0},{"$f":"Blad3!E1492","v":""},{"$f":"Blad3!G1492","v":0},"Oanmäld frånvaro"]
["FRÅNVARO",{"$f":"IN!B1493","v":0},{"$f":"Blad3!E1493","v":""},{"$f":"Blad3!G1493","v":0},"Oanmäld frånvaro"]
["FRÅNVARO",{"$f":"IN!B1494","v":0},{"$f":"Blad3!E1494","v":""},{"$f":"Blad3!G1494","v":0},"Oanmäld frånvaro"]
["FRÅNVARO",{"$f":"IN!B1495","v":0},{"$f":"Blad3!E1495","v":""},{"$f":"Blad3!G1495","v":0},"Oanmäld frånvaro"]
["FRÅNVARO",{"$f":"IN!B1496","v":0},{"$f":"Blad3!E1496","v":""},{"$f":"Blad3!G1496","v":0},"Oanmäld frånvaro"]
["FRÅNVARO",{"$f":"IN!B1497","v":0},{"$f":"Blad3!E1497","v":""},{"$f":"Blad3!G1497","v":0},"Oanmäld frånvaro"]
["FRÅNVARO",{"$f":"IN!B1498","v":0},{"$f":"Blad3!E1498","v":""},{"$f":"Blad3!G1498","v":0},"Oanmäld frånvaro"]
["FRÅNVARO",{"$f":"IN!B1499","v":0},{"$f":"Blad3!E1499","v":""},{"$f":"Blad3!G1499","v":0},"Oanmäld frånvaro"]
["FRÅNVARO",{"$f":"IN!B1500","v":0},{"$f":"Blad3!E1500","v":""},{"$f":"Blad3!G1500","v":0},"Oanmäld frånvaro"]
["FRÅNVARO",{"$f":"IN!B1501","v":0},{"$f":"Blad3!E1501","v":""},{"$f":"Blad3!G1501","v":0},"Oanmäld frånvaro"]
["FRÅNVARO",{"$f":"IN!B1502","v":0},{"$f":"Blad3!E1502","v":""},{"$f":"Blad3!G1502","v":0},"Oanmäld frånvaro"]
["FRÅNVARO",{"$f":"IN!B1503","v":0},{"$f":"Blad3!E1503","v":""},{"$f":"Blad3!G1503","v":0},"Oanmäld frånvaro"]
["FRÅNVARO",{"$f":"IN!B1504","v":0},{"$f":"Blad3!E1504","v":""},{"$f":"Blad3!G1504","v":0},"Oanmäld frånvaro"]
["FRÅNVARO",{"$f":"IN!B1505","v":0},{"$f":"Blad3!E1505","v":""},{"$f":"Blad3!G1505","v":0},"Oanmäld frånvaro"]
["FRÅNVARO",{"$f":"IN!B1506","v":0},{"$f":"Blad3!E1506","v":""},{"$f":"Blad3!G1506","v":0},"Oanmäld frånvaro"]
["FRÅNVARO",{"$f":"IN!B1507","v":0},{"$f":"Blad3!E1507","v":""},{"$f":"Blad3!G1507","v":0},"Oanmäld frånvaro"]
["FRÅNVARO",{"$f":"IN!B1508","v":0},{"$f":"Blad3!E1508","v":""},{"$f":"Blad3!G1508","v":0},"Oanmäld frånvaro"]
["FRÅNVARO",{"$f":"IN!B1509","v":0},{"$f":"Blad3!E1509","v":""},{"$f":"Blad3!G1509","v":0},"Oanmäld frånvaro"]
["FRÅNVARO",{"$f":"IN!B1510","v":0},{"$f":"Blad3!E1510","v":""},{"$f":"Blad3!G1510","v":0},"Oanmäld frånvaro"]
["FRÅNVARO",{"$f":"IN!B1511","v":0},{"$f":"Blad3!E1511","v":""},{"$f":"Blad3!G1511","v":0},"Oanmäld frånvaro"]
["FRÅNVARO",{"$f":"IN!B1512","v":0},{"$f":"Blad3!E1512","v":""},{"$f":"Blad3!G1512","v":0},"Oanmäld frånvaro"]
["FRÅNVARO",{"$f":"IN!B1513","v":0},{"$f":"Blad3!E1513","v":""},{"$f":"Blad3!G1513","v":0},"Oanmäld frånvaro"]
["FRÅNVARO",{"$f":"IN!B1514","v":0},{"$f":"Blad3!E1514","v":""},{"$f":"Blad3!G1514","v":0},"Oanmäld frånvaro"]
["FRÅNVARO",{"$f":"IN!B1515","v":0},{"$f":"Blad3!E1515","v":""},{"$f":"Blad3!G1515","v":0},"Oanmäld frånvaro"]
["FRÅNVARO",{"$f":"IN!B1516","v":0},{"$f":"Blad3!E1516","v":""},{"$f":"Blad3!G1516","v":0},"Oanmäld frånvaro"]
["FRÅNVARO",{"$f":"IN!B1517","v":0},{"$f":"Blad3!E1517","v":""},{"$f":"Blad3!G1517","v":0},"Oanmäld frånvaro"]
["FRÅNVARO",{"$f":"IN!B1518","v":0},{"$f":"Blad3!E1518","v":""},{"$f":"Blad3!G1518","v":0},"Oanmäld frånvaro"]
["FRÅNVARO",{"$f":"IN!B1519","v":0},{"$f":"Blad3!E1519","v":""},{"$f":"Blad3!G1519","v":0},"Oanmäld frånvaro"]
["FRÅNVARO",{"$f":"IN!B1520","v":0},{"$f":"Blad3!E1520","v":""},{"$f":"Blad3!G1520","v":0},"Oanmäld frånvaro"]
["FRÅNVARO",{"$f":"IN!B1521","v":0},{"$f":"Blad3!E1521","v":""},{"$f":"Blad3!G1521","v":0},"Oanmäld frånvaro"]
["FRÅNVARO",{"$f":"IN!B1522","v":0},{"$f":"Blad3!E1522","v":""},{"$f":"Blad3!G1522","v":0},"Oanmäld frånvaro"]
["FRÅNVARO",{"$f":"IN!B1523","v":0},{"$f":"Blad3!E1523","v":""},{"$f":"Blad3!G1523","v":0},"Oanmäld frånvaro"]
["FRÅNVARO",{"$f":"IN!B1524","v":0},{"$f":"Blad3!E1524","v":""},{"$f":"Blad3!G1524","v":0},"Oanmäld frånvaro"]
["FRÅNVARO",{"$f":"IN!B1525","v":0},{"$f":"Blad3!E1525","v":""},{"$f":"Blad3!G1525","v":0},"Oanmäld frånvaro"]
["FRÅNVARO",{"$f":"IN!B1526","v":0},{"$f":"Blad3!E1526","v":""},{"$f":"Blad3!G1526","v":0},"Oanmäld frånvaro"]
["FRÅNVARO",{"$f":"IN!B1527","v":0},{"$f":"Blad3!E1527","v":""},{"$f":"Blad3!G1527","v":0},"Oanmäld frånvaro"]
["FRÅNVARO",{"$f":"IN!B1528","v":0},{"$f":"Blad3!E1528","v":""},{"$f":"Blad3!G1528","v":0},"Oanmäld frånvaro"]
["FRÅNVARO",{"$f":"IN!B1529","v":0},{"$f":"Blad3!E1529","v":""},{"$f":"Blad3!G1529","v":0},"Oanmäld frånvaro"]
["FRÅNVARO",{"$f":"IN!B1530","v":0},{"$f":"Blad3!E1530","v":""},{"$f":"Blad3!G1530","v":0},"Oanmäld frånvaro"]
["FRÅNVARO",{"$f":"IN!B1531","v":0},{"$f":"Blad3!E1531","v":""},{"$f":"Blad3!G1531","v":0},"Oanmäld frånvaro"]
["FRÅNVARO",{"$f":"IN!B1532","v":0},{"$f":"Blad3!E1532","v":""},{"$f":"Blad3!G1532","v":0},"Oanmäld frånvaro"]
["FRÅNVARO",{"$f":"IN!B1533","v":0},{"$f":"Blad3!E1533","v":""},{"$f":"Blad3!G1533","v":0},"Oanmäld frånvaro"]
["FRÅNVARO",{"$f":"IN!B1534","v":0},{"$f":"Blad3!E1534","v":""},{"$f":"Blad3!G1534","v":0},"Oanmäld frånvaro"]
["FRÅNVARO",{"$f":"IN!B1535","v":0},{"$f":"Blad3!E1535","v":""},{"$f":"Blad3!G1535","v":0},"Oanmäld frånvaro"]
["FRÅNVARO",{"$f":"IN!B1536","v":0},{"$f":"Blad3!E1536","v":""},{"$f":"Blad3!G1536","v":0},"Oanmäld frånvaro"]
["FRÅNVARO",{"$f":"IN!B1537","v":0},{"$f":"Blad3!E1537","v":""},{"$f":"Blad3!G1537","v":0},"Oanmäld frånvaro"]
["FRÅNVARO",{"$f":"IN!B1538","v":0},{"$f":"Blad3!E1538","v":""},{"$f":"Blad3!G1538","v":0},"Oanmäld frånvaro"]
["FRÅNVARO",{"$f":"IN!B1539","v":0},{"$f":"Blad3!E1539","v":""},{"$f":"Blad3!G1539","v":0},"Oanmäld frånvaro"]
["FRÅNVARO",{"$f":"IN!B1540","v":0},{"$f":"Blad3!E1540","v":""},{"$f":"Blad3!G1540","v":0},"Oanmäld frånvaro"]
["FRÅNVARO",{"$f":"IN!B1541","v":0},{"$f":"Blad3!E1541","v":""},{"$f":"Blad3!G1541","v":0},"Oanmäld frånvaro"]
["FRÅNVARO",{"$f":"IN!B1542","v":0},{"$f":"Blad3!E1542","v":""},{"$f":"Blad3!G1542","v":0},"Oanmäld frånvaro"]
["FRÅNVARO",{"$f":"IN!B1543","v":0},{"$f":"Blad3!E1543","v":""},{"$f":"Blad3!G1543","v":0},"Oanmäld frånvaro"]
["FRÅNVARO",{"$f":"IN!B1544","v":0},{"$f":"Blad3!E1544","v":""},{"$f":"Blad3!G1544","v":0},"Oanmäld frånvaro"]
["FRÅNVARO",{"$f":"IN!B1545","v":0},{"$f":"Blad3!E1545","v":""},{"$f":"Blad3!G1545","v":0},"Oanmäld frånvaro"]
["FRÅNVARO",{"$f":"IN!B1546","v":0},{"$f":"Blad3!E1546","v":""},{"$f":"Blad3!G1546","v":0},"Oanmäld frånvaro"]
["FRÅNVARO",{"$f":"IN!B1547","v":0},{"$f":"Blad3!E1547","v":""},{"$f":"Blad3!G1547","v":0},"Oanmäld frånvaro"]
["FRÅNVARO",{"$f":"IN!B1548","v":0},{"$f":"Blad3!E1548","v":""},{"$f":"Blad3!G1548","v":0},"Oanmäld frånvaro"]
["FRÅNVARO",{"$f":"IN!B1549","v":0},{"$f":"Blad3!E1549","v":""},{"$f":"Blad3!G1549","v":0},"Oanmäld frånvaro"]
["FRÅNVARO",{"$f":"IN!B1550","v":0},{"$f":"Blad3!E1550","v":""},{"$f":"Blad3!G1550","v":0},"Oanmäld frånvaro"]
["FRÅNVARO",{"$f":"IN!B1551","v":0},{"$f":"Blad3!E1551","v":""},{"$f":"Blad3!G1551","v":0},"Oanmäld frånvaro"]
["FRÅNVARO",{"$f":"IN!B1552","v":0},{"$f":"Blad3!E1552","v":""},{"$f":"Blad3!G1552","v":0},"Oanmäld frånvaro"]
["FRÅNVARO",{"$f":"IN!B1553","v":0},{"$f":"Blad3!E1553","v":""},{"$f":"Blad3!G1553","v":0},"Oanmäld frånvaro"]
["FRÅNVARO",{"$f":"IN!B1554","v":0},{"$f":"Blad3!E1554","v":""},{"$f":"Blad3!G1554","v":0},"Oanmäld frånvaro"]
["FRÅNVARO",{"$f":"IN!B1555","v":0},{"$f":"Blad3!E1555","v":""},{"$f":"Blad3!G1555","v":0},"Oanmäld frånvaro"]
["FRÅNVARO",{"$f":"IN!B1556","v":0},{"$f":"Blad3!E1556","v":""},{"$f":"Blad3!G1556","v":0},"Oanmäld frånvaro"]
["FRÅNVARO",{"$f":"IN!B1557","v":0},{"$f":"Blad3!E1557","v":""},{"$f":"Blad3!G1557","v":0},"Oanmäld frånvaro"]
["FRÅNVARO",{"$f":"IN!B1558","v":0},{"$f":"Blad3!E1558","v":""},{"$f":"Blad3!G1558","v":0},"Oanmäld frånvaro"]
["FRÅNVARO",{"$f":"IN!B1559","v":0},{"$f":"Blad3!E1559","v":""},{"$f":"Blad3!G1559","v":0},"Oanmäld frånvaro"]
["FRÅNVARO",{"$f":"IN!B1560","v":0},{"$f":"Blad3!E1560","v":""},{"$f":"Blad3!G1560","v":0},"Oanmäld frånvaro"]
["FRÅNVARO",{"$f":"IN!B1561","v":0},{"$f":"Blad3!E1561","v":""},{"$f":"Blad3!G1561","v":0},"Oanmäld frånvaro"]
["FRÅNVARO",{"$f":"IN!B1562","v":0},{"$f":"Blad3!E1562","v":""},{"$f":"Blad3!G1562","v":0},"Oanmäld frånvaro"]
["FRÅNVARO",{"$f":"IN!B1563","v":0},{"$f":"Blad3!E1563","v":""},{"$f":"Blad3!G1563","v":0},"Oanmäld frånvaro"]
["FRÅNVARO",{"$f":"IN!B1564","v":0},{"$f":"Blad3!E1564","v":""},{"$f":"Blad3!G1564","v":0},"Oanmäld frånvaro"]
["FRÅNVARO",{"$f":"IN!B1565","v":0},{"$f":"Blad3!E1565","v":""},{"$f":"Blad3!G1565","v":0},"Oanmäld frånvaro"]
["FRÅNVARO",{"$f":"IN!B1566","v":0},{"$f":"Blad3!E1566","v":""},{"$f":"Blad3!G1566","v":0},"Oanmäld frånvaro"]
["FRÅNVARO",{"$f":"IN!B1567","v":0},{"$f":"Blad3!E1567","v":""},{"$f":"Blad3!G1567","v":0},"Oanmäld frånvaro"]
["FRÅNVARO",{"$f":"IN!B1568","v":0},{"$f":"Blad3!E1568","v":""},{"$f":"Blad3!G1568","v":0},"Oanmäld frånvaro"]
["FRÅNVARO",{"$f":"IN!B1569","v":0},{"$f":"Blad3!E1569","v":""},{"$f":"Blad3!G1569","v":0},"Oanmäld frånvaro"]
["FRÅNVARO",{"$f":"IN!B1570","v":0},{"$f":"Blad3!E1570","v":""},{"$f":"Blad3!G1570","v":0},"Oanmäld frånvaro"]
["FRÅNVARO",{"$f":"IN!B1571","v":0},{"$f":"Blad3!E1571","v":""},{"$f":"Blad3!G1571","v":0},"Oanmäld frånvaro"]
["FRÅNVARO",{"$f":"IN!B1572","v":0},{"$f":"Blad3!E1572","v":""},{"$f":"Blad3!G1572","v":0},"Oanmäld frånvaro"]
["FRÅNVARO",{"$f":"IN!B1573","v":0},{"$f":"Blad3!E1573","v":""},{"$f":"Blad3!G1573","v":0},"Oanmäld frånvaro"]
["FRÅNVARO",{"$f":"IN!B1574","v":0},{"$f":"Blad3!E1574","v":""},{"$f":"Blad3!G1574","v":0},"Oanmäld frånvaro"]
["FRÅNVARO",{"$f":"IN!B1575","v":0},{"$f":"Blad3!E1575","v":""},{"$f":"Blad3!G1575","v":0},"Oanmäld frånvaro"]
["FRÅNVARO",{"$f":"IN!B1576","v":0},{"$f":"Blad3!E1576","v":""},{"$f":"Blad3!G1576","v":0},"Oanmäld frånvaro"]
["FRÅNVARO",{"$f":"IN!B1577","v":0},{"$f":"Blad3!E1577","v":""},{"$f":"Blad3!G1577","v":0},"Oanmäld frånvaro"]
["FRÅNVARO",{"$f":"IN!B1578","v":0},{"$f":"Blad3!E1578","v":""},{"$f":"Blad3!G1578","v":0},"Oanmäld frånvaro"]
["FRÅNVARO",{"$f":"IN!B1579","v":0},{"$f":"Blad3!E1579","v":""},{"$f":"Blad3!G1579","v":0},"Oanmäld frånvaro"]
["FRÅNVARO",{"$f":"IN!B1580","v":0},{"$f":"Blad3!E1580","v":""},{"$f":"Blad3!G1580","v":0},"Oanmäld frånvaro"]
["FRÅNVARO",{"$f":"IN!B1581","v":0},{"$f":"Blad3!E1581","v":""},{"$f":"Blad3!G1581","v":0},"Oanmäld frånvaro"]
["FRÅNVARO",{"$f":"IN!B1582","v":0},{"$f":"Blad3!E1582","v":""},{"$f":"Blad3!G1582","v":0},"Oanmäld frånvaro"]
["FRÅNVARO",{"$f":"IN!B1583","v":0},{"$f":"Blad3!E1583","v":""},{"$f":"Blad3!G1583","v":0},"Oanmäld frånvaro"]
["FRÅNVARO",{"$f":"IN!B1584","v":0},{"$f":"Blad3!E1584","v":""},{"$f":"Blad3!G1584","v":0},"Oanmäld frånvaro"]
["FRÅNVARO",{"$f":"IN!B1585","v":0},{"$f":"Blad3!E1585","v":""},{"$f":"Blad3!G1585","v":0},"Oanmäld frånvaro"]
["FRÅNVARO",{"$f":"IN!B1586","v":0},{"$f":"Blad3!E1586","v":""},{"$f":"Blad3!G1586","v":0},"Oanmäld frånvaro"]
["FRÅNVARO",{"$f":"IN!B1587","v":0},{"$f":"Blad3!E1587","v":""},{"$f":"Blad3!G1587","v":0},"Oanmäld frånvaro"]
["FRÅNVARO",{"$f":"IN!B1588","v":0},{"$f":"Blad3!E1588","v":""},{"$f":"Blad3!G1588","v":0},"Oanmäld frånvaro"]
["FRÅNVARO",{"$f":"IN!B1589","v":0},{"$f":"Blad3!E1589","v":""},{"$f":"Blad3!G1589","v":0},"Oanmäld frånvaro"]
["FRÅNVARO",{"$f":"IN!B1590","v":0},{"$f":"Blad3!E1590","v":""},{"$f":"Blad3!G1590","v":0},"Oanmäld frånvaro"]
["FRÅNVARO",{"$f":"IN!B1591","v":0},{"$f":"Blad3!E1591","v":""},{"$f":"Blad3!G1591","v":0},"Oanmäld frånvaro"]
["FRÅNVARO",{"$f":"IN!B1592","v":0},{"$f":"Blad3!E1592","v":""},{"$f":"Blad3!G1592","v":0},"Oanmäld frånvaro"]
["FRÅNVARO",{"$f":"IN!B1593","v":0},{"$f":"Blad3!E1593","v":""},{"$f":"Blad3!G1593","v":0},"Oanmäld frånvaro"]
["FRÅNVARO",{"$f":"IN!B1594","v":0},{"$f":"Blad3!E1594","v":""},{"$f":"Blad3!G1594","v":0},"Oanmäld frånvaro"]
["FRÅNVARO",{"$f":"IN!B1595","v":0},{"$f":"Blad3!E1595","v":""},{"$f":"Blad3!G1595","v":0},"Oanmäld frånvaro"]
["FRÅNVARO",{"$f":"IN!B1596","v":0},{"$f":"Blad3!E1596","v":""},{"$f":"Blad3!G1596","v":0},"Oanmäld frånvaro"]
["FRÅNVARO",{"$f":"IN!B1597","v":0},{"$f":"Blad3!E1597","v":""},{"$f":"Blad3!G1597","v":0},"Oanmäld frånvaro"]
["FRÅNVARO",{"$f":"IN!B1598","v":0},{"$f":"Blad3!E1598","v":""},{"$f":"Blad3!G1598","v":0},"Oanmäld frånvaro"]
["FRÅNVARO",{"$f":"IN!B1599","v":0},{"$f":"Blad3!E1599","v":""},{"$f":"Blad3!G1599","v":0},"Oanmäld frånvaro"]
["FRÅNVARO",{"$f":"IN!B1600","v":0},{"$f":"Blad3!E1600","v":""},{"$f":"Blad3!G1600","v":0},"Oanmäld frånvaro"]
["FRÅNVARO",{"$f":"IN!B1601","v":0},{"$f":"Blad3!E1601","v":""},{"$f":"Blad3!G1601","v":0},"Oanmäld frånvaro"]
["FRÅNVARO",{"$f":"IN!B1602","v":0},{"$f":"Blad3!E1602","v":""},{"$f":"Blad3!G1602","v":0},"Oanmäld frånvaro"]
["FRÅNVARO",{"$f":"IN!B1603","v":0},{"$f":"Blad3!E1603","v":""},{"$f":"Blad3!G1603","v":0},"Oanmäld frånvaro"]
["FRÅNVARO",{"$f":"IN!B1604","v":0},{"$f":"Blad3!E1604","v":""},{"$f":"Blad3!G1604","v":0},"Oanmäld frånvaro"]
["FRÅNVARO",{"$f":"IN!B1605","v":0},{"$f":"Blad3!E1605","v":""},{"$f":"Blad3!G1605","v":0},"Oanmäld frånvaro"]
["FRÅNVARO",{"$f":"IN!B1606","v":0},{"$f":"Blad3!E1606","v":""},{"$f":"Blad3!G1606","v":0},"Oanmäld frånvaro"]
["FRÅNVARO",{"$f":"IN!B1607","v":0},{"$f":"Blad3!E1607","v":""},{"$f":"Blad3!G1607","v":0},"Oanmäld frånvaro"]
["FRÅNVARO",{"$f":"IN!B1608","v":0},{"$f":"Blad3!E1608","v":""},{"$f":"Blad3!G1608","v":0},"Oanmäld frånvaro"]
["FRÅNVARO",{"$f":"IN!B1609","v":0},{"$f":"Blad3!E1609","v":""},{"$f":"Blad3!G1609","v":0},"Oanmäld frånvaro"]
["FRÅNVARO",{"$f":"IN!B1610","v":0},{"$f":"Blad3!E1610","v":""},{"$f":"Blad3!G1610","v":0},"Oanmäld frånvaro"]
["FRÅNVARO",{"$f":"IN!B1611","v":0},{"$f":"Blad3!E1611","v":""},{"$f":"Blad3!G1611","v":0},"Oanmäld frånvaro"]
["FRÅNVARO",{"$f":"IN!B1612","v":0},{"$f":"Blad3!E1612","v":""},{"$f":"Blad3!G1612","v":0},"Oanmäld frånvaro"]
["FRÅNVARO",{"$f":"IN!B1613","v":0},{"$f":"Blad3!E1613","v":""},{"$f":"Blad3!G1613","v":0},"Oanmäld frånvaro"]
["FRÅNVARO",{"$f":"IN!B1614","v":0},{"$f":"Blad3!E1614","v":""},{"$f":"Blad3!G1614","v":0},"Oanmäld frånvaro"]
["FRÅNVARO",{"$f":"IN!B1615","v":0},{"$f":"Blad3!E1615","v":""},{"$f":"Blad3!G1615","v":0},"Oanmäld frånvaro"]
["FRÅNVARO",{"$f":"IN!B1616","v":0},{"$f":"Blad3!E1616","v":""},{"$f":"Blad3!G1616","v":0},"Oanmäld frånvaro"]
["FRÅNVARO",{"$f":"IN!B1617","v":0},{"$f":"Blad3!E1617","v":""},{"$f":"Blad3!G1617","v":0},"Oanmäld frånvaro"]
["FRÅNVARO",{"$f":"IN!B1618","v":0},{"$f":"Blad3!E1618","v":""},{"$f":"Blad3!G1618","v":0},"Oanmäld frånvaro"]
["FRÅNVARO",{"$f":"IN!B1619","v":0},{"$f":"Blad3!E1619","v":""},{"$f":"Blad3!G1619","v":0},"Oanmäld frånvaro"]
["FRÅNVARO",{"$f":"IN!B1620","v":0},{"$f":"Blad3!E1620","v":""},{"$f":"Blad3!G1620","v":0},"Oanmäld frånvaro"]
["FRÅNVARO",{"$f":"IN!B1621","v":0},{"$f":"Blad3!E1621","v":""},{"$f":"Blad3!G1621","v":0},"Oanmäld frånvaro"]
["FRÅNVARO",{"$f":"IN!B1622","v":0},{"$f":"Blad3!E1622","v":""},{"$f":"Blad3!G1622","v":0},"Oanmäld frånvaro"]
["FRÅNVARO",{"$f":"IN!B1623","v":0},{"$f":"Blad3!E1623","v":""},{"$f":"Blad3!G1623","v":0},"Oanmäld frånvaro"]
["FRÅNVARO",{"$f":"IN!B1624","v":0},{"$f":"Blad3!E1624","v":""},{"$f":"Blad3!G1624","v":0},"Oanmäld frånvaro"]
["FRÅNVARO",{"$f":"IN!B1625","v":0},{"$f":"Blad3!E1625","v":""},{"$f":"Blad3!G1625","v":0},"Oanmäld frånvaro"]
["FRÅNVARO",{"$f":"IN!B1626","v":0},{"$f":"Blad3!E1626","v":""},{"$f":"Blad3!G1626","v":0},"Oanmäld frånvaro"]
["FRÅNVARO",{"$f":"IN!B1627","v":0},{"$f":"Blad3!E1627","v":""},{"$f":"Blad3!G1627","v":0},"Oanmäld frånvaro"]
["FRÅNVARO",{"$f":"IN!B1628","v":0},{"$f":"Blad3!E1628","v":""},{"$f":"Blad3!G1628","v":0},"Oanmäld frånvaro"]
["FRÅNVARO",{"$f":"IN!B1629","v":0},{"$f":"Blad3!E1629","v":""},{"$f":"Blad3!G1629","v":0},"Oanmäld frånvaro"]
["FRÅNVARO",{"$f":"IN!B1630","v":0},{"$f":"Blad3!E1630","v":""},{"$f":"Blad3!G1630","v":0},"Oanmäld frånvaro"]
["FRÅNVARO",{"$f":"IN!B1631","v":0},{"$f":"Blad3!E1631","v":""},{"$f":"Blad3!G1631","v":0},"Oanmäld frånvaro"]
["FRÅNVARO",{"$f":"IN!B1632","v":0},{"$f":"Blad3!E1632","v":""},{"$f":"Blad3!G1632","v":0},"Oanmäld frånvaro"]
["FRÅNVARO",{"$f":"IN!B1633","v":0},{"$f":"Blad3!E1633","v":""},{"$f":"Blad3!G1633","v":0},"Oanmäld frånvaro"]
["FRÅNVARO",{"$f":"IN!B1634","v":0},{"$f":"Blad3!E1634","v":""},{"$f":"Blad3!G1634","v":0},"Oanmäld frånvaro"]
["FRÅNVARO",{"$f":"IN!B1635","v":0},{"$f":"Blad3!E1635","v":""},{"$f":"Blad3!G1635","v":0},"Oanmäld frånvaro"]
["FRÅNVARO",{"$f":"IN!B1636","v":0},{"$f":"Blad3!E1636","v":""},{"$f":"Blad3!G1636","v":0},"Oanmäld frånvaro"]
["FRÅNVARO",{"$f":"IN!B1637","v":0},{"$f":"Blad3!E1637","v":""},{"$f":"Blad3!G1637","v":0},"Oanmäld frånvaro"]
["FRÅNVARO",{"$f":"IN!B1638","v":0},{"$f":"Blad3!E1638","v":""},{"$f":"Blad3!G1638","v":0},"Oanmäld frånvaro"]
["FRÅNVARO",{"$f":"IN!B1639","v":0},{"$f":"Blad3!E1639","v":""},{"$f":"Blad3!G1639","v":0},"Oanmäld frånvaro"]
["FRÅNVARO",{"$f":"IN!B1640","v":0},{"$f":"Blad3!E1640","v":""},{"$f":"Blad3!G1640","v":0},"Oanmäld frånvaro"]
["FRÅNVARO",{"$f":"IN!B1641","v":0},{"$f":"Blad3!E1641","v":""},{"$f":"Blad3!G1641","v":0},"Oanmäld frånvaro"]
["FRÅNVARO",{"$f":"IN!B1642","v":0},{"$f":"Blad3!E1642","v":""},{"$f":"Blad3!G1642","v":0},"Oanmäld frånvaro"]
["FRÅNVARO",{"$f":"IN!B1643","v":0},{"$f":"Blad3!E1643","v":""},{"$f":"Blad3!G1643","v":0},"Oanmäld frånvaro"]
["FRÅNVARO",{"$f":"IN!B1644","v":0},{"$f":"Blad3!E1644","v":""},{"$f":"Blad3!G1644","v":0},"Oanmäld frånvaro"]
["FRÅNVARO",{"$f":"IN!B1645","v":0},{"$f":"Blad3!E1645","v":""},{"$f":"Blad3!G1645","v":0},"Oanmäld frånvaro"]
["FRÅNVARO",{"$f":"IN!B1646","v":0},{"$f":"Blad3!E1646","v":""},{"$f":"Blad3!G1646","v":0},"Oanmäld frånvaro"]
["FRÅNVARO",{"$f":"IN!B1647","v":0},{"$f":"Blad3!E1647","v":""},{"$f":"Blad3!G1647","v":0},"Oanmäld frånvaro"]
["FRÅNVARO",{"$f":"IN!B1648","v":0},{"$f":"Blad3!E1648","v":""},{"$f":"Blad3!G1648","v":0},"Oanmäld frånvaro"]
["FRÅNVARO",{"$f":"IN!B1649","v":0},{"$f":"Blad3!E1649","v":""},{"$f":"Blad3!G1649","v":0},"Oanmäld frånvaro"]
["FRÅNVARO",{"$f":"IN!B1650","v":0},{"$f":"Blad3!E1650","v":""},{"$f":"Blad3!G1650","v":0},"Oanmäld frånvaro"]
["FRÅNVARO",{"$f":"IN!B1651","v":0},{"$f":"Blad3!E1651","v":""},{"$f":"Blad3!G1651","v":0},"Oanmäld frånvaro"]
["FRÅNVARO",{"$f":"IN!B1652","v":0},{"$f":"Blad3!E1652","v":""},{"$f":"Blad3!G1652","v":0},"Oanmäld frånvaro"]
["FRÅNVARO",{"$f":"IN!B1653","v":0},{"$f":"Blad3!E1653","v":""},{"$f":"Blad3!G1653","v":0},"Oanmäld frånvaro"]
["FRÅNVARO",{"$f":"IN!B1654","v":0},{"$f":"Blad3!E1654","v":""},{"$f":"Blad3!G1654","v":0},"Oanmäld frånvaro"]
["FRÅNVARO",{"$f":"IN!B1655","v":0},{"$f":"Blad3!E1655","v":""},{"$f":"Blad3!G1655","v":0},"Oanmäld frånvaro"]
["FRÅNVARO",{"$f":"IN!B1656","v":0},{"$f":"Blad3!E1656","v":""},{"$f":"Blad3!G1656","v":0},"Oanmäld frånvaro"]
["FRÅNVARO",{"$f":"IN!B1657","v":0},{"$f":"Blad3!E1657","v":""},{"$f":"Blad3!G1657","v":0},"Oanmäld frånvaro"]
["FRÅNVARO",{"$f":"IN!B1658","v":0},{"$f":"Blad3!E1658","v":""},{"$f":"Blad3!G1658","v":0},"Oanmäld frånvaro"]
["FRÅNVARO",{"$f":"IN!B1659","v":0},{"$f":"Blad3!E1659","v":""},{"$f":"Blad3!G1659","v":0},"Oanmäld frånvaro"]
["FRÅNVARO",{"$f":"IN!B1660","v":0},{"$f":"Blad3!E1660","v":""},{"$f":"Blad3!G1660","v":0},"Oanmäld frånvaro"]
["FRÅNVARO",{"$f":"IN!B1661","v":0},{"$f":"Blad3!E1661","v":""},{"$f":"Blad3!G1661","v":0},"Oanmäld frånvaro"]
["FRÅNVARO",{"$f":"IN!B1662","v":0},{"$f":"Blad3!E1662","v":""},{"$f":"Blad3!G1662","v":0},"Oanmäld frånvaro"]
["FRÅNVARO",{"$f":"IN!B1663","v":0},{"$f":"Blad3!E1663","v":""},{"$f":"Blad3!G1663","v":0},"Oanmäld frånvaro"]
["FRÅNVARO",{"$f":"IN!B1664","v":0},{"$f":"Blad3!E1664","v":""},{"$f":"Blad3!G1664","v":0},"Oanmäld frånvaro"]
["FRÅNVARO",{"$f":"IN!B1665","v":0},{"$f":"Blad3!E1665","v":""},{"$f":"Blad3!G1665","v":0},"Oanmäld frånvaro"]
["FRÅNVARO",{"$f":"IN!B1666","v":0},{"$f":"Blad3!E1666","v":""},{"$f":"Blad3!G1666","v":0},"Oanmäld frånvaro"]
["FRÅNVARO",{"$f":"IN!B1667","v":0},{"$f":"Blad3!E1667","v":""},{"$f":"Blad3!G1667","v":0},"Oanmäld frånvaro"]
["FRÅNVARO",{"$f":"IN!B1668","v":0},{"$f":"Blad3!E1668","v":""},{"$f":"Blad3!G1668","v":0},"Oanmäld frånvaro"]
["FRÅNVARO",{"$f":"IN!B1669","v":0},{"$f":"Blad3!E1669","v":""},{"$f":"Blad3!G1669","v":0},"Oanmäld frånvaro"]
["FRÅNVARO",{"$f":"IN!B1670","v":0},{"$f":"Blad3!E1670","v":""},{"$f":"Blad3!G1670","v":0},"Oanmäld frånvaro"]
["FRÅNVARO",{"$f":"IN!B1671","v":0},{"$f":"Blad3!E1671","v":""},{"$f":"Blad3!G1671","v":0},"Oanmäld frånvaro"]
["FRÅNVARO",{"$f":"IN!B1672","v":0},{"$f":"Blad3!E1672","v":""},{"$f":"Blad3!G1672","v":0},"Oanmäld frånvaro"]
["FRÅNVARO",{"$f":"IN!B1673","v":0},{"$f":"Blad3!E1673","v":""},{"$f":"Blad3!G1673","v":0},"Oanmäld frånvaro"]
["FRÅNVARO",{"$f":"IN!B1674","v":0},{"$f":"Blad3!E1674","v":""},{"$f":"Blad3!G1674","v":0},"Oanmäld frånvaro"]
["FRÅNVARO",{"$f":"IN!B1675","v":0},{"$f":"Blad3!E1675","v":""},{"$f":"Blad3!G1675","v":0},"Oanmäld frånvaro"]
["FRÅNVARO",{"$f":"IN!B1676","v":0},{"$f":"Blad3!E1676","v":""},{"$f":"Blad3!G1676","v":0},"Oanmäld frånvaro"]
["FRÅNVARO",{"$f":"IN!B1677","v":0},{"$f":"Blad3!E1677","v":""},{"$f":"Blad3!G1677","v":0},"Oanmäld frånvaro"]
["FRÅNVARO",{"$f":"IN!B1678","v":0},{"$f":"Blad3!E1678","v":""},{"$f":"Blad3!G1678","v":0},"Oanmäld frånvaro"]
["FRÅNVARO",{"$f":"IN!B1679","v":0},{"$f":"Blad3!E1679","v":""},{"$f":"Blad3!G1679","v":0},"Oanmäld frånvaro"]
["FRÅNVARO",{"$f":"IN!B1680","v":0},{"$f":"Blad3!E1680","v":""},{"$f":"Blad3!G1680","v":0},"Oanmäld frånvaro"]
["FRÅNVARO",{"$f":"IN!B1681","v":0},{"$f":"Blad3!E1681","v":""},{"$f":"Blad3!G1681","v":0},"Oanmäld frånvaro"]
["FRÅNVARO",{"$f":"IN!B1682","v":0},{"$f":"Blad3!E1682","v":""},{"$f":"Blad3!G1682","v":0},"Oanmäld frånvaro"]
["FRÅNVARO",{"$f":"IN!B1683","v":0},{"$f":"Blad3!E1683","v":""},{"$f":"Blad3!G1683","v":0},"Oanmäld frånvaro"]
["FRÅNVARO",{"$f":"IN!B1684","v":0},{"$f":"Blad3!E1684","v":""},{"$f":"Blad3!G1684","v":0},"Oanmäld frånvaro"]
["FRÅNVARO",{"$f":"IN!B1685","v":0},{"$f":"Blad3!E1685","v":""},{"$f":"Blad3!G1685","v":0},"Oanmäld frånvaro"]
["FRÅNVARO",{"$f":"IN!B1686","v":0},{"$f":"Blad3!E1686","v":""},{"$f":"Blad3!G1686","v":0},"Oanmäld frånvaro"]
["FRÅNVARO",{"$f":"IN!B1687","v":0},{"$f":"Blad3!E1687","v":""},{"$f":"Blad3!G1687","v":0},"Oanmäld frånvaro"]
["FRÅNVARO",{"$f":"IN!B1688","v":0},{"$f":"Blad3!E1688","v":""},{"$f":"Blad3!G1688","v":0},"Oanmäld frånvaro"]
["FRÅNVARO",{"$f":"IN!B1689","v":0},{"$f":"Blad3!E1689","v":""},{"$f":"Blad3!G1689","v":0},"Oanmäld frånvaro"]
["FRÅNVARO",{"$f":"IN!B1690","v":0},{"$f":"Blad3!E1690","v":""},{"$f":"Blad3!G1690","v":0},"Oanmäld frånvaro"]
["FRÅNVARO",{"$f":"IN!B1691","v":0},{"$f":"Blad3!E1691","v":""},{"$f":"Blad3!G1691","v":0},"Oanmäld frånvaro"]
["FRÅNVARO",{"$f":"IN!B1692","v":0},{"$f":"Blad3!E1692","v":""},{"$f":"Blad3!G1692","v":0},"Oanmäld frånvaro"]
["FRÅNVARO",{"$f":"IN!B1693","v":0},{"$f":"Blad3!E1693","v":""},{"$f":"Blad3!G1693","v":0},"Oanmäld frånvaro"]
["FRÅNVARO",{"$f":"IN!B1694","v":0},{"$f":"Blad3!E1694","v":""},{"$f":"Blad3!G1694","v":0},"Oanmäld frånvaro"]
["FRÅNVARO",{"$f":"IN!B1695","v":0},{"$f":"Blad3!E1695","v":""},{"$f":"Blad3!G1695","v":0},"Oanmäld frånvaro"]
["FRÅNVARO",{"$f":"IN!B1696","v":0},{"$f":"Blad3!E1696","v":""},{"$f":"Blad3!G1696","v":0},"Oanmäld frånvaro"]
["FRÅNVARO",{"$f":"IN!B1697","v":0},{"$f":"Blad3!E1697","v":""},{"$f":"Blad3!G1697","v":0},"Oanmäld frånvaro"]
["FRÅNVARO",{"$f":"IN!B1698","v":0},{"$f":"Blad3!E1698","v":""},{"$f":"Blad3!G1698","v":0},"Oanmäld frånvaro"]
["FRÅNVARO",{"$f":"IN!B1699","v":0},{"$f":"Blad3!E1699","v":""},{"$f":"Blad3!G1699","v":0},"Oanmäld frånvaro"]
["FRÅNVARO",{"$f":"IN!B1700","v":0},{"$f":"Blad3!E1700","v":""},{"$f":"Blad3!G1700","v":0},"Oanmäld frånvaro"]
["FRÅNVARO",{"$f":"IN!B1701","v":0},{"$f":"Blad3!E1701","v":""},{"$f":"Blad3!G1701","v":0},"Oanmäld frånvaro"]
["FRÅNVARO",{"$f":"IN!B1702","v":0},{"$f":"Blad3!E1702","v":""},{"$f":"Blad3!G1702","v":0},"Oanmäld frånvaro"]
["FRÅNVARO",{"$f":"IN!B1703","v":0},{"$f":"Blad3!E1703","v":""},{"$f":"Blad3!G1703","v":0},"Oanmäld frånvaro"]
["FRÅNVARO",{"$f":"IN!B1704","v":0},{"$f":"Blad3!E1704","v":""},{"$f":"Blad3!G1704","v":0},"Oanmäld frånvaro"]
["FRÅNVARO",{"$f":"IN!B1705","v":0},{"$f":"Blad3!E1705","v":""},{"$f":"Blad3!G1705","v":0},"Oanmäld frånvaro"]
["FRÅNVARO",{"$f":"IN!B1706","v":0},{"$f":"Blad3!E1706","v":""},{"$f":"Blad3!G1706","v":0},"Oanmäld frånvaro"]
["FRÅNVARO",{"$f":"IN!B1707","v":0},{"$f":"Blad3!E1707","v":""},{"$f":"Blad3!G1707","v":0},"Oanmäld frånvaro"]
["FRÅNVARO",{"$f":"IN!B1708","v":0},{"$f":"Blad3!E1708","v":""},{"$f":"Blad3!G1708","v":0},"Oanmäld frånvaro"]
["FRÅNVARO",{"$f":"IN!B1709","v":0},{"$f":"Blad3!E1709","v":""},{"$f":"Blad3!G1709","v":0},"Oanmäld frånvaro"]
["FRÅNVARO",{"$f":"IN!B1710","v":0},{"$f":"Blad3!E1710","v":""},{"$f":"Blad3!G1710","v":0},"Oanmäld frånvaro"]
["FRÅNVARO",{"$f":"IN!B1711","v":0},{"$f":"Blad3!E1711","v":""},{"$f":"Blad3!G1711","v":0},"Oanmäld frånvaro"]
["FRÅNVARO",{"$f":"IN!B1712","v":0},{"$f":"Blad3!E1712","v":""},{"$f":"Blad3!G1712","v":0},"Oanmäld frånvaro"]
["FRÅNVARO",{"$f":"IN!B1713","v":0},{"$f":"Blad3!E1713","v":""},{"$f":"Blad3!G1713","v":0},"Oanmäld frånvaro"]
["FRÅNVARO",{"$f":"IN!B1714","v":0},{"$f":"Blad3!E1714","v":""},{"$f":"Blad3!G1714","v":0},"Oanmäld frånvaro"]
["FRÅNVARO",{"$f":"IN!B1715","v":0},{"$f":"Blad3!E1715","v":""},{"$f":"Blad3!G1715","v":0},"Oanmäld frånvaro"]
["FRÅNVARO",{"$f":"IN!B1716","v":0},{"$f":"Blad3!E1716","v":""},{"$f":"Blad3!G1716","v":0},"Oanmäld frånvaro"]
["FRÅNVARO",{"$f":"IN!B1717","v":0},{"$f":"Blad3!E1717","v":""},{"$f":"Blad3!G1717","v":0},"Oanmäld frånvaro"]
["FRÅNVARO",{"$f":"IN!B1718","v":0},{"$f":"Blad3!E1718","v":""},{"$f":"Blad3!G1718","v":0},"Oanmäld frånvaro"]
["FRÅNVARO",{"$f":"IN!B1719","v":0},{"$f":"Blad3!E1719","v":""},{"$f":"Blad3!G1719","v":0},"Oanmäld frånvaro"]
["FRÅNVARO",{"$f":"IN!B1720","v":0},{"$f":"Blad3!E1720","v":""},{"$f":"Blad3!G1720","v":0},"Oanmäld frånvaro"]
["FRÅNVARO",{"$f":"IN!B1721","v":0},{"$f":"Blad3!E1721","v":""},{"$f":"Blad3!G1721","v":0},"Oanmäld frånvaro"]
["FRÅNVARO",{"$f":"IN!B1722","v":0},{"$f":"Blad3!E1722","v":""},{"$f":"Blad3!G1722","v":0},"Oanmäld frånvaro"]
["FRÅNVARO",{"$f":"IN!B1723","v":0},{"$f":"Blad3!E1723","v":""},{"$f":"Blad3!G1723","v":0},"Oanmäld frånvaro"]
["FRÅNVARO",{"$f":"IN!B1724","v":0},{"$f":"Blad3!E1724","v":""},{"$f":"Blad3!G1724","v":0},"Oanmäld frånvaro"]
["FRÅNVARO",{"$f":"IN!B1725","v":0},{"$f":"Blad3!E1725","v":""},{"$f":"Blad3!G1725","v":0},"Oanmäld frånvaro"]
["FRÅNVARO",{"$f":"IN!B1726","v":0},{"$f":"Blad3!E1726","v":""},{"$f":"Blad3!G1726","v":0},"Oanmäld frånvaro"]
["FRÅNVARO",{"$f":"IN!B1727","v":0},{"$f":"Blad3!E1727","v":""},{"$f":"Blad3!G1727","v":0},"Oanmäld frånvaro"]
["FRÅNVARO",{"$f":"IN!B1728","v":0},{"$f":"Blad3!E1728","v":""},{"$f":"Blad3!G1728","v":0},"Oanmäld frånvaro"]
["FRÅNVARO",{"$f":"IN!B1729","v":0},{"$f":"Blad3!E1729","v":""},{"$f":"Blad3!G1729","v":0},"Oanmäld frånvaro"]
["FRÅNVARO",{"$f":"IN!B1730","v":0},{"$f":"Blad3!E1730","v":""},{"$f":"Blad3!G1730","v":0},"Oanmäld frånvaro"]
["FRÅNVARO",{"$f":"IN!B1731","v":0},{"$f":"Blad3!E1731","v":""},{"$f":"Blad3!G1731","v":0},"Oanmäld frånvaro"]
["FRÅNVARO",{"$f":"IN!B1732","v":0},{"$f":"Blad3!E1732","v":""},{"$f":"Blad3!G1732","v":0},"Oanmäld frånvaro"]
["FRÅNVARO",{"$f":"IN!B1733","v":0},{"$f":"Blad3!E1733","v":""},{"$f":"Blad3!G1733","v":0},"Oanmäld frånvaro"]
["FRÅNVARO",{"$f":"IN!B1734","v":0},{"$f":"Blad3!E1734","v":""},{"$f":"Blad3!G1734","v":0},"Oanmäld frånvaro"]
["FRÅNVARO",{"$f":"IN!B1735","v":0},{"$f":"Blad3!E1735","v":""},{"$f":"Blad3!G1735","v":0},"Oanmäld frånvaro"]
["FRÅNVARO",{"$f":"IN!B1736","v":0},{"$f":"Blad3!E1736","v":""},{"$f":"Blad3!G1736","v":0},"Oanmäld frånvaro"]
["FRÅNVARO",{"$f":"IN!B1737","v":0},{"$f":"Blad3!E1737","v":""},{"$f":"Blad3!G1737","v":0},"Oanmäld frånvaro"]
["FRÅNVARO",{"$f":"IN!B1738","v":0},{"$f":"Blad3!E1738","v":""},{"$f":"Blad3!G1738","v":0},"Oanmäld frånvaro"]
["FRÅNVARO",{"$f":"IN!B1739","v":0},{"$f":"Blad3!E1739","v":""},{"$f":"Blad3!G1739","v":0},"Oanmäld frånvaro"]
["FRÅNVARO",{"$f":"IN!B1740","v":0},{"$f":"Blad3!E1740","v":""},{"$f":"Blad3!G1740","v":0},"Oanmäld frånvaro"]
["FRÅNVARO",{"$f":"IN!B1741","v":0},{"$f":"Blad3!E1741","v":""},{"$f":"Blad3!G1741","v":0},"Oanmäld frånvaro"]
["FRÅNVARO",{"$f":"IN!B1742","v":0},{"$f":"Blad3!E1742","v":""},{"$f":"Blad3!G1742","v":0},"Oanmäld frånvaro"]
["FRÅNVARO",{"$f":"IN!B1743","v":0},{"$f":"Blad3!E1743","v":""},{"$f":"Blad3!G1743","v":0},"Oanmäld frånvaro"]
["FRÅNVARO",{"$f":"IN!B1744","v":0},{"$f":"Blad3!E1744","v":""},{"$f":"Blad3!G1744","v":0},"Oanmäld frånvaro"]
["FRÅNVARO",{"$f":"IN!B1745","v":0},{"$f":"Blad3!E1745","v":""},{"$f":"Blad3!G1745","v":0},"Oanmäld frånvaro"]
["FRÅNVARO",{"$f":"IN!B1746","v":0},{"$f":"Blad3!E1746","v":""},{"$f":"Blad3!G1746","v":0},"Oanmäld frånvaro"]
["FRÅNVARO",{"$f":"IN!B1747","v":0},{"$f":"Blad3!E1747","v":""},{"$f":"Blad3!G1747","v":0},"Oanmäld frånvaro"]
["FRÅNVARO",{"$f":"IN!B1748","v":0},{"$f":"Blad3!E1748","v":""},{"$f":"Blad3!G1748","v":0},"Oanmäld frånvaro"]
["FRÅNVARO",{"$f":"IN!B1749","v":0},{"$f":"Blad3!E1749","v":""},{"$f":"Blad3!G1749","v":0},"Oanmäld frånvaro"]
["FRÅNVARO",{"$f":"IN!B1750","v":0},{"$f":"Blad3!E1750","v":""},{"$f":"Blad3!G1750","v":0},"Oanmäld frånvaro"]
["FRÅNVARO",{"$f":"IN!B1751","v":0},{"$f":"Blad3!E1751","v":""},{"$f":"Blad3!G1751","v":0},"Oanmäld frånvaro"]
["FRÅNVARO",{"$f":"IN!B1752","v":0},{"$f":"Blad3!E1752","v":""},{"$f":"Blad3!G1752","v":0},"Oanmäld frånvaro"]
["FRÅNVARO",{"$f":"IN!B1753","v":0},{"$f":"Blad3!E1753","v":""},{"$f":"Blad3!G1753","v":0},"Oanmäld frånvaro"]
["FRÅNVARO",{"$f":"IN!B1754","v":0},{"$f":"Blad3!E1754","v":""},{"$f":"Blad3!G1754","v":0},"Oanmäld frånvaro"]
["FRÅNVARO",{"$f":"IN!B1755","v":0},{"$f":"Blad3!E1755","v":""},{"$f":"Blad3!G1755","v":0},"Oanmäld frånvaro"]
["FRÅNVARO",{"$f":"IN!B1756","v":0},{"$f":"Blad3!E1756","v":""},{"$f":"Blad3!G1756","v":0},"Oanmäld frånvaro"]
["FRÅNVARO",{"$f":"IN!B1757","v":0},{"$f":"Blad3!E1757","v":""},{"$f":"Blad3!G1757","v":0},"Oanmäld frånvaro"]
["FRÅNVARO",{"$f":"IN!B1758","v":0},{"$f":"Blad3!E1758","v":""},{"$f":"Blad3!G1758","v":0},"Oanmäld frånvaro"]
["FRÅNVARO",{"$f":"IN!B1759","v":0},{"$f":"Blad3!E1759","v":""},{"$f":"Blad3!G1759","v":0},"Oanmäld frånvaro"]
["FRÅNVARO",{"$f":"IN!B1760","v":0},{"$f":"Blad3!E1760","v":""},{"$f":"Blad3!G1760","v":0},"Oanmäld frånvaro"]
["FRÅNVARO",{"$f":"IN!B1761","v":0},{"$f":"Blad3!E1761","v":""},{"$f":"Blad3!G1761","v":0},"Oanmäld frånvaro"]
["FRÅNVARO",{"$f":"IN!B1762","v":0},{"$f":"Blad3!E1762","v":""},{"$f":"Blad3!G1762","v":0},"Oanmäld frånvaro"]
["FRÅNVARO",{"$f":"IN!B1763","v":0},{"$f":"Blad3!E1763","v":""},{"$f":"Blad3!G1763","v":0},"Oanmäld frånvaro"]
["FRÅNVARO",{"$f":"IN!B1764","v":0},{"$f":"Blad3!E1764","v":""},{"$f":"Blad3!G1764","v":0},"Oanmäld frånvaro"]
["FRÅNVARO",{"$f":"IN!B1765","v":0},{"$f":"Blad3!E1765","v":""},{"$f":"Blad3!G1765","v":0},"Oanmäld frånvaro"]
["FRÅNVARO",{"$f":"IN!B1766","v":0},{"$f":"Blad3!E1766","v":""},{"$f":"Blad3!G1766","v":0},"Oanmäld frånvaro"]
["FRÅNVARO",{"$f":"IN!B1767","v":0},{"$f":"Blad3!E1767","v":""},{"$f":"Blad3!G1767","v":0},"Oanmäld frånvaro"]
["FRÅNVARO",{"$f":"IN!B1768","v":0},{"$f":"Blad3!E1768","v":""},{"$f":"Blad3!G1768","v":0},"Oanmäld frånvaro"]
["FRÅNVARO",{"$f":"IN!B1769","v":0},{"$f":"Blad3!E1769","v":""},{"$f":"Blad3!G1769","v":0},"Oanmäld frånvaro"]
["FRÅNVARO",{"$f":"IN!B1770","v":0},{"$f":"Blad3!E1770","v":""},{"$f":"Blad3!G1770","v":0},"Oanmäld frånvaro"]
["FRÅNVARO",{"$f":"IN!B1771","v":0},{"$f":"Blad3!E1771","v":""},{"$f":"Blad3!G1771","v":0},"Oanmäld frånvaro"]
["FRÅNVARO",{"$f":"IN!B1772","v":0},{"$f":"Blad3!E1772","v":""},{"$f":"Blad3!G1772","v":0},"Oanmäld frånvaro"]
["FRÅNVARO",{"$f":"IN!B1773","v":0},{"$f":"Blad3!E1773","v":""},{"$f":"Blad3!G1773","v":0},"Oanmäld frånvaro"]
["FRÅNVARO",{"$f":"IN!B1774","v":0},{"$f":"Blad3!E1774","v":""},{"$f":"Blad3!G1774","v":0},"Oanmäld frånvaro"]
["FRÅNVARO",{"$f":"IN!B1775","v":0},{"$f":"Blad3!E1775","v":""},{"$f":"Blad3!G1775","v":0},"Oanmäld frånvaro"]
["FRÅNVARO",{"$f":"IN!B1776","v":0},{"$f":"Blad3!E1776","v":""},{"$f":"Blad3!G1776","v":0},"Oanmäld frånvaro"]
["FRÅNVARO",{"$f":"IN!B1777","v":0},{"$f":"Blad3!E1777","v":""},{"$f":"Blad3!G1777","v":0},"Oanmäld frånvaro"]
["FRÅNVARO",{"$f":"IN!B1778","v":0},{"$f":"Blad3!E1778","v":""},{"$f":"Blad3!G1778","v":0},"Oanmäld frånvaro"]
["FRÅNVARO",{"$f":"IN!B1779","v":0},{"$f":"Blad3!E1779","v":""},{"$f":"Blad3!G1779","v":0},"Oanmäld frånvaro"]
["FRÅNVARO",{"$f":"IN!B1780","v":0},{"$f":"Blad3!E1780","v":""},{"$f":"Blad3!G1780","v":0},"Oanmäld frånvaro"]
["FRÅNVARO",{"$f":"IN!B1781","v":0},{"$f":"Blad3!E1781","v":""},{"$f":"Blad3!G1781","v":0},"Oanmäld frånvaro"]
["FRÅNVARO",{"$f":"IN!B1782","v":0},{"$f":"Blad3!E1782","v":""},{"$f":"Blad3!G1782","v":0},"Oanmäld frånvaro"]
["FRÅNVARO",{"$f":"IN!B1783","v":0},{"$f":"Blad3!E1783","v":""},{"$f":"Blad3!G1783","v":0},"Oanmäld frånvaro"]
["FRÅNVARO",{"$f":"IN!B1784","v":0},{"$f":"Blad3!E1784","v":""},{"$f":"Blad3!G1784","v":0},"Oanmäld frånvaro"]
["FRÅNVARO",{"$f":"IN!B1785","v":0},{"$f":"Blad3!E1785","v":""},{"$f":"Blad3!G1785","v":0},"Oanmäld frånvaro"]
["FRÅNVARO",{"$f":"IN!B1786","v":0},{"$f":"Blad3!E1786","v":""},{"$f":"Blad3!G1786","v":0},"Oanmäld frånvaro"]
["FRÅNVARO",{"$f":"IN!B1787","v":0},{"$f":"Blad3!E1787","v":""},{"$f":"Blad3!G1787","v":0},"Oanmäld frånvaro"]
["FRÅNVARO",{"$f":"IN!B1788","v":0},{"$f":"Blad3!E1788","v":""},{"$f":"Blad3!G1788","v":0},"Oanmäld frånvaro"]
["FRÅNVARO",{"$f":"IN!B1789","v":0},{"$f":"Blad3!E1789","v":""},{"$f":"Blad3!G1789","v":0},"Oanmäld frånvaro"]
["FRÅNVARO",{"$f":"IN!B1790","v":0},{"$f":"Blad3!E1790","v":""},{"$f":"Blad3!G1790","v":0},"Oanmäld frånvaro"]
["FRÅNVARO",{"$f":"IN!B1791","v":0},{"$f":"Blad3!E1791","v":""},{"$f":"Blad3!G1791","v":0},"Oanmäld frånvaro"]
["FRÅNVARO",{"$f":"IN!B1792","v":0},{"$f":"Blad3!E1792","v":""},{"$f":"Blad3!G1792","v":0},"Oanmäld frånvaro"]
["FRÅNVARO",{"$f":"IN!B1793","v":0},{"$f":"Blad3!E1793","v":""},{"$f":"Blad3!G1793","v":0},"Oanmäld frånvaro"]
["FRÅNVARO",{"$f":"IN!B1794","v":0},{"$f":"Blad3!E1794","v":""},{"$f":"Blad3!G1794","v":0},"Oanmäld frånvaro"]
["FRÅNVARO",{"$f":"IN!B1795","v":0},{"$f":"Blad3!E1795","v":""},{"$f":"Blad3!G1795","v":0},"Oanmäld frånvaro"]
["FRÅNVARO",{"$f":"IN!B1796","v":0},{"$f":"Blad3!E1796","v":""},{"$f":"Blad3!G1796","v":0},"Oanmäld frånvaro"]
["FRÅNVARO",{"$f":"IN!B1797","v":0},{"$f":"Blad3!E1797","v":""},{"$f":"Blad3!G1797","v":0},"Oanmäld frånvaro"]
["FRÅNVARO",{"$f":"IN!B1798","v":0},{"$f":"Blad3!E1798","v":""},{"$f":"Blad3!G1798","v":0},"Oanmäld frånvaro"]
["FRÅNVARO",{"$f":"IN!B1799","v":0},{"$f":"Blad3!E1799","v":""},{"$f":"Blad3!G1799","v":0},"Oanmäld frånvaro"]
["FRÅNVARO",{"$f":"IN!B1800","v":0},{"$f":"Blad3!E1800","v":""},{"$f":"Blad3!G1800","v":0},"Oanmäld frånvaro"]
["FRÅNVARO",{"$f":"IN!B1801","v":0},{"$f":"Blad3!E1801","v":""},{"$f":"Blad3!G1801","v":0},"Oanmäld frånvaro"]
["FRÅNVARO",{"$f":"IN!B1802","v":0},{"$f":"Blad3!E1802","v":""},{"$f":"Blad3!G1802","v":0},"Oanmäld frånvaro"]
["FRÅNVARO",{"$f":"IN!B1803","v":0},{"$f":"Blad3!E1803","v":""},{"$f":"Blad3!G1803","v":0},"Oanmäld frånvaro"]
["FRÅNVARO",{"$f":"IN!B1804","v":0},{"$f":"Blad3!E1804","v":""},{"$f":"Blad3!G1804","v":0},"Oanmäld frånvaro"]
["FRÅNVARO",{"$f":"IN!B1805","v":0},{"$f":"Blad3!E1805","v":""},{"$f":"Blad3!G1805","v":0},"Oanmäld frånvaro"]
["FRÅNVARO",{"$f":"IN!B1806","v":0},{"$f":"Blad3!E1806","v":""},{"$f":"Blad3!G1806","v":0},"Oanmäld frånvaro"]
["FRÅNVARO",{"$f":"IN!B1807","v":0},{"$f":"Blad3!E1807","v":""},{"$f":"Blad3!G1807","v":0},"Oanmäld frånvaro"]
["FRÅNVARO",{"$f":"IN!B1808","v":0},{"$f":"Blad3!E1808","v":""},{"$f":"Blad3!G1808","v":0},"Oanmäld frånvaro"]
["FRÅNVARO",{"$f":"IN!B1809","v":0},{"$f":"Blad3!E1809","v":""},{"$f":"Blad3!G1809","v":0},"Oanmäld frånvaro"]
["FRÅNVARO",{"$f":"IN!B1810","v":0},{"$f":"Blad3!E1810","v":""},{"$f":"Blad3!G1810","v":0},"Oanmäld frånvaro"]
["FRÅNVARO",{"$f":"IN!B1811","v":0},{"$f":"Blad3!E1811","v":""},{"$f":"Blad3!G1811","v":0},"Oanmäld frånvaro"]
["FRÅNVARO",{"$f":"IN!B1812","v":0},{"$f":"Blad3!E1812","v":""},{"$f":"Blad3!G1812","v":0},"Oanmäld frånvaro"]
["FRÅNVARO",{"$f":"IN!B1813","v":0},{"$f":"Blad3!E1813","v":""},{"$f":"Blad3!G1813","v":0},"Oanmäld frånvaro"]
["FRÅNVARO",{"$f":"IN!B1814","v":0},{"$f":"Blad3!E1814","v":""},{"$f":"Blad3!G1814","v":0},"Oanmäld frånvaro"]
["FRÅNVARO",{"$f":"IN!B1815","v":0},{"$f":"Blad3!E1815","v":""},{"$f":"Blad3!G1815","v":0},"Oanmäld frånvaro"]
["FRÅNVARO",{"$f":"IN!B1816","v":0},{"$f":"Blad3!E1816","v":""},{"$f":"Blad3!G1816","v":0},"Oanmäld frånvaro"]
["FRÅNVARO",{"$f":"IN!B1817","v":0},{"$f":"Blad3!E1817","v":""},{"$f":"Blad3!G1817","v":0},"Oanmäld frånvaro"]
["FRÅNVARO",{"$f":"IN!B1818","v":0},{"$f":"Blad3!E1818","v":""},{"$f":"Blad3!G1818","v":0},"Oanmäld frånvaro"]
["FRÅNVARO",{"$f":"IN!B1819","v":0},{"$f":"Blad3!E1819","v":""},{"$f":"Blad3!G1819","v":0},"Oanmäld frånvaro"]
["FRÅNVARO",{"$f":"IN!B1820","v":0},{"$f":"Blad3!E1820","v":""},{"$f":"Blad3!G1820","v":0},"Oanmäld frånvaro"]
["FRÅNVARO",{"$f":"IN!B1821","v":0},{"$f":"Blad3!E1821","v":""},{"$f":"Blad3!G1821","v":0},"Oanmäld frånvaro"]
["FRÅNVARO",{"$f":"IN!B1822","v":0},{"$f":"Blad3!E1822","v":""},{"$f":"Blad3!G1822","v":0},"Oanmäld frånvaro"]
["FRÅNVARO",{"$f":"IN!B1823","v":0},{"$f":"Blad3!E1823","v":""},{"$f":"Blad3!G1823","v":0},"Oanmäld frånvaro"]
["FRÅNVARO",{"$f":"IN!B1824","v":0},{"$f":"Blad3!E1824","v":""},{"$f":"Blad3!G1824","v":0},"Oanmäld frånvaro"]
["FRÅNVARO",{"$f":"IN!B1825","v":0},{"$f":"Blad3!E1825","v":""},{"$f":"Blad3!G1825","v":0},"Oanmäld frånvaro"]
["FRÅNVARO",{"$f":"IN!B1826","v":0},{"$f":"Blad3!E1826","v":""},{"$f":"Blad3!G1826","v":0},"Oanmäld frånvaro"]
["FRÅNVARO",{"$f":"IN!B1827","v":0},{"$f":"Blad3!E1827","v":""},{"$f":"Blad3!G1827","v":0},"Oanmäld frånvaro"]
["FRÅNVARO",{"$f":"IN!B1828","v":0},{"$f":"Blad3!E1828","v":""},{"$f":"Blad3!G1828","v":0},"Oanmäld frånvaro"]
["FRÅNVARO",{"$f":"IN!B1829","v":0},{"$f":"Blad3!E1829","v":""},{"$f":"Blad3!G1829","v":0},"Oanmäld frånvaro"]
["FRÅNVARO",{"$f":"IN!B1830","v":0},{"$f":"Blad3!E1830","v":""},{"$f":"Blad3!G1830","v":0},"Oanmäld frånvaro"]
["FRÅNVARO",{"$f":"IN!B1831","v":0},{"$f":"Blad3!E1831","v":""},{"$f":"Blad3!G1831","v":0},"Oanmäld frånvaro"]
["FRÅNVARO",{"$f":"IN!B1832","v":0},{"$f":"Blad3!E1832","v":""},{"$f":"Blad3!G1832","v":0},"Oanmäld frånvaro"]
["FRÅNVARO",{"$f":"IN!B1833","v":0},{"$f":"Blad3!E1833","v":""},{"$f":"Blad3!G1833","v":0},"Oanmäld frånvaro"]
["FRÅNVARO",{"$f":"IN!B1834","v":0},{"$f":"Blad3!E1834","v":""},{"$f":"Blad3!G1834","v":0},"Oanmäld frånvaro"]
["FRÅNVARO",{"$f":"IN!B1835","v":0},{"$f":"Blad3!E1835","v":""},{"$f":"Blad3!G1835","v":0},"Oanmäld frånvaro"]
["FRÅNVARO",{"$f":"IN!B1836","v":0},{"$f":"Blad3!E1836","v":""},{"$f":"Blad3!G1836","v":0},"Oanmäld frånvaro"]
["FRÅNVARO",{"$f":"IN!B1837","v":0},{"$f":"Blad3!E1837","v":""},{"$f":"Blad3!G1837","v":0},"Oanmäld frånvaro"]
["FRÅNVARO",{"$f":"IN!B1838","v":0},{"$f":"Blad3!E1838","v":""},{"$f":"Blad3!G1838","v":0},"Oanmäld frånvaro"]
["FRÅNVARO",{"$f":"IN!B1839","v":0},{"$f":"Blad3!E1839","v":""},{"$f":"Blad3!G1839","v":0},"Oanmäld frånvaro"]
["FRÅNVARO",{"$f":"IN!B1840","v":0},{"$f":"Blad3!E1840","v":""},{"$f":"Blad3!G1840","v":0},"Oanmäld frånvaro"]
["FRÅNVARO",{"$f":"IN!B1841","v":0},{"$f":"Blad3!E1841","v":""},{"$f":"Blad3!G1841","v":0},"Oanmäld frånvaro"]
["FRÅNVARO",{"$f":"IN!B1842","v":0},{"$f":"Blad3!E1842","v":""},{"$f":"Blad3!G1842","v":0},"Oanmäld frånvaro"]
["FRÅNVARO",{"$f":"IN!B1843","v":0},{"$f":"Blad3!E1843","v":""},{"$f":"Blad3!G1843","v":0},"Oanmäld frånvaro"]
["FRÅNVARO",{"$f":"IN!B1844","v":0},{"$f":"Blad3!E1844","v":""},{"$f":"Blad3!G1844","v":0},"Oanmäld frånvaro"]
["FRÅNVARO",{"$f":"IN!B1845","v":0},{"$f":"Blad3!E1845","v":""},{"$f":"Blad3!G1845","v":0},"Oanmäld frånvaro"]
["FRÅNVARO",{"$f":"IN!B1846","v":0},{"$f":"Blad3!E1846","v":""},{"$f":"Blad3!G1846","v":0},"Oanmäld frånvaro"]
["FRÅNVARO",{"$f":"IN!B1847","v":0},{"$f":"Blad3!E1847","v":""},{"$f":"Blad3!G1847","v":0},"Oanmäld frånvaro"]
["FRÅNVARO",{"$f":"IN!B1848","v":0},{"$f":"Blad3!E1848","v":""},{"$f":"Blad3!G1848","v":0},"Oanmäld frånvaro"]
["FRÅNVARO",{"$f":"IN!B1849","v":0},{"$f":"Blad3!E1849","v":""},{"$f":"Blad3!G1849","v":0},"Oanmäld frånvaro"]
["FRÅNVARO",{"$f":"IN!B1850","v":0},{"$f":"Blad3!E1850","v":""},{"$f":"Blad3!G1850","v":0},"Oanmäld frånvaro"]
["FRÅNVARO",{"$f":"IN!B1851","v":0},{"$f":"Blad3!E1851","v":""},{"$f":"Blad3!G1851","v":0},"Oanmäld frånvaro"]
["FRÅNVARO",{"$f":"IN!B1852","v":0},{"$f":"Blad3!E1852","v":""},{"$f":"Blad3!G1852","v":0},"Oanmäld frånvaro"]
["FRÅNVARO",{"$f":"IN!B1853","v":0},{"$f":"Blad3!E1853","v":""},{"$f":"Blad3!G1853","v":0},"Oanmäld frånvaro"]
["FRÅNVARO",{"$f":"IN!B1854","v":0},{"$f":"Blad3!E1854","v":""},{"$f":"Blad3!G1854","v":0},"Oanmäld frånvaro"]
["FRÅNVARO",{"$f":"IN!B1855","v":0},{"$f":"Blad3!E1855","v":""},{"$f":"Blad3!G1855","v":0},"Oanmäld frånvaro"]
["FRÅNVARO",{"$f":"IN!B1856","v":0},{"$f":"Blad3!E1856","v":""},{"$f":"Blad3!G1856","v":0},"Oanmäld frånvaro"]
["FRÅNVARO",{"$f":"IN!B1857","v":0},{"$f":"Blad3!E1857","v":""},{"$f":"Blad3!G1857","v":0},"Oanmäld frånvaro"]
["FRÅNVARO",{"$f":"IN!B1858","v":0},{"$f":"Blad3!E1858","v":""},{"$f":"Blad3!G1858","v":0},"Oanmäld frånvaro"]
["FRÅNVARO",{"$f":"IN!B1859","v":0},{"$f":"Blad3!E1859","v":""},{"$f":"Blad3!G1859","v":0},"Oanmäld frånvaro"]
["FRÅNVARO",{"$f":"IN!B1860","v":0},{"$f":"Blad3!E1860","v":""},{"$f":"Blad3!G1860","v":0},"Oanmäld frånvaro"]
["FRÅNVARO",{"$f":"IN!B1861","v":0},{"$f":"Blad3!E1861","v":""},{"$f":"Blad3!G1861","v":0},"Oanmäld frånvaro"]
["FRÅNVARO",{"$f":"IN!B1862","v":0},{"$f":"Blad3!E1862","v":""},{"$f":"Blad3!G1862","v":0},"Oanmäld frånvaro"]
["FRÅNVARO",{"$f":"IN!B1863","v":0},{"$f":"Blad3!E1863","v":""},{"$f":"Blad3!G1863","v":0},"Oanmäld frånvaro"]
["FRÅNVARO",{"$f":"IN!B1864","v":0},{"$f":"Blad3!E1864","v":""},{"$f":"Blad3!G1864","v":0},"Oanmäld frånvaro"]
["FRÅNVARO",{"$f":"IN!B1865","v":0},{"$f":"Blad3!E1865","v":""},{"$f":"Blad3!G1865","v":0},"Oanmäld frånvaro"]
["FRÅNVARO",{"$f":"IN!B1866","v":0},{"$f":"Blad3!E1866","v":""},{"$f":"Blad3!G1866","v":0},"Oanmäld frånvaro"]
["FRÅNVARO",{"$f":"IN!B1867","v":0},{"$f":"Blad3!E1867","v":""},{"$f":"Blad3!G1867","v":0},"Oanmäld frånvaro"]
["FRÅNVARO",{"$f":"IN!B1868","v":0},{"$f":"Blad3!E1868","v":""},{"$f":"Blad3!G1868","v":0},"Oanmäld frånvaro"]
["FRÅNVARO",{"$f":"IN!B1869","v":0},{"$f":"Blad3!E1869","v":""},{"$f":"Blad3!G1869","v":0},"Oanmäld frånvaro"]
["FRÅNVARO",{"$f":"IN!B1870","v":0},{"$f":"Blad3!E1870","v":""},{"$f":"Blad3!G1870","v":0},"Oanmäld frånvaro"]
["FRÅNVARO",{"$f":"IN!B1871","v":0},{"$f":"Blad3!E1871","v":""},{"$f":"Blad3!G1871","v":0},"Oanmäld frånvaro"]
["FRÅNVARO",{"$f":"IN!B1872","v":0},{"$f":"Blad3!E1872","v":""},{"$f":"Blad3!G1872","v":0},"Oanmäld frånvaro"]
["FRÅNVARO",{"$f":"IN!B1873","v":0},{"$f":"Blad3!E1873","v":""},{"$f":"Blad3!G1873","v":0},"Oanmäld frånvaro"]
["FRÅNVARO",{"$f":"IN!B1874","v":0},{"$f":"Blad3!E1874","v":""},{"$f":"Blad3!G1874","v":0},"Oanmäld frånvaro"]
["FRÅNVARO",{"$f":"IN!B1875","v":0},{"$f":"Blad3!E1875","v":""},{"$f":"Blad3!G1875","v":0},"Oanmäld frånvaro"]
["FRÅNVARO",{"$f":"IN!B1876","v":0},{"$f":"Blad3!E1876","v":""},{"$f":"Blad3!G1876","v":0},"Oanmäld frånvaro"]
["FRÅNVARO",{"$f":"IN!B1877","v":0},{"$f":"Blad3!E1877","v":""},{"$f":"Blad3!G1877","v":0},"Oanmäld frånvaro"]
["FRÅNVARO",{"$f":"IN!B1878","v":0},{"$f":"Blad3!E1878","v":""},{"$f":"Blad3!G1878","v":0},"Oanmäld frånvaro"]
["FRÅNVARO",{"$f":"IN!B1879","v":0},{"$f":"Blad3!E1879","v":""},{"$f":"Blad3!G1879","v":0},"Oanmäld frånvaro"]
["FRÅNVARO",{"$f":"IN!B1880","v":0},{"$f":"Blad3!E1880","v":""},{"$f":"Blad3!G1880","v":0},"Oanmäld frånvaro"]
["FRÅNVARO",{"$f":"IN!B1881","v":0},{"$f":"Blad3!E1881","v":""},{"$f":"Blad3!G1881","v":0},"Oanmäld frånvaro"]
["FRÅNVARO",{"$f":"IN!B1882","v":0},{"$f":"Blad3!E1882","v":""},{"$f":"Blad3!G1882","v":0},"Oanmäld frånvaro"]
["FRÅNVARO",{"$f":"IN!B1883","v":0},{"$f":"Blad3!E1883","v":""},{"$f":"Blad3!G1883","v":0},"Oanmäld frånvaro"]
["FRÅNVARO",{"$f":"IN!B1884","v":0},{"$f":"Blad3!E1884","v":""},{"$f":"Blad3!G1884","v":0},"Oanmäld frånvaro"]
["FRÅNVARO",{"$f":"IN!B1885","v":0},{"$f":"Blad3!E1885","v":""},{"$f":"Blad3!G1885","v":0},"Oanmäld frånvaro"]
["FRÅNVARO",{"$f":"IN!B1886","v":0},{"$f":"Blad3!E1886","v":""},{"$f":"Blad3!G1886","v":0},"Oanmäld frånvaro"]
["FRÅNVARO",{"$f":"IN!B1887","v":0},{"$f":"Blad3!E1887","v":""},{"$f":"Blad3!G1887","v":0},"Oanmäld frånvaro"]
["FRÅNVARO",{"$f":"IN!B1888","v":0},{"$f":"Blad3!E1888","v":""},{"$f":"Blad3!G1888","v":0},"Oanmäld frånvaro"]
["FRÅNVARO",{"$f":"IN!B1889","v":0},{"$f":"Blad3!E1889","v":""},{"$f":"Blad3!G1889","v":0},"Oanmäld frånvaro"]
["FRÅNVARO",{"$f":"IN!B1890","v":0},{"$f":"Blad3!E1890","v":""},{"$f":"Blad3!G1890","v":0},"Oanmäld frånvaro"]
["FRÅNVARO",{"$f":"IN!B1891","v":0},{"$f":"Blad3!E1891","v":""},{"$f":"Blad3!G1891","v":0},"Oanmäld frånvaro"]
["FRÅNVARO",{"$f":"IN!B1892","v":0},{"$f":"Blad3!E1892","v":""},{"$f":"Blad3!G1892","v":0},"Oanmäld frånvaro"]
["FRÅNVARO",{"$f":"IN!B1893","v":0},{"$f":"Blad3!E1893","v":""},{"$f":"Blad3!G1893","v":0},"Oanmäld frånvaro"]
["FRÅNVARO",{"$f":"IN!B1894","v":0},{"$f":"Blad3!E1894","v":""},{"$f":"Blad3!G1894","v":0},"Oanmäld frånvaro"]
["FRÅNVARO",{"$f":"IN!B1895","v":0},{"$f":"Blad3!E1895","v":""},{"$f":"Blad3!G1895","v":0},"Oanmäld frånvaro"]
["FRÅNVARO",{"$f":"IN!B1896","v":0},{"$f":"Blad3!E1896","v":""},{"$f":"Blad3!G1896","v":0},"Oanmäld frånvaro"]
["FRÅNVARO",{"$f":"IN!B1897","v":0},{"$f":"Blad3!E1897","v":""},{"$f":"Blad3!G1897","v":0},"Oanmäld frånvaro"]
["FRÅNVARO",{"$f":"IN!B1898","v":0},{"$f":"Blad3!E1898","v":""},{"$f":"Blad3!G1898","v":0},"Oanmäld frånvaro"]
["FRÅNVARO",{"$f":"IN!B1899","v":0},{"$f":"Blad3!E1899","v":""},{"$f":"Blad3!G1899","v":0},"Oanmäld frånvaro"]
["FRÅNVARO",{"$f":"IN!B1900","v":0},{"$f":"Blad3!E1900","v":""},{"$f":"Blad3!G1900","v":0},"Oanmäld frånvaro"]
["FRÅNVARO",{"$f":"IN!B1901","v":0},{"$f":"Blad3!E1901","v":""},{"$f":"Blad3!G1901","v":0},"Oanmäld frånvaro"]
["FRÅNVARO",{"$f":"IN!B1902","v":0},{"$f":"Blad3!E1902","v":""},{"$f":"Blad3!G1902","v":0},"Oanmäld frånvaro"]
["FRÅNVARO",{"$f":"IN!B1903","v":0},{"$f":"Blad3!E1903","v":""},{"$f":"Blad3!G1903","v":0},"Oanmäld frånvaro"]
["FRÅNVARO",{"$f":"IN!B1904","v":0},{"$f":"Blad3!E1904","v":""},{"$f":"Blad3!G1904","v":0},"Oanmäld frånvaro"]
["FRÅNVARO",{"$f":"IN!B1905","v":0},{"$f":"Blad3!E1905","v":""},{"$f":"Blad3!G1905","v":0},"Oanmäld frånvaro"]
["FRÅNVARO",{"$f":"IN!B1906","v":0},{"$f":"Blad3!E1906","v":""},{"$f":"Blad3!G1906","v":0},"Oanmäld frånvaro"]
["FRÅNVARO",{"$f":"IN!B1907","v":0},{"$f":"Blad3!E1907","v":""},{"$f":"Blad3!G1907","v":0},"Oanmäld frånvaro"]
["FRÅNVARO",{"$f":"IN!B1908","v":0},{"$f":"Blad3!E1908","v":""},{"$f":"Blad3!G1908","v":0},"Oanmäld frånvaro"]
["FRÅNVARO",{"$f":"IN!B1909","v":0},{"$f":"Blad3!E1909","v":""},{"$f":"Blad3!G1909","v":0},"Oanmäld frånvaro"]
["FRÅNVARO",{"$f":"IN!B1910","v":0},{"$f":"Blad3!E1910","v":""},{"$f":"Blad3!G1910","v":0},"Oanmäld frånvaro"]
["FRÅNVARO",{"$f":"IN!B1911","v":0},{"$f":"Blad3!E1911","v":""},{"$f":"Blad3!G1911","v":0},"Oanmäld frånvaro"]
["FRÅNVARO",{"$f":"IN!B1912","v":0},{"$f":"Blad3!E1912","v":""},{"$f":"Blad3!G1912","v":0},"Oanmäld frånvaro"]
["FRÅNVARO",{"$f":"IN!B1913","v":0},{"$f":"Blad3!E1913","v":""},{"$f":"Blad3!G1913","v":0},"Oanmäld frånvaro"]
["FRÅNVARO",{"$f":"IN!B1914","v":0},{"$f":"Blad3!E1914","v":""},{"$f":"Blad3!G1914","v":0},"Oanmäld frånvaro"]
["FRÅNVARO",{"$f":"IN!B1915","v":0},{"$f":"Blad3!E1915","v":""},{"$f":"Blad3!G1915","v":0},"Oanmäld frånvaro"]
["FRÅNVARO",{"$f":"IN!B1916","v":0},{"$f":"Blad3!E1916","v":""},{"$f":"Blad3!G1916","v":0},"Oanmäld frånvaro"]
["FRÅNVARO",{"$f":"IN!B1917","v":0},{"$f":"Blad3!E1917","v":""},{"$f":"Blad3!G1917","v":0},"Oanmäld frånvaro"]
["FRÅNVARO",{"$f":"IN!B1918","v":0},{"$f":"Blad3!E1918","v":""},{"$f":"Blad3!G1918","v":0},"Oanmäld frånvaro"]
["FRÅNVARO",{"$f":"IN!B1919","v":0},{"$f":"Blad3!E1919","v":""},{"$f":"Blad3!G1919","v":0},"Oanmäld frånvaro"]
["FRÅNVARO",{"$f":"IN!B1920","v":0},{"$f":"Blad3!E1920","v":""},{"$f":"Blad3!G1920","v":0},"Oanmäld frånvaro"]
["FRÅNVARO",{"$f":"IN!B1921","v":0},{"$f":"Blad3!E1921","v":""},{"$f":"Blad3!G1921","v":0},"Oanmäld frånvaro"]
["FRÅNVARO",{"$f":"IN!B1922","v":0},{"$f":"Blad3!E1922","v":""},{"$f":"Blad3!G1922","v":0},"Oanmäld frånvaro"]
["FRÅNVARO",{"$f":"IN!B1923","v":0},{"$f":"Blad3!E1923","v":""},{"$f":"Blad3!G1923","v":0},"Oanmäld frånvaro"]
["FRÅNVARO",{"$f":"IN!B1924","v":0},{"$f":"Blad3!E1924","v":""},{"$f":"Blad3!G1924","v":0},"Oanmäld frånvaro"]
["FRÅNVARO",{"$f":"IN!B1925","v":0},{"$f":"Blad3!E1925","v":""},{"$f":"Blad3!G1925","v":0},"Oanmäld frånvaro"]
["FRÅNVARO",{"$f":"IN!B1926","v":0},{"$f":"Blad3!E1926","v":""},{"$f":"Blad3!G1926","v":0},"Oanmäld frånvaro"]
["FRÅNVARO",{"$f":"IN!B1927","v":0},{"$f":"Blad3!E1927","v":""},{"$f":"Blad3!G1927","v":0},"Oanmäld frånvaro"]
["FRÅNVARO",{"$f":"IN!B1928","v":0},{"$f":"Blad3!E1928","v":""},{"$f":"Blad3!G1928","v":0},"Oanmäld frånvaro"]
["FRÅNVARO",{"$f":"IN!B1929","v":0},{"$f":"Blad3!E1929","v":""},{"$f":"Blad3!G1929","v":0},"Oanmäld frånvaro"]
["FRÅNVARO",{"$f":"IN!B1930","v":0},{"$f":"Blad3!E1930","v":""},{"$f":"Blad3!G1930","v":0},"Oanmäld frånvaro"]
["FRÅNVARO",{"$f":"IN!B1931","v":0},{"$f":"Blad3!E1931","v":""},{"$f":"Blad3!G1931","v":0},"Oanmäld frånvaro"]
["FRÅNVARO",{"$f":"IN!B1932","v":0},{"$f":"Blad3!E1932","v":""},{"$f":"Blad3!G1932","v":0},"Oanmäld frånvaro"]
["FRÅNVARO",{"$f":"IN!B1933","v":0},{"$f":"Blad3!E1933","v":""},{"$f":"Blad3!G1933","v":0},"Oanmäld frånvaro"]
["FRÅNVARO",{"$f":"IN!B1934","v":0},{"$f":"Blad3!E1934","v":""},{"$f":"Blad3!G1934","v":0},"Oanmäld frånvaro"]
["FRÅNVARO",{"$f":"IN!B1935","v":0},{"$f":"Blad3!E1935","v":""},{"$f":"Blad3!G1935","v":0},"Oanmäld frånvaro"]
["FRÅNVARO",{"$f":"IN!B1936","v":0},{"$f":"Blad3!E1936","v":""},{"$f":"Blad3!G1936","v":0},"Oanmäld frånvaro"]
["FRÅNVARO",{"$f":"IN!B1937","v":0},{"$f":"Blad3!E1937","v":""},{"$f":"Blad3!G1937","v":0},"Oanmäld frånvaro"]
["FRÅNVARO",{"$f":"IN!B1938","v":0},{"$f":"Blad3!E1938","v":""},{"$f":"Blad3!G1938","v":0},"Oanmäld frånvaro"]
["FRÅNVARO",{"$f":"IN!B1939","v":0},{"$f":"Blad3!E1939","v":""},{"$f":"Blad3!G1939","v":0},"Oanmäld frånvaro"]
["FRÅNVARO",{"$f":"IN!B1940","v":0},{"$f":"Blad3!E1940","v":""},{"$f":"Blad3!G1940","v":0},"Oanmäld frånvaro"]
["FRÅNVARO",{"$f":"IN!B1941","v":0},{"$f":"Blad3!E1941","v":""},{"$f":"Blad3!G1941","v":0},"Oanmäld frånvaro"]
["FRÅNVARO",{"$f":"IN!B1942","v":0},{"$f":"Blad3!E1942","v":""},{"$f":"Blad3!G1942","v":0},"Oanmäld frånvaro"]
["FRÅNVARO",{"$f":"IN!B1943","v":0},{"$f":"Blad3!E1943","v":""},{"$f":"Blad3!G1943","v":0},"Oanmäld frånvaro"]
["FRÅNVARO",{"$f":"IN!B1944","v":0},{"$f":"Blad3!E1944","v":""},{"$f":"Blad3!G1944","v":0},"Oanmäld frånvaro"]
["FRÅNVARO",{"$f":"IN!B1945","v":0},{"$f":"Blad3!E1945","v":""},{"$f":"Blad3!G1945","v":0},"Oanmäld frånvaro"]
["FRÅNVARO",{"$f":"IN!B1946","v":0},{"$f":"Blad3!E1946","v":""},{"$f":"Blad3!G1946","v":0},"Oanmäld frånvaro"]
["FRÅNVARO",{"$f":"IN!B1947","v":0},{"$f":"Blad3!E1947","v":""},{"$f":"Blad3!G1947","v":0},"Oanmäld frånvaro"]
["FRÅNVARO",{"$f":"IN!B1948","v":0},{"$f":"Blad3!E1948","v":""},{"$f":"Blad3!G1948","v":0},"Oanmäld frånvaro"]
["FRÅNVARO",{"$f":"IN!B1949","v":0},{"$f":"Blad3!E1949","v":""},{"$f":"Blad3!G1949","v":0},"Oanmäld frånvaro"]
["FRÅNVARO",{"$f":"IN!B1950","v":0},{"$f":"Blad3!E1950","v":""},{"$f":"Blad3!G1950","v":0},"Oanmäld frånvaro"]
["FRÅNVARO",{"$f":"IN!B1951","v":0},{"$f":"Blad3!E1951","v":""},{"$f":"Blad3!G1951","v":0},"Oanmäld frånvaro"]
["FRÅNVARO",{"$f":"IN!B1952","v":0},{"$f":"Blad3!E1952","v":""},{"$f":"Blad3!G1952","v":0},"Oanmäld frånvaro"]
["FRÅNVARO",{"$f":"IN!B1953","v":0},{"$f":"Blad3!E1953","v":""},{"$f":"Blad3!G1953","v":0},"Oanmäld frånvaro"]
["FRÅNVARO",{"$f":"IN!B1954","v":0},{"$f":"Blad3!E1954","v":""},{"$f":"Blad3!G1954","v":0},"Oanmäld frånvaro"]
["FRÅNVARO",{"$f":"IN!B1955","v":0},{"$f":"Blad3!E1955","v":""},{"$f":"Blad3!G1955","v":0},"Oanmäld frånvaro"]
["FRÅNVARO",{"$f":"IN!B1956","v":0},{"$f":"Blad3!E1956","v":""},{"$f":"Blad3!G1956","v":0},"Oanmäld frånvaro"]
["FRÅNVARO",{"$f":"IN!B1957","v":0},{"$f":"Blad3!E1957","v":""},{"$f":"Blad3!G1957","v":0},"Oanmäld frånvaro"]
["FRÅNVARO",{"$f":"IN!B1958","v":0},{"$f":"Blad3!E1958","v":""},{"$f":"Blad3!G1958","v":0},"Oanmäld frånvaro"]
["FRÅNVARO",{"$f":"IN!B1959","v":0},{"$f":"Blad3!E1959","v":""},{"$f":"Blad3!G1959","v":0},"Oanmäld frånvaro"]
["FRÅNVARO",{"$f":"IN!B1960","v":0},{"$f":"Blad3!E1960","v":""},{"$f":"Blad3!G1960","v":0},"Oanmäld frånvaro"]
["FRÅNVARO",{"$f":"IN!B1961","v":0},{"$f":"Blad3!E1961","v":""},{"$f":"Blad3!G1961","v":0},"Oanmäld frånvaro"]
["FRÅNVARO",{"$f":"IN!B1962","v":0},{"$f":"Blad3!E1962","v":""},{"$f":"Blad3!G1962","v":0},"Oanmäld frånvaro"]
["FRÅNVARO",{"$f":"IN!B1963","v":0},{"$f":"Blad3!E1963","v":""},{"$f":"Blad3!G1963","v":0},"Oanmäld frånvaro"]
["FRÅNVARO",{"$f":"IN!B1964","v":0},{"$f":"Blad3!E1964","v":""},{"$f":"Blad3!G1964","v":0},"Oanmäld frånvaro"]
["FRÅNVARO",{"$f":"IN!B1965","v":0},{"$f":"Blad3!E1965","v":""},{"$f":"Blad3!G1965","v":0},"Oanmäld frånvaro"]
["FRÅNVARO",{"$f":"IN!B1966","v":0},{"$f":"Blad3!E1966","v":""},{"$f":"Blad3!G1966","v":0},"Oanmäld frånvaro"]
["FRÅNVARO",{"$f":"IN!B1967","v":0},{"$f":"Blad3!E1967","v":""},{"$f":"Blad3!G1967","v":0},"Oanmäld frånvaro"]
["FRÅNVARO",{"$f":"IN!B1968","v":0},{"$f":"Blad3!E1968","v":""},{"$f":"Blad3!G1968","v":0},"Oanmäld frånvaro"]
["FRÅNVARO",{"$f":"IN!B1969","v":0},{"$f":"Blad3!E1969","v":""},{"$f":"Blad3!G1969","v":0},"Oanmäld frånvaro"]
["FRÅNVARO",{"$f":"IN!B1970","v":0},{"$f":"Blad3!E1970","v":""},{"$f":"Blad3!G1970","v":0},"Oanmäld frånvaro"]
["FRÅNVARO",{"$f":"IN!B1971","v":0},{"$f":"Blad3!E1971","v":""},{"$f":"Blad3!G1971","v":0},"Oanmäld frånvaro"]
["FRÅNVARO",{"$f":"IN!B1972","v":0},{"$f":"Blad3!E1972","v":""},{"$f":"Blad3!G1972","v":0},"Oanmäld frånvaro"]
["FRÅNVARO",{"$f":"IN!B1973","v":0},{"$f":"Blad3!E1973","v":""},{"$f":"Blad3!G1973","v":0},"Oanmäld frånvaro"]
["FRÅNVARO",{"$f":"IN!B1974","v":0},{"$f":"Blad3!E1974","v":""},{"$f":"Blad3!G1974","v":0},"Oanmäld frånvaro"]
["FRÅNVARO",{"$f":"IN!B1975","v":0},{"$f":"Blad3!E1975","v":""},{"$f":"Blad3!G1975","v":0},"Oanmäld frånvaro"]
["FRÅNVARO",{"$f":"IN!B1976","v":0},{"$f":"Blad3!E1976","v":""},{"$f":"Blad3!G1976","v":0},"Oanmäld frånvaro"]
["FRÅNVARO",{"$f":"IN!B1977","v":0},{"$f":"Blad3!E1977","v":""},{"$f":"Blad3!G1977","v":0},"Oanmäld frånvaro"]
["FRÅNVARO",{"$f":"IN!B1978","v":0},{"$f":"Blad3!E1978","v":""},{"$f":"Blad3!G1978","v":0},"Oanmäld frånvaro"]
["FRÅNVARO",{"$f":"IN!B1979","v":0},{"$f":"Blad3!E1979","v":""},{"$f":"Blad3!G1979","v":0},"Oanmäld frånvaro"]
["FRÅNVARO",{"$f":"IN!B1980","v":0},{"$f":"Blad3!E1980","v":""},{"$f":"Blad3!G1980","v":0},"Oanmäld frånvaro"]
["FRÅNVARO",{"$f":"IN!B1981","v":0},{"$f":"Blad3!E1981","v":""},{"$f":"Blad3!G1981","v":0},"Oanmäld frånvaro"]
["FRÅNVARO",{"$f":"IN!B1982","v":0},{"$f":"Blad3!E1982","v":""},{"$f":"Blad3!G1982","v":0},"Oanmäld frånvaro"]
["FRÅNVARO",{"$f":"IN!B1983","v":0},{"$f":"Blad3!E1983","v":""},{"$f":"Blad3!G1983","v":0},"Oanmäld frånvaro"]
["FRÅNVARO",{"$f":"IN!B1984","v":0},{"$f":"Blad3!E1984","v":""},{"$f":"Blad3!G1984","v":0},"Oanmäld frånvaro"]
["FRÅNVARO",{"$f":"IN!B1985","v":0},{"$f":"Blad3!E1985","v":""},{"$f":"Blad3!G1985","v":0},"Oanmäld frånvaro"]
["FRÅNVARO",{"$f":"IN!B1986","v":0},{"$f":"Blad3!E1986","v":""},{"$f":"Blad3!G1986","v":0},"Oanmäld frånvaro"]
["FRÅNVARO",{"$f":"IN!B1987","v":0},{"$f":"Blad3!E1987","v":""},{"$f":"Blad3!G1987","v":0},"Oanmäld frånvaro"]
["FRÅNVARO",{"$f":"IN!B1988","v":0},{"$f":"Blad3!E1988","v":""},{"$f":"Blad3!G1988","v":0},"Oanmäld frånvaro"]
["FRÅNVARO",{"$f":"IN!B1989","v":0},{"$f":"Blad3!E1989","v":""},{"$f":"Blad3!G1989","v":0},"Oanmäld frånvaro"]
["FRÅNVARO",{"$f":"IN!B1990","v":0},{"$f":"Blad3!E1990","v":""},{"$f":"Blad3!G1990","v":0},"Oanmäld frånvaro"]
["FRÅNVARO",{"$f":"IN!B1991","v":0},{"$f":"Blad3!E1991","v":""},{"$f":"Blad3!G1991","v":0},"Oanmäld frånvaro"]
["FRÅNVARO",{"$f":"IN!B1992","v":0},{"$f":"Blad3!E1992","v":""},{"$f":"Blad3!G1992","v":0},"Oanmäld frånvaro"]
["FRÅNVARO",{"$f":"IN!B1993","v":0},{"$f":"Blad3!E1993","v":""},{"$f":"Blad3!G1993","v":0},"Oanmäld frånvaro"]
["FRÅNVARO",{"$f":"IN!B1994","v":0},{"$f":"Blad3!E1994","v":""},{"$f":"Blad3!G1994","v":0},"Oanmäld frånvaro"]
["FRÅNVARO",{"$f":"IN!B1995","v":0},{"$f":"Blad3!E1995","v":""},{"$f":"Blad3!G1995","v":0},"Oanmäld frånvaro"]
["FRÅNVARO",{"$f":"IN!B1996","v":0},{"$f":"Blad3!E1996","v":""},{"$f":"Blad3!G1996","v":0},"Oanmäld frånvaro"]
["FRÅNVARO",{"$f":"IN!B1997","v":0},{"$f":"Blad3!E1997","v":""},{"$f":"Blad3!G1997","v":0},"Oanmäld frånvaro"]
["FRÅNVARO",{"$f":"IN!B1998","v":0},{"$f":"Blad3!E1998","v":""},{"$f":"Blad3!G1998","v":0},"Oanmäld frånvaro"]
["FRÅNVARO",{"$f":"IN!B1999","v":0},{"$f":"Blad3!E1999","v":""},{"$f":"Blad3!G1999","v":0},"Oanmäld frånvaro"]
["FRÅNVARO",{"$f":"IN!B2000","v":0},{"$f":"Blad3!E2000","v":""},{"$f":"Blad3!G2000","v":0},"Oanmäld frånvaro"]
["FRÅNVARO",{"$f":"IN!B2001","v":0},{"$f":"Blad3!E2001","v":""},{"$f":"Blad3!G2001","v":0},"Oanmäld frånvaro"]
["FRÅNVARO",{"$f":"IN!B2002","v":0},{"$f":"Blad3!E2002","v":""},{"$f":"Blad3!G2002","v":0},"Oanmäld frånvaro"]
["FRÅNVARO",{"$f":"IN!B2003","v":0},{"$f":"Blad3!E2003","v":""},{"$f":"Blad3!G2003","v":0},"Oanmäld frånvaro"]
["FRÅNVARO",{"$f":"IN!B2004","v":0},{"$f":"Blad3!E2004","v":""},{"$f":"Blad3!G2004","v":0},"Oanmäld frånvaro"]
["FRÅNVARO",{"$f":"IN!B2005","v":0},{"$f":"Blad3!E2005","v":""},{"$f":"Blad3!G2005","v":0},"Oanmäld frånvaro"]
["FRÅNVARO",{"$f":"IN!B2006","v":0},{"$f":"Blad3!E2006","v":""},{"$f":"Blad3!G2006","v":0},"Oanmäld frånvaro"]
["FRÅNVARO",{"$f":"IN!B2007","v":0},{"$f":"Blad3!E2007","v":""},{"$f":"Blad3!G2007","v":0},"Oanmäld frånvaro"]
["FRÅNVARO",{"$f":"IN!B2008","v":0},{"$f":"Blad3!E2008","v":""},{"$f":"Blad3!G2008","v":0},"Oanmäld frånvaro"]
["FRÅNVARO",{"$f":"IN!B2009","v":0},{"$f":"Blad3!E2009","v":""},{"$f":"Blad3!G2009","v":0},"Oanmäld frånvaro"]
["FRÅNVARO",{"$f":"IN!B2010","v":0},{"$f":"Blad3!E2010","v":""},{"$f":"Blad3!G2010","v":0},"Oanmäld frånvaro"]
["FRÅNVARO",{"$f":"IN!B2011","v":0},{"$f":"Blad3!E2011","v":""},{"$f":"Blad3!G2011","v":0},"Oanmäld frånvaro"]
["FRÅNVARO",{"$f":"IN!B2012","v":0},{"$f":"Blad3!E2012","v":""},{"$f":"Blad3!G2012","v":0},"Oanmäld frånvaro"]
["FRÅNVARO",{"$f":"IN!B2013","v":0},{"$f":"Blad3!E2013","v":""},{"$f":"Blad3!G2013","v":0},"Oanmäld frånvaro"]
["FRÅNVARO",{"$f":"IN!B2014","v":0},{"$f":"Blad3!E2014","v":""},{"$f":"Blad3!G2014","v":0},"Oanmäld frånvaro"]
["FRÅNVARO",{"$f":"IN!B2015","v":0},{"$f":"Blad3!E2015","v":""},{"$f":"Blad3!G2015","v":0},"Oanmäld frånvaro"]
["FRÅNVARO",{"$f":"IN!B2016","v":0},{"$f":"Blad3!E2016","v":""},{"$f":"Blad3!G2016","v":0},"Oanmäld frånvaro"]
["FRÅNVARO",{"$f":"IN!B2017","v":0},{"$f":"Blad3!E2017","v":""},{"$f":"Blad3!G2017","v":0},"Oanmäld frånvaro"]
["FRÅNVARO",{"$f":"IN!B2018","v":0},{"$f":"Blad3!E2018","v":""},{"$f":"Blad3!G2018","v":0},"Oanmäld frånvaro"]
["FRÅNVARO",{"$f":"IN!B2019","v":0},{"$f":"Blad3!E2019","v":""},{"$f":"Blad3!G2019","v":0},"Oanmäld frånvaro"]
["FRÅNVARO",{"$f":"IN!B2020","v":0},{"$f":"Blad3!E2020","v":""},{"$f":"Blad3!G2020","v":0},"Oanmäld frånvaro"]
["FRÅNVARO",{"$f":"IN!B2021","v":0},{"$f":"Blad3!E2021","v":""},{"$f":"Blad3!G2021","v":0},"Oanmäld frånvaro"]
["FRÅNVARO",{"$f":"IN!B2022","v":0},{"$f":"Blad3!E2022","v":""},{"$f":"Blad3!G2022","v":0},"Oanmäld frånvaro"]
["FRÅNVARO",{"$f":"IN!B2023","v":0},{"$f":"Blad3!E2023","v":""},{"$f":"Blad3!G2023","v":0},"Oanmäld frånvaro"]
["FRÅNVARO",{"$f":"IN!B2024","v":0},{"$f":"Blad3!E2024","v":""},{"$f":"Blad3!G2024","v":0},"Oanmäld frånvaro"]
["FRÅNVARO",{"$f":"IN!B2025","v":0},{"$f":"Blad3!E2025","v":""},{"$f":"Blad3!G2025","v":0},"Oanmäld frånvaro"]
["FRÅNVARO",{"$f":"IN!B2026","v":0},{"$f":"Blad3!E2026","v":""},{"$f":"Blad3!G2026","v":0},"Oanmäld frånvaro"]
["FRÅNVARO",{"$f":"IN!B2027","v":0},{"$f":"Blad3!E2027","v":""},{"$f":"Blad3!G2027","v":0},"Oanmäld frånvaro"]
["FRÅNVARO",{"$f":"IN!B2028","v":0},{"$f":"Blad3!E2028","v":""},{"$f":"Blad3!G2028","v":0},"Oanmäld frånvaro"]
["FRÅNVARO",{"$f":"IN!B2029","v":0},{"$f":"Blad3!E2029","v":""},{"$f":"Blad3!G2029","v":0},"Oanmäld frånvaro"]
["FRÅNVARO",{"$f":"IN!B2030","v":0},{"$f":"Blad3!E2030","v":""},{"$f":"Blad3!G2030","v":0},"Oanmäld frånvaro"]
["FRÅNVARO",{"$f":"IN!B2031","v":0},{"$f":"Blad3!E2031","v":""},{"$f":"Blad3!G2031","v":0},"Oanmäld frånvaro"]
["FRÅNVARO",{"$f":"IN!B2032","v":0},{"$f":"Blad3!E2032","v":""},{"$f":"Blad3!G2032","v":0},"Oanmäld frånvaro"]
["FRÅNVARO",{"$f":"IN!B2033","v":0},{"$f":"Blad3!E2033","v":""},{"$f":"Blad3!G2033","v":0},"Oanmäld frånvaro"]
["FRÅNVARO",{"$f":"IN!B2034","v":0},{"$f":"Blad3!E2034","v":""},{"$f":"Blad3!G2034","v":0},"Oanmäld frånvaro"]
["FRÅNVARO",{"$f":"IN!B2035","v":0},{"$f":"Blad3!E2035","v":""},{"$f":"Blad3!G2035","v":0},"Oanmäld frånvaro"]
["FRÅNVARO",{"$f":"IN!B2036","v":0},{"$f":"Blad3!E2036","v":""},{"$f":"Blad3!G2036","v":0},"Oanmäld frånvaro"]
["FRÅNVARO",{"$f":"IN!B2037","v":0},{"$f":"Blad3!E2037","v":""},{"$f":"Blad3!G2037","v":0},"Oanmäld frånvaro"]
["FRÅNVARO",{"$f":"IN!B2038","v":0},{"$f":"Blad3!E2038","v":""},{"$f":"Blad3!G2038","v":0},"Oanmäld frånvaro"]
["FRÅNVARO",{"$f":"IN!B2039","v":0},{"$f":"Blad3!E2039","v":""},{"$f":"Blad3!G2039","v":0},"Oanmäld frånvaro"]
["FRÅNVARO",{"$f":"IN!B2040","v":0},{"$f":"Blad3!E2040","v":""},{"$f":"Blad3!G2040","v":0},"Oanmäld frånvaro"]
["FRÅNVARO",{"$f":"IN!B2041","v":0},{"$f":"Blad3!E2041","v":""},{"$f":"Blad3!G2041","v":0},"Oanmäld frånvaro"]
["FRÅNVARO",{"$f":"IN!B2042","v":0},{"$f":"Blad3!E2042","v":""},{"$f":"Blad3!G2042","v":0},"Oanmäld frånvaro"]
["FRÅNVARO",{"$f":"IN!B2043","v":0},{"$f":"Blad3!E2043","v":""},{"$f":"Blad3!G2043","v":0},"Oanmäld frånvaro"]
["FRÅNVARO",{"$f":"IN!B2044","v":0},{"$f":"Blad3!E2044","v":""},{"$f":"Blad3!G2044","v":0},"Oanmäld frånvaro"]
["FRÅNVARO",{"$f":"IN!B2045","v":0},{"$f":"Blad3!E2045","v":""},{"$f":"Blad3!G2045","v":0},"Oanmäld frånvaro"]
["FRÅNVARO",{"$f":"IN!B2046","v":0},{"$f":"Blad3!E2046","v":""},{"$f":"Blad3!G2046","v":0},"Oanmäld frånvaro"]
["FRÅNVARO",{"$f":"IN!B2047","v":0},{"$f":"Blad3!E2047","v":""},{"$f":"Blad3!G2047","v":0},"Oanmäld frånvaro"]
["FRÅNVARO",{"$f":"IN!B2048","v":0},{"$f":"Blad3!E2048","v":""},{"$f":"Blad3!G2048","v":0},"Oanmäld frånvaro"]
["FRÅNVARO",{"$f":"IN!B2049","v":0},{"$f":"Blad3!E2049","v":""},{"$f":"Blad3!G2049","v":0},"Oanmäld frånvaro"]
["FRÅNVARO",{"$f":"IN!B2050","v":0},{"$f":"Blad3!E2050","v":""},{"$f":"Blad3!G2050","v":0},"Oanmäld frånvaro"]
["FRÅNVARO",{"$f":"IN!B2051","v":0},{"$f":"Blad3!E2051","v":""},{"$f":"Blad3!G2051","v":0},"Oanmäld frånvaro"]
["FRÅNVARO",{"$f":"IN!B2052","v":0},{"$f":"Blad3!E2052","v":""},{"$f":"Blad3!G2052","v":0},"Oanmäld frånvaro"]
["FRÅNVARO",{"$f":"IN!B2053","v":0},{"$f":"Blad3!E2053","v":""},{"$f":"Blad3!G2053","v":0},"Oanmäld frånvaro"]
["FRÅNVARO",{"$f":"IN!B2054","v":0},{"$f":"Blad3!E2054","v":""},{"$f":"Blad3!G2054","v":0},"Oanmäld frånvaro"]
["FRÅNVARO",{"$f":"IN!B2055","v":0},{"$f":"Blad3!E2055","v":""},{"$f":"Blad3!G2055","v":0},"Oanmäld frånvaro"]
["FRÅNVARO",{"$f":"IN!B2056","v":0},{"$f":"Blad3!E2056","v":""},{"$f":"Blad3!G2056","v":0},"Oanmäld frånvaro"]
["FRÅNVARO",{"$f":"IN!B2057","v":0},{"$f":"Blad3!E2057","v":""},{"$f":"Blad3!G2057","v":0},"Oanmäld frånvaro"]
["FRÅNVARO",{"$f":"IN!B2058","v":0},{"$f":"Blad3!E2058","v":""},{"$f":"Blad3!G2058","v":0},"Oanmäld frånvaro"]
["FRÅNVARO",{"$f":"IN!B2059","v":0},{"$f":"Blad3!E2059","v":""},{"$f":"Blad3!G2059","v":0},"Oanmäld frånvaro"]
["FRÅNVARO",{"$f":"IN!B2060","v":0},{"$f":"Blad3!E2060","v":""},{"$f":"Blad3!G2060","v":0},"Oanmäld frånvaro"]
["FRÅNVARO",{"$f":"IN!B2061","v":0},{"$f":"Blad3!E2061","v":""},{"$f":"Blad3!G2061","v":0},"Oanmäld frånvaro"]
["FRÅNVARO",{"$f":"IN!B2062","v":0},{"$f":"Blad3!E2062","v":""},{"$f":"Blad3!G2062","v":0},"Oanmäld frånvaro"]
["FRÅNVARO",{"$f":"IN!B2063","v":0},{"$f":"Blad3!E2063","v":""},{"$f":"Blad3!G2063","v":0},"Oanmäld frånvaro"]
["FRÅNVARO",{"$f":"IN!B2064","v":0},{"$f":"Blad3!E2064","v":""},{"$f":"Blad3!G2064","v":0},"Oanmäld frånvaro"]
["FRÅNVARO",{"$f":"IN!B2065","v":0},{"$f":"Blad3!E2065","v":""},{"$f":"Blad3!G2065","v":0},"Oanmäld frånvaro"]
["FRÅNVARO",{"$f":"IN!B2066","v":0},{"$f":"Blad3!E2066","v":""},{"$f":"Blad3!G2066","v":0},"Oanmäld frånvaro"]
["FRÅNVARO",{"$f":"IN!B2067","v":0},{"$f":"Blad3!E2067","v":""},{"$f":"Blad3!G2067","v":0},"Oanmäld frånvaro"]
["FRÅNVARO",{"$f":"IN!B2068","v":0},{"$f":"Blad3!E2068","v":""},{"$f":"Blad3!G2068","v":0},"Oanmäld frånvaro"]
["FRÅNVARO",{"$f":"IN!B2069","v":0},{"$f":"Blad3!E2069","v":""},{"$f":"Blad3!G2069","v":0},"Oanmäld frånvaro"]
["FRÅNVARO",{"$f":"IN!B2070","v":0},{"$f":"Blad3!E2070","v":""},{"$f":"Blad3!G2070","v":0},"Oanmäld frånvaro"]
["FRÅNVARO",{"$f":"IN!B2071","v":0},{"$f":"Blad3!E2071","v":""},{"$f":"Blad3!G2071","v":0},"Oanmäld frånvaro"]
["FRÅNVARO",{"$f":"IN!B2072","v":0},{"$f":"Blad3!E2072","v":""},{"$f":"Blad3!G2072","v":0},"Oanmäld frånvaro"]
["FRÅNVARO",{"$f":"IN!B2073","v":0},{"$f":"Blad3!E2073","v":""},{"$f":"Blad3!G2073","v":0},"Oanmäld frånvaro"]
["FRÅNVARO",{"$f":"IN!B2074","v":0},{"$f":"Blad3!E2074","v":""},{"$f":"Blad3!G2074","v":0},"Oanmäld frånvaro"]
["FRÅNVARO",{"$f":"IN!B2075","v":0},{"$f":"Blad3!E2075","v":""},{"$f":"Blad3!G2075","v":0},"Oanmäld frånvaro"]
["FRÅNVARO",{"$f":"IN!B2076","v":0},{"$f":"Blad3!E2076","v":""},{"$f":"Blad3!G2076","v":0},"Oanmäld frånvaro"]
["FRÅNVARO",{"$f":"IN!B2077","v":0},{"$f":"Blad3!E2077","v":""},{"$f":"Blad3!G2077","v":0},"Oanmäld frånvaro"]
["FRÅNVARO",{"$f":"IN!B2078","v":0},{"$f":"Blad3!E2078","v":""},{"$f":"Blad3!G2078","v":0},"Oanmäld frånvaro"]
["FRÅNVARO",{"$f":"IN!B2079","v":0},{"$f":"Blad3!E2079","v":""},{"$f":"Blad3!G2079","v":0},"Oanmäld frånvaro"]
["FRÅNVARO",{"$f":"IN!B2080","v":0},{"$f":"Blad3!E2080","v":""},{"$f":"Blad3!G2080","v":0},"Oanmäld frånvaro"]
["FRÅNVARO",{"$f":"IN!B2081","v":0},{"$f":"Blad3!E2081","v":""},{"$f":"Blad3!G2081","v":0},"Oanmäld frånvaro"]
["FRÅNVARO",{"$f":"IN!B2082","v":0},{"$f":"Blad3!E2082","v":""},{"$f":"Blad3!G2082","v":0},"Oanmäld frånvaro"]
["FRÅNVARO",{"$f":"IN!B2083","v":0},{"$f":"Blad3!E2083","v":""},{"$f":"Blad3!G2083","v":0},"Oanmäld frånvaro"]
["FRÅNVARO",{"$f":"IN!B2084","v":0},{"$f":"Blad3!E2084","v":""},{"$f":"Blad3!G2084","v":0},"Oanmäld frånvaro"]
["FRÅNVARO",{"$f":"IN!B2085","v":0},{"$f":"Blad3!E2085","v":""},{"$f":"Blad3!G2085","v":0},"Oanmäld frånvaro"]
["FRÅNVARO",{"$f":"IN!B2086","v":0},{"$f":"Blad3!E2086","v":""},{"$f":"Blad3!G2086","v":0},"Oanmäld frånvaro"]
["FRÅNVARO",{"$f":"IN!B2087","v":0},{"$f":"Blad3!E2087","v":""},{"$f":"Blad3!G2087","v":0},"Oanmäld frånvaro"]
["FRÅNVARO",{"$f":"IN!B2088","v":0},{"$f":"Blad3!E2088","v":""},{"$f":"Blad3!G2088","v":0},"Oanmäld frånvaro"]
["FRÅNVARO",{"$f":"IN!B2089","v":0},{"$f":"Blad3!E2089","v":""},{"$f":"Blad3!G2089","v":0},"Oanmäld frånvaro"]
["FRÅNVARO",{"$f":"IN!B2090","v":0},{"$f":"Blad3!E2090","v":""},{"$f":"Blad3!G2090","v":0},"Oanmäld frånvaro"]
["FRÅNVARO",{"$f":"IN!B2091","v":0},{"$f":"Blad3!E2091","v":""},{"$f":"Blad3!G2091","v":0},"Oanmäld frånvaro"]
["FRÅNVARO",{"$f":"IN!B2092","v":0},{"$f":"Blad3!E2092","v":""},{"$f":"Blad3!G2092","v":0},"Oanmäld frånvaro"]
["FRÅNVARO",{"$f":"IN!B2093","v":0},{"$f":"Blad3!E2093","v":""},{"$f":"Blad3!G2093","v":0},"Oanmäld frånvaro"]
["FRÅNVARO",{"$f":"IN!B2094","v":0},{"$f":"Blad3!E2094","v":""},{"$f":"Blad3!G2094","v":0},"Oanmäld frånvaro"]
["FRÅNVARO",{"$f":"IN!B2095","v":0},{"$f":"Blad3!E2095","v":""},{"$f":"Blad3!G2095","v":0},"Oanmäld frånvaro"]
["FRÅNVARO",{"$f":"IN!B2096","v":0},{"$f":"Blad3!E2096","v":""},{"$f":"Blad3!G2096","v":0},"Oanmäld frånvaro"]
["FRÅNVARO",{"$f":"IN!B2097","v":0},{"$f":"Blad3!E2097","v":""},{"$f":"Blad3!G2097","v":0},"Oanmäld frånvaro"]
["FRÅNVARO",{"$f":"IN!B2098","v":0},{"$f":"Blad3!E2098","v":""},{"$f":"Blad3!G2098","v":0},"Oanmäld frånvaro"]
["FRÅNVARO",{"$f":"IN!B2099","v":0},{"$f":"Blad3!E2099","v":""},{"$f":"Blad3!G2099","v":0},"Oanmäld frånvaro"]
["FRÅNVARO",{"$f":"IN!B2100","v":0},{"$f":"Blad3!E2100","v":""},{"$f":"Blad3!G2100","v":0},"Oanmäld frånvaro"]
["FRÅNVARO",{"$f":"IN!B2101","v":0},{"$f":"Blad3!E2101","v":""},{"$f":"Blad3!G2101","v":0},"Oanmäld frånvaro"]
["FRÅNVARO",{"$f":"IN!B2102","v":0},{"$f":"Blad3!E2102","v":""},{"$f":"Blad3!G2102","v":0},"Oanmäld frånvaro"]
["FRÅNVARO",{"$f":"IN!B2103","v":0},{"$f":"Blad3!E2103","v":""},{"$f":"Blad3!G2103","v":0},"Oanmäld frånvaro"]
["FRÅNVARO",{"$f":"IN!B2104","v":0},{"$f":"Blad3!E2104","v":""},{"$f":"Blad3!G2104","v":0},"Oanmäld frånvaro"]
["FRÅNVARO",{"$f":"IN!B2105","v":0},{"$f":"Blad3!E2105","v":""},{"$f":"Blad3!G2105","v":0},"Oanmäld frånvaro"]
["FRÅNVARO",{"$f":"IN!B2106","v":0},{"$f":"Blad3!E2106","v":""},{"$f":"Blad3!G2106","v":0},"Oanmäld frånvaro"]
["FRÅNVARO",{"$f":"IN!B2107","v":0},{"$f":"Blad3!E2107","v":""},{"$f":"Blad3!G2107","v":0},"Oanmäld frånvaro"]
["FRÅNVARO",{"$f":"IN!B2108","v":0},{"$f":"Blad3!E2108","v":""},{"$f":"Blad3!G2108","v":0},"Oanmäld frånvaro"]
["FRÅNVARO",{"$f":"IN!B2109","v":0},{"$f":"Blad3!E2109","v":""},{"$f":"Blad3!G2109","v":0},"Oanmäld frånvaro"]
["FRÅNVARO",{"$f":"IN!B2110","v":0},{"$f":"Blad3!E2110","v":""},{"$f":"Blad3!G2110","v":0},"Oanmäld frånvaro"]
["FRÅNVARO",{"$f":"IN!B2111","v":0},{"$f":"Blad3!E2111","v":""},{"$f":"Blad3!G2111","v":0},"Oanmäld frånvaro"]
["FRÅNVARO",{"$f":"IN!B2112","v":0},{"$f":"Blad3!E2112","v":""},{"$f":"Blad3!G2112","v":0},"Oanmäld frånvaro"]
["FRÅNVARO",{"$f":"IN!B2113","v":0},{"$f":"Blad3!E2113","v":""},{"$f":"Blad3!G2113","v":0},"Oanmäld frånvaro"]
["FRÅNVARO",{"$f":"IN!B2114","v":0},{"$f":"Blad3!E2114","v":""},{"$f":"Blad3!G2114","v":0},"Oanmäld frånvaro"]
["FRÅNVARO",{"$f":"IN!B2115","v":0},{"$f":"Blad3!E2115","v":""},{"$f":"Blad3!G2115","v":0},"Oanmäld frånvaro"]
["FRÅNVARO",{"$f":"IN!B2116","v":0},{"$f":"Blad3!E2116","v":""},{"$f":"Blad3!G2116","v":0},"Oanmäld frånvaro"]
["FRÅNVARO",{"$f":"IN!B2117","v":0},{"$f":"Blad3!E2117","v":""},{"$f":"Blad3!G2117","v":0},"Oanmäld frånvaro"]
["FRÅNVARO",{"$f":"IN!B2118","v":0},{"$f":"Blad3!E2118","v":""},{"$f":"Blad3!G2118","v":0},"Oanmäld frånvaro"]
["FRÅNVARO",{"$f":"IN!B2119","v":0},{"$f":"Blad3!E2119","v":""},{"$f":"Blad3!G2119","v":0},"Oanmäld frånvaro"]
["FRÅNVARO",{"$f":"IN!B2120","v":0},{"$f":"Blad3!E2120","v":""},{"$f":"Blad3!G2120","v":0},"Oanmäld frånvaro"]
["FRÅNVARO",{"$f":"IN!B2121","v":0},{"$f":"Blad3!E2121","v":""},{"$f":"Blad3!G2121","v":0},"Oanmäld frånvaro"]
["FRÅNVARO",{"$f":"IN!B2122","v":0},{"$f":"Blad3!E2122","v":""},{"$f":"Blad3!G2122","v":0},"Oanmäld frånvaro"]
["FRÅNVARO",{"$f":"IN!B2123","v":0},{"$f":"Blad3!E2123","v":""},{"$f":"Blad3!G2123","v":0},"Oanmäld frånvaro"]
["FRÅNVARO",{"$f":"IN!B2124","v":0},{"$f":"Blad3!E2124","v":""},{"$f":"Blad3!G2124","v":0},"Oanmäld frånvaro"]
["FRÅNVARO",{"$f":"IN!B2125","v":0},{"$f":"Blad3!E2125","v":""},{"$f":"Blad3!G2125","v":0},"Oanmäld frånvaro"]
["FRÅNVARO",{"$f":"IN!B2126","v":0},{"$f":"Blad3!E2126","v":""},{"$f":"Blad3!G2126","v":0},"Oanmäld frånvaro"]
["FRÅNVARO",{"$f":"IN!B2127","v":0},{"$f":"Blad3!E2127","v":""},{"$f":"Blad3!G2127","v":0},"Oanmäld frånvaro"]
["FRÅNVARO",{"$f":"IN!B2128","v":0},{"$f":"Blad3!E2128","v":""},{"$f":"Blad3!G2128","v":0},"Oanmäld frånvaro"]
["FRÅNVARO",{"$f":"IN!B2129","v":0},{"$f":"Blad3!E2129","v":""},{"$f":"Blad3!G2129","v":0},"Oanmäld frånvaro"]
["FRÅNVARO",{"$f":"IN!B2130","v":0},{"$f":"Blad3!E2130","v":""},{"$f":"Blad3!G2130","v":0},"Oanmäld frånvaro"]
["FRÅNVARO",{"$f":"IN!B2131","v":0},{"$f":"Blad3!E2131","v":""},{"$f":"Blad3!G2131","v":0},"Oanmäld frånvaro"]
["FRÅNVARO",{"$f":"IN!B2132","v":0},{"$f":"Blad3!E2132","v":""},{"$f":"Blad3!G2132","v":0},"Oanmäld frånvaro"]
["FRÅNVARO",{"$f":"IN!B2133","v":0},{"$f":"Blad3!E2133","v":""},{"$f":"Blad3!G2133","v":0},"Oanmäld frånvaro"]
["FRÅNVARO",{"$f":"IN!B2134","v":0},{"$f":"Blad3!E2134","v":""},{"$f":"Blad3!G2134","v":0},"Oanmäld frånvaro"]
["FRÅNVARO",{"$f":"IN!B2135","v":0},{"$f":"Blad3!E2135","v":""},{"$f":"Blad3!G2135","v":0},"Oanmäld frånvaro"]
["FRÅNVARO",{"$f":"IN!B2136","v":0},{"$f":"Blad3!E2136","v":""},{"$f":"Blad3!G2136","v":0},"Oanmäld frånvaro"]
["FRÅNVARO",{"$f":"IN!B2137","v":0},{"$f":"Blad3!E2137","v":""},{"$f":"Blad3!G2137","v":0},"Oanmäld frånvaro"]
["FRÅNVARO",{"$f":"IN!B2138","v":0},{"$f":"Blad3!E2138","v":""},{"$f":"Blad3!G2138","v":0},"Oanmäld frånvaro"]
["FRÅNVARO",{"$f":"IN!B2139","v":0},{"$f":"Blad3!E2139","v":""},{"$f":"Blad3!G2139","v":0},"Oanmäld frånvaro"]
["FRÅNVARO",{"$f":"IN!B2140","v":0},{"$f":"Blad3!E2140","v":""},{"$f":"Blad3!G2140","v":0},"Oanmäld frånvaro"]
["FRÅNVARO",{"$f":"IN!B2141","v":0},{"$f":"Blad3!E2141","v":""},{"$f":"Blad3!G2141","v":0},"Oanmäld frånvaro"]
["FRÅNVARO",{"$f":"IN!B2142","v":0},{"$f":"Blad3!E2142","v":""},{"$f":"Blad3!G2142","v":0},"Oanmäld frånvaro"]
["FRÅNVARO",{"$f":"IN!B2143","v":0},{"$f":"Blad3!E2143","v":""},{"$f":"Blad3!G2143","v":0},"Oanmäld frånvaro"]
["FRÅNVARO",{"$f":"IN!B2144","v":0},{"$f":"Blad3!E2144","v":""},{"$f":"Blad3!G2144","v":0},"Oanmäld frånvaro"]
["FRÅNVARO",{"$f":"IN!B2145","v":0},{"$f":"Blad3!E2145","v":""},{"$f":"Blad3!G2145","v":0},"Oanmäld frånvaro"]
["FRÅNVARO",{"$f":"IN!B2146","v":0},{"$f":"Blad3!E2146","v":""},{"$f":"Blad3!G2146","v":0},"Oanmäld frånvaro"]
["FRÅNVARO",{"$f":"IN!B2147","v":0},{"$f":"Blad3!E2147","v":""},{"$f":"Blad3!G2147","v":0},"Oanmäld frånvaro"]
["FRÅNVARO",{"$f":"IN!B2148","v":0},{"$f":"Blad3!E2148","v":""},{"$f":"Blad3!G2148","v":0},"Oanmäld frånvaro"]
["FRÅNVARO",{"$f":"IN!B2149","v":0},{"$f":"Blad3!E2149","v":""},{"$f":"Blad3!G2149","v":0},"Oanmäld frånvaro"]
["FRÅNVARO",{"$f":"IN!B2150","v":0},{"$f":"Blad3!E2150","v":""},{"$f":"Blad3!G2150","v":0},"Oanmäld frånvaro"]
["FRÅNVARO",{"$f":"IN!B2151","v":0},{"$f":"Blad3!E2151","v":""},{"$f":"Blad3!G2151","v":0},"Oanmäld frånvaro"]
["FRÅNVARO",{"$f":"IN!B2152","v":0},{"$f":"Blad3!E2152","v":""},{"$f":"Blad3!G2152","v":0},"Oanmäld frånvaro"]
["FRÅNVARO",{"$f":"IN!B2153","v":0},{"$f":"Blad3!E2153","v":""},{"$f":"Blad3!G2153","v":0},"Oanmäld frånvaro"]
["FRÅNVARO",{"$f":"IN!B2154","v":0},{"$f":"Blad3!E2154","v":""},{"$f":"Blad3!G2154","v":0},"Oanmäld frånvaro"]
["FRÅNVARO",{"$f":"IN!B2155","v":0},{"$f":"Blad3!E2155","v":""},{"$f":"Blad3!G2155","v":0},"Oanmäld frånvaro"]
["FRÅNVARO",{"$f":"IN!B2156","v":0},{"$f":"Blad3!E2156","v":""},{"$f":"Blad3!G2156","v":0},"Oanmäld frånvaro"]
["FRÅNVARO",{"$f":"IN!B2157","v":0},{"$f":"Blad3!E2157","v":""},{"$f":"Blad3!G2157","v":0},"Oanmäld frånvaro"]
["FRÅNVARO",{"$f":"IN!B2158","v":0},{"$f":"Blad3!E2158","v":""},{"$f":"Blad3!G2158","v":0},"Oanmäld frånvaro"]
["FRÅNVARO",{"$f":"IN!B2159","v":0},{"$f":"Blad3!E2159","v":""},{"$f":"Blad3!G2159","v":0},"Oanmäld frånvaro"]
["FRÅNVARO",{"$f":"IN!B2160","v":0},{"$f":"Blad3!E2160","v":""},{"$f":"Blad3!G2160","v":0},"Oanmäld frånvaro"]
["FRÅNVARO",{"$f":"IN!B2161","v":0},{"$f":"Blad3!E2161","v":""},{"$f":"Blad3!G2161","v":0},"Oanmäld frånvaro"]
["FRÅNVARO",{"$f":"IN!B2162","v":0},{"$f":"Blad3!E2162","v":""},{"$f":"Blad3!G2162","v":0},"Oanmäld frånvaro"]
["FRÅNVARO",{"$f":"IN!B2163","v":0},{"$f":"Blad3!E2163","v":""},{"$f":"Blad3!G2163","v":0},"Oanmäld frånvaro"]
["FRÅNVARO",{"$f":"IN!B2164","v":0},{"$f":"Blad3!E2164","v":""},{"$f":"Blad3!G2164","v":0},"Oanmäld frånvaro"]
["FRÅNVARO",{"$f":"IN!B2165","v":0},{"$f":"Blad3!E2165","v":""},{"$f":"Blad3!G2165","v":0},"Oanmäld frånvaro"]
["FRÅNVARO",{"$f":"IN!B2166","v":0},{"$f":"Blad3!E2166","v":""},{"$f":"Blad3!G2166","v":0},"Oanmäld frånvaro"]
["FRÅNVARO",{"$f":"IN!B2167","v":0},{"$f":"Blad3!E2167","v":""},{"$f":"Blad3!G2167","v":0},"Oanmäld frånvaro"]
["FRÅNVARO",{"$f":"IN!B2168","v":0},{"$f":"Blad3!E2168","v":""},{"$f":"Blad3!G2168","v":0},"Oanmäld frånvaro"]
["FRÅNVARO",{"$f":"IN!B2169","v":0},{"$f":"Blad3!E2169","v":""},{"$f":"Blad3!G2169","v":0},"Oanmäld frånvaro"]
["FRÅNVARO",{"$f":"IN!B2170","v":0},{"$f":"Blad3!E2170","v":""},{"$f":"Blad3!G2170","v":0},"Oanmäld frånvaro"]
["FRÅNVARO",{"$f":"IN!B2171","v":0},{"$f":"Blad3!E2171","v":""},{"$f":"Blad3!G2171","v":0},"Oanmäld frånvaro"]
["FRÅNVARO",{"$f":"IN!B2172","v":0},{"$f":"Blad3!E2172","v":""},{"$f":"Blad3!G2172","v":0},"Oanmäld frånvaro"]
["FRÅNVARO",{"$f":"IN!B2173","v":0},{"$f":"Blad3!E2173","v":""},{"$f":"Blad3!G2173","v":0},"Oanmäld frånvaro"]
["FRÅNVARO",{"$f":"IN!B2174","v":0},{"$f":"Blad3!E2174","v":""},{"$f":"Blad3!G2174","v":0},"Oanmäld frånvaro"]
["FRÅNVARO",{"$f":"IN!B2175","v":0},{"$f":"Blad3!E2175","v":""},{"$f":"Blad3!G2175","v":0},"Oanmäld frånvaro"]
["FRÅNVARO",{"$f":"IN!B2176","v":0},{"$f":"Blad3!E2176","v":""},{"$f":"Blad3!G2176","v":0},"Oanmäld frånvaro"]
["FRÅNVARO",{"$f":"IN!B2177","v":0},{"$f":"Blad3!E2177","v":""},{"$f":"Blad3!G2177","v":0},"Oanmäld frånvaro"]
["FRÅNVARO",{"$f":"IN!B2178","v":0},{"$f":"Blad3!E2178","v":""},{"$f":"Blad3!G2178","v":0},"Oanmäld frånvaro"]
["FRÅNVARO",{"$f":"IN!B2179","v":0},{"$f":"Blad3!E2179","v":""},{"$f":"Blad3!G2179","v":0},"Oanmäld frånvaro"]
["FRÅNVARO",{"$f":"IN!B2180","v":0},{"$f":"Blad3!E2180","v":""},{"$f":"Blad3!G2180","v":0},"Oanmäld frånvaro"]
["FRÅNVARO",{"$f":"IN!B2181","v":0},{"$f":"Blad3!E2181","v":""},{"$f":"Blad3!G2181","v":0},"Oanmäld frånvaro"]
["FRÅNVARO",{"$f":"IN!B2182","v":0},{"$f":"Blad3!E2182","v":""},{"$f":"Blad3!G2182","v":0},"Oanmäld frånvaro"]
["FRÅNVARO",{"$f":"IN!B2183","v":0},{"$f":"Blad3!E2183","v":""},{"$f":"Blad3!G2183","v":0},"Oanmäld frånvaro"]
["FRÅNVARO",{"$f":"IN!B2184","v":0},{"$f":"Blad3!E2184","v":""},{"$f":"Blad3!G2184","v":0},"Oanmäld frånvaro"]
["FRÅNVARO",{"$f":"IN!B2185","v":0},{"$f":"Blad3!E2185","v":""},{"$f":"Blad3!G2185","v":0},"Oanmäld frånvaro"]
["FRÅNVARO",{"$f":"IN!B2186","v":0},{"$f":"Blad3!E2186","v":""},{"$f":"Blad3!G2186","v":0},"Oanmäld frånvaro"]
["FRÅNVARO",{"$f":"IN!B2187","v":0},{"$f":"Blad3!E2187","v":""},{"$f":"Blad3!G2187","v":0},"Oanmäld frånvaro"]
["FRÅNVARO",{"$f":"IN!B2188","v":0},{"$f":"Blad3!E2188","v":""},{"$f":"Blad3!G2188","v":0},"Oanmäld frånvaro"]
["FRÅNVARO",{"$f":"IN!B2189","v":0},{"$f":"Blad3!E2189","v":""},{"$f":"Blad3!G2189","v":0},"Oanmäld frånvaro"]
["FRÅNVARO",{"$f":"IN!B2190","v":0},{"$f":"Blad3!E2190","v":""},{"$f":"Blad3!G2190","v":0},"Oanmäld frånvaro"]
["FRÅNVARO",{"$f":"IN!B2191","v":0},{"$f":"Blad3!E2191","v":""},{"$f":"Blad3!G2191","v":0},"Oanmäld frånvaro"]
["FRÅNVARO",{"$f":"IN!B2192","v":0},{"$f":"Blad3!E2192","v":""},{"$f":"Blad3!G2192","v":0},"Oanmäld frånvaro"]
["FRÅNVARO",{"$f":"IN!B2193","v":0},{"$f":"Blad3!E2193","v":""},{"$f":"Blad3!G2193","v":0},"Oanmäld frånvaro"]
["FRÅNVARO",{"$f":"IN!B2194","v":0},{"$f":"Blad3!E2194","v":""},{"$f":"Blad3!G2194","v":0},"Oanmäld frånvaro"]
["FRÅNVARO",{"$f":"IN!B2195","v":0},{"$f":"Blad3!E2195","v":""},{"$f":"Blad3!G2195","v":0},"Oanmäld frånvaro"]
["FRÅNVARO",{"$f":"IN!B2196","v":0},{"$f":"Blad3!E2196","v":""},{"$f":"Blad3!G2196","v":0},"Oanmäld frånvaro"]
["FRÅNVARO",{"$f":"IN!B2197","v":0},{"$f":"Blad3!E2197","v":""},{"$f":"Blad3!G2197","v":0},"Oanmäld frånvaro"]
["FRÅNVARO",{"$f":"IN!B2198","v":0},{"$f":"Blad3!E2198","v":""},{"$f":"Blad3!G2198","v":0},"Oanmäld frånvaro"]
["FRÅNVARO",{"$f":"IN!B2199","v":0},{"$f":"Blad3!E2199","v":""},{"$f":"Blad3!G2199","v":0},"Oanmäld frånvaro"]
["FRÅNVARO",{"$f":"IN!B2200","v":0},{"$f":"Blad3!E2200","v":""},{"$f":"Blad3!G2200","v":0},"Oanmäld frånvaro"]
["FRÅNVARO",{"$f":"IN!B2201","v":0},{"$f":"Blad3!E2201","v":""},{"$f":"Blad3!G2201","v":0},"Oanmäld frånvaro"]
["FRÅNVARO",{"$f":"IN!B2202","v":0},{"$f":"Blad3!E2202","v":""},{"$f":"Blad3!G2202","v":0},"Oanmäld frånvaro"]
["FRÅNVARO",{"$f":"IN!B2203","v":0},{"$f":"Blad3!E2203","v":""},{"$f":"Blad3!G2203","v":0},"Oanmäld frånvaro"]
["FRÅNVARO",{"$f":"IN!B2204","v":0},{"$f":"Blad3!E2204","v":""},{"$f":"Blad3!G2204","v":0},"Oanmäld frånvaro"]
["FRÅNVARO",{"$f":"IN!B2205","v":0},{"$f":"Blad3!E2205","v":""},{"$f":"Blad3!G2205","v":0},"Oanmäld frånvaro"]
["FRÅNVARO",{"$f":"IN!B2206","v":0},{"$f":"Blad3!E2206","v":""},{"$f":"Blad3!G2206","v":0},"Oanmäld frånvaro"]
["FRÅNVARO",{"$f":"IN!B2207","v":0},{"$f":"Blad3!E2207","v":""},{"$f":"Blad3!G2207","v":0},"Oanmäld frånvaro"]
["FRÅNVARO",{"$f":"IN!B2208","v":0},{"$f":"Blad3!E2208","v":""},{"$f":"Blad3!G2208","v":0},"Oanmäld frånvaro"]
["FRÅNVARO",{"$f":"IN!B2209","v":0},{"$f":"Blad3!E2209","v":""},{"$f":"Blad3!G2209","v":0},"Oanmäld frånvaro"]
["FRÅNVARO",{"$f":"IN!B2210","v":0},{"$f":"Blad3!E2210","v":""},{"$f":"Blad3!G2210","v":0},"Oanmäld frånvaro"]
["FRÅNVARO",{"$f":"IN!B2211","v":0},{"$f":"Blad3!E2211","v":""},{"$f":"Blad3!G2211","v":0},"Oanmäld frånvaro"]
["FRÅNVARO",{"$f":"IN!B2212","v":0},{"$f":"Blad3!E2212","v":""},{"$f":"Blad3!G2212","v":0},"Oanmäld frånvaro"]
["FRÅNVARO",{"$f":"IN!B2213","v":0},{"$f":"Blad3!E2213","v":""},{"$f":"Blad3!G2213","v":0},"Oanmäld frånvaro"]
["FRÅNVARO",{"$f":"IN!B2214","v":0},{"$f":"Blad3!E2214","v":""},{"$f":"Blad3!G2214","v":0},"Oanmäld frånvaro"]
["FRÅNVARO",{"$f":"IN!B2215","v":0},{"$f":"Blad3!E2215","v":""},{"$f":"Blad3!G2215","v":0},"Oanmäld frånvaro"]
["FRÅNVARO",{"$f":"IN!B2216","v":0},{"$f":"Blad3!E2216","v":""},{"$f":"Blad3!G2216","v":0},"Oanmäld frånvaro"]
["FRÅNVARO",{"$f":"IN!B2217","v":0},{"$f":"Blad3!E2217","v":""},{"$f":"Blad3!G2217","v":0},"Oanmäld frånvaro"]
["FRÅNVARO",{"$f":"IN!B2218","v":0},{"$f":"Blad3!E2218","v":""},{"$f":"Blad3!G2218","v":0},"Oanmäld frånvaro"]
["FRÅNVARO",{"$f":"IN!B2219","v":0},{"$f":"Blad3!E2219","v":""},{"$f":"Blad3!G2219","v":0},"Oanmäld frånvaro"]
["FRÅNVARO",{"$f":"IN!B2220","v":0},{"$f":"Blad3!E2220","v":""},{"$f":"Blad3!G2220","v":0},"Oanmäld frånvaro"]
["FRÅNVARO",{"$f":"IN!B2221","v":0},{"$f":"Blad3!E2221","v":""},{"$f":"Blad3!G2221","v":0},"Oanmäld frånvaro"]
["FRÅNVARO",{"$f":"IN!B2222","v":0},{"$f":"Blad3!E2222","v":""},{"$f":"Blad3!G2222","v":0},"Oanmäld frånvaro"]
["FRÅNVARO",{"$f":"IN!B2223","v":0},{"$f":"Blad3!E2223","v":""},{"$f":"Blad3!G2223","v":0},"Oanmäld frånvaro"]
["FRÅNVARO",{"$f":"IN!B2224","v":0},{"$f":"Blad3!E2224","v":""},{"$f":"Blad3!G2224","v":0},"Oanmäld frånvaro"]
["FRÅNVARO",{"$f":"IN!B2225","v":0},{"$f":"Blad3!E2225","v":""},{"$f":"Blad3!G2225","v":0},"Oanmäld frånvaro"]
["FRÅNVARO",{"$f":"IN!B2226","v":0},{"$f":"Blad3!E2226","v":""},{"$f":"Blad3!G2226","v":0},"Oanmäld frånvaro"]
["FRÅNVARO",{"$f":"IN!B2227","v":0},{"$f":"Blad3!E2227","v":""},{"$f":"Blad3!G2227","v":0},"Oanmäld frånvaro"]
["FRÅNVARO",{"$f":"IN!B2228","v":0},{"$f":"Blad3!E2228","v":""},{"$f":"Blad3!G2228","v":0},"Oanmäld frånvaro"]
["FRÅNVARO",{"$f":"IN!B2229","v":0},{"$f":"Blad3!E2229","v":""},{"$f":"Blad3!G2229","v":0},"Oanmäld frånvaro"]
["FRÅNVARO",{"$f":"IN!B2230","v":0},{"$f":"Blad3!E2230","v":""},{"$f":"Blad3!G2230","v":0},"Oanmäld frånvaro"]
["FRÅNVARO",{"$f":"IN!B2231","v":0},{"$f":"Blad3!E2231","v":""},{"$f":"Blad3!G2231","v":0},"Oanmäld frånvaro"]
["FRÅNVARO",{"$f":"IN!B2232","v":0},{"$f":"Blad3!E2232","v":""},{"$f":"Blad3!G2232","v":0},"Oanmäld frånvaro"]
["FRÅNVARO",{"$f":"IN!B2233","v":0},{"$f":"Blad3!E2233","v":""},{"$f":"Blad3!G2233","v":0},"Oanmäld frånvaro"]
["FRÅNVARO",{"$f":"IN!B2234","v":0},{"$f":"Blad3!E2234","v":""},{"$f":"Blad3!G2234","v":0},"Oanmäld frånvaro"]
["FRÅNVARO",{"$f":"IN!B2235","v":0},{"$f":"Blad3!E2235","v":""},{"$f":"Blad3!G2235","v":0},"Oanmäld frånvaro"]
["FRÅNVARO",{"$f":"IN!B2236","v":0},{"$f":"Blad3!E2236","v":""},{"$f":"Blad3!G2236","v":0},"Oanmäld frånvaro"]
["FRÅNVARO",{"$f":"IN!B2237","v":0},{"$f":"Blad3!E2237","v":""},{"$f":"Blad3!G2237","v":0},"Oanmäld frånvaro"]
["FRÅNVARO",{"$f":"IN!B2238","v":0},{"$f":"Blad3!E2238","v":""},{"$f":"Blad3!G2238","v":0},"Oanmäld frånvaro"]
["FRÅNVARO",{"$f":"IN!B2239","v":0},{"$f":"Blad3!E2239","v":""},{"$f":"Blad3!G2239","v":0},"Oanmäld frånvaro"]
["FRÅNVARO",{"$f":"IN!B2240","v":0},{"$f":"Blad3!E2240","v":""},{"$f":"Blad3!G2240","v":0},"Oanmäld frånvaro"]
["FRÅNVARO",{"$f":"IN!B2241","v":0},{"$f":"Blad3!E2241","v":""},{"$f":"Blad3!G2241","v":0},"Oanmäld frånvaro"]
["FRÅNVARO",{"$f":"IN!B2242","v":0},{"$f":"Blad3!E2242","v":""},{"$f":"Blad3!G2242","v":0},"Oanmäld frånvaro"]
["FRÅNVARO",{"$f":"IN!B2243","v":0},{"$f":"Blad3!E2243","v":""},{"$f":"Blad3!G2243","v":0},"Oanmäld frånvaro"]
["FRÅNVARO",{"$f":"IN!B2244","v":0},{"$f":"Blad3!E2244","v":""},{"$f":"Blad3!G2244","v":0},"Oanmäld frånvaro"]
["FRÅNVARO",{"$f":"IN!B2245","v":0},{"$f":"Blad3!E2245","v":""},{"$f":"Blad3!G2245","v":0},"Oanmäld frånvaro"]
["FRÅNVARO",{"$f":"IN!B2246","v":0},{"$f":"Blad3!E2246","v":""},{"$f":"Blad3!G2246","v":0},"Oanmäld frånvaro"]
["FRÅNVARO",{"$f":"IN!B2247","v":0},{"$f":"Blad3!E2247","v":""},{"$f":"Blad3!G2247","v":0},"Oanmäld frånvaro"]
["FRÅNVARO",{"$f":"IN!B2248","v":0},{"$f":"Blad3!E2248","v":""},{"$f":"Blad3!G2248","v":0},"Oanmäld frånvaro"]
["FRÅNVARO",{"$f":"IN!B2249","v":0},{"$f":"Blad3!E2249","v":""},{"$f":"Blad3!G2249","v":0},"Oanmäld frånvaro"]
["FRÅNVARO",{"$f":"IN!B2250","v":0},{"$f":"Blad3!E2250","v":""},{"$f":"Blad3!G2250","v":0},"Oanmäld frånvaro"]
["FRÅNVARO",{"$f":"IN!B2251","v":0},{"$f":"Blad3!E2251","v":""},{"$f":"Blad3!G2251","v":0},"Oanmäld frånvaro"]
["FRÅNVARO",{"$f":"IN!B2252","v":0},{"$f":"Blad3!E2252","v":""},{"$f":"Blad3!G2252","v":0},"Oanmäld frånvaro"]
["FRÅNVARO",{"$f":"IN!B2253","v":0},{"$f":"Blad3!E2253","v":""},{"$f":"Blad3!G2253","v":0},"Oanmäld frånvaro"]
["FRÅNVARO",{"$f":"IN!B2254","v":0},{"$f":"Blad3!E2254","v":""},{"$f":"Blad3!G2254","v":0},"Oanmäld frånvaro"]
["FRÅNVARO",{"$f":"IN!B2255","v":0},{"$f":"Blad3!E2255","v":""},{"$f":"Blad3!G2255","v":0},"Oanmäld frånvaro"]
["FRÅNVARO",{"$f":"IN!B2256","v":0},{"$f":"Blad3!E2256","v":""},{"$f":"Blad3!G2256","v":0},"Oanmäld frånvaro"]
["FRÅNVARO",{"$f":"IN!B2257","v":0},{"$f":"Blad3!E2257","v":""},{"$f":"Blad3!G2257","v":0},"Oanmäld frånvaro"]
["FRÅNVARO",{"$f":"IN!B2258","v":0},{"$f":"Blad3!E2258","v":""},{"$f":"Blad3!G2258","v":0},"Oanmäld frånvaro"]
["FRÅNVARO",{"$f":"IN!B2259","v":0},{"$f":"Blad3!E2259","v":""},{"$f":"Blad3!G2259","v":0},"Oanmäld frånvaro"]
["FRÅNVARO",{"$f":"IN!B2260","v":0},{"$f":"Blad3!E2260","v":""},{"$f":"Blad3!G2260","v":0},"Oanmäld frånvaro"]
["FRÅNVARO",{"$f":"IN!B2261","v":0},{"$f":"Blad3!E2261","v":""},{"$f":"Blad3!G2261","v":0},"Oanmäld frånvaro"]
["FRÅNVARO",{"$f":"IN!B2262","v":0},{"$f":"Blad3!E2262","v":""},{"$f":"Blad3!G2262","v":0},"Oanmäld frånvaro"]
["FRÅNVARO",{"$f":"IN!B2263","v":0},{"$f":"Blad3!E2263","v":""},{"$f":"Blad3!G2263","v":0},"Oanmäld frånvaro"]
["FRÅNVARO",{"$f":"IN!B2264","v":0},{"$f":"Blad3!E2264","v":""},{"$f":"Blad3!G2264","v":0},"Oanmäld frånvaro"]
["FRÅNVARO",{"$f":"IN!B2265","v":0},{"$f":"Blad3!E2265","v":""},{"$f":"Blad3!G2265","v":0},"Oanmäld frånvaro"]
["FRÅNVARO",{"$f":"IN!B2266","v":0},{"$f":"Blad3!E2266","v":""},{"$f":"Blad3!G2266","v":0},"Oanmäld frånvaro"]
["FRÅNVARO",{"$f":"IN!B2267","v":0},{"$f":"Blad3!E2267","v":""},{"$f":"Blad3!G2267","v":0},"Oanmäld frånvaro"]
["FRÅNVARO",{"$f":"IN!B2268","v":0},{"$f":"Blad3!E2268","v":""},{"$f":"Blad3!G2268","v":0},"Oanmäld frånvaro"]
["FRÅNVARO",{"$f":"IN!B2269","v":0},{"$f":"Blad3!E2269","v":""},{"$f":"Blad3!G2269","v":0},"Oanmäld frånvaro"]
["FRÅNVARO",{"$f":"IN!B2270","v":0},{"$f":"Blad3!E2270","v":""},{"$f":"Blad3!G2270","v":0},"Oanmäld frånvaro"]
["FRÅNVARO",{"$f":"IN!B2271","v":0},{"$f":"Blad3!E2271","v":""},{"$f":"Blad3!G2271","v":0},"Oanmäld frånvaro"]
["FRÅNVARO",{"$f":"IN!B2272","v":0},{"$f":"Blad3!E2272","v":""},{"$f":"Blad3!G2272","v":0},"Oanmäld frånvaro"]
["FRÅNVARO",{"$f":"IN!B2273","v":0},{"$f":"Blad3!E2273","v":""},{"$f":"Blad3!G2273","v":0},"Oanmäld frånvaro"]
["FRÅNVARO",{"$f":"IN!B2274","v":0},{"$f":"Blad3!E2274","v":""},{"$f":"Blad3!G2274","v":0},"Oanmäld frånvaro"]
["FRÅNVARO",{"$f":"IN!B2275","v":0},{"$f":"Blad3!E2275","v":""},{"$f":"Blad3!G2275","v":0},"Oanmäld frånvaro"]
["FRÅNVARO",{"$f":"IN!B2276","v":0},{"$f":"Blad3!E2276","v":""},{"$f":"Blad3!G2276","v":0},"Oanmäld frånvaro"]
["FRÅNVARO",{"$f":"IN!B2277","v":0},{"$f":"Blad3!E2277","v":""},{"$f":"Blad3!G2277","v":0},"Oanmäld frånvaro"]
["FRÅNVARO",{"$f":"IN!B2278","v":0},{"$f":"Blad3!E2278","v":""},{"$f":"Blad3!G2278","v":0},"Oanmäld frånvaro"]
["FRÅNVARO",{"$f":"IN!B2279","v":0},{"$f":"Blad3!E2279","v":""},{"$f":"Blad3!G2279","v":0},"Oanmäld frånvaro"]
["FRÅNVARO",{"$f":"IN!B2280","v":0},{"$f":"Blad3!E2280","v":""},{"$f":"Blad3!G2280","v":0},"Oanmäld frånvaro"]
["FRÅNVARO",{"$f":"IN!B2281","v":0},{"$f":"Blad3!E2281","v":""},{"$f":"Blad3!G2281","v":0},"Oanmäld frånvaro"]
["FRÅNVARO",{"$f":"IN!B2282","v":0},{"$f":"Blad3!E2282","v":""},{"$f":"Blad3!G2282","v":0},"Oanmäld frånvaro"]
["FRÅNVARO",{"$f":"IN!B2283","v":0},{"$f":"Blad3!E2283","v":""},{"$f":"Blad3!G2283","v":0},"Oanmäld frånvaro"]
["FRÅNVARO",{"$f":"IN!B2284","v":0},{"$f":"Blad3!E2284","v":""},{"$f":"Blad3!G2284","v":0},"Oanmäld frånvaro"]
["FRÅNVARO",{"$f":"IN!B2285","v":0},{"$f":"Blad3!E2285","v":""},{"$f":"Blad3!G2285","v":0},"Oanmäld frånvaro"]
["FRÅNVARO",{"$f":"IN!B2286","v":0},{"$f":"Blad3!E2286","v":""},{"$f":"Blad3!G2286","v":0},"Oanmäld frånvaro"]
["FRÅNVARO",{"$f":"IN!B2287","v":0},{"$f":"Blad3!E2287","v":""},{"$f":"Blad3!G2287","v":0},"Oanmäld frånvaro"]
["FRÅNVARO",{"$f":"IN!B2288","v":0},{"$f":"Blad3!E2288","v":""},{"$f":"Blad3!G2288","v":0},"Oanmäld frånvaro"]
["FRÅNVARO",{"$f":"IN!B2289","v":0},{"$f":"Blad3!E2289","v":""},{"$f":"Blad3!G2289","v":0},"Oanmäld frånvaro"]
["FRÅNVARO",{"$f":"IN!B2290","v":0},{"$f":"Blad3!E2290","v":""},{"$f":"Blad3!G2290","v":0},"Oanmäld frånvaro"]
["FRÅNVARO",{"$f":"IN!B2291","v":0},{"$f":"Blad3!E2291","v":""},{"$f":"Blad3!G2291","v":0},"Oanmäld frånvaro"]
["FRÅNVARO",{"$f":"IN!B2292","v":0},{"$f":"Blad3!E2292","v":""},{"$f":"Blad3!G2292","v":0},"Oanmäld frånvaro"]
["FRÅNVARO",{"$f":"IN!B2293","v":0},{"$f":"Blad3!E2293","v":""},{"$f":"Blad3!G2293","v":0},"Oanmäld frånvaro"]
["FRÅNVARO",{"$f":"IN!B2294","v":0},{"$f":"Blad3!E2294","v":""},{"$f":"Blad3!G2294","v":0},"Oanmäld frånvaro"]
["FRÅNVARO",{"$f":"IN!B2295","v":0},{"$f":"Blad3!E2295","v":""},{"$f":"Blad3!G2295","v":0},"Oanmäld frånvaro"]
["FRÅNVARO",{"$f":"IN!B2296","v":0},{"$f":"Blad3!E2296","v":""},{"$f":"Blad3!G2296","v":0},"Oanmäld frånvaro"]
["FRÅNVARO",{"$f":"IN!B2297","v":0},{"$f":"Blad3!E2297","v":""},{"$f":"Blad3!G2297","v":0},"Oanmäld frånvaro"]
["FRÅNVARO",{"$f":"IN!B2298","v":0},{"$f":"Blad3!E2298","v":""},{"$f":"Blad3!G2298","v":0},"Oanmäld frånvaro"]
["FRÅNVARO",{"$f":"IN!B2299","v":0},{"$f":"Blad3!E2299","v":""},{"$f":"Blad3!G2299","v":0},"Oanmäld frånvaro"]
["FRÅNVARO",{"$f":"IN!B2300","v":0},{"$f":"Blad3!E2300","v":""},{"$f":"Blad3!G2300","v":0},"Oanmäld frånvaro"]
["FRÅNVARO",{"$f":"IN!B2301","v":0},{"$f":"Blad3!E2301","v":""},{"$f":"Blad3!G2301","v":0},"Oanmäld frånvaro"]
["FRÅNVARO",{"$f":"IN!B2302","v":0},{"$f":"Blad3!E2302","v":""},{"$f":"Blad3!G2302","v":0},"Oanmäld frånvaro"]
["FRÅNVARO",{"$f":"IN!B2303","v":0},{"$f":"Blad3!E2303","v":""},{"$f":"Blad3!G2303","v":0},"Oanmäld frånvaro"]
["FRÅNVARO",{"$f":"IN!B2304","v":0},{"$f":"Blad3!E2304","v":""},{"$f":"Blad3!G2304","v":0},"Oanmäld frånvaro"]
["FRÅNVARO",{"$f":"IN!B2305","v":0},{"$f":"Blad3!E2305","v":""},{"$f":"Blad3!G2305","v":0},"Oanmäld frånvaro"]
["FRÅNVARO",{"$f":"IN!B2306","v":0},{"$f":"Blad3!E2306","v":""},{"$f":"Blad3!G2306","v":0},"Oanmäld frånvaro"]
["FRÅNVARO",{"$f":"IN!B2307","v":0},{"$f":"Blad3!E2307","v":""},{"$f":"Blad3!G2307","v":0},"Oanmäld frånvaro"]
["FRÅNVARO",{"$f":"IN!B2308","v":0},{"$f":"Blad3!E2308","v":""},{"$f":"Blad3!G2308","v":0},"Oanmäld frånvaro"]
["FRÅNVARO",{"$f":"IN!B2309","v":0},{"$f":"Blad3!E2309","v":""},{"$f":"Blad3!G2309","v":0},"Oanmäld frånvaro"]
["FRÅNVARO",{"$f":"IN!B2310","v":0},{"$f":"Blad3!E2310","v":""},{"$f":"Blad3!G2310","v":0},"Oanmäld frånvaro"]
["FRÅNVARO",{"$f":"IN!B2311","v":0},{"$f":"Blad3!E2311","v":""},{"$f":"Blad3!G2311","v":0},"Oanmäld frånvaro"]
["FRÅNVARO",{"$f":"IN!B2312","v":0},{"$f":"Blad3!E2312","v":""},{"$f":"Blad3!G2312","v":0},"Oanmäld frånvaro"]
["FRÅNVARO",{"$f":"IN!B2313","v":0},{"$f":"Blad3!E2313","v":""},{"$f":"Blad3!G2313","v":0},"Oanmäld frånvaro"]
["FRÅNVARO",{"$f":"IN!B2314","v":0},{"$f":"Blad3!E2314","v":""},{"$f":"Blad3!G2314","v":0},"Oanmäld frånvaro"]
["FRÅNVARO",{"$f":"IN!B2315","v":0},{"$f":"Blad3!E2315","v":""},{"$f":"Blad3!G2315","v":0},"Oanmäld frånvaro"]
["FRÅNVARO",{"$f":"IN!B2316","v":0},{"$f":"Blad3!E2316","v":""},{"$f":"Blad3!G2316","v":0},"Oanmäld frånvaro"]
["FRÅNVARO",{"$f":"IN!B2317","v":0},{"$f":"Blad3!E2317","v":""},{"$f":"Blad3!G2317","v":0},"Oanmäld frånvaro"]
["FRÅNVARO",{"$f":"IN!B2318","v":0},{"$f":"Blad3!E2318","v":""},{"$f":"Blad3!G2318","v":0},"Oanmäld frånvaro"]
["FRÅNVARO",{"$f":"IN!B2319","v":0},{"$f":"Blad3!E2319","v":""},{"$f":"Blad3!G2319","v":0},"Oanmäld frånvaro"]
["FRÅNVARO",{"$f":"IN!B2320","v":0},{"$f":"Blad3!E2320","v":""},{"$f":"Blad3!G2320","v":0},"Oanmäld frånvaro"]
["FRÅNVARO",{"$f":"IN!B2321","v":0},{"$f":"Blad3!E2321","v":""},{"$f":"Blad3!G2321","v":0},"Oanmäld frånvaro"]
["FRÅNVARO",{"$f":"IN!B2322","v":0},{"$f":"Blad3!E2322","v":""},{"$f":"Blad3!G2322","v":0},"Oanmäld frånvaro"]
["FRÅNVARO",{"$f":"IN!B2323","v":0},{"$f":"Blad3!E2323","v":""},{"$f":"Blad3!G2323","v":0},"Oanmäld frånvaro"]
["FRÅNVARO",{"$f":"IN!B2324","v":0},{"$f":"Blad3!E2324","v":""},{"$f":"Blad3!G2324","v":0},"Oanmäld frånvaro"]
["FRÅNVARO",{"$f":"IN!B2325","v":0},{"$f":"Blad3!E2325","v":""},{"$f":"Blad3!G2325","v":0},"Oanmäld frånvaro"]
["FRÅNVARO",{"$f":"IN!B2326","v":0},{"$f":"Blad3!E2326","v":""},{"$f":"Blad3!G2326","v":0},"Oanmäld frånvaro"]
["FRÅNVARO",{"$f":"IN!B2327","v":0},{"$f":"Blad3!E2327","v":""},{"$f":"Blad3!G2327","v":0},"Oanmäld frånvaro"]
["FRÅNVARO",{"$f":"IN!B2328","v":0},{"$f":"Blad3!E2328","v":""},{"$f":"Blad3!G2328","v":0},"Oanmäld frånvaro"]
["FRÅNVARO",{"$f":"IN!B2329","v":0},{"$f":"Blad3!E2329","v":""},{"$f":"Blad3!G2329","v":0},"Oanmäld frånvaro"]
["FRÅNVARO",{"$f":"IN!B2330","v":0},{"$f":"Blad3!E2330","v":""},{"$f":"Blad3!G2330","v":0},"Oanmäld frånvaro"]
["FRÅNVARO",{"$f":"IN!B2331","v":0},{"$f":"Blad3!E2331","v":""},{"$f":"Blad3!G2331","v":0},"Oanmäld frånvaro"]
["FRÅNVARO",{"$f":"IN!B2332","v":0},{"$f":"Blad3!E2332","v":""},{"$f":"Blad3!G2332","v":0},"Oanmäld frånvaro"]
["FRÅNVARO",{"$f":"IN!B2333","v":0},{"$f":"Blad3!E2333","v":""},{"$f":"Blad3!G2333","v":0},"Oanmäld frånvaro"]
["FRÅNVARO",{"$f":"IN!B2334","v":0},{"$f":"Blad3!E2334","v":""},{"$f":"Blad3!G2334","v":0},"Oanmäld frånvaro"]
["FRÅNVARO",{"$f":"IN!B2335","v":0},{"$f":"Blad3!E2335","v":""},{"$f":"Blad3!G2335","v":0},"Oanmäld frånvaro"]
["FRÅNVARO",{"$f":"IN!B2336","v":0},{"$f":"Blad3!E2336","v":""},{"$f":"Blad3!G2336","v":0},"Oanmäld frånvaro"]
["FRÅNVARO",{"$f":"IN!B2337","v":0},{"$f":"Blad3!E2337","v":""},{"$f":"Blad3!G2337","v":0},"Oanmäld frånvaro"]
["FRÅNVARO",{"$f":"IN!B2338","v":0},{"$f":"Blad3!E2338","v":""},{"$f":"Blad3!G2338","v":0},"Oanmäld frånvaro"]
["FRÅNVARO",{"$f":"IN!B2339","v":0},{"$f":"Blad3!E2339","v":""},{"$f":"Blad3!G2339","v":0},"Oanmäld frånvaro"]
["FRÅNVARO",{"$f":"IN!B2340","v":0},{"$f":"Blad3!E2340","v":""},{"$f":"Blad3!G2340","v":0},"Oanmäld frånvaro"]
["FRÅNVARO",{"$f":"IN!B2341","v":0},{"$f":"Blad3!E2341","v":""},{"$f":"Blad3!G2341","v":0},"Oanmäld frånvaro"]
["FRÅNVARO",{"$f":"IN!B2342","v":0},{"$f":"Blad3!E2342","v":""},{"$f":"Blad3!G2342","v":0},"Oanmäld frånvaro"]
["FRÅNVARO",{"$f":"IN!B2343","v":0},{"$f":"Blad3!E2343","v":""},{"$f":"Blad3!G2343","v":0},"Oanmäld frånvaro"]
["FRÅNVARO",{"$f":"IN!B2344","v":0},{"$f":"Blad3!E2344","v":""},{"$f":"Blad3!G2344","v":0},"Oanmäld frånvaro"]
["FRÅNVARO",{"$f":"IN!B2345","v":0},{"$f":"Blad3!E2345","v":""},{"$f":"Blad3!G2345","v":0},"Oanmäld frånvaro"]
["FRÅNVARO",{"$f":"IN!B2346","v":0},{"$f":"Blad3!E2346","v":""},{"$f":"Blad3!G2346","v":0},"Oanmäld frånvaro"]
["FRÅNVARO",{"$f":"IN!B2347","v":0},{"$f":"Blad3!E2347","v":""},{"$f":"Blad3!G2347","v":0},"Oanmäld frånvaro"]
["FRÅNVARO",{"$f":"IN!B2348","v":0},{"$f":"Blad3!E2348","v":""},{"$f":"Blad3!G2348","v":0},"Oanmäld frånvaro"]
["FRÅNVARO",{"$f":"IN!B2349","v":0},{"$f":"Blad3!E2349","v":""},{"$f":"Blad3!G2349","v":0},"Oanmäld frånvaro"]
["FRÅNVARO",{"$f":"IN!B2350","v":0},{"$f":"Blad3!E2350","v":""},{"$f":"Blad3!G2350","v":0},"Oanmäld frånvaro"]
["FRÅNVARO",{"$f":"IN!B2351","v":0},{"$f":"Blad3!E2351","v":""},{"$f":"Blad3!G2351","v":0},"Oanmäld frånvaro"]
["FRÅNVARO",{"$f":"IN!B2352","v":0},{"$f":"Blad3!E2352","v":""},{"$f":"Blad3!G2352","v":0},"Oanmäld frånvaro"]
["FRÅNVARO",{"$f":"IN!B2353","v":0},{"$f":"Blad3!E2353","v":""},{"$f":"Blad3!G2353","v":0},"Oanmäld frånvaro"]
["FRÅNVARO",{"$f":"IN!B2354","v":0},{"$f":"Blad3!E2354","v":""},{"$f":"Blad3!G2354","v":0},"Oanmäld frånvaro"]
["FRÅNVARO",{"$f":"IN!B2355","v":0},{"$f":"Blad3!E2355","v":""},{"$f":"Blad3!G2355","v":0},"Oanmäld frånvaro"]
["FRÅNVARO",{"$f":"IN!B2356","v":0},{"$f":"Blad3!E2356","v":""},{"$f":"Blad3!G2356","v":0},"Oanmäld frånvaro"]
["FRÅNVARO",{"$f":"IN!B2357","v":0},{"$f":"Blad3!E2357","v":""},{"$f":"Blad3!G2357","v":0},"Oanmäld frånvaro"]
["FRÅNVARO",{"$f":"IN!B2358","v":0},{"$f":"Blad3!E2358","v":""},{"$f":"Blad3!G2358","v":0},"Oanmäld frånvaro"]
["FRÅNVARO",{"$f":"IN!B2359","v":0},{"$f":"Blad3!E2359","v":""},{"$f":"Blad3!G2359","v":0},"Oanmäld frånvaro"]
["FRÅNVARO",{"$f":"IN!B2360","v":0},{"$f":"Blad3!E2360","v":""},{"$f":"Blad3!G2360","v":0},"Oanmäld frånvaro"]
["FRÅNVARO",{"$f":"IN!B2361","v":0},{"$f":"Blad3!E2361","v":""},{"$f":"Blad3!G2361","v":0},"Oanmäld frånvaro"]
["FRÅNVARO",{"$f":"IN!B2362","v":0},{"$f":"Blad3!E2362","v":""},{"$f":"Blad3!G2362","v":0},"Oanmäld frånvaro"]
["FRÅNVARO",{"$f":"IN!B2363","v":0},{"$f":"Blad3!E2363","v":""},{"$f":"Blad3!G2363","v":0},"Oanmäld frånvaro"]
["FRÅNVARO",{"$f":"IN!B2364","v":0},{"$f":"Blad3!E2364","v":""},{"$f":"Blad3!G2364","v":0},"Oanmäld frånvaro"]
["FRÅNVARO",{"$f":"IN!B2365","v":0},{"$f":"Blad3!E2365","v":""},{"$f":"Blad3!G2365","v":0},"Oanmäld frånvaro"]
["FRÅNVARO",{"$f":"IN!B2366","v":0},{"$f":"Blad3!E2366","v":""},{"$f":"Blad3!G2366","v":0},"Oanmäld frånvaro"]
["FRÅNVARO",{"$f":"IN!B2367","v":0},{"$f":"Blad3!E2367","v":""},{"$f":"Blad3!G2367","v":0},"Oanmäld frånvaro"]
["FRÅNVARO",{"$f":"IN!B2368","v":0},{"$f":"Blad3!E2368","v":""},{"$f":"Blad3!G2368","v":0},"Oanmäld frånvaro"]
["FRÅNVARO",{"$f":"IN!B2369","v":0},{"$f":"Blad3!E2369","v":""},{"$f":"Blad3!G2369","v":0},"Oanmäld frånvaro"]
["FRÅNVARO",{"$f":"IN!B2370","v":0},{"$f":"Blad3!E2370","v":""},{"$f":"Blad3!G2370","v":0},"Oanmäld frånvaro"]
["FRÅNVARO",{"$f":"IN!B2371","v":0},{"$f":"Blad3!E2371","v":""},{"$f":"Blad3!G2371","v":0},"Oanmäld frånvaro"]
["FRÅNVARO",{"$f":"IN!B2372","v":0},{"$f":"Blad3!E2372","v":""},{"$f":"Blad3!G2372","v":0},"Oanmäld frånvaro"]
["FRÅNVARO",{"$f":"IN!B2373","v":0},{"$f":"Blad3!E2373","v":""},{"$f":"Blad3!G2373","v":0},"Oanmäld frånvaro"]
["FRÅNVARO",{"$f":"IN!B2374","v":0},{"$f":"Blad3!E2374","v":""},{"$f":"Blad3!G2374","v":0},"Oanmäld frånvaro"]
["FRÅNVARO",{"$f":"IN!B2375","v":0},{"$f":"Blad3!E2375","v":""},{"$f":"Blad3!G2375","v":0},"Oanmäld frånvaro"]
["FRÅNVARO",{"$f":"IN!B2376","v":0},{"$f":"Blad3!E2376","v":""},{"$f":"Blad3!G2376","v":0},"Oanmäld frånvaro"]
["FRÅNVARO",{"$f":"IN!B2377","v":0},{"$f":"Blad3!E2377","v":""},{"$f":"Blad3!G2377","v":0},"Oanmäld frånvaro"]
["FRÅNVARO",{"$f":"IN!B2378","v":0},{"$f":"Blad3!E2378","v":""},{"$f":"Blad3!G2378","v":0},"Oanmäld frånvaro"]
["FRÅNVARO",{"$f":"IN!B2379","v":0},{"$f":"Blad3!E2379","v":""},{"$f":"Blad3!G2379","v":0},"Oanmäld frånvaro"]
["FRÅNVARO",{"$f":"IN!B2380","v":0},{"$f":"Blad3!E2380","v":""},{"$f":"Blad3!G2380","v":0},"Oanmäld frånvaro"]
["FRÅNVARO",{"$f":"IN!B2381","v":0},{"$f":"Blad3!E2381","v":""},{"$f":"Blad3!G2381","v":0},"Oanmäld frånvaro"]
["FRÅNVARO",{"$f":"IN!B2382","v":0},{"$f":"Blad3!E2382","v":""},{"$f":"Blad3!G2382","v":0},"Oanmäld frånvaro"]
["FRÅNVARO",{"$f":"IN!B2383","v":0},{"$f":"Blad3!E2383","v":""},{"$f":"Blad3!G2383","v":0},"Oanmäld frånvaro"]
["FRÅNVARO",{"$f":"IN!B2384","v":0},{"$f":"Blad3!E2384","v":""},{"$f":"Blad3!G2384","v":0},"Oanmäld frånvaro"]
["FRÅNVARO",{"$f":"IN!B2385","v":0},{"$f":"Blad3!E2385","v":""},{"$f":"Blad3!G2385","v":0},"Oanmäld frånvaro"]
["FRÅNVARO",{"$f":"IN!B2386","v":0},{"$f":"Blad3!E2386","v":""},{"$f":"Blad3!G2386","v":0},"Oanmäld frånvaro"]
["FRÅNVARO",{"$f":"IN!B2387","v":0},{"$f":"Blad3!E2387","v":""},{"$f":"Blad3!G2387","v":0},"Oanmäld frånvaro"]
["FRÅNVARO",{"$f":"IN!B2388","v":0},{"$f":"Blad3!E2388","v":""},{"$f":"Blad3!G2388","v":0},"Oanmäld frånvaro"]
["FRÅNVARO",{"$f":"IN!B2389","v":0},{"$f":"Blad3!E2389","v":""},{"$f":"Blad3!G2389","v":0},"Oanmäld frånvaro"]
["FRÅNVARO",{"$f":"IN!B2390","v":0},{"$f":"Blad3!E2390","v":""},{"$f":"Blad3!G2390","v":0},"Oanmäld frånvaro"]
["FRÅNVARO",{"$f":"IN!B2391","v":0},{"$f":"Blad3!E2391","v":""},{"$f":"Blad3!G2391","v":0},"Oanmäld frånvaro"]
["FRÅNVARO",{"$f":"IN!B2392","v":0},{"$f":"Blad3!E2392","v":""},{"$f":"Blad3!G2392","v":0},"Oanmäld frånvaro"]
["FRÅNVARO",{"$f":"IN!B2393","v":0},{"$f":"Blad3!E2393","v":""},{"$f":"Blad3!G2393","v":0},"Oanmäld frånvaro"]
["FRÅNVARO",{"$f":"IN!B2394","v":0},{"$f":"Blad3!E2394","v":""},{"$f":"Blad3!G2394","v":0},"Oanmäld frånvaro"]
["FRÅNVARO",{"$f":"IN!B2395","v":0},{"$f":"Blad3!E2395","v":""},{"$f":"Blad3!G2395","v":0},"Oanmäld frånvaro"]
["FRÅNVARO",{"$f":"IN!B2396","v":0},{"$f":"Blad3!E2396","v":""},{"$f":"Blad3!G2396","v":0},"Oanmäld frånvaro"]
["FRÅNVARO",{"$f":"IN!B2397","v":0},{"$f":"Blad3!E2397","v":""},{"$f":"Blad3!G2397","v":0},"Oanmäld frånvaro"]
["FRÅNVARO",{"$f":"IN!B2398","v":0},{"$f":"Blad3!E2398","v":""},{"$f":"Blad3!G2398","v":0},"Oanmäld frånvaro"]
["FRÅNVARO",{"$f":"IN!B2399","v":0},{"$f":"Blad3!E2399","v":""},{"$f":"Blad3!G2399","v":0},"Oanmäld frånvaro"]
["FRÅNVARO",{"$f":"IN!B2400","v":0},{"$f":"Blad3!E2400","v":""},{"$f":"Blad3!G2400","v":0},"Oanmäld frånvaro"]
["FRÅNVARO",{"$f":"IN!B2401","v":0},{"$f":"Blad3!E2401","v":""},{"$f":"Blad3!G2401","v":0},"Oanmäld frånvaro"]
["FRÅNVARO",{"$f":"IN!B2402","v":0},{"$f":"Blad3!E2402","v":""},{"$f":"Blad3!G2402","v":0},"Oanmäld frånvaro"]
["FRÅNVARO",{"$f":"IN!B2403","v":0},{"$f":"Blad3!E2403","v":""},{"$f":"Blad3!G2403","v":0},"Oanmäld frånvaro"]
["FRÅNVARO",{"$f":"IN!B2404","v":0},{"$f":"Blad3!E2404","v":""},{"$f":"Blad3!G2404","v":0},"Oanmäld frånvaro"]
["FRÅNVARO",{"$f":"IN!B2405","v":0},{"$f":"Blad3!E2405","v":""},{"$f":"Blad3!G2405","v":0},"Oanmäld frånvaro"]
["FRÅNVARO",{"$f":"IN!B2406","v":0},{"$f":"Blad3!E2406","v":""},{"$f":"Blad3!G2406","v":0},"Oanmäld frånvaro"]
["FRÅNVARO",{"$f":"IN!B2407","v":0},{"$f":"Blad3!E2407","v":""},{"$f":"Blad3!G2407","v":0},"Oanmäld frånvaro"]
["FRÅNVARO",{"$f":"IN!B2408","v":0},{"$f":"Blad3!E2408","v":""},{"$f":"Blad3!G2408","v":0},"Oanmäld frånvaro"]
["FRÅNVARO",{"$f":"IN!B2409","v":0},{"$f":"Blad3!E2409","v":""},{"$f":"Blad3!G2409","v":0},"Oanmäld frånvaro"]
["FRÅNVARO",{"$f":"IN!B2410","v":0},{"$f":"Blad3!E2410","v":""},{"$f":"Blad3!G2410","v":0},"Oanmäld frånvaro"]
["FRÅNVARO",{"$f":"IN!B2411","v":0},{"$f":"Blad3!E2411","v":""},{"$f":"Blad3!G2411","v":0},"Oanmäld frånvaro"]
["FRÅNVARO",{"$f":"IN!B2412","v":0},{"$f":"Blad3!E2412","v":""},{"$f":"Blad3!G2412","v":0},"Oanmäld frånvaro"]
["FRÅNVARO",{"$f":"IN!B2413","v":0},{"$f":"Blad3!E2413","v":""},{"$f":"Blad3!G2413","v":0},"Oanmäld frånvaro"]
["FRÅNVARO",{"$f":"IN!B2414","v":0},{"$f":"Blad3!E2414","v":""},{"$f":"Blad3!G2414","v":0},"Oanmäld frånvaro"]
["FRÅNVARO",{"$f":"IN!B2415","v":0},{"$f":"Blad3!E2415","v":""},{"$f":"Blad3!G2415","v":0},"Oanmäld frånvaro"]
["FRÅNVARO",{"$f":"IN!B2416","v":0},{"$f":"Blad3!E2416","v":""},{"$f":"Blad3!G2416","v":0},"Oanmäld frånvaro"]
["FRÅNVARO",{"$f":"IN!B2417","v":0},{"$f":"Blad3!E2417","v":""},{"$f":"Blad3!G2417","v":0},"Oanmäld frånvaro"]
["FRÅNVARO",{"$f":"IN!B2418","v":0},{"$f":"Blad3!E2418","v":""},{"$f":"Blad3!G2418","v":0},"Oanmäld frånvaro"]
["FRÅNVARO",{"$f":"IN!B2419","v":0},{"$f":"Blad3!E2419","v":""},{"$f":"Blad3!G2419","v":0},"Oanmäld frånvaro"]
["FRÅNVARO",{"$f":"IN!B2420","v":0},{"$f":"Blad3!E2420","v":""},{"$f":"Blad3!G2420","v":0},"Oanmäld frånvaro"]
["FRÅNVARO",{"$f":"IN!B2421","v":0},{"$f":"Blad3!E2421","v":""},{"$f":"Blad3!G2421","v":0},"Oanmäld frånvaro"]
["FRÅNVARO",{"$f":"IN!B2422","v":0},{"$f":"Blad3!E2422","v":""},{"$f":"Blad3!G2422","v":0},"Oanmäld frånvaro"]
["FRÅNVARO",{"$f":"IN!B2423","v":0},{"$f":"Blad3!E2423","v":""},{"$f":"Blad3!G2423","v":0},"Oanmäld frånvaro"]
["FRÅNVARO",{"$f":"IN!B2424","v":0},{"$f":"Blad3!E2424","v":""},{"$f":"Blad3!G2424","v":0},"Oanmäld frånvaro"]
["FRÅNVARO",{"$f":"IN!B2425","v":0},{"$f":"Blad3!E2425","v":""},{"$f":"Blad3!G2425","v":0},"Oanmäld frånvaro"]
["FRÅNVARO",{"$f":"IN!B2426","v":0},{"$f":"Blad3!E2426","v":""},{"$f":"Blad3!G2426","v":0},"Oanmäld frånvaro"]
["FRÅNVARO",{"$f":"IN!B2427","v":0},{"$f":"Blad3!E2427","v":""},{"$f":"Blad3!G2427","v":0},"Oanmäld frånvaro"]
["FRÅNVARO",{"$f":"IN!B2428","v":0},{"$f":"Blad3!E2428","v":""},{"$f":"Blad3!G2428","v":0},"Oanmäld frånvaro"]
["FRÅNVARO",{"$f":"IN!B2429","v":0},{"$f":"Blad3!E2429","v":""},{"$f":"Blad3!G2429","v":0},"Oanmäld frånvaro"]
["FRÅNVARO",{"$f":"IN!B2430","v":0},{"$f":"Blad3!E2430","v":""},{"$f":"Blad3!G2430","v":0},"Oanmäld frånvaro"]
["FRÅNVARO",{"$f":"IN!B2431","v":0},{"$f":"Blad3!E2431","v":""},{"$f":"Blad3!G2431","v":0},"Oanmäld frånvaro"]
["FRÅNVARO",{"$f":"IN!B2432","v":0},{"$f":"Blad3!E2432","v":""},{"$f":"Blad3!G2432","v":0},"Oanmäld frånvaro"]
["FRÅNVARO",{"$f":"IN!B2433","v":0},{"$f":"Blad3!E2433","v":""},{"$f":"Blad3!G2433","v":0},"Oanmäld frånvaro"]
["FRÅNVARO",{"$f":"IN!B2434","v":0},{"$f":"Blad3!E2434","v":""},{"$f":"Blad3!G2434","v":0},"Oanmäld frånvaro"]
["FRÅNVARO",{"$f":"IN!B2435","v":0},{"$f":"Blad3!E2435","v":""},{"$f":"Blad3!G2435","v":0},"Oanmäld frånvaro"]
["FRÅNVARO",{"$f":"IN!B2436","v":0},{"$f":"Blad3!E2436","v":""},{"$f":"Blad3!G2436","v":0},"Oanmäld frånvaro"]
["FRÅNVARO",{"$f":"IN!B2437","v":0},{"$f":"Blad3!E2437","v":""},{"$f":"Blad3!G2437","v":0},"Oanmäld frånvaro"]
["FRÅNVARO",{"$f":"IN!B2438","v":0},{"$f":"Blad3!E2438","v":""},{"$f":"Blad3!G2438","v":0},"Oanmäld frånvaro"]
["FRÅNVARO",{"$f":"IN!B2439","v":0},{"$f":"Blad3!E2439","v":""},{"$f":"Blad3!G2439","v":0},"Oanmäld frånvaro"]
["FRÅNVARO",{"$f":"IN!B2440","v":0},{"$f":"Blad3!E2440","v":""},{"$f":"Blad3!G2440","v":0},"Oanmäld frånvaro"]
["FRÅNVARO",{"$f":"IN!B2441","v":0},{"$f":"Blad3!E2441","v":""},{"$f":"Blad3!G2441","v":0},"Oanmäld frånvaro"]
["FRÅNVARO",{"$f":"IN!B2442","v":0},{"$f":"Blad3!E2442","v":""},{"$f":"Blad3!G2442","v":0},"Oanmäld frånvaro"]
["FRÅNVARO",{"$f":"IN!B2443","v":0},{"$f":"Blad3!E2443","v":""},{"$f":"Blad3!G2443","v":0},"Oanmäld frånvaro"]
["FRÅNVARO",{"$f":"IN!B2444","v":0},{"$f":"Blad3!E2444","v":""},{"$f":"Blad3!G2444","v":0},"Oanmäld frånvaro"]
["FRÅNVARO",{"$f":"IN!B2445","v":0},{"$f":"Blad3!E2445","v":""},{"$f":"Blad3!G2445","v":0},"Oanmäld frånvaro"]
["FRÅNVARO",{"$f":"IN!B2446","v":0},{"$f":"Blad3!E2446","v":""},{"$f":"Blad3!G2446","v":0},"Oanmäld frånvaro"]
["FRÅNVARO",{"$f":"IN!B2447","v":0},{"$f":"Blad3!E2447","v":""},{"$f":"Blad3!G2447","v":0},"Oanmäld frånvaro"]
["FRÅNVARO",{"$f":"IN!B2448","v":0},{"$f":"Blad3!E2448","v":""},{"$f":"Blad3!G2448","v":0},"Oanmäld frånvaro"]
["FRÅNVARO",{"$f":"IN!B2449","v":0},{"$f":"Blad3!E2449","v":""},{"$f":"Blad3!G2449","v":0},"Oanmäld frånvaro"]
["FRÅNVARO",{"$f":"IN!B2450","v":0},{"$f":"Blad3!E2450","v":""},{"$f":"Blad3!G2450","v":0},"Oanmäld frånvaro"]
["FRÅNVARO",{"$f":"IN!B2451","v":0},{"$f":"Blad3!E2451","v":""},{"$f":"Blad3!G2451","v":0},"Oanmäld frånvaro"]
["FRÅNVARO",{"$f":"IN!B2452","v":0},{"$f":"Blad3!E2452","v":""},{"$f":"Blad3!G2452","v":0},"Oanmäld frånvaro"]
["FRÅNVARO",{"$f":"IN!B2453","v":0},{"$f":"Blad3!E2453","v":""},{"$f":"Blad3!G2453","v":0},"Oanmäld frånvaro"]
["FRÅNVARO",{"$f":"IN!B2454","v":0},{"$f":"Blad3!E2454","v":""},{"$f":"Blad3!G2454","v":0},"Oanmäld frånvaro"]
["FRÅNVARO",{"$f":"IN!B2455","v":0},{"$f":"Blad3!E2455","v":""},{"$f":"Blad3!G2455","v":0},"Oanmäld frånvaro"]
["FRÅNVARO",{"$f":"IN!B2456","v":0},{"$f":"Blad3!E2456","v":""},{"$f":"Blad3!G2456","v":0},"Oanmäld frånvaro"]
["FRÅNVARO",{"$f":"IN!B2457","v":0},{"$f":"Blad3!E2457","v":""},{"$f":"Blad3!G2457","v":0},"Oanmäld frånvaro"]
["FRÅNVARO",{"$f":"IN!B2458","v":0},{"$f":"Blad3!E2458","v":""},{"$f":"Blad3!G2458","v":0},"Oanmäld frånvaro"]
["FRÅNVARO",{"$f":"IN!B2459","v":0},{"$f":"Blad3!E2459","v":""},{"$f":"Blad3!G2459","v":0},"Oanmäld frånvaro"]
["FRÅNVARO",{"$f":"IN!B2460","v":0},{"$f":"Blad3!E2460","v":""},{"$f":"Blad3!G2460","v":0},"Oanmäld frånvaro"]
["FRÅNVARO",{"$f":"IN!B2461","v":0},{"$f":"Blad3!E2461","v":""},{"$f":"Blad3!G2461","v":0},"Oanmäld frånvaro"]
["FRÅNVARO",{"$f":"IN!B2462","v":0},{"$f":"Blad3!E2462","v":""},{"$f":"Blad3!G2462","v":0},"Oanmäld frånvaro"]
["FRÅNVARO",{"$f":"IN!B2463","v":0},{"$f":"Blad3!E2463","v":""},{"$f":"Blad3!G2463","v":0},"Oanmäld frånvaro"]
["FRÅNVARO",{"$f":"IN!B2464","v":0},{"$f":"Blad3!E2464","v":""},{"$f":"Blad3!G2464","v":0},"Oanmäld frånvaro"]
["FRÅNVARO",{"$f":"IN!B2465","v":0},{"$f":"Blad3!E2465","v":""},{"$f":"Blad3!G2465","v":0},"Oanmäld frånvaro"]
["FRÅNVARO",{"$f":"IN!B2466","v":0},{"$f":"Blad3!E2466","v":""},{"$f":"Blad3!G2466","v":0},"Oanmäld frånvaro"]
["FRÅNVARO",{"$f":"IN!B2467","v":0},{"$f":"Blad3!E2467","v":""},{"$f":"Blad3!G2467","v":0},"Oanmäld frånvaro"]
["FRÅNVARO",{"$f":"IN!B2468","v":0},{"$f":"Blad3!E2468","v":""},{"$f":"Blad3!G2468","v":0},"Oanmäld frånvaro"]
["FRÅNVARO",{"$f":"IN!B2469","v":0},{"$f":"Blad3!E2469","v":""},{"$f":"Blad3!G2469","v":0},"Oanmäld frånvaro"]
["FRÅNVARO",{"$f":"IN!B2470","v":0},{"$f":"Blad3!E2470","v":""},{"$f":"Blad3!G2470","v":0},"Oanmäld frånvaro"]
["FRÅNVARO",{"$f":"IN!B2471","v":0},{"$f":"Blad3!E2471","v":""},{"$f":"Blad3!G2471","v":0},"Oanmäld frånvaro"]
["FRÅNVARO",{"$f":"IN!B2472","v":0},{"$f":"Blad3!E2472","v":""},{"$f":"Blad3!G2472","v":0},"Oanmäld frånvaro"]
["FRÅNVARO",{"$f":"IN!B2473","v":0},{"$f":"Blad3!E2473","v":""},{"$f":"Blad3!G2473","v":0},"Oanmäld frånvaro"]
["FRÅNVARO",{"$f":"IN!B2474","v":0},{"$f":"Blad3!E2474","v":""},{"$f":"Blad3!G2474","v":0},"Oanmäld frånvaro"]
["FRÅNVARO",{"$f":"IN!B2475","v":0},{"$f":"Blad3!E2475","v":""},{"$f":"Blad3!G2475","v":0},"Oanmäld frånvaro"]
["FRÅNVARO",{"$f":"IN!B2476","v":0},{"$f":"Blad3!E2476","v":""},{"$f":"Blad3!G2476","v":0},"Oanmäld frånvaro"]
["FRÅNVARO",{"$f":"IN!B2477","v":0},{"$f":"Blad3!E2477","v":""},{"$f":"Blad3!G2477","v":0},"Oanmäld frånvaro"]
["FRÅNVARO",{"$f":"IN!B2478","v":0},{"$f":"Blad3!E2478","v":""},{"$f":"Blad3!G2478","v":0},"Oanmäld frånvaro"]
["FRÅNVARO",{"$f":"IN!B2479","v":0},{"$f":"Blad3!E2479","v":""},{"$f":"Blad3!G2479","v":0},"Oanmäld frånvaro"]
["FRÅNVARO",{"$f":"IN!B2480","v":0},{"$f":"Blad3!E2480","v":""},{"$f":"Blad3!G2480","v":0},"Oanmäld frånvaro"]
["FRÅNVARO",{"$f":"IN!B2481","v":0},{"$f":"Blad3!E2481","v":""},{"$f":"Blad3!G2481","v":0},"Oanmäld frånvaro"]
["FRÅNVARO",{"$f":"IN!B2482","v":0},{"$f":"Blad3!E2482","v":""},{"$f":"Blad3!G2482","v":0},"Oanmäld frånvaro"]
["FRÅNVARO",{"$f":"IN!B2483","v":0},{"$f":"Blad3!E2483","v":""},{"$f":"Blad3!G2483","v":0},"Oanmäld frånvaro"]
["FRÅNVARO",{"$f":"IN!B2484","v":0},{"$f":"Blad3!E2484","v":""},{"$f":"Blad3!G2484","v":0},"Oanmäld frånvaro"]
["FRÅNVARO",{"$f":"IN!B2485","v":0},{"$f":"Blad3!E2485","v":""},{"$f":"Blad3!G2485","v":0},"Oanmäld frånvaro"]
["FRÅNVARO",{"$f":"IN!B2486","v":0},{"$f":"Blad3!E2486","v":""},{"$f":"Blad3!G2486","v":0},"Oanmäld frånvaro"]
["FRÅNVARO",{"$f":"IN!B2487","v":0},{"$f":"Blad3!E2487","v":""},{"$f":"Blad3!G2487","v":0},"Oanmäld frånvaro"]
["FRÅNVARO",{"$f":"IN!B2488","v":0},{"$f":"Blad3!E2488","v":""},{"$f":"Blad3!G2488","v":0},"Oanmäld frånvaro"]
["FRÅNVARO",{"$f":"IN!B2489","v":0},{"$f":"Blad3!E2489","v":""},{"$f":"Blad3!G2489","v":0},"Oanmäld frånvaro"]
["FRÅNVARO",{"$f":"IN!B2490","v":0},{"$f":"Blad3!E2490","v":""},{"$f":"Blad3!G2490","v":0},"Oanmäld frånvaro"]
["FRÅNVARO",{"$f":"IN!B2491","v":0},{"$f":"Blad3!E2491","v":""},{"$f":"Blad3!G2491","v":0},"Oanmäld frånvaro"]
["FRÅNVARO",{"$f":"IN!B2492","v":0},{"$f":"Blad3!E2492","v":""},{"$f":"Blad3!G2492","v":0},"Oanmäld frånvaro"]
["FRÅNVARO",{"$f":"IN!B2493","v":0},{"$f":"Blad3!E2493","v":""},{"$f":"Blad3!G2493","v":0},"Oanmäld frånvaro"]
["FRÅNVARO",{"$f":"IN!B2494","v":0},{"$f":"Blad3!E2494","v":""},{"$f":"Blad3!G2494","v":0},"Oanmäld frånvaro"]
["FRÅNVARO",{"$f":"IN!B2495","v":0},{"$f":"Blad3!E2495","v":""},{"$f":"Blad3!G2495","v":0},"Oanmäld frånvaro"]
["FRÅNVARO",{"$f":"IN!B2496","v":0},{"$f":"Blad3!E2496","v":""},{"$f":"Blad3!G2496","v":0},"Oanmäld frånvaro"]
["FRÅNVARO",{"$f":"IN!B2497","v":0},{"$f":"Blad3!E2497","v":""},{"$f":"Blad3!G2497","v":0},"Oanmäld frånvaro"]
["FRÅNVARO",{"$f":"IN!B2498","v":0},{"$f":"Blad3!E2498","v":""},{"$f":"Blad3!G2498","v":0},"Oanmäld frånvaro"]
["FRÅNVARO",{"$f":"IN!B2499","v":0},{"$f":"Blad3!E2499","v":""},{"$f":"Blad3!G2499","v":0},"Oanmäld frånvaro"]
["FRÅNVARO",{"$f":"IN!B2500","v":0},{"$f":"Blad3!E2500","v":""},{"$f":"Blad3!G2500","v":0},"Oanmäld frånvaro"]
["FRÅNVARO",{"$f":"IN!B2501","v":0},{"$f":"Blad3!E2501","v":""},{"$f":"Blad3!G2501","v":0},"Oanmäld frånvaro"]
["FRÅNVARO",{"$f":"IN!B2502","v":0},{"$f":"Blad3!E2502","v":""},{"$f":"Blad3!G2502","v":0},"Oanmäld frånvaro"]
["FRÅNVARO",{"$f":"IN!B2503","v":0},{"$f":"Blad3!E2503","v":""},{"$f":"Blad3!G2503","v":0},"Oanmäld frånvaro"]
["FRÅNVARO",{"$f":"IN!B2504","v":0},{"$f":"Blad3!E2504","v":""},{"$f":"Blad3!G2504","v":0},"Oanmäld frånvaro"]
["FRÅNVARO",{"$f":"IN!B2505","v":0},{"$f":"Blad3!E2505","v":""},{"$f":"Blad3!G2505","v":0},"Oanmäld frånvaro"]
["FRÅNVARO",{"$f":"IN!B2506","v":0},{"$f":"Blad3!E2506","v":""},{"$f":"Blad3!G2506","v":0},"Oanmäld frånvaro"]
["FRÅNVARO",{"$f":"IN!B2507","v":0},{"$f":"Blad3!E2507","v":""},{"$f":"Blad3!G2507","v":0},"Oanmäld frånvaro"]
["FRÅNVARO",{"$f":"IN!B2508","v":0},{"$f":"Blad3!E2508","v":""},{"$f":"Blad3!G2508","v":0},"Oanmäld frånvaro"]
["FRÅNVARO",{"$f":"IN!B2509","v":0},{"$f":"Blad3!E2509","v":""},{"$f":"Blad3!G2509","v":0},"Oanmäld frånvaro"]
["FRÅNVARO",{"$f":"IN!B2510","v":0},{"$f":"Blad3!E2510","v":""},{"$f":"Blad3!G2510","v":0},"Oanmäld frånvaro"]
["FRÅNVARO",{"$f":"IN!B2511","v":0},{"$f":"Blad3!E2511","v":""},{"$f":"Blad3!G2511","v":0},"Oanmäld frånvaro"]
["FRÅNVARO",{"$f":"IN!B2512","v":0},{"$f":"Blad3!E2512","v":""},{"$f":"Blad3!G2512","v":0},"Oanmäld frånvaro"]
["FRÅNVARO",{"$f":"IN!B2513","v":0},{"$f":"Blad3!E2513","v":""},{"$f":"Blad3!G2513","v":0},"Oanmäld frånvaro"]
["FRÅNVARO",{"$f":"IN!B2514","v":0},{"$f":"Blad3!E2514","v":""},{"$f":"Blad3!G2514","v":0},"Oanmäld frånvaro"]
["FRÅNVARO",{"$f":"IN!B2515","v":0},{"$f":"Blad3!E2515","v":""},{"$f":"Blad3!G2515","v":0},"Oanmäld frånvaro"]
["FRÅNVARO",{"$f":"IN!B2516","v":0},{"$f":"Blad3!E2516","v":""},{"$f":"Blad3!G2516","v":0},"Oanmäld frånvaro"]
["FRÅNVARO",{"$f":"IN!B2517","v":0},{"$f":"Blad3!E2517","v":""},{"$f":"Blad3!G2517","v":0},"Oanmäld frånvaro"]
["FRÅNVARO",{"$f":"IN!B2518","v":0},{"$f":"Blad3!E2518","v":""},{"$f":"Blad3!G2518","v":0},"Oanmäld frånvaro"]
["FRÅNVARO",{"$f":"IN!B2519","v":0},{"$f":"Blad3!E2519","v":""},{"$f":"Blad3!G2519","v":0},"Oanmäld frånvaro"]
["FRÅNVARO",{"$f":"IN!B2520","v":0},{"$f":"Blad3!E2520","v":""},{"$f":"Blad3!G2520","v":0},"Oanmäld frånvaro"]
["FRÅNVARO",{"$f":"IN!B2521","v":0},{"$f":"Blad3!E2521","v":""},{"$f":"Blad3!G2521","v":0},"Oanmäld frånvaro"]
["FRÅNVARO",{"$f":"IN!B2522","v":0},{"$f":"Blad3!E2522","v":""},{"$f":"Blad3!G2522","v":0},"Oanmäld frånvaro"]
["FRÅNVARO",{"$f":"IN!B2523","v":0},{"$f":"Blad3!E2523","v":""},{"$f":"Blad3!G2523","v":0},"Oanmäld frånvaro"]
["FRÅNVARO",{"$f":"IN!B2524","v":0},{"$f":"Blad3!E2524","v":""},{"$f":"Blad3!G2524","v":0},"Oanmäld frånvaro"]
["FRÅNVARO",{"$f":"IN!B2525","v":0},{"$f":"Blad3!E2525","v":""},{"$f":"Blad3!G2525","v":0},"Oanmäld frånvaro"]
["FRÅNVARO",{"$f":"IN!B2526","v":0},{"$f":"Blad3!E2526","v":""},{"$f":"Blad3!G2526","v":0},"Oanmäld frånvaro"]
["FRÅNVARO",{"$f":"IN!B2527","v":0},{"$f":"Blad3!E2527","v":""},{"$f":"Blad3!G2527","v":0},"Oanmäld frånvaro"]
["FRÅNVARO",{"$f":"IN!B2528","v":0},{"$f":"Blad3!E2528","v":""},{"$f":"Blad3!G2528","v":0},"Oanmäld frånvaro"]
["FRÅNVARO",{"$f":"IN!B2529","v":0},{"$f":"Blad3!E2529","v":""},{"$f":"Blad3!G2529","v":0},"Oanmäld frånvaro"]
["FRÅNVARO",{"$f":"IN!B2530","v":0},{"$f":"Blad3!E2530","v":""},{"$f":"Blad3!G2530","v":0},"Oanmäld frånvaro"]
["FRÅNVARO",{"$f":"IN!B2531","v":0},{"$f":"Blad3!E2531","v":""},{"$f":"Blad3!G2531","v":0},"Oanmäld frånvaro"]
["FRÅNVARO",{"$f":"IN!B2532","v":0},{"$f":"Blad3!E2532","v":""},{"$f":"Blad3!G2532","v":0},"Oanmäld frånvaro"]
["FRÅNVARO",{"$f":"IN!B2533","v":0},{"$f":"Blad3!E2533","v":""},{"$f":"Blad3!G2533","v":0},"Oanmäld frånvaro"]
["FRÅNVARO",{"$f":"IN!B2534","v":0},{"$f":"Blad3!E2534","v":""},{"$f":"Blad3!G2534","v":0},"Oanmäld frånvaro"]
["FRÅNVARO",{"$f":"IN!B2535","v":0},{"$f":"Blad3!E2535","v":""},{"$f":"Blad3!G2535","v":0},"Oanmäld frånvaro"]
["FRÅNVARO",{"$f":"IN!B2536","v":0},{"$f":"Blad3!E2536","v":""},{"$f":"Blad3!G2536","v":0},"Oanmäld frånvaro"]
["FRÅNVARO",{"$f":"IN!B2537","v":0},{"$f":"Blad3!E2537","v":""},{"$f":"Blad3!G2537","v":0},"Oanmäld frånvaro"]
["FRÅNVARO",{"$f":"IN!B2538","v":0},{"$f":"Blad3!E2538","v":""},{"$f":"Blad3!G2538","v":0},"Oanmäld frånvaro"]
["FRÅNVARO",{"$f":"IN!B2539","v":0},{"$f":"Blad3!E2539","v":""},{"$f":"Blad3!G2539","v":0},"Oanmäld frånvaro"]
["FRÅNVARO",{"$f":"IN!B2540","v":0},{"$f":"Blad3!E2540","v":""},{"$f":"Blad3!G2540","v":0},"Oanmäld frånvaro"]
["FRÅNVARO",{"$f":"IN!B2541","v":0},{"$f":"Blad3!E2541","v":""},{"$f":"Blad3!G2541","v":0},"Oanmäld frånvaro"]
["FRÅNVARO",{"$f":"IN!B2542","v":0},{"$f":"Blad3!E2542","v":""},{"$f":"Blad3!G2542","v":0},"Oanmäld frånvaro"]
["FRÅNVARO",{"$f":"IN!B2543","v":0},{"$f":"Blad3!E2543","v":""},{"$f":"Blad3!G2543","v":0},"Oanmäld frånvaro"]
["FRÅNVARO",{"$f":"IN!B2544","v":0},{"$f":"Blad3!E2544","v":""},{"$f":"Blad3!G2544","v":0},"Oanmäld frånvaro"]
["FRÅNVARO",{"$f":"IN!B2545","v":0},{"$f":"Blad3!E2545","v":""},{"$f":"Blad3!G2545","v":0},"Oanmäld frånvaro"]
["FRÅNVARO",{"$f":"IN!B2546","v":0},{"$f":"Blad3!E2546","v":""},{"$f":"Blad3!G2546","v":0},"Oanmäld frånvaro"]
["FRÅNVARO",{"$f":"IN!B2547","v":0},{"$f":"Blad3!E2547","v":""},{"$f":"Blad3!G2547","v":0},"Oanmäld frånvaro"]
["FRÅNVARO",{"$f":"IN!B2548","v":0},{"$f":"Blad3!E2548","v":""},{"$f":"Blad3!G2548","v":0},"Oanmäld frånvaro"]
["FRÅNVARO",{"$f":"IN!B2549","v":0},{"$f":"Blad3!E2549","v":""},{"$f":"Blad3!G2549","v":0},"Oanmäld frånvaro"]
["FRÅNVARO",{"$f":"IN!B2550","v":0},{"$f":"Blad3!E2550","v":""},{"$f":"Blad3!G2550","v":0},"Oanmäld frånvaro"]
["FRÅNVARO",{"$f":"IN!B2551","v":0},{"$f":"Blad3!E2551","v":""},{"$f":"Blad3!G2551","v":0},"Oanmäld frånvaro"]
["FRÅNVARO",{"$f":"IN!B2552","v":0},{"$f":"Blad3!E2552","v":""},{"$f":"Blad3!G2552","v":0},"Oanmäld frånvaro"]
["FRÅNVARO",{"$f":"IN!B2553","v":0},{"$f":"Blad3!E2553","v":""},{"$f":"Blad3!G2553","v":0},"Oanmäld frånvaro"]
["FRÅNVARO",{"$f":"IN!B2554","v":0},{"$f":"Blad3!E2554","v":""},{"$f":"Blad3!G2554","v":0},"Oanmäld frånvaro"]
["FRÅNVARO",{"$f":"IN!B2555","v":0},{"$f":"Blad3!E2555","v":""},{"$f":"Blad3!G2555","v":0},"Oanmäld frånvaro"]
["FRÅNVARO",{"$f":"IN!B2556","v":0},{"$f":"Blad3!E2556","v":""},{"$f":"Blad3!G2556","v":0},"Oanmäld frånvaro"]
["FRÅNVARO",{"$f":"IN!B2557","v":0},{"$f":"Blad3!E2557","v":""},{"$f":"Blad3!G2557","v":0},"Oanmäld frånvaro"]
["FRÅNVARO",{"$f":"IN!B2558","v":0},{"$f":"Blad3!E2558","v":""},{"$f":"Blad3!G2558","v":0},"Oanmäld frånvaro"]
["FRÅNVARO",{"$f":"IN!B2559","v":0},{"$f":"Blad3!E2559","v":""},{"$f":"Blad3!G2559","v":0},"Oanmäld frånvaro"]
["FRÅNVARO",{"$f":"IN!B2560","v":0},{"$f":"Blad3!E2560","v":""},{"$f":"Blad3!G2560","v":0},"Oanmäld frånvaro"]
["FRÅNVARO",{"$f":"IN!B2561","v":0},{"$f":"Blad3!E2561","v":""},{"$f":"Blad3!G2561","v":0},"Oanmäld frånvaro"]
["FRÅNVARO",{"$f":"IN!B2562","v":0},{"$f":"Blad3!E2562","v":""},{"$f":"Blad3!G2562","v":0},"Oanmäld frånvaro"]
["FRÅNVARO",{"$f":"IN!B2563","v":0},{"$f":"Blad3!E2563","v":""},{"$f":"Blad3!G2563","v":0},"Oanmäld frånvaro"]
["FRÅNVARO",{"$f":"IN!B2564","v":0},{"$f":"Blad3!E2564","v":""},{"$f":"Blad3!G2564","v":0},"Oanmäld frånvaro"]
["FRÅNVARO",{"$f":"IN!B2565","v":0},{"$f":"Blad3!E2565","v":""},{"$f":"Blad3!G2565","v":0},"Oanmäld frånvaro"]
["FRÅNVARO",{"$f":"IN!B2566","v":0},{"$f":"Blad3!E2566","v":""},{"$f":"Blad3!G2566","v":0},"Oanmäld frånvaro"]
["FRÅNVARO",{"$f":"IN!B2567","v":0},{"$f":"Blad3!E2567","v":""},{"$f":"Blad3!G2567","v":0},"Oanmäld frånvaro"]
["FRÅNVARO",{"$f":"IN!B2568","v":0},{"$f":"Blad3!E2568","v":""},{"$f":"Blad3!G2568","v":0},"Oanmäld frånvaro"]
["FRÅNVARO",{"$f":"IN!B2569","v":0},{"$f":"Blad3!E2569","v":""},{"$f":"Blad3!G2569","v":0},"Oanmäld frånvaro"]
["FRÅNVARO",{"$f":"IN!B2570","v":0},{"$f":"Blad3!E2570","v":""},{"$f":"Blad3!G2570","v":0},"Oanmäld frånvaro"]
["FRÅNVARO",{"$f":"IN!B2571","v":0},{"$f":"Blad3!E2571","v":""},{"$f":"Blad3!G2571","v":0},"Oanmäld frånvaro"]
["FRÅNVARO",{"$f":"IN!B2572","v":0},{"$f":"Blad3!E2572","v":""},{"$f":"Blad3!G2572","v":0},"Oanmäld frånvaro"]
["FRÅNVARO",{"$f":"IN!B2573","v":0},{"$f":"Blad3!E2573","v":""},{"$f":"Blad3!G2573","v":0},"Oanmäld frånvaro"]
["FRÅNVARO",{"$f":"IN!B2574","v":0},{"$f":"Blad3!E2574","v":""},{"$f":"Blad3!G2574","v":0},"Oanmäld frånvaro"]
["FRÅNVARO",{"$f":"IN!B2575","v":0},{"$f":"Blad3!E2575","v":""},{"$f":"Blad3!G2575","v":0},"Oanmäld frånvaro"]
["FRÅNVARO",{"$f":"IN!B2576","v":0},{"$f":"Blad3!E2576","v":""},{"$f":"Blad3!G2576","v":0},"Oanmäld frånvaro"]
["FRÅNVARO",{"$f":"IN!B2577","v":0},{"$f":"Blad3!E2577","v":""},{"$f":"Blad3!G2577","v":0},"Oanmäld frånvaro"]
["FRÅNVARO",{"$f":"IN!B2578","v":0},{"$f":"Blad3!E2578","v":""},{"$f":"Blad3!G2578","v":0},"Oanmäld frånvaro"]
["FRÅNVARO",{"$f":"IN!B2579","v":0},{"$f":"Blad3!E2579","v":""},{"$f":"Blad3!G2579","v":0},"Oanmäld frånvaro"]
["FRÅNVARO",{"$f":"IN!B2580","v":0},{"$f":"Blad3!E2580","v":""},{"$f":"Blad3!G2580","v":0},"Oanmäld frånvaro"]
["FRÅNVARO",{"$f":"IN!B2581","v":0},{"$f":"Blad3!E2581","v":""},{"$f":"Blad3!G2581","v":0},"Oanmäld frånvaro"]
["FRÅNVARO",{"$f":"IN!B2582","v":0},{"$f":"Blad3!E2582","v":""},{"$f":"Blad3!G2582","v":0},"Oanmäld frånvaro"]
["FRÅNVARO",{"$f":"IN!B2583","v":0},{"$f":"Blad3!E2583","v":""},{"$f":"Blad3!G2583","v":0},"Oanmäld frånvaro"]
["FRÅNVARO",{"$f":"IN!B2584","v":0},{"$f":"Blad3!E2584","v":""},{"$f":"Blad3!G2584","v":0},"Oanmäld frånvaro"]
["FRÅNVARO",{"$f":"IN!B2585","v":0},{"$f":"Blad3!E2585","v":""},{"$f":"Blad3!G2585","v":0},"Oanmäld frånvaro"]
["FRÅNVARO",{"$f":"IN!B2586","v":0},{"$f":"Blad3!E2586","v":""},{"$f":"Blad3!G2586","v":0},"Oanmäld frånvaro"]
["FRÅNVARO",{"$f":"IN!B2587","v":0},{"$f":"Blad3!E2587","v":""},{"$f":"Blad3!G2587","v":0},"Oanmäld frånvaro"]
["FRÅNVARO",{"$f":"IN!B2588","v":0},{"$f":"Blad3!E2588","v":""},{"$f":"Blad3!G2588","v":0},"Oanmäld frånvaro"]
["FRÅNVARO",{"$f":"IN!B2589","v":0},{"$f":"Blad3!E2589","v":""},{"$f":"Blad3!G2589","v":0},"Oanmäld frånvaro"]
["FRÅNVARO",{"$f":"IN!B2590","v":0},{"$f":"Blad3!E2590","v":""},{"$f":"Blad3!G2590","v":0},"Oanmäld frånvaro"]
["FRÅNVARO",{"$f":"IN!B2591","v":0},{"$f":"Blad3!E2591","v":""},{"$f":"Blad3!G2591","v":0},"Oanmäld frånvaro"]
["FRÅNVARO",{"$f":"IN!B2592","v":0},{"$f":"Blad3!E2592","v":""},{"$f":"Blad3!G2592","v":0},"Oanmäld frånvaro"]
["FRÅNVARO",{"$f":"IN!B2593","v":0},{"$f":"Blad3!E2593","v":""},{"$f":"Blad3!G2593","v":0},"Oanmäld frånvaro"]
["FRÅNVARO",{"$f":"IN!B2594","v":0},{"$f":"Blad3!E2594","v":""},{"$f":"Blad3!G2594","v":0},"Oanmäld frånvaro"]
["FRÅNVARO",{"$f":"IN!B2595","v":0},{"$f":"Blad3!E2595","v":""},{"$f":"Blad3!G2595","v":0},"Oanmäld frånvaro"]
["FRÅNVARO",{"$f":"IN!B2596","v":0},{"$f":"Blad3!E2596","v":""},{"$f":"Blad3!G2596","v":0},"Oanmäld frånvaro"]
["FRÅNVARO",{"$f":"IN!B2597","v":0},{"$f":"Blad3!E2597","v":""},{"$f":"Blad3!G2597","v":0},"Oanmäld frånvaro"]
["FRÅNVARO",{"$f":"IN!B2598","v":0},{"$f":"Blad3!E2598","v":""},{"$f":"Blad3!G2598","v":0},"Oanmäld frånvaro"]
["FRÅNVARO",{"$f":"IN!B2599","v":0},{"$f":"Blad3!E2599","v":""},{"$f":"Blad3!G2599","v":0},"Oanmäld frånvaro"]
["FRÅNVARO",{"$f":"IN!B2600","v":0},{"$f":"Blad3!E2600","v":""},{"$f":"Blad3!G2600","v":0},"Oanmäld frånvaro"]
["FRÅNVARO",{"$f":"IN!B2601","v":0},{"$f":"Blad3!E2601","v":""},{"$f":"Blad3!G2601","v":0},"Oanmäld frånvaro"]
["FRÅNVARO",{"$f":"IN!B2602","v":0},{"$f":"Blad3!E2602","v":""},{"$f":"Blad3!G2602","v":0},"Oanmäld frånvaro"]
["FRÅNVARO",{"$f":"IN!B2603","v":0},{"$f":"Blad3!E2603","v":""},{"$f":"Blad3!G2603","v":0},"Oanmäld frånvaro"]
["FRÅNVARO",{"$f":"IN!B2604","v":0},{"$f":"Blad3!E2604","v":""},{"$f":"Blad3!G2604","v":0},"Oanmäld frånvaro"]
["FRÅNVARO",{"$f":"IN!B2605","v":0},{"$f":"Blad3!E2605","v":""},{"$f":"Blad3!G2605","v":0},"Oanmäld frånvaro"]
["FRÅNVARO",{"$f":"IN!B2606","v":0},{"$f":"Blad3!E2606","v":""},{"$f":"Blad3!G2606","v":0},"Oanmäld frånvaro"]
["FRÅNVARO",{"$f":"IN!B2607","v":0},{"$f":"Blad3!E2607","v":""},{"$f":"Blad3!G2607","v":0},"Oanmäld frånvaro"]
["FRÅNVARO",{"$f":"IN!B2608","v":0},{"$f":"Blad3!E2608","v":""},{"$f":"Blad3!G2608","v":0},"Oanmäld frånvaro"]
["FRÅNVARO",{"$f":"IN!B2609","v":0},{"$f":"Blad3!E2609","v":""},{"$f":"Blad3!G2609","v":0},"Oanmäld frånvaro"]
["FRÅNVARO",{"$f":"IN!B2610","v":0},{"$f":"Blad3!E2610","v":""},{"$f":"Blad3!G2610","v":0},"Oanmäld frånvaro"]
["FRÅNVARO",{"$f":"IN!B2611","v":0},{"$f":"Blad3!E2611","v":""},{"$f":"Blad3!G2611","v":0},"Oanmäld frånvaro"]
["FRÅNVARO",{"$f":"IN!B2612","v":0},{"$f":"Blad3!E2612","v":""},{"$f":"Blad3!G2612","v":0},"Oanmäld frånvaro"]
["FRÅNVARO",{"$f":"IN!B2613","v":0},{"$f":"Blad3!E2613","v":""},{"$f":"Blad3!G2613","v":0},"Oanmäld frånvaro"]
["FRÅNVARO",{"$f":"IN!B2614","v":0},{"$f":"Blad3!E2614","v":""},{"$f":"Blad3!G2614","v":0},"Oanmäld frånvaro"]
["FRÅNVARO",{"$f":"IN!B2615","v":0},{"$f":"Blad3!E2615","v":""},{"$f":"Blad3!G2615","v":0},"Oanmäld frånvaro"]
["FRÅNVARO",{"$f":"IN!B2616","v":0},{"$f":"Blad3!E2616","v":""},{"$f":"Blad3!G2616","v":0},"Oanmäld frånvaro"]
["FRÅNVARO",{"$f":"IN!B2617","v":0},{"$f":"Blad3!E2617","v":""},{"$f":"Blad3!G2617","v":0},"Oanmäld frånvaro"]
["FRÅNVARO",{"$f":"IN!B2618","v":0},{"$f":"Blad3!E2618","v":""},{"$f":"Blad3!G2618","v":0},"Oanmäld frånvaro"]
["FRÅNVARO",{"$f":"IN!B2619","v":0},{"$f":"Blad3!E2619","v":""},{"$f":"Blad3!G2619","v":0},"Oanmäld frånvaro"]
["FRÅNVARO",{"$f":"IN!B2620","v":0},{"$f":"Blad3!E2620","v":""},{"$f":"Blad3!G2620","v":0},"Oanmäld frånvaro"]
["FRÅNVARO",{"$f":"IN!B2621","v":0},{"$f":"Blad3!E2621","v":""},{"$f":"Blad3!G2621","v":0},"Oanmäld frånvaro"]
["FRÅNVARO",{"$f":"IN!B2622","v":0},{"$f":"Blad3!E2622","v":""},{"$f":"Blad3!G2622","v":0},"Oanmäld frånvaro"]
["FRÅNVARO",{"$f":"IN!B2623","v":0},{"$f":"Blad3!E2623","v":""},{"$f":"Blad3!G2623","v":0},"Oanmäld frånvaro"]
["FRÅNVARO",{"$f":"IN!B2624","v":0},{"$f":"Blad3!E2624","v":""},{"$f":"Blad3!G2624","v":0},"Oanmäld frånvaro"]
["FRÅNVARO",{"$f":"IN!B2625","v":0},{"$f":"Blad3!E2625","v":""},{"$f":"Blad3!G2625","v":0},"Oanmäld frånvaro"]
["FRÅNVARO",{"$f":"IN!B2626","v":0},{"$f":"Blad3!E2626","v":""},{"$f":"Blad3!G2626","v":0},"Oanmäld frånvaro"]
["FRÅNVARO",{"$f":"IN!B2627","v":0},{"$f":"Blad3!E2627","v":""},{"$f":"Blad3!G2627","v":0},"Oanmäld frånvaro"]
["FRÅNVARO",{"$f":"IN!B2628","v":0},{"$f":"Blad3!E2628","v":""},{"$f":"Blad3!G2628","v":0},"Oanmäld frånvaro"]
["FRÅNVARO",{"$f":"IN!B2629","v":0},{"$f":"Blad3!E2629","v":""},{"$f":"Blad3!G2629","v":0},"Oanmäld frånvaro"]
["FRÅNVARO",{"$f":"IN!B2630","v":0},{"$f":"Blad3!E2630","v":""},{"$f":"Blad3!G2630","v":0},"Oanmäld frånvaro"]
["FRÅNVARO",{"$f":"IN!B2631","v":0},{"$f":"Blad3!E2631","v":""},{"$f":"Blad3!G2631","v":0},"Oanmäld frånvaro"]
["FRÅNVARO",{"$f":"IN!B2632","v":0},{"$f":"Blad3!E2632","v":""},{"$f":"Blad3!G2632","v":0},"Oanmäld frånvaro"]
["FRÅNVARO",{"$f":"IN!B2633","v":0},{"$f":"Blad3!E2633","v":""},{"$f":"Blad3!G2633","v":0},"Oanmäld frånvaro"]
["FRÅNVARO",{"$f":"IN!B2634","v":0},{"$f":"Blad3!E2634","v":""},{"$f":"Blad3!G2634","v":0},"Oanmäld frånvaro"]
["FRÅNVARO",{"$f":"IN!B2635","v":0},{"$f":"Blad3!E2635","v":""},{"$f":"Blad3!G2635","v":0},"Oanmäld frånvaro"]
["FRÅNVARO",{"$f":"IN!B2636","v":0},{"$f":"Blad3!E2636","v":""},{"$f":"Blad3!G2636","v":0},"Oanmäld frånvaro"]
["FRÅNVARO",{"$f":"IN!B2637","v":0},{"$f":"Blad3!E2637","v":""},{"$f":"Blad3!G2637","v":0},"Oanmäld frånvaro"]
["FRÅNVARO",{"$f":"IN!B2638","v":0},{"$f":"Blad3!E2638","v":""},{"$f":"Blad3!G2638","v":0},"Oanmäld frånvaro"]
["FRÅNVARO",{"$f":"IN!B2639","v":0},{"$f":"Blad3!E2639","v":""},{"$f":"Blad3!G2639","v":0},"Oanmäld frånvaro"]
["FRÅNVARO",{"$f":"IN!B2640","v":0},{"$f":"Blad3!E2640","v":""},{"$f":"Blad3!G2640","v":0},"Oanmäld frånvaro"]
["FRÅNVARO",{"$f":"IN!B2641","v":0},{"$f":"Blad3!E2641","v":""},{"$f":"Blad3!G2641","v":0},"Oanmäld frånvaro"]
["FRÅNVARO",{"$f":"IN!B2642","v":0},{"$f":"Blad3!E2642","v":""},{"$f":"Blad3!G2642","v":0},"Oanmäld frånvaro"]
["FRÅNVARO",{"$f":"IN!B2643","v":0},{"$f":"Blad3!E2643","v":""},{"$f":"Blad3!G2643","v":0},"Oanmäld frånvaro"]
["FRÅNVARO",{"$f":"IN!B2644","v":0},{"$f":"Blad3!E2644","v":""},{"$f":"Blad3!G2644","v":0},"Oanmäld frånvaro"]
["FRÅNVARO",{"$f":"IN!B2645","v":0},{"$f":"Blad3!E2645","v":""},{"$f":"Blad3!G2645","v":0},"Oanmäld frånvaro"]
["FRÅNVARO",{"$f":"IN!B2646","v":0},{"$f":"Blad3!E2646","v":""},{"$f":"Blad3!G2646","v":0},"Oanmäld frånvaro"]
["FRÅNVARO",{"$f":"IN!B2647","v":0},{"$f":"Blad3!E2647","v":""},{"$f":"Blad3!G2647","v":0},"Oanmäld frånvaro"]
["FRÅNVARO",{"$f":"IN!B2648","v":0},{"$f":"Blad3!E2648","v":""},{"$f":"Blad3!G2648","v":0},"Oanmäld frånvaro"]
["FRÅNVARO",{"$f":"IN!B2649","v":0},{"$f":"Blad3!E2649","v":""},{"$f":"Blad3!G2649","v":0},"Oanmäld frånvaro"]
["FRÅNVARO",{"$f":"IN!B2650","v":0},{"$f":"Blad3!E2650","v":""},{"$f":"Blad3!G2650","v":0},"Oanmäld frånvaro"]
["FRÅNVARO",{"$f":"IN!B2651","v":0},{"$f":"Blad3!E2651","v":""},{"$f":"Blad3!G2651","v":0},"Oanmäld frånvaro"]
["FRÅNVARO",{"$f":"IN!B2652","v":0},{"$f":"Blad3!E2652","v":""},{"$f":"Blad3!G2652","v":0},"Oanmäld frånvaro"]
["FRÅNVARO",{"$f":"IN!B2653","v":0},{"$f":"Blad3!E2653","v":""},{"$f":"Blad3!G2653","v":0},"Oanmäld frånvaro"]
["FRÅNVARO",{"$f":"IN!B2654","v":0},{"$f":"Blad3!E2654","v":""},{"$f":"Blad3!G2654","v":0},"Oanmäld frånvaro"]
["FRÅNVARO",{"$f":"IN!B2655","v":0},{"$f":"Blad3!E2655","v":""},{"$f":"Blad3!G2655","v":0},"Oanmäld frånvaro"]
["FRÅNVARO",{"$f":"IN!B2656","v":0},{"$f":"Blad3!E2656","v":""},{"$f":"Blad3!G2656","v":0},"Oanmäld frånvaro"]
["FRÅNVARO",{"$f":"IN!B2657","v":0},{"$f":"Blad3!E2657","v":""},{"$f":"Blad3!G2657","v":0},"Oanmäld frånvaro"]
["FRÅNVARO",{"$f":"IN!B2658","v":0},{"$f":"Blad3!E2658","v":""},{"$f":"Blad3!G2658","v":0},"Oanmäld frånvaro"]
["FRÅNVARO",{"$f":"IN!B2659","v":0},{"$f":"Blad3!E2659","v":""},{"$f":"Blad3!G2659","v":0},"Oanmäld frånvaro"]
["FRÅNVARO",{"$f":"IN!B2660","v":0},{"$f":"Blad3!E2660","v":""},{"$f":"Blad3!G2660","v":0},"Oanmäld frånvaro"]
["FRÅNVARO",{"$f":"IN!B2661","v":0},{"$f":"Blad3!E2661","v":""},{"$f":"Blad3!G2661","v":0},"Oanmäld frånvaro"]
["FRÅNVARO",{"$f":"IN!B2662","v":0},{"$f":"Blad3!E2662","v":""},{"$f":"Blad3!G2662","v":0},"Oanmäld frånvaro"]
["FRÅNVARO",{"$f":"IN!B2663","v":0},{"$f":"Blad3!E2663","v":""},{"$f":"Blad3!G2663","v":0},"Oanmäld frånvaro"]
["FRÅNVARO",{"$f":"IN!B2664","v":0},{"$f":"Blad3!E2664","v":""},{"$f":"Blad3!G2664","v":0},"Oanmäld frånvaro"]
["FRÅNVARO",{"$f":"IN!B2665","v":0},{"$f":"Blad3!E2665","v":""},{"$f":"Blad3!G2665","v":0},"Oanmäld frånvaro"]
["FRÅNVARO",{"$f":"IN!B2666","v":0},{"$f":"Blad3!E2666","v":""},{"$f":"Blad3!G2666","v":0},"Oanmäld frånvaro"]
["FRÅNVARO",{"$f":"IN!B2667","v":0},{"$f":"Blad3!E2667","v":""},{"$f":"Blad3!G2667","v":0},"Oanmäld frånvaro"]
["FRÅNVARO",{"$f":"IN!B2668","v":0},{"$f":"Blad3!E2668","v":""},{"$f":"Blad3!G2668","v":0},"Oanmäld frånvaro"]
["FRÅNVARO",{"$f":"IN!B2669","v":0},{"$f":"Blad3!E2669","v":""},{"$f":"Blad3!G2669","v":0},"Oanmäld frånvaro"]
["FRÅNVARO",{"$f":"IN!B2670","v":0},{"$f":"Blad3!E2670","v":""},{"$f":"Blad3!G2670","v":0},"Oanmäld frånvaro"]
["FRÅNVARO",{"$f":"IN!B2671","v":0},{"$f":"Blad3!E2671","v":""},{"$f":"Blad3!G2671","v":0},"Oanmäld frånvaro"]
["FRÅNVARO",{"$f":"IN!B2672","v":0},{"$f":"Blad3!E2672","v":""},{"$f":"Blad3!G2672","v":0},"Oanmäld frånvaro"]
["FRÅNVARO",{"$f":"IN!B2673","v":0},{"$f":"Blad3!E2673","v":""},{"$f":"Blad3!G2673","v":0},"Oanmäld frånvaro"]
["FRÅNVARO",{"$f":"IN!B2674","v":0},{"$f":"Blad3!E2674","v":""},{"$f":"Blad3!G2674","v":0},"Oanmäld frånvaro"]
["FRÅNVARO",{"$f":"IN!B2675","v":0},{"$f":"Blad3!E2675","v":""},{"$f":"Blad3!G2675","v":0},"Oanmäld frånvaro"]
["FRÅNVARO",{"$f":"IN!B2676","v":0},{"$f":"Blad3!E2676","v":""},{"$f":"Blad3!G2676","v":0},"Oanmäld frånvaro"]
["FRÅNVARO",{"$f":"IN!B2677","v":0},{"$f":"Blad3!E2677","v":""},{"$f":"Blad3!G2677","v":0},"Oanmäld frånvaro"]
["FRÅNVARO",{"$f":"IN!B2678","v":0},{"$f":"Blad3!E2678","v":""},{"$f":"Blad3!G2678","v":0},"Oanmäld frånvaro"]
["FRÅNVARO",{"$f":"IN!B2679","v":0},{"$f":"Blad3!E2679","v":""},{"$f":"Blad3!G2679","v":0},"Oanmäld frånvaro"]
["FRÅNVARO",{"$f":"IN!B2680","v":0},{"$f":"Blad3!E2680","v":""},{"$f":"Blad3!G2680","v":0},"Oanmäld frånvaro"]
["FRÅNVARO",{"$f":"IN!B2681","v":0},{"$f":"Blad3!E2681","v":""},{"$f":"Blad3!G2681","v":0},"Oanmäld frånvaro"]
["FRÅNVARO",{"$f":"IN!B2682","v":0},{"$f":"Blad3!E2682","v":""},{"$f":"Blad3!G2682","v":0},"Oanmäld frånvaro"]
["FRÅNVARO",{"$f":"IN!B2683","v":0},{"$f":"Blad3!E2683","v":""},{"$f":"Blad3!G2683","v":0},"Oanmäld frånvaro"]
["FRÅNVARO",{"$f":"IN!B2684","v":0},{"$f":"Blad3!E2684","v":""},{"$f":"Blad3!G2684","v":0},"Oanmäld frånvaro"]
["FRÅNVARO",{"$f":"IN!B2685","v":0},{"$f":"Blad3!E2685","v":""},{"$f":"Blad3!G2685","v":0},"Oanmäld frånvaro"]
["FRÅNVARO",{"$f":"IN!B2686","v":0},{"$f":"Blad3!E2686","v":""},{"$f":"Blad3!G2686","v":0},"Oanmäld frånvaro"]
["FRÅNVARO",{"$f":"IN!B2687","v":0},{"$f":"Blad3!E2687","v":""},{"$f":"Blad3!G2687","v":0},"Oanmäld frånvaro"]
["FRÅNVARO",{"$f":"IN!B2688","v":0},{"$f":"Blad3!E2688","v":""},{"$f":"Blad3!G2688","v":0},"Oanmäld frånvaro"]
["FRÅNVARO",{"$f":"IN!B2689","v":0},{"$f":"Blad3!E2689","v":""},{"$f":"Blad3!G2689","v":0},"Oanmäld frånvaro"]
["FRÅNVARO",{"$f":"IN!B2690","v":0},{"$f":"Blad3!E2690","v":""},{"$f":"Blad3!G2690","v":0},"Oanmäld frånvaro"]
["FRÅNVARO",{"$f":"IN!B2691","v":0},{"$f":"Blad3!E2691","v":""},{"$f":"Blad3!G2691","v":0},"Oanmäld frånvaro"]
["FRÅNVARO",{"$f":"IN!B2692","v":0},{"$f":"Blad3!E2692","v":""},{"$f":"Blad3!G2692","v":0},"Oanmäld frånvaro"]
["FRÅNVARO",{"$f":"IN!B2693","v":0},{"$f":"Blad3!E2693","v":""},{"$f":"Blad3!G2693","v":0},"Oanmäld frånvaro"]
["FRÅNVARO",{"$f":"IN!B2694","v":0},{"$f":"Blad3!E2694","v":""},{"$f":"Blad3!G2694","v":0},"Oanmäld frånvaro"]
["FRÅNVARO",{"$f":"IN!B2695","v":0},{"$f":"Blad3!E2695","v":""},{"$f":"Blad3!G2695","v":0},"Oanmäld frånvaro"]
["FRÅNVARO",{"$f":"IN!B2696","v":0},{"$f":"Blad3!E2696","v":""},{"$f":"Blad3!G2696","v":0},"Oanmäld frånvaro"]
["FRÅNVARO",{"$f":"IN!B2697","v":0},{"$f":"Blad3!E2697","v":""},{"$f":"Blad3!G2697","v":0},"Oanmäld frånvaro"]
["FRÅNVARO",{"$f":"IN!B2698","v":0},{"$f":"Blad3!E2698","v":""},{"$f":"Blad3!G2698","v":0},"Oanmäld frånvaro"]
["FRÅNVARO",{"$f":"IN!B2699","v":0},{"$f":"Blad3!E2699","v":""},{"$f":"Blad3!G2699","v":0},"Oanmäld frånvaro"]
["FRÅNVARO",{"$f":"IN!B2700","v":0},{"$f":"Blad3!E2700","v":""},{"$f":"Blad3!G2700","v":0},"Oanmäld frånvaro"]
["FRÅNVARO",{"$f":"IN!B2701","v":0},{"$f":"Blad3!E2701","v":""},{"$f":"Blad3!G2701","v":0},"Oanmäld frånvaro"]
["FRÅNVARO",{"$f":"IN!B2702","v":0},{"$f":"Blad3!E2702","v":""},{"$f":"Blad3!G2702","v":0},"Oanmäld frånvaro"]
["FRÅNVARO",{"$f":"IN!B2703","v":0},{"$f":"Blad3!E2703","v":""},{"$f":"Blad3!G2703","v":0},"Oanmäld frånvaro"]
["FRÅNVARO",{"$f":"IN!B2704","v":0},{"$f":"Blad3!E2704","v":""},{"$f":"Blad3!G2704","v":0},"Oanmäld frånvaro"]
["FRÅNVARO",{"$f":"IN!B2705","v":0},{"$f":"Blad3!E2705","v":""},{"$f":"Blad3!G2705","v":0},"Oanmäld frånvaro"]
["FRÅNVARO",{"$f":"IN!B2706","v":0},{"$f":"Blad3!E2706","v":""},{"$f":"Blad3!G2706","v":0},"Oanmäld frånvaro"]
["FRÅNVARO",{"$f":"IN!B2707","v":0},{"$f":"Blad3!E2707","v":""},{"$f":"Blad3!G2707","v":0},"Oanmäld frånvaro"]
["FRÅNVARO",{"$f":"IN!B2708","v":0},{"$f":"Blad3!E2708","v":""},{"$f":"Blad3!G2708","v":0},"Oanmäld frånvaro"]
["FRÅNVARO",{"$f":"IN!B2709","v":0},{"$f":"Blad3!E2709","v":""},{"$f":"Blad3!G2709","v":0},"Oanmäld frånvaro"]
["FRÅNVARO",{"$f":"IN!B2710","v":0},{"$f":"Blad3!E2710","v":""},{"$f":"Blad3!G2710","v":0},"Oanmäld frånvaro"]
["FRÅNVARO",{"$f":"IN!B2711","v":0},{"$f":"Blad3!E2711","v":""},{"$f":"Blad3!G2711","v":0},"Oanmäld frånvaro"]
["FRÅNVARO",{"$f":"IN!B2712","v":0},{"$f":"Blad3!E2712","v":""},{"$f":"Blad3!G2712","v":0},"Oanmäld frånvaro"]
["FRÅNVARO",{"$f":"IN!B2713","v":0},{"$f":"Blad3!E2713","v":""},{"$f":"Blad3!G2713","v":0},"Oanmäld frånvaro"]
["FRÅNVARO",{"$f":"IN!B2714","v":0},{"$f":"Blad3!E2714","v":""},{"$f":"Blad3!G2714","v":0},"Oanmäld frånvaro"]
["FRÅNVARO",{"$f":"IN!B2715","v":0},{"$f":"Blad3!E2715","v":""},{"$f":"Blad3!G2715","v":0},"Oanmäld frånvaro"]
["FRÅNVARO",{"$f":"IN!B2716","v":0},{"$f":"Blad3!E2716","v":""},{"$f":"Blad3!G2716","v":0},"Oanmäld frånvaro"]
["FRÅNVARO",{"$f":"IN!B2717","v":0},{"$f":"Blad3!E2717","v":""},{"$f":"Blad3!G2717","v":0},"Oanmäld frånvaro"]
["FRÅNVARO",{"$f":"IN!B2718","v":0},{"$f":"Blad3!E2718","v":""},{"$f":"Blad3!G2718","v":0},"Oanmäld frånvaro"]
["FRÅNVARO",{"$f":"IN!B2719","v":0},{"$f":"Blad3!E2719","v":""},{"$f":"Blad3!G2719","v":0},"Oanmäld frånvaro"]
["FRÅNVARO",{"$f":"IN!B2720","v":0},{"$f":"Blad3!E2720","v":""},{"$f":"Blad3!G2720","v":0},"Oanmäld frånvaro"]
["FRÅNVARO",{"$f":"IN!B2721","v":0},{"$f":"Blad3!E2721","v":""},{"$f":"Blad3!G2721","v":0},"Oanmäld frånvaro"]
["FRÅNVARO",{"$f":"IN!B2722","v":0},{"$f":"Blad3!E2722","v":""},{"$f":"Blad3!G2722","v":0},"Oanmäld frånvaro"]
["FRÅNVARO",{"$f":"IN!B2723","v":0},{"$f":"Blad3!E2723","v":""},{"$f":"Blad3!G2723","v":0},"Oanmäld frånvaro"]
["FRÅNVARO",{"$f":"IN!B2724","v":0},{"$f":"Blad3!E2724","v":""},{"$f":"Blad3!G2724","v":0},"Oanmäld frånvaro"]
["FRÅNVARO",{"$f":"IN!B2725","v":0},{"$f":"Blad3!E2725","v":""},{"$f":"Blad3!G2725","v":0},"Oanmäld frånvaro"]
["FRÅNVARO",{"$f":"IN!B2726","v":0},{"$f":"Blad3!E2726","v":""},{"$f":"Blad3!G2726","v":0},"Oanmäld frånvaro"]
["FRÅNVARO",{"$f":"IN!B2727","v":0},{"$f":"Blad3!E2727","v":""},{"$f":"Blad3!G2727","v":0},"Oanmäld frånvaro"]
["FRÅNVARO",{"$f":"IN!B2728","v":0},{"$f":"Blad3!E2728","v":""},{"$f":"Blad3!G2728","v":0},"Oanmäld frånvaro"]
["FRÅNVARO",{"$f":"IN!B2729","v":0},{"$f":"Blad3!E2729","v":""},{"$f":"Blad3!G2729","v":0},"Oanmäld frånvaro"]
["FRÅNVARO",{"$f":"IN!B2730","v":0},{"$f":"Blad3!E2730","v":""},{"$f":"Blad3!G2730","v":0},"Oanmäld frånvaro"]
["FRÅNVARO",{"$f":"IN!B2731","v":0},{"$f":"Blad3!E2731","v":""},{"$f":"Blad3!G2731","v":0},"Oanmäld frånvaro"]
["FRÅNVARO",{"$f":"IN!B2732","v":0},{"$f":"Blad3!E2732","v":""},{"$f":"Blad3!G2732","v":0},"Oanmäld frånvaro"]
["FRÅNVARO",{"$f":"IN!B2733","v":0},{"$f":"Blad3!E2733","v":""},{"$f":"Blad3!G2733","v":0},"Oanmäld frånvaro"]
["FRÅNVARO",{"$f":"IN!B2734","v":0},{"$f":"Blad3!E2734","v":""},{"$f":"Blad3!G2734","v":0},"Oanmäld frånvaro"]
["FRÅNVARO",{"$f":"IN!B2735","v":0},{"$f":"Blad3!E2735","v":""},{"$f":"Blad3!G2735","v":0},"Oanmäld frånvaro"]
["FRÅNVARO",{"$f":"IN!B2736","v":0},{"$f":"Blad3!E2736","v":""},{"$f":"Blad3!G2736","v":0},"Oanmäld frånvaro"]
["FRÅNVARO",{"$f":"IN!B2737","v":0},{"$f":"Blad3!E2737","v":""},{"$f":"Blad3!G2737","v":0},"Oanmäld frånvaro"]
["FRÅNVARO",{"$f":"IN!B2738","v":0},{"$f":"Blad3!E2738","v":""},{"$f":"Blad3!G2738","v":0},"Oanmäld frånvaro"]
["FRÅNVARO",{"$f":"IN!B2739","v":0},{"$f":"Blad3!E2739","v":""},{"$f":"Blad3!G2739","v":0},"Oanmäld frånvaro"]
["FRÅNVARO",{"$f":"IN!B2740","v":0},{"$f":"Blad3!E2740","v":""},{"$f":"Blad3!G2740","v":0},"Oanmäld frånvaro"]
["FRÅNVARO",{"$f":"IN!B2741","v":0},{"$f":"Blad3!E2741","v":""},{"$f":"Blad3!G2741","v":0},"Oanmäld frånvaro"]
["FRÅNVARO",{"$f":"IN!B2742","v":0},{"$f":"Blad3!E2742","v":""},{"$f":"Blad3!G2742","v":0},"Oanmäld frånvaro"]
["FRÅNVARO",{"$f":"IN!B2743","v":0},{"$f":"Blad3!E2743","v":""},{"$f":"Blad3!G2743","v":0},"Oanmäld frånvaro"]
["FRÅNVARO",{"$f":"IN!B2744","v":0},{"$f":"Blad3!E2744","v":""},{"$f":"Blad3!G2744","v":0},"Oanmäld frånvaro"]
["FRÅNVARO",{"$f":"IN!B2745","v":0},{"$f":"Blad3!E2745","v":""},{"$f":"Blad3!G2745","v":0},"Oanmäld frånvaro"]
["FRÅNVARO",{"$f":"IN!B2746","v":0},{"$f":"Blad3!E2746","v":""},{"$f":"Blad3!G2746","v":0},"Oanmäld frånvaro"]
["FRÅNVARO",{"$f":"IN!B2747","v":0},{"$f":"Blad3!E2747","v":""},{"$f":"Blad3!G2747","v":0},"Oanmäld frånvaro"]
["FRÅNVARO",{"$f":"IN!B2748","v":0},{"$f":"Blad3!E2748","v":""},{"$f":"Blad3!G2748","v":0},"Oanmäld frånvaro"]
["FRÅNVARO",{"$f":"IN!B2749","v":0},{"$f":"Blad3!E2749","v":""},{"$f":"Blad3!G2749","v":0},"Oanmäld frånvaro"]
["FRÅNVARO",{"$f":"IN!B2750","v":0},{"$f":"Blad3!E2750","v":""},{"$f":"Blad3!G2750","v":0},"Oanmäld frånvaro"]
["FRÅNVARO",{"$f":"IN!B2751","v":0},{"$f":"Blad3!E2751","v":""},{"$f":"Blad3!G2751","v":0},"Oanmäld frånvaro"]
["FRÅNVARO",{"$f":"IN!B2752","v":0},{"$f":"Blad3!E2752","v":""},{"$f":"Blad3!G2752","v":0},"Oanmäld frånvaro"]
["FRÅNVARO",{"$f":"IN!B2753","v":0},{"$f":"Blad3!E2753","v":""},{"$f":"Blad3!G2753","v":0},"Oanmäld frånvaro"]
["FRÅNVARO",{"$f":"IN!B2754","v":0},{"$f":"Blad3!E2754","v":""},{"$f":"Blad3!G2754","v":0},"Oanmäld frånvaro"]
["FRÅNVARO",{"$f":"IN!B2755","v":0},{"$f":"Blad3!E2755","v":""},{"$f":"Blad3!G2755","v":0},"Oanmäld frånvaro"]
["FRÅNVARO",{"$f":"IN!B2756","v":0},{"$f":"Blad3!E2756","v":""},{"$f":"Blad3!G2756","v":0},"Oanmäld frånvaro"]
["FRÅNVARO",{"$f":"IN!B2757","v":0},{"$f":"Blad3!E2757","v":""},{"$f":"Blad3!G2757","v":0},"Oanmäld frånvaro"]
["FRÅNVARO",{"$f":"IN!B2758","v":0},{"$f":"Blad3!E2758","v":""},{"$f":"Blad3!G2758","v":0},"Oanmäld frånvaro"]
["FRÅNVARO",{"$f":"IN!B2759","v":0},{"$f":"Blad3!E2759","v":""},{"$f":"Blad3!G2759","v":0},"Oanmäld frånvaro"]
["FRÅNVARO",{"$f":"IN!B2760","v":0},{"$f":"Blad3!E2760","v":""},{"$f":"Blad3!G2760","v":0},"Oanmäld frånvaro"]
["FRÅNVARO",{"$f":"IN!B2761","v":0},{"$f":"Blad3!E2761","v":""},{"$f":"Blad3!G2761","v":0},"Oanmäld frånvaro"]
["FRÅNVARO",{"$f":"IN!B2762","v":0},{"$f":"Blad3!E2762","v":""},{"$f":"Blad3!G2762","v":0},"Oanmäld frånvaro"]
["FRÅNVARO",{"$f":"IN!B2763","v":0},{"$f":"Blad3!E2763","v":""},{"$f":"Blad3!G2763","v":0},"Oanmäld frånvaro"]
["FRÅNVARO",{"$f":"IN!B2764","v":0},{"$f":"Blad3!E2764","v":""},{"$f":"Blad3!G2764","v":0},"Oanmäld frånvaro"]
["FRÅNVARO",{"$f":"IN!B2765","v":0},{"$f":"Blad3!E2765","v":""},{"$f":"Blad3!G2765","v":0},"Oanmäld frånvaro"]
["FRÅNVARO",{"$f":"IN!B2766","v":0},{"$f":"Blad3!E2766","v":""},{"$f":"Blad3!G2766","v":0},"Oanmäld frånvaro"]
["FRÅNVARO",{"$f":"IN!B2767","v":0},{"$f":"Blad3!E2767","v":""},{"$f":"Blad3!G2767","v":0},"Oanmäld frånvaro"]
["FRÅNVARO",{"$f":"IN!B2768","v":0},{"$f":"Blad3!E2768","v":""},{"$f":"Blad3!G2768","v":0},"Oanmäld frånvaro"]
["FRÅNVARO",{"$f":"IN!B2769","v":0},{"$f":"Blad3!E2769","v":""},{"$f":"Blad3!G2769","v":0},"Oanmäld frånvaro"]
["FRÅNVARO",{"$f":"IN!B2770","v":0},{"$f":"Blad3!E2770","v":""},{"$f":"Blad3!G2770","v":0},"Oanmäld frånvaro"]
["FRÅNVARO",{"$f":"IN!B2771","v":0},{"$f":"Blad3!E2771","v":""},{"$f":"Blad3!G2771","v":0},"Oanmäld frånvaro"]
["FRÅNVARO",{"$f":"IN!B2772","v":0},{"$f":"Blad3!E2772","v":""},{"$f":"Blad3!G2772","v":0},"Oanmäld frånvaro"]
["FRÅNVARO",{"$f":"IN!B2773","v":0},{"$f":"Blad3!E2773","v":""},{"$f":"Blad3!G2773","v":0},"Oanmäld frånvaro"]
["FRÅNVARO",{"$f":"IN!B2774","v":0},{"$f":"Blad3!E2774","v":""},{"$f":"Blad3!G2774","v":0},"Oanmäld frånvaro"]
["FRÅNVARO",{"$f":"IN!B2775","v":0},{"$f":"Blad3!E2775","v":""},{"$f":"Blad3!G2775","v":0},"Oanmäld frånvaro"]
["FRÅNVARO",{"$f":"IN!B2776","v":0},{"$f":"Blad3!E2776","v":""},{"$f":"Blad3!G2776","v":0},"Oanmäld frånvaro"]
["FRÅNVARO",{"$f":"IN!B2777","v":0},{"$f":"Blad3!E2777","v":""},{"$f":"Blad3!G2777","v":0},"Oanmäld frånvaro"]
["FRÅNVARO",{"$f":"IN!B2778","v":0},{"$f":"Blad3!E2778","v":""},{"$f":"Blad3!G2778","v":0},"Oanmäld frånvaro"]
["FRÅNVARO",{"$f":"IN!B2779","v":0},{"$f":"Blad3!E2779","v":""},{"$f":"Blad3!G2779","v":0},"Oanmäld frånvaro"]
["FRÅNVARO",{"$f":"IN!B2780","v":0},{"$f":"Blad3!E2780","v":""},{"$f":"Blad3!G2780","v":0},"Oanmäld frånvaro"]
["FRÅNVARO",{"$f":"IN!B2781","v":0},{"$f":"Blad3!E2781","v":""},{"$f":"Blad3!G2781","v":0},"Oanmäld frånvaro"]
["FRÅNVARO",{"$f":"IN!B2782","v":0},{"$f":"Blad3!E2782","v":""},{"$f":"Blad3!G2782","v":0},"Oanmäld frånvaro"]
["FRÅNVARO",{"$f":"IN!B2783","v":0},{"$f":"Blad3!E2783","v":""},{"$f":"Blad3!G2783","v":0},"Oanmäld frånvaro"]
["FRÅNVARO",{"$f":"IN!B2784","v":0},{"$f":"Blad3!E2784","v":""},{"$f":"Blad3!G2784","v":0},"Oanmäld frånvaro"]
["FRÅNVARO",{"$f":"IN!B2785","v":0},{"$f":"Blad3!E2785","v":""},{"$f":"Blad3!G2785","v":0},"Oanmäld frånvaro"]
["FRÅNVARO",{"$f":"IN!B2786","v":0},{"$f":"Blad3!E2786","v":""},{"$f":"Blad3!G2786","v":0},"Oanmäld frånvaro"]
["FRÅNVARO",{"$f":"IN!B2787","v":0},{"$f":"Blad3!E2787","v":""},{"$f":"Blad3!G2787","v":0},"Oanmäld frånvaro"]
["FRÅNVARO",{"$f":"IN!B2788","v":0},{"$f":"Blad3!E2788","v":""},{"$f":"Blad3!G2788","v":0},"Oanmäld frånvaro"]
["FRÅNVARO",{"$f":"IN!B2789","v":0},{"$f":"Blad3!E2789","v":""},{"$f":"Blad3!G2789","v":0},"Oanmäld frånvaro"]
["FRÅNVARO",{"$f":"IN!B2790","v":0},{"$f":"Blad3!E2790","v":""},{"$f":"Blad3!G2790","v":0},"Oanmäld frånvaro"]
["FRÅNVARO",{"$f":"IN!B2791","v":0},{"$f":"Blad3!E2791","v":""},{"$f":"Blad3!G2791","v":0},"Oanmäld frånvaro"]
["FRÅNVARO",{"$f":"IN!B2792","v":0},{"$f":"Blad3!E2792","v":""},{"$f":"Blad3!G2792","v":0},"Oanmäld frånvaro"]
["FRÅNVARO",{"$f":"IN!B2793","v":0},{"$f":"Blad3!E2793","v":""},{"$f":"Blad3!G2793","v":0},"Oanmäld frånvaro"]
["FRÅNVARO",{"$f":"IN!B2794","v":0},{"$f":"Blad3!E2794","v":""},{"$f":"Blad3!G2794","v":0},"Oanmäld frånvaro"]
["FRÅNVARO",{"$f":"IN!B2795","v":0},{"$f":"Blad3!E2795","v":""},{"$f":"Blad3!G2795","v":0},"Oanmäld frånvaro"]
["FRÅNVARO",{"$f":"IN!B2796","v":0},{"$f":"Blad3!E2796","v":""},{"$f":"Blad3!G2796","v":0},"Oanmäld frånvaro"]
["FRÅNVARO",{"$f":"IN!B2797","v":0},{"$f":"Blad3!E2797","v":""},{"$f":"Blad3!G2797","v":0},"Oanmäld frånvaro"]
["FRÅNVARO",{"$f":"IN!B2798","v":0},{"$f":"Blad3!E2798","v":""},{"$f":"Blad3!G2798","v":0},"Oanmäld frånvaro"]
["FRÅNVARO",{"$f":"IN!B2799","v":0},{"$f":"Blad3!E2799","v":""},{"$f":"Blad3!G2799","v":0},"Oanmäld frånvaro"]
["FRÅNVARO",{"$f":"IN!B2800","v":0},{"$f":"Blad3!E2800","v":""},{"$f":"Blad3!G2800","v":0},"Oanmäld frånvaro"]
["FRÅNVARO",{"$f":"IN!B2801","v":0},{"$f":"Blad3!E2801","v":""},{"$f":"Blad3!G2801","v":0},"Oanmäld frånvaro"]
["FRÅNVARO",{"$f":"IN!B2802","v":0},{"$f":"Blad3!E2802","v":""},{"$f":"Blad3!G2802","v":0},"Oanmäld frånvaro"]
["FRÅNVARO",{"$f":"IN!B2803","v":0},{"$f":"Blad3!E2803","v":""},{"$f":"Blad3!G2803","v":0},"Oanmäld frånvaro"]
["FRÅNVARO",{"$f":"IN!B2804","v":0},{"$f":"Blad3!E2804","v":""},{"$f":"Blad3!G2804","v":0},"Oanmäld frånvaro"]
["FRÅNVARO",{"$f":"IN!B2805","v":0},{"$f":"Blad3!E2805","v":""},{"$f":"Blad3!G2805","v":0},"Oanmäld frånvaro"]
["FRÅNVARO",{"$f":"IN!B2806","v":0},{"$f":"Blad3!E2806","v":""},{"$f":"Blad3!G2806","v":0},"Oanmäld frånvaro"]
["FRÅNVARO",{"$f":"IN!B2807","v":0},{"$f":"Blad3!E2807","v":""},{"$f":"Blad3!G2807","v":0},"Oanmäld frånvaro"]
["FRÅNVARO",{"$f":"IN!B2808","v":0},{"$f":"Blad3!E2808","v":""},{"$f":"Blad3!G2808","v":0},"Oanmäld frånvaro"]
["FRÅNVARO",{"$f":"IN!B2809","v":0},{"$f":"Blad3!E2809","v":""},{"$f":"Blad3!G2809","v":0},"Oanmäld frånvaro"]
["FRÅNVARO",{"$f":"IN!B2810","v":0},{"$f":"Blad3!E2810","v":""},{"$f":"Blad3!G2810","v":0},"Oanmäld frånvaro"]
["FRÅNVARO",{"$f":"IN!B2811","v":0},{"$f":"Blad3!E2811","v":""},{"$f":"Blad3!G2811","v":0},"Oanmäld frånvaro"]
["FRÅNVARO",{"$f":"IN!B2812","v":0},{"$f":"Blad3!E2812","v":""},{"$f":"Blad3!G2812","v":0},"Oanmäld frånvaro"]
["FRÅNVARO",{"$f":"IN!B2813","v":0},{"$f":"Blad3!E2813","v":""},{"$f":"Blad3!G2813","v":0},"Oanmäld frånvaro"]
["FRÅNVARO",{"$f":"IN!B2814","v":0},{"$f":"Blad3!E2814","v":""},{"$f":"Blad3!G2814","v":0},"Oanmäld frånvaro"]
["FRÅNVARO",{"$f":"IN!B2815","v":0},{"$f":"Blad3!E2815","v":""},{"$f":"Blad3!G2815","v":0},"Oanmäld frånvaro"]
["FRÅNVARO",{"$f":"IN!B2816","v":0},{"$f":"Blad3!E2816","v":""},{"$f":"Blad3!G2816","v":0},"Oanmäld frånvaro"]
["FRÅNVARO",{"$f":"IN!B2817","v":0},{"$f":"Blad3!E2817","v":""},{"$f":"Blad3!G2817","v":0},"Oanmäld frånvaro"]
["FRÅNVARO",{"$f":"IN!B2818","v":0},{"$f":"Blad3!E2818","v":""},{"$f":"Blad3!G2818","v":0},"Oanmäld frånvaro"]
["FRÅNVARO",{"$f":"IN!B2819","v":0},{"$f":"Blad3!E2819","v":""},{"$f":"Blad3!G2819","v":0},"Oanmäld frånvaro"]
["FRÅNVARO",{"$f":"IN!B2820","v":0},{"$f":"Blad3!E2820","v":""},{"$f":"Blad3!G2820","v":0},"Oanmäld frånvaro"]
["FRÅNVARO",{"$f":"IN!B2821","v":0},{"$f":"Blad3!E2821","v":""},{"$f":"Blad3!G2821","v":0},"Oanmäld frånvaro"]
["FRÅNVARO",{"$f":"IN!B2822","v":0},{"$f":"Blad3!E2822","v":""},{"$f":"Blad3!G2822","v":0},"Oanmäld frånvaro"]
["FRÅNVARO",{"$f":"IN!B2823","v":0},{"$f":"Blad3!E2823","v":""},{"$f":"Blad3!G2823","v":0},"Oanmäld frånvaro"]
["FRÅNVARO",{"$f":"IN!B2824","v":0},{"$f":"Blad3!E2824","v":""},{"$f":"Blad3!G2824","v":0},"Oanmäld frånvaro"]
["FRÅNVARO",{"$f":"IN!B2825","v":0},{"$f":"Blad3!E2825","v":""},{"$f":"Blad3!G2825","v":0},"Oanmäld frånvaro"]
["FRÅNVARO",{"$f":"IN!B2826","v":0},{"$f":"Blad3!E2826","v":""},{"$f":"Blad3!G2826","v":0},"Oanmäld frånvaro"]
["FRÅNVARO",{"$f":"IN!B2827","v":0},{"$f":"Blad3!E2827","v":""},{"$f":"Blad3!G2827","v":0},"Oanmäld frånvaro"]
["FRÅNVARO",{"$f":"IN!B2828","v":0},{"$f":"Blad3!E2828","v":""},{"$f":"Blad3!G2828","v":0},"Oanmäld frånvaro"]
["FRÅNVARO",{"$f":"IN!B2829","v":0},{"$f":"Blad3!E2829","v":""},{"$f":"Blad3!G2829","v":0},"Oanmäld frånvaro"]
["FRÅNVARO",{"$f":"IN!B2830","v":0},{"$f":"Blad3!E2830","v":""},{"$f":"Blad3!G2830","v":0},"Oanmäld frånvaro"]
["FRÅNVARO",{"$f":"IN!B2831","v":0},{"$f":"Blad3!E2831","v":""},{"$f":"Blad3!G2831","v":0},"Oanmäld frånvaro"]
["FRÅNVARO",{"$f":"IN!B2832","v":0},{"$f":"Blad3!E2832","v":""},{"$f":"Blad3!G2832","v":0},"Oanmäld frånvaro"]
["FRÅNVARO",{"$f":"IN!B2833","v":0},{"$f":"Blad3!E2833","v":""},{"$f":"Blad3!G2833","v":0},"Oanmäld frånvaro"]
["FRÅNVARO",{"$f":"IN!B2834","v":0},{"$f":"Blad3!E2834","v":""},{"$f":"Blad3!G2834","v":0},"Oanmäld frånvaro"]
["FRÅNVARO",{"$f":"IN!B2835","v":0},{"$f":"Blad3!E2835","v":""},{"$f":"Blad3!G2835","v":0},"Oanmäld frånvaro"]
["FRÅNVARO",{"$f":"IN!B2836","v":0},{"$f":"Blad3!E2836","v":""},{"$f":"Blad3!G2836","v":0},"Oanmäld frånvaro"]
["FRÅNVARO",{"$f":"IN!B2837","v":0},{"$f":"Blad3!E2837","v":""},{"$f":"Blad3!G2837","v":0},"Oanmäld frånvaro"]
["FRÅNVARO",{"$f":"IN!B2838","v":0},{"$f":"Blad3!E2838","v":""},{"$f":"Blad3!G2838","v":0},"Oanmäld frånvaro"]
["FRÅNVARO",{"$f":"IN!B2839","v":0},{"$f":"Blad3!E2839","v":""},{"$f":"Blad3!G2839","v":0},"Oanmäld frånvaro"]
["FRÅNVARO",{"$f":"IN!B2840","v":0},{"$f":"Blad3!E2840","v":""},{"$f":"Blad3!G2840","v":0},"Oanmäld frånvaro"]
["FRÅNVARO",{"$f":"IN!B2841","v":0},{"$f":"Blad3!E2841","v":""},{"$f":"Blad3!G2841","v":0},"Oanmäld frånvaro"]
["FRÅNVARO",{"$f":"IN!B2842","v":0},{"$f":"Blad3!E2842","v":""},{"$f":"Blad3!G2842","v":0},"Oanmäld frånvaro"]
["FRÅNVARO",{"$f":"IN!B2843","v":0},{"$f":"Blad3!E2843","v":""},{"$f":"Blad3!G2843","v":0},"Oanmäld frånvaro"]
["FRÅNVARO",{"$f":"IN!B2844","v":0},{"$f":"Blad3!E2844","v":""},{"$f":"Blad3!G2844","v":0},"Oanmäld frånvaro"]
["FRÅNVARO",{"$f":"IN!B2845","v":0},{"$f":"Blad3!E2845","v":""},{"$f":"Blad3!G2845","v":0},"Oanmäld frånvaro"]
["FRÅNVARO",{"$f":"IN!B2846","v":0},{"$f":"Blad3!E2846","v":""},{"$f":"Blad3!G2846","v":0},"Oanmäld frånvaro"]
["FRÅNVARO",{"$f":"IN!B2847","v":0},{"$f":"Blad3!E2847","v":""},{"$f":"Blad3!G2847","v":0},"Oanmäld frånvaro"]
["FRÅNVARO",{"$f":"IN!B2848","v":0},{"$f":"Blad3!E2848","v":""},{"$f":"Blad3!G2848","v":0},"Oanmäld frånvaro"]
["FRÅNVARO",{"$f":"IN!B2849","v":0},{"$f":"Blad3!E2849","v":""},{"$f":"Blad3!G2849","v":0},"Oanmäld frånvaro"]
["FRÅNVARO",{"$f":"IN!B2850","v":0},{"$f":"Blad3!E2850","v":""},{"$f":"Blad3!G2850","v":0},"Oanmäld frånvaro"]
["FRÅNVARO",{"$f":"IN!B2851","v":0},{"$f":"Blad3!E2851","v":""},{"$f":"Blad3!G2851","v":0},"Oanmäld frånvaro"]
["FRÅNVARO",{"$f":"IN!B2852","v":0},{"$f":"Blad3!E2852","v":""},{"$f":"Blad3!G2852","v":0},"Oanmäld frånvaro"]
["FRÅNVARO",{"$f":"IN!B2853","v":0},{"$f":"Blad3!E2853","v":""},{"$f":"Blad3!G2853","v":0},"Oanmäld frånvaro"]
["FRÅNVARO",{"$f":"IN!B2854","v":0},{"$f":"Blad3!E2854","v":""},{"$f":"Blad3!G2854","v":0},"Oanmäld frånvaro"]
["FRÅNVARO",{"$f":"IN!B2855","v":0},{"$f":"Blad3!E2855","v":""},{"$f":"Blad3!G2855","v":0},"Oanmäld frånvaro"]
["FRÅNVARO",{"$f":"IN!B2856","v":0},{"$f":"Blad3!E2856","v":""},{"$f":"Blad3!G2856","v":0},"Oanmäld frånvaro"]
["FRÅNVARO",{"$f":"IN!B2857","v":0},{"$f":"Blad3!E2857","v":""},{"$f":"Blad3!G2857","v":0},"Oanmäld frånvaro"]
["FRÅNVARO",{"$f":"IN!B2858","v":0},{"$f":"Blad3!E2858","v":""},{"$f":"Blad3!G2858","v":0},"Oanmäld frånvaro"]
["FRÅNVARO",{"$f":"IN!B2859","v":0},{"$f":"Blad3!E2859","v":""},{"$f":"Blad3!G2859","v":0},"Oanmäld frånvaro"]
["FRÅNVARO",{"$f":"IN!B2860","v":0},{"$f":"Blad3!E2860","v":""},{"$f":"Blad3!G2860","v":0},"Oanmäld frånvaro"]
["FRÅNVARO",{"$f":"IN!B2861","v":0},{"$f":"Blad3!E2861","v":""},{"$f":"Blad3!G2861","v":0},"Oanmäld frånvaro"]
["FRÅNVARO",{"$f":"IN!B2862","v":0},{"$f":"Blad3!E2862","v":""},{"$f":"Blad3!G2862","v":0},"Oanmäld frånvaro"]
["FRÅNVARO",{"$f":"IN!B2863","v":0},{"$f":"Blad3!E2863","v":""},{"$f":"Blad3!G2863","v":0},"Oanmäld frånvaro"]
["FRÅNVARO",{"$f":"IN!B2864","v":0},{"$f":"Blad3!E2864","v":""},{"$f":"Blad3!G2864","v":0},"Oanmäld frånvaro"]
["FRÅNVARO",{"$f":"IN!B2865","v":0},{"$f":"Blad3!E2865","v":""},{"$f":"Blad3!G2865","v":0},"Oanmäld frånvaro"]
["FRÅNVARO",{"$f":"IN!B2866","v":0},{"$f":"Blad3!E2866","v":""},{"$f":"Blad3!G2866","v":0},"Oanmäld frånvaro"]
["FRÅNVARO",{"$f":"IN!B2867","v":0},{"$f":"Blad3!E2867","v":""},{"$f":"Blad3!G2867","v":0},"Oanmäld frånvaro"]
["FRÅNVARO",{"$f":"IN!B2868","v":0},{"$f":"Blad3!E2868","v":""},{"$f":"Blad3!G2868","v":0},"Oanmäld frånvaro"]
["FRÅNVARO",{"$f":"IN!B2869","v":0},{"$f":"Blad3!E2869","v":""},{"$f":"Blad3!G2869","v":0},"Oanmäld frånvaro"]
["FRÅNVARO",{"$f":"IN!B2870","v":0},{"$f":"Blad3!E2870","v":""},{"$f":"Blad3!G2870","v":0},"Oanmäld frånvaro"]
["FRÅNVARO",{"$f":"IN!B2871","v":0},{"$f":"Blad3!E2871","v":""},{"$f":"Blad3!G2871","v":0},"Oanmäld frånvaro"]
["FRÅNVARO",{"$f":"IN!B2872","v":0},{"$f":"Blad3!E2872","v":""},{"$f":"Blad3!G2872","v":0},"Oanmäld frånvaro"]
["FRÅNVARO",{"$f":"IN!B2873","v":0},{"$f":"Blad3!E2873","v":""},{"$f":"Blad3!G2873","v":0},"Oanmäld frånvaro"]
["FRÅNVARO",{"$f":"IN!B2874","v":0},{"$f":"Blad3!E2874","v":""},{"$f":"Blad3!G2874","v":0},"Oanmäld frånvaro"]
["FRÅNVARO",{"$f":"IN!B2875","v":0},{"$f":"Blad3!E2875","v":""},{"$f":"Blad3!G2875","v":0},"Oanmäld frånvaro"]
["FRÅNVARO",{"$f":"IN!B2876","v":0},{"$f":"Blad3!E2876","v":""},{"$f":"Blad3!G2876","v":0},"Oanmäld frånvaro"]
["FRÅNVARO",{"$f":"IN!B2877","v":0},{"$f":"Blad3!E2877","v":""},{"$f":"Blad3!G2877","v":0},"Oanmäld frånvaro"]
["FRÅNVARO",{"$f":"IN!B2878","v":0},{"$f":"Blad3!E2878","v":""},{"$f":"Blad3!G2878","v":0},"Oanmäld frånvaro"]
["FRÅNVARO",{"$f":"IN!B2879","v":0},{"$f":"Blad3!E2879","v":""},{"$f":"Blad3!G2879","v":0},"Oanmäld frånvaro"]
["FRÅNVARO",{"$f":"IN!B2880","v":0},{"$f":"Blad3!E2880","v":""},{"$f":"Blad3!G2880","v":0},"Oanmäld frånvaro"]
["FRÅNVARO",{"$f":"IN!B2881","v":0},{"$f":"Blad3!E2881","v":""},{"$f":"Blad3!G2881","v":0},"Oanmäld frånvaro"]
["FRÅNVARO",{"$f":"IN!B2882","v":0},{"$f":"Blad3!E2882","v":""},{"$f":"Blad3!G2882","v":0},"Oanmäld frånvaro"]
["FRÅNVARO",{"$f":"IN!B2883","v":0},{"$f":"Blad3!E2883","v":""},{"$f":"Blad3!G2883","v":0},"Oanmäld frånvaro"]
["FRÅNVARO",{"$f":"IN!B2884","v":0},{"$f":"Blad3!E2884","v":""},{"$f":"Blad3!G2884","v":0},"Oanmäld frånvaro"]
["FRÅNVARO",{"$f":"IN!B2885","v":0},{"$f":"Blad3!E2885","v":""},{"$f":"Blad3!G2885","v":0},"Oanmäld frånvaro"]
["FRÅNVARO",{"$f":"IN!B2886","v":0},{"$f":"Blad3!E2886","v":""},{"$f":"Blad3!G2886","v":0},"Oanmäld frånvaro"]
["FRÅNVARO",{"$f":"IN!B2887","v":0},{"$f":"Blad3!E2887","v":""},{"$f":"Blad3!G2887","v":0},"Oanmäld frånvaro"]
["FRÅNVARO",{"$f":"IN!B2888","v":0},{"$f":"Blad3!E2888","v":""},{"$f":"Blad3!G2888","v":0},"Oanmäld frånvaro"]
["FRÅNVARO",{"$f":"IN!B2889","v":0},{"$f":"Blad3!E2889","v":""},{"$f":"Blad3!G2889","v":0},"Oanmäld frånvaro"]
["FRÅNVARO",{"$f":"IN!B2890","v":0},{"$f":"Blad3!E2890","v":""},{"$f":"Blad3!G2890","v":0},"Oanmäld frånvaro"]
["FRÅNVARO",{"$f":"IN!B2891","v":0},{"$f":"Blad3!E2891","v":""},{"$f":"Blad3!G2891","v":0},"Oanmäld frånvaro"]
["FRÅNVARO",{"$f":"IN!B2892","v":0},{"$f":"Blad3!E2892","v":""},{"$f":"Blad3!G2892","v":0},"Oanmäld frånvaro"]
["FRÅNVARO",{"$f":"IN!B2893","v":0},{"$f":"Blad3!E2893","v":""},{"$f":"Blad3!G2893","v":0},"Oanmäld frånvaro"]
["FRÅNVARO",{"$f":"IN!B2894","v":0},{"$f":"Blad3!E2894","v":""},{"$f":"Blad3!G2894","v":0},"Oanmäld frånvaro"]
["FRÅNVARO",{"$f":"IN!B2895","v":0},{"$f":"Blad3!E2895","v":""},{"$f":"Blad3!G2895","v":0},"Oanmäld frånvaro"]
["FRÅNVARO",{"$f":"IN!B2896","v":0},{"$f":"Blad3!E2896","v":""},{"$f":"Blad3!G2896","v":0},"Oanmäld frånvaro"]
["FRÅNVARO",{"$f":"IN!B2897","v":0},{"$f":"Blad3!E2897","v":""},{"$f":"Blad3!G2897","v":0},"Oanmäld frånvaro"]
["FRÅNVARO",{"$f":"IN!B2898","v":0},{"$f":"Blad3!E2898","v":""},{"$f":"Blad3!G2898","v":0},"Oanmäld frånvaro"]
["FRÅNVARO",{"$f":"IN!B2899","v":0},{"$f":"Blad3!E2899","v":""},{"$f":"Blad3!G2899","v":0},"Oanmäld frånvaro"]
["FRÅNVARO",{"$f":"IN!B2900","v":0},{"$f":"Blad3!E2900","v":""},{"$f":"Blad3!G2900","v":0},"Oanmäld frånvaro"]
["FRÅNVARO",{"$f":"IN!B2901","v":0},{"$f":"Blad3!E2901","v":""},{"$f":"Blad3!G2901","v":0},"Oanmäld frånvaro"]
["FRÅNVARO",{"$f":"IN!B2902","v":0},{"$f":"Blad3!E2902","v":""},{"$f":"Blad3!G2902","v":0},"Oanmäld frånvaro"]
["FRÅNVARO",{"$f":"IN!B2903","v":0},{"$f":"Blad3!E2903","v":""},{"$f":"Blad3!G2903","v":0},"Oanmäld frånvaro"]
["FRÅNVARO",{"$f":"IN!B2904","v":0},{"$f":"Blad3!E2904","v":""},{"$f":"Blad3!G2904","v":0},"Oanmäld frånvaro"]
["FRÅNVARO",{"$f":"IN!B2905","v":0},{"$f":"Blad3!E2905","v":""},{"$f":"Blad3!G2905","v":0},"Oanmäld frånvaro"]
["FRÅNVARO",{"$f":"IN!B2906","v":0},{"$f":"Blad3!E2906","v":""},{"$f":"Blad3!G2906","v":0},"Oanmäld frånvaro"]
["FRÅNVARO",{"$f":"IN!B2907","v":0},{"$f":"Blad3!E2907","v":""},{"$f":"Blad3!G2907","v":0},"Oanmäld frånvaro"]
["FRÅNVARO",{"$f":"IN!B2908","v":0},{"$f":"Blad3!E2908","v":""},{"$f":"Blad3!G2908","v":0},"Oanmäld frånvaro"]
["FRÅNVARO",{"$f":"IN!B2909","v":0},{"$f":"Blad3!E2909","v":""},{"$f":"Blad3!G2909","v":0},"Oanmäld frånvaro"]
["FRÅNVARO",{"$f":"IN!B2910","v":0},{"$f":"Blad3!E2910","v":""},{"$f":"Blad3!G2910","v":0},"Oanmäld frånvaro"]
["FRÅNVARO",{"$f":"IN!B2911","v":0},{"$f":"Blad3!E2911","v":""},{"$f":"Blad3!G2911","v":0},"Oanmäld frånvaro"]
["FRÅNVARO",{"$f":"IN!B2912","v":0},{"$f":"Blad3!E2912","v":""},{"$f":"Blad3!G2912","v":0},"Oanmäld frånvaro"]
["FRÅNVARO",{"$f":"IN!B2913","v":0},{"$f":"Blad3!E2913","v":""},{"$f":"Blad3!G2913","v":0},"Oanmäld frånvaro"]
["FRÅNVARO",{"$f":"IN!B2914","v":0},{"$f":"Blad3!E2914","v":""},{"$f":"Blad3!G2914","v":0},"Oanmäld frånvaro"]
["FRÅNVARO",{"$f":"IN!B2915","v":0},{"$f":"Blad3!E2915","v":""},{"$f":"Blad3!G2915","v":0},"Oanmäld frånvaro"]
["FRÅNVARO",{"$f":"IN!B2916","v":0},{"$f":"Blad3!E2916","v":""},{"$f":"Blad3!G2916","v":0},"Oanmäld frånvaro"]
["FRÅNVARO",{"$f":"IN!B2917","v":0},{"$f":"Blad3!E2917","v":""},{"$f":"Blad3!G2917","v":0},"Oanmäld frånvaro"]
["FRÅNVARO",{"$f":"IN!B2918","v":0},{"$f":"Blad3!E2918","v":""},{"$f":"Blad3!G2918","v":0},"Oanmäld frånvaro"]
["FRÅNVARO",{"$f":"IN!B2919","v":0},{"$f":"Blad3!E2919","v":""},{"$f":"Blad3!G2919","v":0},"Oanmäld frånvaro"]
["FRÅNVARO",{"$f":"IN!B2920","v":0},{"$f":"Blad3!E2920","v":""},{"$f":"Blad3!G2920","v":0},"Oanmäld frånvaro"]
["FRÅNVARO",{"$f":"IN!B2921","v":0},{"$f":"Blad3!E2921","v":""},{"$f":"Blad3!G2921","v":0},"Oanmäld frånvaro"]
["FRÅNVARO",{"$f":"IN!B2922","v":0},{"$f":"Blad3!E2922","v":""},{"$f":"Blad3!G2922","v":0},"Oanmäld frånvaro"]
["FRÅNVARO",{"$f":"IN!B2923","v":0},{"$f":"Blad3!E2923","v":""},{"$f":"Blad3!G2923","v":0},"Oanmäld frånvaro"]
["FRÅNVARO",{"$f":"IN!B2924","v":0},{"$f":"Blad3!E2924","v":""},{"$f":"Blad3!G2924","v":0},"Oanmäld frånvaro"]
["FRÅNVARO",{"$f":"IN!B2925","v":0},{"$f":"Blad3!E2925","v":""},{"$f":"Blad3!G2925","v":0},"Oanmäld frånvaro"]
["FRÅNVARO",{"$f":"IN!B2926","v":0},{"$f":"Blad3!E2926","v":""},{"$f":"Blad3!G2926","v":0},"Oanmäld frånvaro"]
["FRÅNVARO",{"$f":"IN!B2927","v":0},{"$f":"Blad3!E2927","v":""},{"$f":"Blad3!G2927","v":0},"Oanmäld frånvaro"]
["FRÅNVARO",{"$f":"IN!B2928","v":0},{"$f":"Blad3!E2928","v":""},{"$f":"Blad3!G2928","v":0},"Oanmäld frånvaro"]
["FRÅNVARO",{"$f":"IN!B2929","v":0},{"$f":"Blad3!E2929","v":""},{"$f":"Blad3!G2929","v":0},"Oanmäld frånvaro"]
["FRÅNVARO",{"$f":"IN!B2930","v":0},{"$f":"Blad3!E2930","v":""},{"$f":"Blad3!G2930","v":0},"Oanmäld frånvaro"]
["FRÅNVARO",{"$f":"IN!B2931","v":0},{"$f":"Blad3!E2931","v":""},{"$f":"Blad3!G2931","v":0},"Oanmäld frånvaro"]
["FRÅNVARO",{"$f":"IN!B2932","v":0},{"$f":"Blad3!E2932","v":""},{"$f":"Blad3!G2932","v":0},"Oanmäld frånvaro"]
["FRÅNVARO",{"$f":"IN!B2933","v":0},{"$f":"Blad3!E2933","v":""},{"$f":"Blad3!G2933","v":0},"Oanmäld frånvaro"]
["FRÅNVARO",{"$f":"IN!B2934","v":0},{"$f":"Blad3!E2934","v":""},{"$f":"Blad3!G2934","v":0},"Oanmäld frånvaro"]
["FRÅNVARO",{"$f":"IN!B2935","v":0},{"$f":"Blad3!E2935","v":""},{"$f":"Blad3!G2935","v":0},"Oanmäld frånvaro"]
["FRÅNVARO",{"$f":"IN!B2936","v":0},{"$f":"Blad3!E2936","v":""},{"$f":"Blad3!G2936","v":0},"Oanmäld frånvaro"]
["FRÅNVARO",{"$f":"IN!B2937","v":0},{"$f":"Blad3!E2937","v":""},{"$f":"Blad3!G2937","v":0},"Oanmäld frånvaro"]
["FRÅNVARO",{"$f":"IN!B2938","v":0},{"$f":"Blad3!E2938","v":""},{"$f":"Blad3!G2938","v":0},"Oanmäld frånvaro"]
["FRÅNVARO",{"$f":"IN!B2939","v":0},{"$f":"Blad3!E2939","v":""},{"$f":"Blad3!G2939","v":0},"Oanmäld frånvaro"]
["FRÅNVARO",{"$f":"IN!B2940","v":0},{"$f":"Blad3!E2940","v":""},{"$f":"Blad3!G2940","v":0},"Oanmäld frånvaro"]
["FRÅNVARO",{"$f":"IN!B2941","v":0},{"$f":"Blad3!E2941","v":""},{"$f":"Blad3!G2941","v":0},"Oanmäld frånvaro"]
["FRÅNVARO",{"$f":"IN!B2942","v":0},{"$f":"Blad3!E2942","v":""},{"$f":"Blad3!G2942","v":0},"Oanmäld frånvaro"]
["FRÅNVARO",{"$f":"IN!B2943","v":0},{"$f":"Blad3!E2943","v":""},{"$f":"Blad3!G2943","v":0},"Oanmäld frånvaro"]
["FRÅNVARO",{"$f":"IN!B2944","v":0},{"$f":"Blad3!E2944","v":""},{"$f":"Blad3!G2944","v":0},"Oanmäld frånvaro"]
["FRÅNVARO",{"$f":"IN!B2945","v":0},{"$f":"Blad3!E2945","v":""},{"$f":"Blad3!G2945","v":0},"Oanmäld frånvaro"]
["FRÅNVARO",{"$f":"IN!B2946","v":0},{"$f":"Blad3!E2946","v":""},{"$f":"Blad3!G2946","v":0},"Oanmäld frånvaro"]
["FRÅNVARO",{"$f":"IN!B2947","v":0},{"$f":"Blad3!E2947","v":""},{"$f":"Blad3!G2947","v":0},"Oanmäld frånvaro"]
["FRÅNVARO",{"$f":"IN!B2948","v":0},{"$f":"Blad3!E2948","v":""},{"$f":"Blad3!G2948","v":0},"Oanmäld frånvaro"]
["FRÅNVARO",{"$f":"IN!B2949","v":0},{"$f":"Blad3!E2949","v":""},{"$f":"Blad3!G2949","v":0},"Oanmäld frånvaro"]
["FRÅNVARO",{"$f":"IN!B2950","v":0},{"$f":"Blad3!E2950","v":""},{"$f":"Blad3!G2950","v":0},"Oanmäld frånvaro"]
["FRÅNVARO",{"$f":"IN!B2951","v":0},{"$f":"Blad3!E2951","v":""},{"$f":"Blad3!G2951","v":0},"Oanmäld frånvaro"]
["FRÅNVARO",{"$f":"IN!B2952","v":0},{"$f":"Blad3!E2952","v":""},{"$f":"Blad3!G2952","v":0},"Oanmäld frånvaro"]
["FRÅNVARO",{"$f":"IN!B2953","v":0},{"$f":"Blad3!E2953","v":""},{"$f":"Blad3!G2953","v":0},"Oanmäld frånvaro"]
["FRÅNVARO",{"$f":"IN!B2954","v":0},{"$f":"Blad3!E2954","v":""},{"$f":"Blad3!G2954","v":0},"Oanmäld frånvaro"]
["FRÅNVARO",{"$f":"IN!B2955","v":0},{"$f":"Blad3!E2955","v":""},{"$f":"Blad3!G2955","v":0},"Oanmäld frånvaro"]
["FRÅNVARO",{"$f":"IN!B2956","v":0},{"$f":"Blad3!E2956","v":""},{"$f":"Blad3!G2956","v":0},"Oanmäld frånvaro"]
["FRÅNVARO",{"$f":"IN!B2957","v":0},{"$f":"Blad3!E2957","v":""},{"$f":"Blad3!G2957","v":0},"Oanmäld frånvaro"]
["FRÅNVARO",{"$f":"IN!B2958","v":0},{"$f":"Blad3!E2958","v":""},{"$f":"Blad3!G2958","v":0},"Oanmäld frånvaro"]
["FRÅNVARO",{"$f":"IN!B2959","v":0},{"$f":"Blad3!E2959","v":""},{"$f":"Blad3!G2959","v":0},"Oanmäld frånvaro"]
["FRÅNVARO",{"$f":"IN!B2960","v":0},{"$f":"Blad3!E2960","v":""},{"$f":"Blad3!G2960","v":0},"Oanmäld frånvaro"]
["FRÅNVARO",{"$f":"IN!B2961","v":0},{"$f":"Blad3!E2961","v":""},{"$f":"Blad3!G2961","v":0},"Oanmäld frånvaro"]
["FRÅNVARO",{"$f":"IN!B2962","v":0},{"$f":"Blad3!E2962","v":""},{"$f":"Blad3!G2962","v":0},"Oanmäld frånvaro"]
["FRÅNVARO",{"$f":"IN!B2963","v":0},{"$f":"Blad3!E2963","v":""},{"$f":"Blad3!G2963","v":0},"Oanmäld frånvaro"]
["FRÅNVARO",{"$f":"IN!B2964","v":0},{"$f":"Blad3!E2964","v":""},{"$f":"Blad3!G2964","v":0},"Oanmäld frånvaro"]
["FRÅNVARO",{"$f":"IN!B2965","v":0},{"$f":"Blad3!E2965","v":""},{"$f":"Blad3!G2965","v":0},"Oanmäld frånvaro"]
["FRÅNVARO",{"$f":"IN!B2966","v":0},{"$f":"Blad3!E2966","v":""},{"$f":"Blad3!G2966","v":0},"Oanmäld frånvaro"]
["FRÅNVARO",{"$f":"IN!B2967","v":0},{"$f":"Blad3!E2967","v":""},{"$f":"Blad3!G2967","v":0},"Oanmäld frånvaro"]
["FRÅNVARO",{"$f":"IN!B2968","v":0},{"$f":"Blad3!E2968","v":""},{"$f":"Blad3!G2968","v":0},"Oanmäld frånvaro"]
["FRÅNVARO",{"$f":"IN!B2969","v":0},{"$f":"Blad3!E2969","v":""},{"$f":"Blad3!G2969","v":0},"Oanmäld frånvaro"]
["FRÅNVARO",{"$f":"IN!B2970","v":0},{"$f":"Blad3!E2970","v":""},{"$f":"Blad3!G2970","v":0},"Oanmäld frånvaro"]
["FRÅNVARO",{"$f":"IN!B2971","v":0},{"$f":"Blad3!E2971","v":""},{"$f":"Blad3!G2971","v":0},"Oanmäld frånvaro"]
["FRÅNVARO",{"$f":"IN!B2972","v":0},{"$f":"Blad3!E2972","v":""},{"$f":"Blad3!G2972","v":0},"Oanmäld frånvaro"]
["FRÅNVARO",{"$f":"IN!B2973","v":0},{"$f":"Blad3!E2973","v":""},{"$f":"Blad3!G2973","v":0},"Oanmäld frånvaro"]
["FRÅNVARO",{"$f":"IN!B2974","v":0},{"$f":"Blad3!E2974","v":""},{"$f":"Blad3!G2974","v":0},"Oanmäld frånvaro"]
["FRÅNVARO",{"$f":"IN!B2975","v":0},{"$f":"Blad3!E2975","v":""},{"$f":"Blad3!G2975","v":0},"Oanmäld frånvaro"]
["FRÅNVARO",{"$f":"IN!B2976","v":0},{"$f":"Blad3!E2976","v":""},{"$f":"Blad3!G2976","v":0},"Oanmäld frånvaro"]
["FRÅNVARO",{"$f":"IN!B2977","v":0},{"$f":"Blad3!E2977","v":""},{"$f":"Blad3!G2977","v":0},"Oanmäld frånvaro"]
["FRÅNVARO",{"$f":"IN!B2978","v":0},{"$f":"Blad3!E2978","v":""},{"$f":"Blad3!G2978","v":0},"Oanmäld frånvaro"]
["FRÅNVARO",{"$f":"IN!B2979","v":0},{"$f":"Blad3!E2979","v":""},{"$f":"Blad3!G2979","v":0},"Oanmäld frånvaro"]
["FRÅNVARO",{"$f":"IN!B2980","v":0},{"$f":"Blad3!E2980","v":""},{"$f":"Blad3!G2980","v":0},"Oanmäld frånvaro"]
["FRÅNVARO",{"$f":"IN!B2981","v":0},{"$f":"Blad3!E2981","v":""},{"$f":"Blad3!G2981","v":0},"Oanmäld frånvaro"]
["FRÅNVARO",{"$f":"IN!B2982","v":0},{"$f":"Blad3!E2982","v":""},{"$f":"Blad3!G2982","v":0},"Oanmäld frånvaro"]
["FRÅNVARO",{"$f":"IN!B2983","v":0},{"$f":"Blad3!E2983","v":""},{"$f":"Blad3!G2983","v":0},"Oanmäld frånvaro"]
["FRÅNVARO",{"$f":"IN!B2984","v":0},{"$f":"Blad3!E2984","v":""},{"$f":"Blad3!G2984","v":0},"Oanmäld frånvaro"]
["FRÅNVARO",{"$f":"IN!B2985","v":0},{"$f":"Blad3!E2985","v":""},{"$f":"Blad3!G2985","v":0},"Oanmäld frånvaro"]
["FRÅNVARO",{"$f":"IN!B2986","v":0},{"$f":"Blad3!E2986","v":""},{"$f":"Blad3!G2986","v":0},"Oanmäld frånvaro"]
["FRÅNVARO",{"$f":"IN!B2987","v":0},{"$f":"Blad3!E2987","v":""},{"$f":"Blad3!G2987","v":0},"Oanmäld frånvaro"]
["FRÅNVARO",{"$f":"IN!B2988","v":0},{"$f":"Blad3!E2988","v":""},{"$f":"Blad3!G2988","v":0},"Oanmäld frånvaro"]
["FRÅNVARO",{"$f":"IN!B2989","v":0},{"$f":"Blad3!E2989","v":""},{"$f":"Blad3!G2989","v":0},"Oanmäld frånvaro"]
["FRÅNVARO",{"$f":"IN!B2990","v":0},{"$f":"Blad3!E2990","v":""},{"$f":"Blad3!G2990","v":0},"Oanmäld frånvaro"]
["FRÅNVARO",{"$f":"IN!B2991","v":0},{"$f":"Blad3!E2991","v":""},{"$f":"Blad3!G2991","v":0},"Oanmäld frånvaro"]
["FRÅNVARO",{"$f":"IN!B2992","v":0},{"$f":"Blad3!E2992","v":""},{"$f":"Blad3!G2992","v":0},"Oanmäld frånvaro"]
["FRÅNVARO",{"$f":"IN!B2993","v":0},{"$f":"Blad3!E2993","v":""},{"$f":"Blad3!G2993","v":0},"Oanmäld frånvaro"]
["FRÅNVARO",{"$f":"IN!B2994","v":0},{"$f":"Blad3!E2994","v":""},{"$f":"Blad3!G2994","v":0},"Oanmäld frånvaro"]
["FRÅNVARO",{"$f":"IN!B2995","v":0},{"$f":"Blad3!E2995","v":""},{"$f":"Blad3!G2995","v":0},"Oanmäld frånvaro"]
["FRÅNVARO",{"$f":"IN!B2996","v":0},{"$f":"Blad3!E2996","v":""},{"$f":"Blad3!G2996","v":0},"Oanmäld frånvaro"]
["FRÅNVARO",{"$f":"IN!B2997","v":0},{"$f":"Blad3!E2997","v":""},{"$f":"Blad3!G2997","v":0},"Oanmäld frånvaro"]
["FRÅNVARO",{"$f":"IN!B2998","v":0},{"$f":"Blad3!E2998","v":""},{"$f":"Blad3!G2998","v":0},"Oanmäld frånvaro"]
["FRÅNVARO",{"$f":"IN!B2999","v":0},{"$f":"Blad3!E2999","v":""},{"$f":"Blad3!G2999","v":0},"Oanmäld frånvaro"]
["FRÅNVARO",{"$f":"IN!B3000","v":0},{"$f":"Blad3!E3000","v":""},{"$f":"Blad3!G3000","v":0},"Oanmäld frånvaro"]
["FRÅNVARO",{"$f":"IN!B3001","v":0},{"$f":"Blad3!E3001","v":""},{"$f":"Blad3!G3001","v":0},"Oanmäld frånvaro"]
["FRÅNVARO",{"$f":"IN!B3002","v":0},{"$f":"Blad3!E3002","v":""},{"$f":"Blad3!G3002","v":0},"Oanmäld frånvaro"]
["FRÅNVARO",{"$f":"IN!B3003","v":0},{"$f":"Blad3!E3003","v":""},{"$f":"Blad3!G3003","v":0},"Oanmäld frånvaro"]
["FRÅNVARO",{"$f":"IN!B3004","v":0},{"$f":"Blad3!E3004","v":""},{"$f":"Blad3!G3004","v":0},"Oanmäld frånvaro"]
["FRÅNVARO",{"$f":"IN!B3005","v":0},{"$f":"Blad3!E3005","v":""},{"$f":"Blad3!G3005","v":0},"Oanmäld frånvaro"]
["FRÅNVARO",{"$f":"IN!B3006","v":0},{"$f":"Blad3!E3006","v":""},{"$f":"Blad3!G3006","v":0},"Oanmäld frånvaro"]
["FRÅNVARO",{"$f":"IN!B3007","v":0},{"$f":"Blad3!E3007","v":""},{"$f":"Blad3!G3007","v":0},"Oanmäld frånvaro"]
["FRÅNVARO",{"$f":"IN!B3008","v":0},{"$f":"Blad3!E3008","v":""},{"$f":"Blad3!G3008","v":0},"Oanmäld frånvaro"]
["FRÅNVARO",{"$f":"IN!B3009","v":0},{"$f":"Blad3!E3009","v":""},{"$f":"Blad3!G3009","v":0},"Oanmäld frånvaro"]
["FRÅNVARO",{"$f":"IN!B3010","v":0},{"$f":"Blad3!E3010","v":""},{"$f":"Blad3!G3010","v":0},"Oanmäld frånvaro"]
["FRÅNVARO",{"$f":"IN!B3011","v":0},{"$f":"Blad3!E3011","v":""},{"$f":"Blad3!G3011","v":0},"Oanmäld frånvaro"]
["FRÅNVARO",{"$f":"IN!B3012","v":0},{"$f":"Blad3!E3012","v":""},{"$f":"Blad3!G3012","v":0},"Oanmäld frånvaro"]
["FRÅNVARO",{"$f":"IN!B3013","v":0},{"$f":"Blad3!E3013","v":""},{"$f":"Blad3!G3013","v":0},"Oanmäld frånvaro"]
["FRÅNVARO",{"$f":"IN!B3014","v":0},{"$f":"Blad3!E3014","v":""},{"$f":"Blad3!G3014","v":0},"Oanmäld frånvaro"]
["FRÅNVARO",{"$f":"IN!B3015","v":0},{"$f":"Blad3!E3015","v":""},{"$f":"Blad3!G3015","v":0},"Oanmäld frånvaro"]
["FRÅNVARO",{"$f":"IN!B3016","v":0},{"$f":"Blad3!E3016","v":""},{"$f":"Blad3!G3016","v":0},"Oanmäld frånvaro"]
["FRÅNVARO",{"$f":"IN!B3017","v":0},{"$f":"Blad3!E3017","v":""},{"$f":"Blad3!G3017","v":0},"Oanmäld frånvaro"]
["FRÅNVARO",{"$f":"IN!B3018","v":0},{"$f":"Blad3!E3018","v":""},{"$f":"Blad3!G3018","v":0},"Oanmäld frånvaro"]
["FRÅNVARO",{"$f":"IN!B3019","v":0},{"$f":"Blad3!E3019","v":""},{"$f":"Blad3!G3019","v":0},"Oanmäld frånvaro"]
["FRÅNVARO",{"$f":"IN!B3020","v":0},{"$f":"Blad3!E3020","v":""},{"$f":"Blad3!G3020","v":0},"Oanmäld frånvaro"]
["FRÅNVARO",{"$f":"IN!B3021","v":0},{"$f":"Blad3!E3021","v":""},{"$f":"Blad3!G3021","v":0},"Oanmäld frånvaro"]
["FRÅNVARO",{"$f":"IN!B3022","v":0},{"$f":"Blad3!E3022","v":""},{"$f":"Blad3!G3022","v":0},"Oanmäld frånvaro"]
["FRÅNVARO",{"$f":"IN!B3023","v":0},{"$f":"Blad3!E3023","v":""},{"$f":"Blad3!G3023","v":0},"Oanmäld frånvaro"]
["FRÅNVARO",{"$f":"IN!B3024","v":0},{"$f":"Blad3!E3024","v":""},{"$f":"Blad3!G3024","v":0},"Oanmäld frånvaro"]
["FRÅNVARO",{"$f":"IN!B3025","v":0},{"$f":"Blad3!E3025","v":""},{"$f":"Blad3!G3025","v":0},"Oanmäld frånvaro"]
["FRÅNVARO",{"$f":"IN!B3026","v":0},{"$f":"Blad3!E3026","v":""},{"$f":"Blad3!G3026","v":0},"Oanmäld frånvaro"]
["FRÅNVARO",{"$f":"IN!B3027","v":0},{"$f":"Blad3!E3027","v":""},{"$f":"Blad3!G3027","v":0},"Oanmäld frånvaro"]
["FRÅNVARO",{"$f":"IN!B3028","v":0},{"$f":"Blad3!E3028","v":""},{"$f":"Blad3!G3028","v":0},"Oanmäld frånvaro"]
["FRÅNVARO",{"$f":"IN!B3029","v":0},{"$f":"Blad3!E3029","v":""},{"$f":"Blad3!G3029","v":0},"Oanmäld frånvaro"]
["FRÅNVARO",{"$f":"IN!B3030","v":0},{"$f":"Blad3!E3030","v":""},{"$f":"Blad3!G3030","v":0},"Oanmäld frånvaro"]
["FRÅNVARO",{"$f":"IN!B3031","v":0},{"$f":"Blad3!E3031","v":""},{"$f":"Blad3!G3031","v":0},"Oanmäld frånvaro"]
["FRÅNVARO",{"$f":"IN!B3032","v":0},{"$f":"Blad3!E3032","v":""},{"$f":"Blad3!G3032","v":0},"Oanmäld frånvaro"]
["FRÅNVARO",{"$f":"IN!B3033","v":0},{"$f":"Blad3!E3033","v":""},{"$f":"Blad3!G3033","v":0},"Oanmäld frånvaro"]
["FRÅNVARO",{"$f":"IN!B3034","v":0},{"$f":"Blad3!E3034","v":""},{"$f":"Blad3!G3034","v":0},"Oanmäld frånvaro"]
["FRÅNVARO",{"$f":"IN!B3035","v":0},{"$f":"Blad3!E3035","v":""},{"$f":"Blad3!G3035","v":0},"Oanmäld frånvaro"]
["FRÅNVARO",{"$f":"IN!B3036","v":0},{"$f":"Blad3!E3036","v":""},{"$f":"Blad3!G3036","v":0},"Oanmäld frånvaro"]
["FRÅNVARO",{"$f":"IN!B3037","v":0},{"$f":"Blad3!E3037","v":""},{"$f":"Blad3!G3037","v":0},"Oanmäld frånvaro"]
["FRÅNVARO",{"$f":"IN!B3038","v":0},{"$f":"Blad3!E3038","v":""},{"$f":"Blad3!G3038","v":0},"Oanmäld frånvaro"]
["FRÅNVARO",{"$f":"IN!B3039","v":0},{"$f":"Blad3!E3039","v":""},{"$f":"Blad3!G3039","v":0},"Oanmäld frånvaro"]
["FRÅNVARO",{"$f":"IN!B3040","v":0},{"$f":"Blad3!E3040","v":""},{"$f":"Blad3!G3040","v":0},"Oanmäld frånvaro"]
["FRÅNVARO",{"$f":"IN!B3041","v":0},{"$f":"Blad3!E3041","v":""},{"$f":"Blad3!G3041","v":0},"Oanmäld frånvaro"]
["FRÅNVARO",{"$f":"IN!B3042","v":0},{"$f":"Blad3!E3042","v":""},{"$f":"Blad3!G3042","v":0},"Oanmäld frånvaro"]
["FRÅNVARO",{"$f":"IN!B3043","v":0},{"$f":"Blad3!E3043","v":""},{"$f":"Blad3!G3043","v":0},"Oanmäld frånvaro"]
["FRÅNVARO",{"$f":"IN!B3044","v":0},{"$f":"Blad3!E3044","v":""},{"$f":"Blad3!G3044","v":0},"Oanmäld frånvaro"]
["FRÅNVARO",{"$f":"IN!B3045","v":0},{"$f":"Blad3!E3045","v":""},{"$f":"Blad3!G3045","v":0},"Oanmäld frånvaro"]
["FRÅNVARO",{"$f":"IN!B3046","v":0},{"$f":"Blad3!E3046","v":""},{"$f":"Blad3!G3046","v":0},"Oanmäld frånvaro"]
["FRÅNVARO",{"$f":"IN!B3047","v":0},{"$f":"Blad3!E3047","v":""},{"$f":"Blad3!G3047","v":0},"Oanmäld frånvaro"]
["FRÅNVARO",{"$f":"IN!B3048","v":0},{"$f":"Blad3!E3048","v":""},{"$f":"Blad3!G3048","v":0},"Oanmäld frånvaro"]
["FRÅNVARO",{"$f":"IN!B3049","v":0},{"$f":"Blad3!E3049","v":""},{"$f":"Blad3!G3049","v":0},"Oanmäld frånvaro"]
["FRÅNVARO",{"$f":"IN!B3050","v":0},{"$f":"Blad3!E3050","v":""},{"$f":"Blad3!G3050","v":0},"Oanmäld frånvaro"]
["FRÅNVARO",{"$f":"IN!B3051","v":0},{"$f":"Blad3!E3051","v":""},{"$f":"Blad3!G3051","v":0},"Oanmäld frånvaro"]
["FRÅNVARO",{"$f":"IN!B3052","v":0},{"$f":"Blad3!E3052","v":""},{"$f":"Blad3!G3052","v":0},"Oanmäld frånvaro"]
["FRÅNVARO",{"$f":"IN!B3053","v":0},{"$f":"Blad3!E3053","v":""},{"$f":"Blad3!G3053","v":0},"Oanmäld frånvaro"]
["FRÅNVARO",{"$f":"IN!B3054","v":0},{"$f":"Blad3!E3054","v":""},{"$f":"Blad3!G3054","v":0},"Oanmäld frånvaro"]
["FRÅNVARO",{"$f":"IN!B3055","v":0},{"$f":"Blad3!E3055","v":""},{"$f":"Blad3!G3055","v":0},"Oanmäld frånvaro"]
["FRÅNVARO",{"$f":"IN!B3056","v":0},{"$f":"Blad3!E3056","v":""},{"$f":"Blad3!G3056","v":0},"Oanmäld frånvaro"]
["FRÅNVARO",{"$f":"IN!B3057","v":0},{"$f":"Blad3!E3057","v":""},{"$f":"Blad3!G3057","v":0},"Oanmäld frånvaro"]
["FRÅNVARO",{"$f":"IN!B3058","v":0},{"$f":"Blad3!E3058","v":""},{"$f":"Blad3!G3058","v":0},"Oanmäld frånvaro"]
["FRÅNVARO",{"$f":"IN!B3059","v":0},{"$f":"Blad3!E3059","v":""},{"$f":"Blad3!G3059","v":0},"Oanmäld frånvaro"]
["FRÅNVARO",{"$f":"IN!B3060","v":0},{"$f":"Blad3!E3060","v":""},{"$f":"Blad3!G3060","v":0},"Oanmäld frånvaro"]
["FRÅNVARO",{"$f":"IN!B3061","v":0},{"$f":"Blad3!E3061","v":""},{"$f":"Blad3!G3061","v":0},"Oanmäld frånvaro"]
["FRÅNVARO",{"$f":"IN!B3062","v":0},{"$f":"Blad3!E3062","v":""},{"$f":"Blad3!G3062","v":0},"Oanmäld frånvaro"]
["FRÅNVARO",{"$f":"IN!B3063","v":0},{"$f":"Blad3!E3063","v":""},{"$f":"Blad3!G3063","v":0},"Oanmäld frånvaro"]
["FRÅNVARO",{"$f":"IN!B3064","v":0},{"$f":"Blad3!E3064","v":""},{"$f":"Blad3!G3064","v":0},"Oanmäld frånvaro"]
["FRÅNVARO",{"$f":"IN!B3065","v":0},{"$f":"Blad3!E3065","v":""},{"$f":"Blad3!G3065","v":0},"Oanmäld frånvaro"]
["FRÅNVARO",{"$f":"IN!B3066","v":0},{"$f":"Blad3!E3066","v":""},{"$f":"Blad3!G3066","v":0},"Oanmäld frånvaro"]
["FRÅNVARO",{"$f":"IN!B3067","v":0},{"$f":"Blad3!E3067","v":""},{"$f":"Blad3!G3067","v":0},"Oanmäld frånvaro"]
["FRÅNVARO",{"$f":"IN!B3068","v":0},{"$f":"Blad3!E3068","v":""},{"$f":"Blad3!G3068","v":0},"Oanmäld frånvaro"]
["FRÅNVARO",{"$f":"IN!B3069","v":0},{"$f":"Blad3!E3069","v":""},{"$f":"Blad3!G3069","v":0},"Oanmäld frånvaro"]
["FRÅNVARO",{"$f":"IN!B3070","v":0},{"$f":"Blad3!E3070","v":""},{"$f":"Blad3!G3070","v":0},"Oanmäld frånvaro"]
["FRÅNVARO",{"$f":"IN!B3071","v":0},{"$f":"Blad3!E3071","v":""},{"$f":"Blad3!G3071","v":0},"Oanmäld frånvaro"]
["FRÅNVARO",{"$f":"IN!B3072","v":0},{"$f":"Blad3!E3072","v":""},{"$f":"Blad3!G3072","v":0},"Oanmäld frånvaro"]
["FRÅNVARO",{"$f":"IN!B3073","v":0},{"$f":"Blad3!E3073","v":""},{"$f":"Blad3!G3073","v":0},"Oanmäld frånvaro"]
["FRÅNVARO",{"$f":"IN!B3074","v":0},{"$f":"Blad3!E3074","v":""},{"$f":"Blad3!G3074","v":0},"Oanmäld frånvaro"]
["FRÅNVARO",{"$f":"IN!B3075","v":0},{"$f":"Blad3!E3075","v":""},{"$f":"Blad3!G3075","v":0},"Oanmäld frånvaro"]
["FRÅNVARO",{"$f":"IN!B3076","v":0},{"$f":"Blad3!E3076","v":""},{"$f":"Blad3!G3076","v":0},"Oanmäld frånvaro"]
["FRÅNVARO",{"$f":"IN!B3077","v":0},{"$f":"Blad3!E3077","v":""},{"$f":"Blad3!G3077","v":0},"Oanmäld frånvaro"]
["FRÅNVARO",{"$f":"IN!B3078","v":0},{"$f":"Blad3!E3078","v":""},{"$f":"Blad3!G3078","v":0},"Oanmäld frånvaro"]
["FRÅNVARO",{"$f":"IN!B3079","v":0},{"$f":"Blad3!E3079","v":""},{"$f":"Blad3!G3079","v":0},"Oanmäld frånvaro"]
["FRÅNVARO",{"$f":"IN!B3080","v":0},{"$f":"Blad3!E3080","v":""},{"$f":"Blad3!G3080","v":0},"Oanmäld frånvaro"]
["FRÅNVARO",{"$f":"IN!B3081","v":0},{"$f":"Blad3!E3081","v":""},{"$f":"Blad3!G3081","v":0},"Oanmäld frånvaro"]
["FRÅNVARO",{"$f":"IN!B3082","v":0},{"$f":"Blad3!E3082","v":""},{"$f":"Blad3!G3082","v":0},"Oanmäld frånvaro"]
["FRÅNVARO",{"$f":"IN!B3083","v":0},{"$f":"Blad3!E3083","v":""},{"$f":"Blad3!G3083","v":0},"Oanmäld frånvaro"]
["FRÅNVARO",{"$f":"IN!B3084","v":0},{"$f":"Blad3!E3084","v":""},{"$f":"Blad3!G3084","v":0},"Oanmäld frånvaro"]
["FRÅNVARO",{"$f":"IN!B3085","v":0},{"$f":"Blad3!E3085","v":""},{"$f":"Blad3!G3085","v":0},"Oanmäld frånvaro"]
["FRÅNVARO",{"$f":"IN!B3086","v":0},{"$f":"Blad3!E3086","v":""},{"$f":"Blad3!G3086","v":0},"Oanmäld frånvaro"]
["FRÅNVARO",{"$f":"IN!B3087","v":0},{"$f":"Blad3!E3087","v":""},{"$f":"Blad3!G3087","v":0},"Oanmäld frånvaro"]
["FRÅNVARO",{"$f":"IN!B3088","v":0},{"$f":"Blad3!E3088","v":""},{"$f":"Blad3!G3088","v":0},"Oanmäld frånvaro"]
["FRÅNVARO",{"$f":"IN!B3089","v":0},{"$f":"Blad3!E3089","v":""},{"$f":"Blad3!G3089","v":0},"Oanmäld frånvaro"]
["FRÅNVARO",{"$f":"IN!B3090","v":0},{"$f":"Blad3!E3090","v":""},{"$f":"Blad3!G3090","v":0},"Oanmäld frånvaro"]
["FRÅNVARO",{"$f":"IN!B3091","v":0},{"$f":"Blad3!E3091","v":""},{"$f":"Blad3!G3091","v":0},"Oanmäld frånvaro"]
["FRÅNVARO",{"$f":"IN!B3092","v":0},{"$f":"Blad3!E3092","v":""},{"$f":"Blad3!G3092","v":0},"Oanmäld frånvaro"]
["FRÅNVARO",{"$f":"IN!B3093","v":0},{"$f":"Blad3!E3093","v":""},{"$f":"Blad3!G3093","v":0},"Oanmäld frånvaro"]
["FRÅNVARO",{"$f":"IN!B3094","v":0},{"$f":"Blad3!E3094","v":""},{"$f":"Blad3!G3094","v":0},"Oanmäld frånvaro"]
["FRÅNVARO",{"$f":"IN!B3095","v":0},{"$f":"Blad3!E3095","v":""},{"$f":"Blad3!G3095","v":0},"Oanmäld frånvaro"]
["FRÅNVARO",{"$f":"IN!B3096","v":0},{"$f":"Blad3!E3096","v":""},{"$f":"Blad3!G3096","v":0},"Oanmäld frånvaro"]
["FRÅNVARO",{"$f":"IN!B3097","v":0},{"$f":"Blad3!E3097","v":""},{"$f":"Blad3!G3097","v":0},"Oanmäld frånvaro"]
["FRÅNVARO",{"$f":"IN!B3098","v":0},{"$f":"Blad3!E3098","v":""},{"$f":"Blad3!G3098","v":0},"Oanmäld frånvaro"]
["FRÅNVARO",{"$f":"IN!B3099","v":0},{"$f":"Blad3!E3099","v":""},{"$f":"Blad3!G3099","v":0},"Oanmäld frånvaro"]
["FRÅNVARO",{"$f":"IN!B3100","v":0},{"$f":"Blad3!E3100","v":""},{"$f":"Blad3!G3100","v":0},"Oanmäld frånvaro"]
["FRÅNVARO",{"$f":"IN!B3101","v":0},{"$f":"Blad3!E3101","v":""},{"$f":"Blad3!G3101","v":0},"Oanmäld frånvaro"]
["FRÅNVARO",{"$f":"IN!B3102","v":0},{"$f":"Blad3!E3102","v":""},{"$f":"Blad3!G3102","v":0},"Oanmäld frånvaro"]
["FRÅNVARO",{"$f":"IN!B3103","v":0},{"$f":"Blad3!E3103","v":""},{"$f":"Blad3!G3103","v":0},"Oanmäld frånvaro"]
["FRÅNVARO",{"$f":"IN!B3104","v":0},{"$f":"Blad3!E3104","v":""},{"$f":"Blad3!G3104","v":0},"Oanmäld frånvaro"]
["FRÅNVARO",{"$f":"IN!B3105","v":0},{"$f":"Blad3!E3105","v":""},{"$f":"Blad3!G3105","v":0},"Oanmäld frånvaro"]
["FRÅNVARO",{"$f":"IN!B3106","v":0},{"$f":"Blad3!E3106","v":""},{"$f":"Blad3!G3106","v":0},"Oanmäld frånvaro"]
["FRÅNVARO",{"$f":"IN!B3107","v":0},{"$f":"Blad3!E3107","v":""},{"$f":"Blad3!G3107","v":0},"Oanmäld frånvaro"]
["FRÅNVARO",{"$f":"IN!B3108","v":0},{"$f":"Blad3!E3108","v":""},{"$f":"Blad3!G3108","v":0},"Oanmäld frånvaro"]
["FRÅNVARO",{"$f":"IN!B3109","v":0},{"$f":"Blad3!E3109","v":""},{"$f":"Blad3!G3109","v":0},"Oanmäld frånvaro"]
["FRÅNVARO",{"$f":"IN!B3110","v":0},{"$f":"Blad3!E3110","v":""},{"$f":"Blad3!G3110","v":0},"Oanmäld frånvaro"]
["FRÅNVARO",{"$f":"IN!B3111","v":0},{"$f":"Blad3!E3111","v":""},{"$f":"Blad3!G3111","v":0},"Oanmäld frånvaro"]
["FRÅNVARO",{"$f":"IN!B3112","v":0},{"$f":"Blad3!E3112","v":""},{"$f":"Blad3!G3112","v":0},"Oanmäld frånvaro"]
["FRÅNVARO",{"$f":"IN!B3113","v":0},{"$f":"Blad3!E3113","v":""},{"$f":"Blad3!G3113","v":0},"Oanmäld frånvaro"]
["FRÅNVARO",{"$f":"IN!B3114","v":0},{"$f":"Blad3!E3114","v":""},{"$f":"Blad3!G3114","v":0},"Oanmäld frånvaro"]
["FRÅNVARO",{"$f":"IN!B3115","v":0},{"$f":"Blad3!E3115","v":""},{"$f":"Blad3!G3115","v":0},"Oanmäld frånvaro"]
["FRÅNVARO",{"$f":"IN!B3116","v":0},{"$f":"Blad3!E3116","v":""},{"$f":"Blad3!G3116","v":0},"Oanmäld frånvaro"]
["FRÅNVARO",{"$f":"IN!B3117","v":0},{"$f":"Blad3!E3117","v":""},{"$f":"Blad3!G3117","v":0},"Oanmäld frånvaro"]
["FRÅNVARO",{"$f":"IN!B3118","v":0},{"$f":"Blad3!E3118","v":""},{"$f":"Blad3!G3118","v":0},"Oanmäld frånvaro"]
["FRÅNVARO",{"$f":"IN!B3119","v":0},{"$f":"Blad3!E3119","v":""},{"$f":"Blad3!G3119","v":0},"Oanmäld frånvaro"]
["FRÅNVARO",{"$f":"IN!B3120","v":0},{"$f":"Blad3!E3120","v":""},{"$f":"Blad3!G3120","v":0},"Oanmäld frånvaro"]
["FRÅNVARO",{"$f":"IN!B3121","v":0},{"$f":"Blad3!E3121","v":""},{"$f":"Blad3!G3121","v":0},"Oanmäld frånvaro"]
["FRÅNVARO",{"$f":"IN!B3122","v":0},{"$f":"Blad3!E3122","v":""},{"$f":"Blad3!G3122","v":0},"Oanmäld frånvaro"]
["FRÅNVARO",{"$f":"IN!B3123","v":0},{"$f":"Blad3!E3123","v":""},{"$f":"Blad3!G3123","v":0},"Oanmäld frånvaro"]
["FRÅNVARO",{"$f":"IN!B3124","v":0},{"$f":"Blad3!E3124","v":""},{"$f":"Blad3!G3124","v":0},"Oanmäld frånvaro"]
["FRÅNVARO",{"$f":"IN!B3125","v":0},{"$f":"Blad3!E3125","v":""},{"$f":"Blad3!G3125","v":0},"Oanmäld frånvaro"]
["FRÅNVARO",{"$f":"IN!B3126","v":0},{"$f":"Blad3!E3126","v":""},{"$f":"Blad3!G3126","v":0},"Oanmäld frånvaro"]
["FRÅNVARO",{"$f":"IN!B3127","v":0},{"$f":"Blad3!E3127","v":""},{"$f":"Blad3!G3127","v":0},"Oanmäld frånvaro"]
["FRÅNVARO",{"$f":"IN!B3128","v":0},{"$f":"Blad3!E3128","v":""},{"$f":"Blad3!G3128","v":0},"Oanmäld frånvaro"]
["FRÅNVARO",{"$f":"IN!B3129","v":0},{"$f":"Blad3!E3129","v":""},{"$f":"Blad3!G3129","v":0},"Oanmäld frånvaro"]
["FRÅNVARO",{"$f":"IN!B3130","v":0},{"$f":"Blad3!E3130","v":""},{"$f":"Blad3!G3130","v":0},"Oanmäld frånvaro"]
["FRÅNVARO",{"$f":"IN!B3131","v":0},{"$f":"Blad3!E3131","v":""},{"$f":"Blad3!G3131","v":0},"Oanmäld frånvaro"]
["FRÅNVARO",{"$f":"IN!B3132","v":0},{"$f":"Blad3!E3132","v":""},{"$f":"Blad3!G3132","v":0},"Oanmäld frånvaro"]
["FRÅNVARO",{"$f":"IN!B3133","v":0},{"$f":"Blad3!E3133","v":""},{"$f":"Blad3!G3133","v":0},"Oanmäld frånvaro"]
["FRÅNVARO",{"$f":"IN!B3134","v":0},{"$f":"Blad3!E3134","v":""},{"$f":"Blad3!G3134","v":0},"Oanmäld frånvaro"]
["FRÅNVARO",{"$f":"IN!B3135","v":0},{"$f":"Blad3!E3135","v":""},{"$f":"Blad3!G3135","v":0},"Oanmäld frånvaro"]
["FRÅNVARO",{"$f":"IN!B3136","v":0},{"$f":"Blad3!E3136","v":""},{"$f":"Blad3!G3136","v":0},"Oanmäld frånvaro"]
["FRÅNVARO",{"$f":"IN!B3137","v":0},{"$f":"Blad3!E3137","v":""},{"$f":"Blad3!G3137","v":0},"Oanmäld frånvaro"]
["FRÅNVARO",{"$f":"IN!B3138","v":0},{"$f":"Blad3!E3138","v":""},{"$f":"Blad3!G3138","v":0},"Oanmäld frånvaro"]
["FRÅNVARO",{"$f":"IN!B3139","v":0},{"$f":"Blad3!E3139","v":""},{"$f":"Blad3!G3139","v":0},"Oanmäld frånvaro"]
["FRÅNVARO",{"$f":"IN!B3140","v":0},{"$f":"Blad3!E3140","v":""},{"$f":"Blad3!G3140","v":0},"Oanmäld frånvaro"]
["FRÅNVARO",{"$f":"IN!B3141","v":0},{"$f":"Blad3!E3141","v":""},{"$f":"Blad3!G3141","v":0},"Oanmäld frånvaro"]
["FRÅNVARO",{"$f":"IN!B3142","v":0},{"$f":"Blad3!E3142","v":""},{"$f":"Blad3!G3142","v":0},"Oanmäld frånvaro"]
["FRÅNVARO",{"$f":"IN!B3143","v":0},{"$f":"Blad3!E3143","v":""},{"$f":"Blad3!G3143","v":0},"Oanmäld frånvaro"]
["FRÅNVARO",{"$f":"IN!B3144","v":0},{"$f":"Blad3!E3144","v":""},{"$f":"Blad3!G3144","v":0},"Oanmäld frånvaro"]
["FRÅNVARO",{"$f":"IN!B3145","v":0},{"$f":"Blad3!E3145","v":""},{"$f":"Blad3!G3145","v":0},"Oanmäld frånvaro"]
["FRÅNVARO",{"$f":"IN!B3146","v":0},{"$f":"Blad3!E3146","v":""},{"$f":"Blad3!G3146","v":0},"Oanmäld frånvaro"]
["FRÅNVARO",{"$f":"IN!B3147","v":0},{"$f":"Blad3!E3147","v":""},{"$f":"Blad3!G3147","v":0},"Oanmäld frånvaro"]
["FRÅNVARO",{"$f":"IN!B3148","v":0},{"$f":"Blad3!E3148","v":""},{"$f":"Blad3!G3148","v":0},"Oanmäld frånvaro"]
["FRÅNVARO",{"$f":"IN!B3149","v":0},{"$f":"Blad3!E3149","v":""},{"$f":"Blad3!G3149","v":0},"Oanmäld frånvaro"]
["FRÅNVARO",{"$f":"IN!B3150","v":0},{"$f":"Blad3!E3150","v":""},{"$f":"Blad3!G3150","v":0},"Oanmäld frånvaro"]
["FRÅNVARO",{"$f":"IN!B3151","v":0},{"$f":"Blad3!E3151","v":""},{"$f":"Blad3!G3151","v":0},"Oanmäld frånvaro"]
["FRÅNVARO",{"$f":"IN!B3152","v":0},{"$f":"Blad3!E3152","v":""},{"$f":"Blad3!G3152","v":0},"Oanmäld frånvaro"]
["FRÅNVARO",{"$f":"IN!B3153","v":0},{"$f":"Blad3!E3153","v":""},{"$f":"Blad3!G3153","v":0},"Oanmäld frånvaro"]
["FRÅNVARO",{"$f":"IN!B3154","v":0},{"$f":"Blad3!E3154","v":""},{"$f":"Blad3!G3154","v":0},"Oanmäld frånvaro"]
["FRÅNVARO",{"$f":"IN!B3155","v":0},{"$f":"Blad3!E3155","v":""},{"$f":"Blad3!G3155","v":0},"Oanmäld frånvaro"]
["FRÅNVARO",{"$f":"IN!B3156","v":0},{"$f":"Blad3!E3156","v":""},{"$f":"Blad3!G3156","v":0},"Oanmäld frånvaro"]
["FRÅNVARO",{"$f":"IN!B3157","v":0},{"$f":"Blad3!E3157","v":""},{"$f":"Blad3!G3157","v":0},"Oanmäld frånvaro"]
["FRÅNVARO",{"$f":"IN!B3158","v":0},{"$f":"Blad3!E3158","v":""},{"$f":"Blad3!G3158","v":0},"Oanmäld frånvaro"]
["FRÅNVARO",{"$f":"IN!B3159","v":0},{"$f":"Blad3!E3159","v":""},{"$f":"Blad3!G3159","v":0},"Oanmäld frånvaro"]
["FRÅNVARO",{"$f":"IN!B3160","v":0},{"$f":"Blad3!E3160","v":""},{"$f":"Blad3!G3160","v":0},"Oanmäld frånvaro"]
["FRÅNVARO",{"$f":"IN!B3161","v":0},{"$f":"Blad3!E3161","v":""},{"$f":"Blad3!G3161","v":0},"Oanmäld frånvaro"]
["FRÅNVARO",{"$f":"IN!B3162","v":0},{"$f":"Blad3!E3162","v":""},{"$f":"Blad3!G3162","v":0},"Oanmäld frånvaro"]
["FRÅNVARO",{"$f":"IN!B3163","v":0},{"$f":"Blad3!E3163","v":""},{"$f":"Blad3!G3163","v":0},"Oanmäld frånvaro"]
["FRÅNVARO",{"$f":"IN!B3164","v":0},{"$f":"Blad3!E3164","v":""},{"$f":"Blad3!G3164","v":0},"Oanmäld frånvaro"]
["FRÅNVARO",{"$f":"IN!B3165","v":0},{"$f":"Blad3!E3165","v":""},{"$f":"Blad3!G3165","v":0},"Oanmäld frånvaro"]
["FRÅNVARO",{"$f":"IN!B3166","v":0},{"$f":"Blad3!E3166","v":""},{"$f":"Blad3!G3166","v":0},"Oanmäld frånvaro"]
["FRÅNVARO",{"$f":"IN!B3167","v":0},{"$f":"Blad3!E3167","v":""},{"$f":"Blad3!G3167","v":0},"Oanmäld frånvaro"]
["FRÅNVARO",{"$f":"IN!B3168","v":0},{"$f":"Blad3!E3168","v":""},{"$f":"Blad3!G3168","v":0},"Oanmäld frånvaro"]
["FRÅNVARO",{"$f":"IN!B3169","v":0},{"$f":"Blad3!E3169","v":""},{"$f":"Blad3!G3169","v":0},"Oanmäld frånvaro"]
["FRÅNVARO",{"$f":"IN!B3170","v":0},{"$f":"Blad3!E3170","v":""},{"$f":"Blad3!G3170","v":0},"Oanmäld frånvaro"]
["FRÅNVARO",{"$f":"IN!B3171","v":0},{"$f":"Blad3!E3171","v":""},{"$f":"Blad3!G3171","v":0},"Oanmäld frånvaro"]
["FRÅNVARO",{"$f":"IN!B3172","v":0},{"$f":"Blad3!E3172","v":""},{"$f":"Blad3!G3172","v":0},"Oanmäld frånvaro"]
["FRÅNVARO",{"$f":"IN!B3173","v":0},{"$f":"Blad3!E3173","v":""},{"$f":"Blad3!G3173","v":0},"Oanmäld frånvaro"]
["FRÅNVARO",{"$f":"IN!B3174","v":0},{"$f":"Blad3!E3174","v":""},{"$f":"Blad3!G3174","v":0},"Oanmäld frånvaro"]
["FRÅNVARO",{"$f":"IN!B3175","v":0},{"$f":"Blad3!E3175","v":""},{"$f":"Blad3!G3175","v":0},"Oanmäld frånvaro"]
["FRÅNVARO",{"$f":"IN!B3176","v":0},{"$f":"Blad3!E3176","v":""},{"$f":"Blad3!G3176","v":0},"Oanmäld frånvaro"]
["FRÅNVARO",{"$f":"IN!B3177","v":0},{"$f":"Blad3!E3177","v":""},{"$f":"Blad3!G3177","v":0},"Oanmäld frånvaro"]
["FRÅNVARO",{"$f":"IN!B3178","v":0},{"$f":"Blad3!E3178","v":""},{"$f":"Blad3!G3178","v":0},"Oanmäld frånvaro"]
["FRÅNVARO",{"$f":"IN!B3179","v":0},{"$f":"Blad3!E3179","v":""},{"$f":"Blad3!G3179","v":0},"Oanmäld frånvaro"]
["FRÅNVARO",{"$f":"IN!B3180","v":0},{"$f":"Blad3!E3180","v":""},{"$f":"Blad3!G3180","v":0},"Oanmäld frånvaro"]
["FRÅNVARO",{"$f":"IN!B3181","v":0},{"$f":"Blad3!E3181","v":""},{"$f":"Blad3!G3181","v":0},"Oanmäld frånvaro"]
["FRÅNVARO",{"$f":"IN!B3182","v":0},{"$f":"Blad3!E3182","v":""},{"$f":"Blad3!G3182","v":0},"Oanmäld frånvaro"]
["FRÅNVARO",{"$f":"IN!B3183","v":0},{"$f":"Blad3!E3183","v":""},{"$f":"Blad3!G3183","v":0},"Oanmäld frånvaro"]
["FRÅNVARO",{"$f":"IN!B3184","v":0},{"$f":"Blad3!E3184","v":""},{"$f":"Blad3!G3184","v":0},"Oanmäld frånvaro"]
["FRÅNVARO",{"$f":"IN!B3185","v":0},{"$f":"Blad3!E3185","v":""},{"$f":"Blad3!G3185","v":0},"Oanmäld frånvaro"]
["FRÅNVARO",{"$f":"IN!B3186","v":0},{"$f":"Blad3!E3186","v":""},{"$f":"Blad3!G3186","v":0},"Oanmäld frånvaro"]
["FRÅNVARO",{"$f":"IN!B3187","v":0},{"$f":"Blad3!E3187","v":""},{"$f":"Blad3!G3187","v":0},"Oanmäld frånvaro"]
["FRÅNVARO",{"$f":"IN!B3188","v":0},{"$f":"Blad3!E3188","v":""},{"$f":"Blad3!G3188","v":0},"Oanmäld frånvaro"]
["FRÅNVARO",{"$f":"IN!B3189","v":0},{"$f":"Blad3!E3189","v":""},{"$f":"Blad3!G3189","v":0},"Oanmäld frånvaro"]
["FRÅNVARO",{"$f":"IN!B3190","v":0},{"$f":"Blad3!E3190","v":""},{"$f":"Blad3!G3190","v":0},"Oanmäld frånvaro"]
["FRÅNVARO",{"$f":"IN!B3191","v":0},{"$f":"Blad3!E3191","v":""},{"$f":"Blad3!G3191","v":0},"Oanmäld frånvaro"]
["FRÅNVARO",{"$f":"IN!B3192","v":0},{"$f":"Blad3!E3192","v":""},{"$f":"Blad3!G3192","v":0},"Oanmäld frånvaro"]
["FRÅNVARO",{"$f":"IN!B3193","v":0},{"$f":"Blad3!E3193","v":""},{"$f":"Blad3!G3193","v":0},"Oanmäld frånvaro"]
["FRÅNVARO",{"$f":"IN!B3194","v":0},{"$f":"Blad3!E3194","v":""},{"$f":"Blad3!G3194","v":0},"Oanmäld frånvaro"]
["FRÅNVARO",{"$f":"IN!B3195","v":0},{"$f":"Blad3!E3195","v":""},{"$f":"Blad3!G3195","v":0},"Oanmäld frånvaro"]
["FRÅNVARO",{"$f":"IN!B3196","v":0},{"$f":"Blad3!E3196","v":""},{"$f":"Blad3!G3196","v":0},"Oanmäld frånvaro"]
["FRÅNVARO",{"$f":"IN!B3197","v":0},{"$f":"Blad3!E3197","v":""},{"$f":"Blad3!G3197","v":0},"Oanmäld frånvaro"]
["FRÅNVARO",{"$f":"IN!B3198","v":0},{"$f":"Blad3!E3198","v":""},{"$f":"Blad3!G3198","v":0},"Oanmäld frånvaro"]
["FRÅNVARO",{"$f":"IN!B3199","v":0},{"$f":"Blad3!E3199","v":""},{"$f":"Blad3!G3199","v":0},"Oanmäld frånvaro"]
["FRÅNVARO",{"$f":"IN!B3200","v":0},{"$f":"Blad3!E3200","v":""},{"$f":"Blad3!G3200","v":0},"Oanmäld frånvaro"]
["FRÅNVARO",{"$f":"IN!B3201","v":0},{"$f":"Blad3!E3201","v":""},{"$f":"Blad3!G3201","v":0},"Oanmäld frånvaro"]
["FRÅNVARO",{"$f":"IN!B3202","v":0},{"$f":"Blad3!E3202","v":""},{"$f":"Blad3!G3202","v":0},"Oanmäld frånvaro"]
["FRÅNVARO",{"$f":"IN!B3203","v":0},{"$f":"Blad3!E3203","v":""},{"$f":"Blad3!G3203","v":0},"Oanmäld frånvaro"]
["FRÅNVARO",{"$f":"IN!B3204","v":0},{"$f":"Blad3!E3204","v":""},{"$f":"Blad3!G3204","v":0},"Oanmäld frånvaro"]
["FRÅNVARO",{"$f":"IN!B3205","v":0},{"$f":"Blad3!E3205","v":""},{"$f":"Blad3!G3205","v":0},"Oanmäld frånvaro"]
["FRÅNVARO",{"$f":"IN!B3206","v":0},{"$f":"Blad3!E3206","v":""},{"$f":"Blad3!G3206","v":0},"Oanmäld frånvaro"]
["FRÅNVARO",{"$f":"IN!B3207","v":0},{"$f":"Blad3!E3207","v":""},{"$f":"Blad3!G3207","v":0},"Oanmäld frånvaro"]
["FRÅNVARO",{"$f":"IN!B3208","v":0},{"$f":"Blad3!E3208","v":""},{"$f":"Blad3!G3208","v":0},"Oanmäld frånvaro"]
["FRÅNVARO",{"$f":"IN!B3209","v":0},{"$f":"Blad3!E3209","v":""},{"$f":"Blad3!G3209","v":0},"Oanmäld frånvaro"]
["FRÅNVARO",{"$f":"IN!B3210","v":0},{"$f":"Blad3!E3210","v":""},{"$f":"Blad3!G3210","v":0},"Oanmäld frånvaro"]
["FRÅNVARO",{"$f":"IN!B3211","v":0},{"$f":"Blad3!E3211","v":""},{"$f":"Blad3!G3211","v":0},"Oanmäld frånvaro"]
["FRÅNVARO",{"$f":"IN!B3212","v":0},{"$f":"Blad3!E3212","v":""},{"$f":"Blad3!G3212","v":0},"Oanmäld frånvaro"]
["FRÅNVARO",{"$f":"IN!B3213","v":0},{"$f":"Blad3!E3213","v":""},{"$f":"Blad3!G3213","v":0},"Oanmäld frånvaro"]
["FRÅNVARO",{"$f":"IN!B3214","v":0},{"$f":"Blad3!E3214","v":""},{"$f":"Blad3!G3214","v":0},"Oanmäld frånvaro"]
["FRÅNVARO",{"$f":"IN!B3215","v":0},{"$f":"Blad3!E3215","v":""},{"$f":"Blad3!G3215","v":0},"Oanmäld frånvaro"]
["FRÅNVARO",{"$f":"IN!B3216","v":0},{"$f":"Blad3!E3216","v":""},{"$f":"Blad3!G3216","v":0},"Oanmäld frånvaro"]
["FRÅNVARO",{"$f":"IN!B3217","v":0},{"$f":"Blad3!E3217","v":""},{"$f":"Blad3!G3217","v":0},"Oanmäld frånvaro"]
["FRÅNVARO",{"$f":"IN!B3218","v":0},{"$f":"Blad3!E3218","v":""},{"$f":"Blad3!G3218","v":0},"Oanmäld frånvaro"]
["FRÅNVARO",{"$f":"IN!B3219","v":0},{"$f":"Blad3!E3219","v":""},{"$f":"Blad3!G3219","v":0},"Oanmäld frånvaro"]
["FRÅNVARO",{"$f":"IN!B3220","v":0},{"$f":"Blad3!E3220","v":""},{"$f":"Blad3!G3220","v":0},"Oanmäld frånvaro"]
["FRÅNVARO",{"$f":"IN!B3221","v":0},{"$f":"Blad3!E3221","v":""},{"$f":"Blad3!G3221","v":0},"Oanmäld frånvaro"]
["FRÅNVARO",{"$f":"IN!B3222","v":0},{"$f":"Blad3!E3222","v":""},{"$f":"Blad3!G3222","v":0},"Oanmäld frånvaro"]
["FRÅNVARO",{"$f":"IN!B3223","v":0},{"$f":"Blad3!E3223","v":""},{"$f":"Blad3!G3223","v":0},"Oanmäld frånvaro"]
["FRÅNVARO",{"$f":"IN!B3224","v":0},{"$f":"Blad3!E3224","v":""},{"$f":"Blad3!G3224","v":0},"Oanmäld frånvaro"]
["FRÅNVARO",{"$f":"IN!B3225","v":0},{"$f":"Blad3!E3225","v":""},{"$f":"Blad3!G3225","v":0},"Oanmäld frånvaro"]
["FRÅNVARO",{"$f":"IN!B3226","v":0},{"$f":"Blad3!E3226","v":""},{"$f":"Blad3!G3226","v":0},"Oanmäld frånvaro"]
["FRÅNVARO",{"$f":"IN!B3227","v":0},{"$f":"Blad3!E3227","v":""},{"$f":"Blad3!G3227","v":0},"Oanmäld frånvaro"]
["FRÅNVARO",{"$f":"IN!B3228","v":0},{"$f":"Blad3!E3228","v":""},{"$f":"Blad3!G3228","v":0},"Oanmäld frånvaro"]
["FRÅNVARO",{"$f":"IN!B3229","v":0},{"$f":"Blad3!E3229","v":""},{"$f":"Blad3!G3229","v":0},"Oanmäld frånvaro"]
["FRÅNVARO",{"$f":"IN!B3230","v":0},{"$f":"Blad3!E3230","v":""},{"$f":"Blad3!G3230","v":0},"Oanmäld frånvaro"]
["FRÅNVARO",{"$f":"IN!B3231","v":0},{"$f":"Blad3!E3231","v":""},{"$f":"Blad3!G3231","v":0},"Oanmäld frånvaro"]
["FRÅNVARO",{"$f":"IN!B3232","v":0},{"$f":"Blad3!E3232","v":""},{"$f":"Blad3!G3232","v":0},"Oanmäld frånvaro"]
["FRÅNVARO",{"$f":"IN!B3233","v":0},{"$f":"Blad3!E3233","v":""},{"$f":"Blad3!G3233","v":0},"Oanmäld frånvaro"]
["FRÅNVARO",{"$f":"IN!B3234","v":0},{"$f":"Blad3!E3234","v":""},{"$f":"Blad3!G3234","v":0},"Oanmäld frånvaro"]
["FRÅNVARO",{"$f":"IN!B3235","v":0},{"$f":"Blad3!E3235","v":""},{"$f":"Blad3!G3235","v":0},"Oanmäld frånvaro"]
["FRÅNVARO",{"$f":"IN!B3236","v":0},{"$f":"Blad3!E3236","v":""},{"$f":"Blad3!G3236","v":0},"Oanmäld frånvaro"]
["FRÅNVARO",{"$f":"IN!B3237","v":0},{"$f":"Blad3!E3237","v":""},{"$f":"Blad3!G3237","v":0},"Oanmäld frånvaro"]
["FRÅNVARO",{"$f":"IN!B3238","v":0},{"$f":"Blad3!E3238","v":""},{"$f":"Blad3!G3238","v":0},"Oanmäld frånvaro"]
["FRÅNVARO",{"$f":"IN!B3239","v":0},{"$f":"Blad3!E3239","v":""},{"$f":"Blad3!G3239","v":0},"Oanmäld frånvaro"]
["FRÅNVARO",{"$f":"IN!B3240","v":0},{"$f":"Blad3!E3240","v":""},{"$f":"Blad3!G3240","v":0},"Oanmäld frånvaro"]
["FRÅNVARO",{"$f":"IN!B3241","v":0},{"$f":"Blad3!E3241","v":""},{"$f":"Blad3!G3241","v":0},"Oanmäld frånvaro"]
["FRÅNVARO",{"$f":"IN!B3242","v":0},{"$f":"Blad3!E3242","v":""},{"$f":"Blad3!G3242","v":0},"Oanmäld frånvaro"]
["FRÅNVARO",{"$f":"IN!B3243","v":0},{"$f":"Blad3!E3243","v":""},{"$f":"Blad3!G3243","v":0},"Oanmäld frånvaro"]
["FRÅNVARO",{"$f":"IN!B3244","v":0},{"$f":"Blad3!E3244","v":""},{"$f":"Blad3!G3244","v":0},"Oanmäld frånvaro"]
["FRÅNVARO",{"$f":"IN!B3245","v":0},{"$f":"Blad3!E3245","v":""},{"$f":"Blad3!G3245","v":0},"Oanmäld frånvaro"]
["FRÅNVARO",{"$f":"IN!B3246","v":0},{"$f":"Blad3!E3246","v":""},{"$f":"Blad3!G3246","v":0},"Oanmäld frånvaro"]
["FRÅNVARO",{"$f":"IN!B3247","v":0},{"$f":"Blad3!E3247","v":""},{"$f":"Blad3!G3247","v":0},"Oanmäld frånvaro"]
["FRÅNVARO",{"$f":"IN!B3248","v":0},{"$f":"Blad3!E3248","v":""},{"$f":"Blad3!G3248","v":0},"Oanmäld frånvaro"]
["FRÅNVARO",{"$f":"IN!B3249","v":0},{"$f":"Blad3!E3249","v":""},{"$f":"Blad3!G3249","v":0},"Oanmäld frånvaro"]
["FRÅNVARO",{"$f":"IN!B3250","v":0},{"$f":"Blad3!E3250","v":""},{"$f":"Blad3!G3250","v":0},"Oanmäld frånvaro"]
["FRÅNVARO",{"$f":"IN!B3251","v":0},{"$f":"Blad3!E3251","v":""},{"$f":"Blad3!G3251","v":0},"Oanmäld frånvaro"]
["FRÅNVARO",{"$f":"IN!B3252","v":0},{"$f":"Blad3!E3252","v":""},{"$f":"Blad3!G3252","v":0},"Oanmäld frånvaro"]
["FRÅNVARO",{"$f":"IN!B3253","v":0},{"$f":"Blad3!E3253","v":""},{"$f":"Blad3!G3253","v":0},"Oanmäld frånvaro"]
["FRÅNVARO",{"$f":"IN!B3254","v":0},{"$f":"Blad3!E3254","v":""},{"$f":"Blad3!G3254","v":0},"Oanmäld frånvaro"]
["FRÅNVARO",{"$f":"IN!B3255","v":0},{"$f":"Blad3!E3255","v":""},{"$f":"Blad3!G3255","v":0},"Oanmäld frånvaro"]
["FRÅNVARO",{"$f":"IN!B3256","v":0},{"$f":"Blad3!E3256","v":""},{"$f":"Blad3!G3256","v":0},"Oanmäld frånvaro"]
["FRÅNVARO",{"$f":"IN!B3257","v":0},{"$f":"Blad3!E3257","v":""},{"$f":"Blad3!G3257","v":0},"Oanmäld frånvaro"]
["FRÅNVARO",{"$f":"IN!B3258","v":0},{"$f":"Blad3!E3258","v":""},{"$f":"Blad3!G3258","v":0},"Oanmäld frånvaro"]
["FRÅNVARO",{"$f":"IN!B3259","v":0},{"$f":"Blad3!E3259","v":""},{"$f":"Blad3!G3259","v":0},"Oanmäld frånvaro"]
["FRÅNVARO",{"$f":"IN!B3260","v":0},{"$f":"Blad3!E3260","v":""},{"$f":"Blad3!G3260","v":0},"Oanmäld frånvaro"]
["FRÅNVARO",{"$f":"IN!B3261","v":0},{"$f":"Blad3!E3261","v":""},{"$f":"Blad3!G3261","v":0},"Oanmäld frånvaro"]
["FRÅNVARO",{"$f":"IN!B3262","v":0},{"$f":"Blad3!E3262","v":""},{"$f":"Blad3!G3262","v":0},"Oanmäld frånvaro"]
["FRÅNVARO",{"$f":"IN!B3263","v":0},{"$f":"Blad3!E3263","v":""},{"$f":"Blad3!G3263","v":0},"Oanmäld frånvaro"]
["FRÅNVARO",{"$f":"IN!B3264","v":0},{"$f":"Blad3!E3264","v":""},{"$f":"Blad3!G3264","v":0},"Oanmäld frånvaro"]
["FRÅNVARO",{"$f":"IN!B3265","v":0},{"$f":"Blad3!E3265","v":""},{"$f":"Blad3!G3265","v":0},"Oanmäld frånvaro"]
["FRÅNVARO",{"$f":"IN!B3266","v":0},{"$f":"Blad3!E3266","v":""},{"$f":"Blad3!G3266","v":0},"Oanmäld frånvaro"]
["FRÅNVARO",{"$f":"IN!B3267","v":0},{"$f":"Blad3!E3267","v":""},{"$f":"Blad3!G3267","v":0},"Oanmäld frånvaro"]
["FRÅNVARO",{"$f":"IN!B3268","v":0},{"$f":"Blad3!E3268","v":""},{"$f":"Blad3!G3268","v":0},"Oanmäld frånvaro"]
["FRÅNVARO",{"$f":"IN!B3269","v":0},{"$f":"Blad3!E3269","v":""},{"$f":"Blad3!G3269","v":0},"Oanmäld frånvaro"]
["FRÅNVARO",{"$f":"IN!B3270","v":0},{"$f":"Blad3!E3270","v":""},{"$f":"Blad3!G3270","v":0},"Oanmäld frånvaro"]
["FRÅNVARO",{"$f":"IN!B3271","v":0},{"$f":"Blad3!E3271","v":""},{"$f":"Blad3!G3271","v":0},"Oanmäld frånvaro"]
["FRÅNVARO",{"$f":"IN!B3272","v":0},{"$f":"Blad3!E3272","v":""},{"$f":"Blad3!G3272","v":0},"Oanmäld frånvaro"]
["FRÅNVARO",{"$f":"IN!B3273","v":0},{"$f":"Blad3!E3273","v":""},{"$f":"Blad3!G3273","v":0},"Oanmäld frånvaro"]
["FRÅNVARO",{"$f":"IN!B3274","v":0},{"$f":"Blad3!E3274","v":""},{"$f":"Blad3!G3274","v":0},"Oanmäld frånvaro"]
["FRÅNVARO",{"$f":"IN!B3275","v":0},{"$f":"Blad3!E3275","v":""},{"$f":"Blad3!G3275","v":0},"Oanmäld frånvaro"]
["FRÅNVARO",{"$f":"IN!B3276","v":0},{"$f":"Blad3!E3276","v":""},{"$f":"Blad3!G3276","v":0},"Oanmäld frånvaro"]
["FRÅNVARO",{"$f":"IN!B3277","v":0},{"$f":"Blad3!E3277","v":""},{"$f":"Blad3!G3277","v":0},"Oanmäld frånvaro"]
["FRÅNVARO",{"$f":"IN!B3278","v":0},{"$f":"Blad3!E3278","v":""},{"$f":"Blad3!G3278","v":0},"Oanmäld frånvaro"]
["FRÅNVARO",{"$f":"IN!B3279","v":0},{"$f":"Blad3!E3279","v":""},{"$f":"Blad3!G3279","v":0},"Oanmäld frånvaro"]
["FRÅNVARO",{"$f":"IN!B3280","v":0},{"$f":"Blad3!E3280","v":""},{"$f":"Blad3!G3280","v":0},"Oanmäld frånvaro"]
["FRÅNVARO",{"$f":"IN!B3281","v":0},{"$f":"Blad3!E3281","v":""},{"$f":"Blad3!G3281","v":0},"Oanmäld frånvaro"]
["FRÅNVARO",{"$f":"IN!B3282","v":0},{"$f":"Blad3!E3282","v":""},{"$f":"Blad3!G3282","v":0},"Oanmäld frånvaro"]
["FRÅNVARO",{"$f":"IN!B3283","v":0},{"$f":"Blad3!E3283","v":""},{"$f":"Blad3!G3283","v":0},"Oanmäld frånvaro"]
["FRÅNVARO",{"$f":"IN!B3284","v":0},{"$f":"Blad3!E3284","v":""},{"$f":"Blad3!G3284","v":0},"Oanmäld frånvaro"]
["FRÅNVARO",{"$f":"IN!B3285","v":0},{"$f":"Blad3!E3285","v":""},{"$f":"Blad3!G3285","v":0},"Oanmäld frånvaro"]
["FRÅNVARO",{"$f":"IN!B3286","v":0},{"$f":"Blad3!E3286","v":""},{"$f":"Blad3!G3286","v":0},"Oanmäld frånvaro"]
["FRÅNVARO",{"$f":"IN!B3287","v":0},{"$f":"Blad3!E3287","v":""},{"$f":"Blad3!G3287","v":0},"Oanmäld frånvaro"]
["FRÅNVARO",{"$f":"IN!B3288","v":0},{"$f":"Blad3!E3288","v":""},{"$f":"Blad3!G3288","v":0},"Oanmäld frånvaro"]
["FRÅNVARO",{"$f":"IN!B3289","v":0},{"$f":"Blad3!E3289","v":""},{"$f":"Blad3!G3289","v":0},"Oanmäld frånvaro"]
["FRÅNVARO",{"$f":"IN!B3290","v":0},{"$f":"Blad3!E3290","v":""},{"$f":"Blad3!G3290","v":0},"Oanmäld frånvaro"]
["FRÅNVARO",{"$f":"IN!B3291","v":0},{"$f":"Blad3!E3291","v":""},{"$f":"Blad3!G3291","v":0},"Oanmäld frånvaro"]
["FRÅNVARO",{"$f":"IN!B3292","v":0},{"$f":"Blad3!E3292","v":""},{"$f":"Blad3!G3292","v":0},"Oanmäld frånvaro"]
["FRÅNVARO",{"$f":"IN!B3293","v":0},{"$f":"Blad3!E3293","v":""},{"$f":"Blad3!G3293","v":0},"Oanmäld frånvaro"]
["FRÅNVARO",{"$f":"IN!B3294","v":0},{"$f":"Blad3!E3294","v":""},{"$f":"Blad3!G3294","v":0},"Oanmäld frånvaro"]
["FRÅNVARO",{"$f":"IN!B3295","v":0},{"$f":"Blad3!E3295","v":""},{"$f":"Blad3!G3295","v":0},"Oanmäld frånvaro"]
["FRÅNVARO",{"$f":"IN!B3296","v":0},{"$f":"Blad3!E3296","v":""},{"$f":"Blad3!G3296","v":0},"Oanmäld frånvaro"]
["FRÅNVARO",{"$f":"IN!B3297","v":0},{"$f":"Blad3!E3297","v":""},{"$f":"Blad3!G3297","v":0},"Oanmäld frånvaro"]
["FRÅNVARO",{"$f":"IN!B3298","v":0},{"$f":"Blad3!E3298","v":""},{"$f":"Blad3!G3298","v":0},"Oanmäld frånvaro"]
["FRÅNVARO",{"$f":"IN!B3299","v":0},{"$f":"Blad3!E3299","v":""},{"$f":"Blad3!G3299","v":0},"Oanmäld frånvaro"]
["FRÅNVARO",{"$f":"IN!B3300","v":0},{"$f":"Blad3!E3300","v":""},{"$f":"Blad3!G3300","v":0},"Oanmäld frånvaro"]
["FRÅNVARO",{"$f":"IN!B3301","v":0},{"$f":"Blad3!E3301","v":""},{"$f":"Blad3!G3301","v":0},"Oanmäld frånvaro"]
["FRÅNVARO",{"$f":"IN!B3302","v":0},{"$f":"Blad3!E3302","v":""},{"$f":"Blad3!G3302","v":0},"Oanmäld frånvaro"]
["FRÅNVARO",{"$f":"IN!B3303","v":0},{"$f":"Blad3!E3303","v":""},{"$f":"Blad3!G3303","v":0},"Oanmäld frånvaro"]
["FRÅNVARO",{"$f":"IN!B3304","v":0},{"$f":"Blad3!E3304","v":""},{"$f":"Blad3!G3304","v":0},"Oanmäld frånvaro"]
["FRÅNVARO",{"$f":"IN!B3305","v":0},{"$f":"Blad3!E3305","v":""},{"$f":"Blad3!G3305","v":0},"Oanmäld frånvaro"]
["FRÅNVARO",{"$f":"IN!B3306","v":0},{"$f":"Blad3!E3306","v":""},{"$f":"Blad3!G3306","v":0},"Oanmäld frånvaro"]
["FRÅNVARO",{"$f":"IN!B3307","v":0},{"$f":"Blad3!E3307","v":""},{"$f":"Blad3!G3307","v":0},"Oanmäld frånvaro"]
["FRÅNVARO",{"$f":"IN!B3308","v":0},{"$f":"Blad3!E3308","v":""},{"$f":"Blad3!G3308","v":0},"Oanmäld frånvaro"]
["FRÅNVARO",{"$f":"IN!B3309","v":0},{"$f":"Blad3!E3309","v":""},{"$f":"Blad3!G3309","v":0},"Oanmäld frånvaro"]
["FRÅNVARO",{"$f":"IN!B3310","v":0},{"$f":"Blad3!E3310","v":""},{"$f":"Blad3!G3310","v":0},"Oanmäld frånvaro"]
["FRÅNVARO",{"$f":"IN!B3311","v":0},{"$f":"Blad3!E3311","v":""},{"$f":"Blad3!G3311","v":0},"Oanmäld frånvaro"]
["FRÅNVARO",{"$f":"IN!B3312","v":0},{"$f":"Blad3!E3312","v":""},{"$f":"Blad3!G3312","v":0},"Oanmäld frånvaro"]
["FRÅNVARO",{"$f":"IN!B3313","v":0},{"$f":"Blad3!E3313","v":""},{"$f":"Blad3!G3313","v":0},"Oanmäld frånvaro"]
["FRÅNVARO",{"$f":"IN!B3314","v":0},{"$f":"Blad3!E3314","v":""},{"$f":"Blad3!G3314","v":0},"Oanmäld frånvaro"]
["FRÅNVARO",{"$f":"IN!B3315","v":0},{"$f":"Blad3!E3315","v":""},{"$f":"Blad3!G3315","v":0},"Oanmäld frånvaro"]
["FRÅNVARO",{"$f":"IN!B3316","v":0},{"$f":"Blad3!E3316","v":""},{"$f":"Blad3!G3316","v":0},"Oanmäld frånvaro"]
["FRÅNVARO",{"$f":"IN!B3317","v":0},{"$f":"Blad3!E3317","v":""},{"$f":"Blad3!G3317","v":0},"Oanmäld frånvaro"]
["FRÅNVARO",{"$f":"IN!B3318","v":0},{"$f":"Blad3!E3318","v":""},{"$f":"Blad3!G3318","v":0},"Oanmäld frånvaro"]
["FRÅNVARO",{"$f":"IN!B3319","v":0},{"$f":"Blad3!E3319","v":""},{"$f":"Blad3!G3319","v":0},"Oanmäld frånvaro"]
["FRÅNVARO",{"$f":"IN!B3320","v":0},{"$f":"Blad3!E3320","v":""},{"$f":"Blad3!G3320","v":0},"Oanmäld frånvaro"]
["FRÅNVARO",{"$f":"IN!B3321","v":0},{"$f":"Blad3!E3321","v":""},{"$f":"Blad3!G3321","v":0},"Oanmäld frånvaro"]
["FRÅNVARO",{"$f":"IN!B3322","v":0},{"$f":"Blad3!E3322","v":""},{"$f":"Blad3!G3322","v":0},"Oanmäld frånvaro"]
["FRÅNVARO",{"$f":"IN!B3323","v":0},{"$f":"Blad3!E3323","v":""},{"$f":"Blad3!G3323","v":0},"Oanmäld frånvaro"]
["FRÅNVARO",{"$f":"IN!B3324","v":0},{"$f":"Blad3!E3324","v":""},{"$f":"Blad3!G3324","v":0},"Oanmäld frånvaro"]
["FRÅNVARO",{"$f":"IN!B3325","v":0},{"$f":"Blad3!E3325","v":""},{"$f":"Blad3!G3325","v":0},"Oanmäld frånvaro"]
["FRÅNVARO",{"$f":"IN!B3326","v":0},{"$f":"Blad3!E3326","v":""},{"$f":"Blad3!G3326","v":0},"Oanmäld frånvaro"]
["FRÅNVARO",{"$f":"IN!B3327","v":0},{"$f":"Blad3!E3327","v":""},{"$f":"Blad3!G3327","v":0},"Oanmäld frånvaro"]
["FRÅNVARO",{"$f":"IN!B3328","v":0},{"$f":"Blad3!E3328","v":""},{"$f":"Blad3!G3328","v":0},"Oanmäld frånvaro"]
["FRÅNVARO",{"$f":"IN!B3329","v":0},{"$f":"Blad3!E3329","v":""},{"$f":"Blad3!G3329","v":0},"Oanmäld frånvaro"]
["FRÅNVARO",{"$f":"IN!B3330","v":0},{"$f":"Blad3!E3330","v":""},{"$f":"Blad3!G3330","v":0},"Oanmäld frånvaro"]
["FRÅNVARO",{"$f":"IN!B3331","v":0},{"$f":"Blad3!E3331","v":""},{"$f":"Blad3!G3331","v":0},"Oanmäld frånvaro"]
["FRÅNVARO",{"$f":"IN!B3332","v":0},{"$f":"Blad3!E3332","v":""},{"$f":"Blad3!G3332","v":0},"Oanmäld frånvaro"]
["FRÅNVARO",{"$f":"IN!B3333","v":0},{"$f":"Blad3!E3333","v":""},{"$f":"Blad3!G3333","v":0},"Oanmäld frånvaro"]
["FRÅNVARO",{"$f":"IN!B3334","v":0},{"$f":"Blad3!E3334","v":""},{"$f":"Blad3!G3334","v":0},"Oanmäld frånvaro"]
["FRÅNVARO",{"$f":"IN!B3335","v":0},{"$f":"Blad3!E3335","v":""},{"$f":"Blad3!G3335","v":0},"Oanmäld frånvaro"]
["FRÅNVARO",{"$f":"IN!B3336","v":0},{"$f":"Blad3!E3336","v":""},{"$f":"Blad3!G3336","v":0},"Oanmäld frånvaro"]
["FRÅNVARO",{"$f":"IN!B3337","v":0},{"$f":"Blad3!E3337","v":""},{"$f":"Blad3!G3337","v":0},"Oanmäld frånvaro"]
["FRÅNVARO",{"$f":"IN!B3338","v":0},{"$f":"Blad3!E3338","v":""},{"$f":"Blad3!G3338","v":0},"Oanmäld frånvaro"]
["FRÅNVARO",{"$f":"IN!B3339","v":0},{"$f":"Blad3!E3339","v":""},{"$f":"Blad3!G3339","v":0},"Oanmäld frånvaro"]
["FRÅNVARO",{"$f":"IN!B3340","v":0},{"$f":"Blad3!E3340","v":""},{"$f":"Blad3!G3340","v":0},"Oanmäld frånvaro"]
["FRÅNVARO",{"$f":"IN!B3341","v":0},{"$f":"Blad3!E3341","v":""},{"$f":"Blad3!G3341","v":0},"Oanmäld frånvaro"]
["FRÅNVARO",{"$f":"IN!B3342","v":0},{"$f":"Blad3!E3342","v":""},{"$f":"Blad3!G3342","v":0},"Oanmäld frånvaro"]
["FRÅNVARO",{"$f":"IN!B3343","v":0},{"$f":"Blad3!E3343","v":""},{"$f":"Blad3!G3343","v":0},"Oanmäld frånvaro"]
["FRÅNVARO",{"$f":"IN!B3344","v":0},{"$f":"Blad3!E3344","v":""},{"$f":"Blad3!G3344","v":0},"Oanmäld frånvaro"]
["FRÅNVARO",{"$f":"IN!B3345","v":0},{"$f":"Blad3!E3345","v":""},{"$f":"Blad3!G3345","v":0},"Oanmäld frånvaro"]
["FRÅNVARO",{"$f":"IN!B3346","v":0},{"$f":"Blad3!E3346","v":""},{"$f":"Blad3!G3346","v":0},"Oanmäld frånvaro"]
["FRÅNVARO",{"$f":"IN!B3347","v":0},{"$f":"Blad3!E3347","v":""},{"$f":"Blad3!G3347","v":0},"Oanmäld frånvaro"]
["FRÅNVARO",{"$f":"IN!B3348","v":0},{"$f":"Blad3!E3348","v":""},{"$f":"Blad3!G3348","v":0},"Oanmäld frånvaro"]
["FRÅNVARO",{"$f":"IN!B3349","v":0},{"$f":"Blad3!E3349","v":""},{"$f":"Blad3!G3349","v":0},"Oanmäld frånvaro"]
["FRÅNVARO",{"$f":"IN!B3350","v":0},{"$f":"Blad3!E3350","v":""},{"$f":"Blad3!G3350","v":0},"Oanmäld frånvaro"]
["FRÅNVARO",{"$f":"IN!B3351","v":0},{"$f":"Blad3!E3351","v":""},{"$f":"Blad3!G3351","v":0},"Oanmäld frånvaro"]
["FRÅNVARO",{"$f":"IN!B3352","v":0},{"$f":"Blad3!E3352","v":""},{"$f":"Blad3!G3352","v":0},"Oanmäld frånvaro"]
["FRÅNVARO",{"$f":"IN!B3353","v":0},{"$f":"Blad3!E3353","v":""},{"$f":"Blad3!G3353","v":0},"Oanmäld frånvaro"]
["FRÅNVARO",{"$f":"IN!B3354","v":0},{"$f":"Blad3!E3354","v":""},{"$f":"Blad3!G3354","v":0},"Oanmäld frånvaro"]
["FRÅNVARO",{"$f":"IN!B3355","v":0},{"$f":"Blad3!E3355","v":""},{"$f":"Blad3!G3355","v":0},"Oanmäld frånvaro"]
["FRÅNVARO",{"$f":"IN!B3356","v":0},{"$f":"Blad3!E3356","v":""},{"$f":"Blad3!G3356","v":0},"Oanmäld frånvaro"]
["FRÅNVARO",{"$f":"IN!B3357","v":0},{"$f":"Blad3!E3357","v":""},{"$f":"Blad3!G3357","v":0},"Oanmäld frånvaro"]
["FRÅNVARO",{"$f":"IN!B3358","v":0},{"$f":"Blad3!E3358","v":""},{"$f":"Blad3!G3358","v":0},"Oanmäld frånvaro"]
["FRÅNVARO",{"$f":"IN!B3359","v":0},{"$f":"Blad3!E3359","v":""},{"$f":"Blad3!G3359","v":0},"Oanmäld frånvaro"]
["FRÅNVARO",{"$f":"IN!B3360","v":0},{"$f":"Blad3!E3360","v":""},{"$f":"Blad3!G3360","v":0},"Oanmäld frånvaro"]
["FRÅNVARO",{"$f":"IN!B3361","v":0},{"$f":"Blad3!E3361","v":""},{"$f":"Blad3!G3361","v":0},"Oanmäld frånvaro"]
["FRÅNVARO",{"$f":"IN!B3362","v":0},{"$f":"Blad3!E3362","v":""},{"$f":"Blad3!G3362","v":0},"Oanmäld frånvaro"]
["FRÅNVARO",{"$f":"IN!B3363","v":0},{"$f":"Blad3!E3363","v":""},{"$f":"Blad3!G3363","v":0},"Oanmäld frånvaro"]
["FRÅNVARO",{"$f":"IN!B3364","v":0},{"$f":"Blad3!E3364","v":""},{"$f":"Blad3!G3364","v":0},"Oanmäld frånvaro"]
["FRÅNVARO",{"$f":"IN!B3365","v":0},{"$f":"Blad3!E3365","v":""},{"$f":"Blad3!G3365","v":0},"Oanmäld frånvaro"]
["FRÅNVARO",{"$f":"IN!B3366","v":0},{"$f":"Blad3!E3366","v":""},{"$f":"Blad3!G3366","v":0},"Oanmäld frånvaro"]
["FRÅNVARO",{"$f":"IN!B3367","v":0},{"$f":"Blad3!E3367","v":""},{"$f":"Blad3!G3367","v":0},"Oanmäld frånvaro"]
["FRÅNVARO",{"$f":"IN!B3368","v":0},{"$f":"Blad3!E3368","v":""},{"$f":"Blad3!G3368","v":0},"Oanmäld frånvaro"]
["FRÅNVARO",{"$f":"IN!B3369","v":0},{"$f":"Blad3!E3369","v":""},{"$f":"Blad3!G3369","v":0},"Oanmäld frånvaro"]
["FRÅNVARO",{"$f":"IN!B3370","v":0},{"$f":"Blad3!E3370","v":""},{"$f":"Blad3!G3370","v":0},"Oanmäld frånvaro"]
["FRÅNVARO",{"$f":"IN!B3371","v":0},{"$f":"Blad3!E3371","v":""},{"$f":"Blad3!G3371","v":0},"Oanmäld frånvaro"]
["FRÅNVARO",{"$f":"IN!B3372","v":0},{"$f":"Blad3!E3372","v":""},{"$f":"Blad3!G3372","v":0},"Oanmäld frånvaro"]
["FRÅNVARO",{"$f":"IN!B3373","v":0},{"$f":"Blad3!E3373","v":""},{"$f":"Blad3!G3373","v":0},"Oanmäld frånvaro"]
["FRÅNVARO",{"$f":"IN!B3374","v":0},{"$f":"Blad3!E3374","v":""},{"$f":"Blad3!G3374","v":0},"Oanmäld frånvaro"]
["FRÅNVARO",{"$f":"IN!B3375","v":0},{"$f":"Blad3!E3375","v":""},{"$f":"Blad3!G3375","v":0},"Oanmäld frånvaro"]
["FRÅNVARO",{"$f":"IN!B3376","v":0},{"$f":"Blad3!E3376","v":""},{"$f":"Blad3!G3376","v":0},"Oanmäld frånvaro"]
["FRÅNVARO",{"$f":"IN!B3377","v":0},{"$f":"Blad3!E3377","v":""},{"$f":"Blad3!G3377","v":0},"Oanmäld frånvaro"]
["FRÅNVARO",{"$f":"IN!B3378","v":0},{"$f":"Blad3!E3378","v":""},{"$f":"Blad3!G3378","v":0},"Oanmäld frånvaro"]
["FRÅNVARO",{"$f":"IN!B3379","v":0},{"$f":"Blad3!E3379","v":""},{"$f":"Blad3!G3379","v":0},"Oanmäld frånvaro"]
["FRÅNVARO",{"$f":"IN!B3380","v":0},{"$f":"Blad3!E3380","v":""},{"$f":"Blad3!G3380","v":0},"Oanmäld frånvaro"]
["FRÅNVARO",{"$f":"IN!B3381","v":0},{"$f":"Blad3!E3381","v":""},{"$f":"Blad3!G3381","v":0},"Oanmäld frånvaro"]
["FRÅNVARO",{"$f":"IN!B3382","v":0},{"$f":"Blad3!E3382","v":""},{"$f":"Blad3!G3382","v":0},"Oanmäld frånvaro"]
["FRÅNVARO",{"$f":"IN!B3383","v":0},{"$f":"Blad3!E3383","v":""},{"$f":"Blad3!G3383","v":0},"Oanmäld frånvaro"]
["FRÅNVARO",{"$f":"IN!B3384","v":0},{"$f":"Blad3!E3384","v":""},{"$f":"Blad3!G3384","v":0},"Oanmäld frånvaro"]
["FRÅNVARO",{"$f":"IN!B3385","v":0},{"$f":"Blad3!E3385","v":""},{"$f":"Blad3!G3385","v":0},"Oanmäld frånvaro"]
["FRÅNVARO",{"$f":"IN!B3386","v":0},{"$f":"Blad3!E3386","v":""},{"$f":"Blad3!G3386","v":0},"Oanmäld frånvaro"]
["FRÅNVARO",{"$f":"IN!B3387","v":0},{"$f":"Blad3!E3387","v":""},{"$f":"Blad3!G3387","v":0},"Oanmäld frånvaro"]
["FRÅNVARO",{"$f":"IN!B3388","v":0},{"$f":"Blad3!E3388","v":""},{"$f":"Blad3!G3388","v":0},"Oanmäld frånvaro"]
["FRÅNVARO",{"$f":"IN!B3389","v":0},{"$f":"Blad3!E3389","v":""},{"$f":"Blad3!G3389","v":0},"Oanmäld frånvaro"]
["FRÅNVARO",{"$f":"IN!B3390","v":0},{"$f":"Blad3!E3390","v":""},{"$f":"Blad3!G3390","v":0},"Oanmäld frånvaro"]
["FRÅNVARO",{"$f":"IN!B3391","v":0},{"$f":"Blad3!E3391","v":""},{"$f":"Blad3!G3391","v":0},"Oanmäld frånvaro"]
["FRÅNVARO",{"$f":"IN!B3392","v":0},{"$f":"Blad3!E3392","v":""},{"$f":"Blad3!G3392","v":0},"Oanmäld frånvaro"]
["FRÅNVARO",{"$f":"IN!B3393","v":0},{"$f":"Blad3!E3393","v":""},{"$f":"Blad3!G3393","v":0},"Oanmäld frånvaro"]
["FRÅNVARO",{"$f":"IN!B3394","v":0},{"$f":"Blad3!E3394","v":""},{"$f":"Blad3!G3394","v":0},"Oanmäld frånvaro"]
["FRÅNVARO",{"$f":"IN!B3395","v":0},{"$f":"Blad3!E3395","v":""},{"$f":"Blad3!G3395","v":0},"Oanmäld frånvaro"]
["FRÅNVARO",{"$f":"IN!B3396","v":0},{"$f":"Blad3!E3396","v":""},{"$f":"Blad3!G3396","v":0},"Oanmäld frånvaro"]
["FRÅNVARO",{"$f":"IN!B3397","v":0},{"$f":"Blad3!E3397","v":""},{"$f":"Blad3!G3397","v":0},"Oanmäld frånvaro"]
["FRÅNVARO",{"$f":"IN!B3398","v":0},{"$f":"Blad3!E3398","v":""},{"$f":"Blad3!G3398","v":0},"Oanmäld frånvaro"]
["FRÅNVARO",{"$f":"IN!B3399","v":0},{"$f":"Blad3!E3399","v":""},{"$f":"Blad3!G3399","v":0},"Oanmäld frånvaro"]
["FRÅNVARO",{"$f":"IN!B3400","v":0},{"$f":"Blad3!E3400","v":""},{"$f":"Blad3!G3400","v":0},"Oanmäld frånvaro"]
["FRÅNVARO",{"$f":"IN!B3401","v":0},{"$f":"Blad3!E3401","v":""},{"$f":"Blad3!G3401","v":0},"Oanmäld frånvaro"]
["FRÅNVARO",{"$f":"IN!B3402","v":0},{"$f":"Blad3!E3402","v":""},{"$f":"Blad3!G3402","v":0},"Oanmäld frånvaro"]
["FRÅNVARO",{"$f":"IN!B3403","v":0},{"$f":"Blad3!E3403","v":""},{"$f":"Blad3!G3403","v":0},"Oanmäld frånvaro"]
["FRÅNVARO",{"$f":"IN!B3404","v":0},{"$f":"Blad3!E3404","v":""},{"$f":"Blad3!G3404","v":0},"Oanmäld frånvaro"]
["FRÅNVARO",{"$f":"IN!B3405","v":0},{"$f":"Blad3!E3405","v":""},{"$f":"Blad3!G3405","v":0},"Oanmäld frånvaro"]
["FRÅNVARO",{"$f":"IN!B3406","v":0},{"$f":"Blad3!E3406","v":""},{"$f":"Blad3!G3406","v":0},"Oanmäld frånvaro"]
["FRÅNVARO",{"$f":"IN!B3407","v":0},{"$f":"Blad3!E3407","v":""},{"$f":"Blad3!G3407","v":0},"Oanmäld frånvaro"]
["FRÅNVARO",{"$f":"IN!B3408","v":0},{"$f":"Blad3!E3408","v":""},{"$f":"Blad3!G3408","v":0},"Oanmäld frånvaro"]
["FRÅNVARO",{"$f":"IN!B3409","v":0},{"$f":"Blad3!E3409","v":""},{"$f":"Blad3!G3409","v":0},"Oanmäld frånvaro"]
["FRÅNVARO",{"$f":"IN!B3410","v":0},{"$f":"Blad3!E3410","v":""},{"$f":"Blad3!G3410","v":0},"Oanmäld frånvaro"]
["FRÅNVARO",{"$f":"IN!B3411","v":0},{"$f":"Blad3!E3411","v":""},{"$f":"Blad3!G3411","v":0},"Oanmäld frånvaro"]
["FRÅNVARO",{"$f":"IN!B3412","v":0},{"$f":"Blad3!E3412","v":""},{"$f":"Blad3!G3412","v":0},"Oanmäld frånvaro"]
["FRÅNVARO",{"$f":"IN!B3413","v":0},{"$f":"Blad3!E3413","v":""},{"$f":"Blad3!G3413","v":0},"Oanmäld frånvaro"]
["FRÅNVARO",{"$f":"IN!B3414","v":0},{"$f":"Blad3!E3414","v":""},{"$f":"Blad3!G3414","v":0},"Oanmäld frånvaro"]
["FRÅNVARO",{"$f":"IN!B3415","v":0},{"$f":"Blad3!E3415","v":""},{"$f":"Blad3!G3415","v":0},"Oanmäld frånvaro"]
["FRÅNVARO",{"$f":"IN!B3416","v":0},{"$f":"Blad3!E3416","v":""},{"$f":"Blad3!G3416","v":0},"Oanmäld frånvaro"]
["FRÅNVARO",{"$f":"IN!B3417","v":0},{"$f":"Blad3!E3417","v":""},{"$f":"Blad3!G3417","v":0},"Oanmäld frånvaro"]
["FRÅNVARO",{"$f":"IN!B3418","v":0},{"$f":"Blad3!E3418","v":""},{"$f":"Blad3!G3418","v":0},"Oanmäld frånvaro"]
["FRÅNVARO",{"$f":"IN!B3419","v":0},{"$f":"Blad3!E3419","v":""},{"$f":"Blad3!G3419","v":0},"Oanmäld frånvaro"]
["FRÅNVARO",{"$f":"IN!B3420","v":0},{"$f":"Blad3!E3420","v":""},{"$f":"Blad3!G3420","v":0},"Oanmäld frånvaro"]
["FRÅNVARO",{"$f":"IN!B3421","v":0},{"$f":"Blad3!E3421","v":""},{"$f":"Blad3!G3421","v":0},"Oanmäld frånvaro"]
["FRÅNVARO",{"$f":"IN!B3422","v":0},{"$f":"Blad3!E3422","v":""},{"$f":"Blad3!G3422","v":0},"Oanmäld frånvaro"]
["FRÅNVARO",{"$f":"IN!B3423","v":0},{"$f":"Blad3!E3423","v":""},{"$f":"Blad3!G3423","v":0},"Oanmäld frånvaro"]
["FRÅNVARO",{"$f":"IN!B3424","v":0},{"$f":"Blad3!E3424","v":""},{"$f":"Blad3!G3424","v":0},"Oanmäld frånvaro"]
["FRÅNVARO",{"$f":"IN!B3425","v":0},{"$f":"Blad3!E3425","v":""},{"$f":"Blad3!G3425","v":0},"Oanmäld frånvaro"]
["FRÅNVARO",{"$f":"IN!B3426","v":0},{"$f":"Blad3!E3426","v":""},{"$f":"Blad3!G3426","v":0},"Oanmäld frånvaro"]
["FRÅNVARO",{"$f":"IN!B3427","v":0},{"$f":"Blad3!E3427","v":""},{"$f":"Blad3!G3427","v":0},"Oanmäld frånvaro"]
["FRÅNVARO",{"$f":"IN!B3428","v":0},{"$f":"Blad3!E3428","v":""},{"$f":"Blad3!G3428","v":0},"Oanmäld frånvaro"]
["FRÅNVARO",{"$f":"IN!B3429","v":0},{"$f":"Blad3!E3429","v":""},{"$f":"Blad3!G3429","v":0},"Oanmäld frånvaro"]
["FRÅNVARO",{"$f":"IN!B3430","v":0},{"$f":"Blad3!E3430","v":""},{"$f":"Blad3!G3430","v":0},"Oanmäld frånvaro"]
["FRÅNVARO",{"$f":"IN!B3431","v":0},{"$f":"Blad3!E3431","v":""},{"$f":"Blad3!G3431","v":0},"Oanmäld frånvaro"]
["FRÅNVARO",{"$f":"IN!B3432","v":0},{"$f":"Blad3!E3432","v":""},{"$f":"Blad3!G3432","v":0},"Oanmäld frånvaro"]
["FRÅNVARO",{"$f":"IN!B3433","v":0},{"$f":"Blad3!E3433","v":""},{"$f":"Blad3!G3433","v":0},"Oanmäld frånvaro"]
["FRÅNVARO",{"$f":"IN!B3434","v":0},{"$f":"Blad3!E3434","v":""},{"$f":"Blad3!G3434","v":0},"Oanmäld frånvaro"]
["FRÅNVARO",{"$f":"IN!B3435","v":0},{"$f":"Blad3!E3435","v":""},{"$f":"Blad3!G3435","v":0},"Oanmäld frånvaro"]
["FRÅNVARO",{"$f":"IN!B3436","v":0},{"$f":"Blad3!E3436","v":""},{"$f":"Blad3!G3436","v":0},"Oanmäld frånvaro"]
["FRÅNVARO",{"$f":"IN!B3437","v":0},{"$f":"Blad3!E3437","v":""},{"$f":"Blad3!G3437","v":0},"Oanmäld frånvaro"]
["FRÅNVARO",{"$f":"IN!B3438","v":0},{"$f":"Blad3!E3438","v":""},{"$f":"Blad3!G3438","v":0},"Oanmäld frånvaro"]
["FRÅNVARO",{"$f":"IN!B3439","v":0},{"$f":"Blad3!E3439","v":""},{"$f":"Blad3!G3439","v":0},"Oanmäld frånvaro"]
["FRÅNVARO",{"$f":"IN!B3440","v":0},{"$f":"Blad3!E3440","v":""},{"$f":"Blad3!G3440","v":0},"Oanmäld frånvaro"]
["FRÅNVARO",{"$f":"IN!B3441","v":0},{"$f":"Blad3!E3441","v":""},{"$f":"Blad3!G3441","v":0},"Oanmäld frånvaro"]
["FRÅNVARO",{"$f":"IN!B3442","v":0},{"$f":"Blad3!E3442","v":""},{"$f":"Blad3!G3442","v":0},"Oanmäld frånvaro"]
["FRÅNVARO",{"$f":"IN!B3443","v":0},{"$f":"Blad3!E3443","v":""},{"$f":"Blad3!G3443","v":0},"Oanmäld frånvaro"]
["FRÅNVARO",{"$f":"IN!B3444","v":0},{"$f":"Blad3!E3444","v":""},{"$f":"Blad3!G3444","v":0},"Oanmäld frånvaro"]
["FRÅNVARO",{"$f":"IN!B3445","v":0},{"$f":"Blad3!E3445","v":""},{"$f":"Blad3!G3445","v":0},"Oanmäld frånvaro"]
["FRÅNVARO",{"$f":"IN!B3446","v":0},{"$f":"Blad3!E3446","v":""},{"$f":"Blad3!G3446","v":0},"Oanmäld frånvaro"]
["FRÅNVARO",{"$f":"IN!B3447","v":0},{"$f":"Blad3!E3447","v":""},{"$f":"Blad3!G3447","v":0},"Oanmäld frånvaro"]
["FRÅNVARO",{"$f":"IN!B3448","v":0},{"$f":"Blad3!E3448","v":""},{"$f":"Blad3!G3448","v":0},"Oanmäld frånvaro"]
["FRÅNVARO",{"$f":"IN!B3449","v":0},{"$f":"Blad3!E3449","v":""},{"$f":"Blad3!G3449","v":0},"Oanmäld frånvaro"]
["FRÅNVARO",{"$f":"IN!B3450","v":0},{"$f":"Blad3!E3450","v":""},{"$f":"Blad3!G3450","v":0},"Oanmäld frånvaro"]
["FRÅNVARO",{"$f":"IN!B3451","v":0},{"$f":"Blad3!E3451","v":""},{"$f":"Blad3!G3451","v":0},"Oanmäld frånvaro"]
["FRÅNVARO",{"$f":"IN!B3452","v":0},{"$f":"Blad3!E3452","v":""},{"$f":"Blad3!G3452","v":0},"Oanmäld frånvaro"]
["FRÅNVARO",{"$f":"IN!B3453","v":0},{"$f":"Blad3!E3453","v":""},{"$f":"Blad3!G3453","v":0},"Oanmäld frånvaro"]
["FRÅNVARO",{"$f":"IN!B3454","v":0},{"$f":"Blad3!E3454","v":""},{"$f":"Blad3!G3454","v":0},"Oanmäld frånvaro"]
["FRÅNVARO",{"$f":"IN!B3455","v":0},{"$f":"Blad3!E3455","v":""},{"$f":"Blad3!G3455","v":0},"Oanmäld frånvaro"]
["FRÅNVARO",{"$f":"IN!B3456","v":0},{"$f":"Blad3!E3456","v":""},{"$f":"Blad3!G3456","v":0},"Oanmäld frånvaro"]
["FRÅNVARO",{"$f":"IN!B3457","v":0},{"$f":"Blad3!E3457","v":""},{"$f":"Blad3!G3457","v":0},"Oanmäld frånvaro"]
["FRÅNVARO",{"$f":"IN!B3458","v":0},{"$f":"Blad3!E3458","v":""},{"$f":"Blad3!G3458","v":0},"Oanmäld frånvaro"]
["FRÅNVARO",{"$f":"IN!B3459","v":0},{"$f":"Blad3!E3459","v":""},{"$f":"Blad3!G3459","v":0},"Oanmäld frånvaro"]
["FRÅNVARO",{"$f":"IN!B3460","v":0},{"$f":"Blad3!E3460","v":""},{"$f":"Blad3!G3460","v":0},"Oanmäld frånvaro"]
["FRÅNVARO",{"$f":"IN!B3461","v":0},{"$f":"Blad3!E3461","v":""},{"$f":"Blad3!G3461","v":0},"Oanmäld frånvaro"]
["FRÅNVARO",{"$f":"IN!B3462","v":0},{"$f":"Blad3!E3462","v":""},{"$f":"Blad3!G3462","v":0},"Oanmäld frånvaro"]
["FRÅNVARO",{"$f":"IN!B3463","v":0},{"$f":"Blad3!E3463","v":""},{"$f":"Blad3!G3463","v":0},"Oanmäld frånvaro"]
["FRÅNVARO",{"$f":"IN!B3464","v":0},{"$f":"Blad3!E3464","v":""},{"$f":"Blad3!G3464","v":0},"Oanmäld frånvaro"]
["FRÅNVARO",{"$f":"IN!B3465","v":0},{"$f":"Blad3!E3465","v":""},{"$f":"Blad3!G3465","v":0},"Oanmäld frånvaro"]
["FRÅNVARO",{"$f":"IN!B3466","v":0},{"$f":"Blad3!E3466","v":""},{"$f":"Blad3!G3466","v":0},"Oanmäld frånvaro"]
["FRÅNVARO",{"$f":"IN!B3467","v":0},{"$f":"Blad3!E3467","v":""},{"$f":"Blad3!G3467","v":0},"Oanmäld frånvaro"]
["FRÅNVARO",{"$f":"IN!B3468","v":0},{"$f":"Blad3!E3468","v":""},{"$f":"Blad3!G3468","v":0},"Oanmäld frånvaro"]
["FRÅNVARO",{"$f":"IN!B3469","v":0},{"$f":"Blad3!E3469","v":""},{"$f":"Blad3!G3469","v":0},"Oanmäld frånvaro"]
["FRÅNVARO",{"$f":"IN!B3470","v":0},{"$f":"Blad3!E3470","v":""},{"$f":"Blad3!G3470","v":0},"Oanmäld frånvaro"]
["FRÅNVARO",{"$f":"IN!B3471","v":0},{"$f":"Blad3!E3471","v":""},{"$f":"Blad3!G3471","v":0},"Oanmäld frånvaro"]
["FRÅNVARO",{"$f":"IN!B3472","v":0},{"$f":"Blad3!E3472","v":""},{"$f":"Blad3!G3472","v":0},"Oanmäld frånvaro"]
["FRÅNVARO",{"$f":"IN!B3473","v":0},{"$f":"Blad3!E3473","v":""},{"$f":"Blad3!G3473","v":0},"Oanmäld frånvaro"]
["FRÅNVARO",{"$f":"IN!B3474","v":0},{"$f":"Blad3!E3474","v":""},{"$f":"Blad3!G3474","v":0},"Oanmäld frånvaro"]
["FRÅNVARO",{"$f":"IN!B3475","v":0},{"$f":"Blad3!E3475","v":""},{"$f":"Blad3!G3475","v":0},"Oanmäld frånvaro"]
["FRÅNVARO",{"$f":"IN!B3476","v":0},{"$f":"Blad3!E3476","v":""},{"$f":"Blad3!G3476","v":0},"Oanmäld frånvaro"]
["FRÅNVARO",{"$f":"IN!B3477","v":0},{"$f":"Blad3!E3477","v":""},{"$f":"Blad3!G3477","v":0},"Oanmäld frånvaro"]
["FRÅNVARO",{"$f":"IN!B3478","v":0},{"$f":"Blad3!E3478","v":""},{"$f":"Blad3!G3478","v":0},"Oanmäld frånvaro"]
["FRÅNVARO",{"$f":"IN!B3479","v":0},{"$f":"Blad3!E3479","v":""},{"$f":"Blad3!G3479","v":0},"Oanmäld frånvaro"]
["FRÅNVARO",{"$f":"IN!B3480","v":0},{"$f":"Blad3!E3480","v":""},{"$f":"Blad3!G3480","v":0},"Oanmäld frånvaro"]
["FRÅNVARO",{"$f":"IN!B3481","v":0},{"$f":"Blad3!E3481","v":""},{"$f":"Blad3!G3481","v":0},"Oanmäld frånvaro"]
["FRÅNVARO",{"$f":"IN!B3482","v":0},{"$f":"Blad3!E3482","v":""},{"$f":"Blad3!G3482","v":0},"Oanmäld frånvaro"]
["FRÅNVARO",{"$f":"IN!B3483","v":0},{"$f":"Blad3!E3483","v":""},{"$f":"Blad3!G3483","v":0},"Oanmäld frånvaro"]
["FRÅNVARO",{"$f":"IN!B3484","v":0},{"$f":"Blad3!E3484","v":""},{"$f":"Blad3!G3484","v":0},"Oanmäld frånvaro"]
["FRÅNVARO",{"$f":"IN!B3485","v":0},{"$f":"Blad3!E3485","v":""},{"$f":"Blad3!G3485","v":0},"Oanmäld frånvaro"]
["FRÅNVARO",{"$f":"IN!B3486","v":0},{"$f":"Blad3!E3486","v":""},{"$f":"Blad3!G3486","v":0},"Oanmäld frånvaro"]
["FRÅNVARO",{"$f":"IN!B3487","v":0},{"$f":"Blad3!E3487","v":""},{"$f":"Blad3!G3487","v":0},"Oanmäld frånvaro"]
["FRÅNVARO",{"$f":"IN!B3488","v":0},{"$f":"Blad3!E3488","v":""},{"$f":"Blad3!G3488","v":0},"Oanmäld frånvaro"]
["FRÅNVARO",{"$f":"IN!B3489","v":0},{"$f":"Blad3!E3489","v":""},{"$f":"Blad3!G3489","v":0},"Oanmäld frånvaro"]
["FRÅNVARO",{"$f":"IN!B3490","v":0},{"$f":"Blad3!E3490","v":""},{"$f":"Blad3!G3490","v":0},"Oanmäld frånvaro"]
["FRÅNVARO",{"$f":"IN!B3491","v":0},{"$f":"Blad3!E3491","v":""},{"$f":"Blad3!G3491","v":0},"Oanmäld frånvaro"]
["FRÅNVARO",{"$f":"IN!B3492","v":0},{"$f":"Blad3!E3492","v":""},{"$f":"Blad3!G3492","v":0},"Oanmäld frånvaro"]
["FRÅNVARO",{"$f":"IN!B3493","v":0},{"$f":"Blad3!E3493","v":""},{"$f":"Blad3!G3493","v":0},"Oanmäld frånvaro"]
["FRÅNVARO",{"$f":"IN!B3494","v":0},{"$f":"Blad3!E3494","v":""},{"$f":"Blad3!G3494","v":0},"Oanmäld frånvaro"]
["FRÅNVARO",{"$f":"IN!B3495","v":0},{"$f":"Blad3!E3495","v":""},{"$f":"Blad3!G3495","v":0},"Oanmäld frånvaro"]
["FRÅNVARO",{"$f":"IN!B3496","v":0},{"$f":"Blad3!E3496","v":""},{"$f":"Blad3!G3496","v":0},"Oanmäld frånvaro"]
["FRÅNVARO",{"$f":"IN!B3497","v":0},{"$f":"Blad3!E3497","v":""},{"$f":"Blad3!G3497","v":0},"Oanmäld frånvaro"]
["FRÅNVARO",{"$f":"IN!B3498","v":0},{"$f":"Blad3!E3498","v":""},{"$f":"Blad3!G3498","v":0},"Oanmäld frånvaro"]
["FRÅNVARO",{"$f":"IN!B3499","v":0},{"$f":"Blad3!E3499","v":""},{"$f":"Blad3!G3499","v":0},"Oanmäld frånvaro"]
["FRÅNVARO",{"$f":"IN!B3500","v":0},{"$f":"Blad3!E3500","v":""},{"$f":"Blad3!G3500","v":0},"Oanmäld frånvaro"]
["FRÅNVARO",{"$f":"IN!B3501","v":0},{"$f":"Blad3!E3501","v":""},{"$f":"Blad3!G3501","v":0},"Oanmäld frånvaro"]
["FRÅNVARO",{"$f":"IN!B3502","v":0},{"$f":"Blad3!E3502","v":""},{"$f":"Blad3!G3502","v":0},"Oanmäld frånvaro"]
["FRÅNVARO",{"$f":"IN!B3503","v":0},{"$f":"Blad3!E3503","v":""},{"$f":"Blad3!G3503","v":0},"Oanmäld frånvaro"]

{"sheet":"IN","index":1,"n_rows":0,"n_cols":0,"rows_kept":0,"cut":false,"hidden":false,"merged":[]}

{"sheet":"Tidsram","index":2,"n_rows":3,"n_cols":3,"rows_kept":3,"cut":false,"hidden":false,"merged":[]}
["Tidsram"]
["Fromdat",null,"(ÅÅÅÅMMDD)"]
["Tomdat",null,"(ÅÅÅÅMMDD)"]

{"sheet":"Blad3","index":3,"n_rows":3503,"n_cols":8,"rows_kept":3503,"cut":false,"hidden":true,"merged":[]}
[]
[]
[]
[{"$f":"LEN(D4)","v":0},{"$f":"VALUE(LEFT(D4,1))","v":{"$error":"#VALUE!"}},{"$f":"IF(B4<2,20,19)","v":{"$error":"#VALUE!"}},{"$f":"SUBSTITUTE(IN!G4,\"-\",\"\")","v":""},{"$f":"IF(A4=10,CONCATENATE(C4,D4),D4)","v":""},{"$f":"IN!F4*60","v":0},{"$f":"ROUND(F4,0)","v":0},{"$f":"CONCATENATE(MID(E4,3,6),\"-\",MID(E4,9,4))","v":"-"}]
[{"$f":"LEN(D5)","v":0},{"$f":"VALUE(LEFT(D5,1))","v":{"$error":"#VALUE!"}},{"$f":"IF(B5<2,20,19)","v":{"$error":"#VALUE!"}},{"$f":"SUBSTITUTE(IN!G5,\"-\",\"\")","v":""},{"$f":"IF(A5=10,CONCATENATE(C5,D5),D5)","v":""},{"$f":"IN!F5*60","v":0},{"$f":"ROUND(F5,0)","v":0},{"$f":"CONCATENATE(MID(E5,3,6),\"-\",MID(E5,9,4))","v":"-"}]
[0,{"$error":"#VALUE!"},{"$error":"#VALUE!"},{"$f":"SUBSTITUTE(IN!G6,\"-\",\"\")","v":""},"",{"$f":"IN!F6*60","v":0},0,"-"]
[0,{"$error":"#VALUE!"},{"$error":"#VALUE!"},{"$f":"SUBSTITUTE(IN!G7,\"-\",\"\")","v":""},"",{"$f":"IN!F7*60","v":0},0,"-"]
[0,{"$error":"#VALUE!"},{"$error":"#VALUE!"},{"$f":"SUBSTITUTE(IN!G8,\"-\",\"\")","v":""},"",{"$f":"IN!F8*60","v":0},0,"-"]
[0,{"$error":"#VALUE!"},{"$error":"#VALUE!"},{"$f":"SUBSTITUTE(IN!G9,\"-\",\"\")","v":""},"",{"$f":"IN!F9*60","v":0},0,"-"]
[0,{"$error":"#VALUE!"},{"$error":"#VALUE!"},{"$f":"SUBSTITUTE(IN!G10,\"-\",\"\")","v":""},"",{"$f":"IN!F10*60","v":0},0,"-"]
[0,{"$error":"#VALUE!"},{"$error":"#VALUE!"},{"$f":"SUBSTITUTE(IN!G11,\"-\",\"\")","v":""},"",{"$f":"IN!F11*60","v":0},0,"-"]
[0,{"$error":"#VALUE!"},{"$error":"#VALUE!"},{"$f":"SUBSTITUTE(IN!G12,\"-\",\"\")","v":""},"",{"$f":"IN!F12*60","v":0},0,"-"]
[0,{"$error":"#VALUE!"},{"$error":"#VALUE!"},{"$f":"SUBSTITUTE(IN!G13,\"-\",\"\")","v":""},"",{"$f":"IN!F13*60","v":0},0,"-"]
[0,{"$error":"#VALUE!"},{"$error":"#VALUE!"},{"$f":"SUBSTITUTE(IN!G14,\"-\",\"\")","v":""},"",{"$f":"IN!F14*60","v":0},0,"-"]
[0,{"$error":"#VALUE!"},{"$error":"#VALUE!"},{"$f":"SUBSTITUTE(IN!G15,\"-\",\"\")","v":""},"",{"$f":"IN!F15*60","v":0},0,"-"]
[0,{"$error":"#VALUE!"},{"$error":"#VALUE!"},{"$f":"SUBSTITUTE(IN!G16,\"-\",\"\")","v":""},"",{"$f":"IN!F16*60","v":0},0,"-"]
[0,{"$error":"#VALUE!"},{"$error":"#VALUE!"},{"$f":"SUBSTITUTE(IN!G17,\"-\",\"\")","v":""},"",{"$f":"IN!F17*60","v":0},0,"-"]
[0,{"$error":"#VALUE!"},{"$error":"#VALUE!"},{"$f":"SUBSTITUTE(IN!G18,\"-\",\"\")","v":""},"",{"$f":"IN!F18*60","v":0},0,"-"]
[0,{"$error":"#VALUE!"},{"$error":"#VALUE!"},{"$f":"SUBSTITUTE(IN!G19,\"-\",\"\")","v":""},"",{"$f":"IN!F19*60","v":0},0,"-"]
[0,{"$error":"#VALUE!"},{"$error":"#VALUE!"},{"$f":"SUBSTITUTE(IN!G20,\"-\",\"\")","v":""},"",{"$f":"IN!F20*60","v":0},0,"-"]
[0,{"$error":"#VALUE!"},{"$error":"#VALUE!"},{"$f":"SUBSTITUTE(IN!G21,\"-\",\"\")","v":""},"",{"$f":"IN!F21*60","v":0},0,"-"]
[0,{"$error":"#VALUE!"},{"$error":"#VALUE!"},{"$f":"SUBSTITUTE(IN!G22,\"-\",\"\")","v":""},"",{"$f":"IN!F22*60","v":0},0,"-"]
[0,{"$error":"#VALUE!"},{"$error":"#VALUE!"},{"$f":"SUBSTITUTE(IN!G23,\"-\",\"\")","v":""},"",{"$f":"IN!F23*60","v":0},0,"-"]
[0,{"$error":"#VALUE!"},{"$error":"#VALUE!"},{"$f":"SUBSTITUTE(IN!G24,\"-\",\"\")","v":""},"",{"$f":"IN!F24*60","v":0},0,"-"]
[0,{"$error":"#VALUE!"},{"$error":"#VALUE!"},{"$f":"SUBSTITUTE(IN!G25,\"-\",\"\")","v":""},"",{"$f":"IN!F25*60","v":0},0,"-"]
[0,{"$error":"#VALUE!"},{"$error":"#VALUE!"},{"$f":"SUBSTITUTE(IN!G26,\"-\",\"\")","v":""},"",{"$f":"IN!F26*60","v":0},0,"-"]
[0,{"$error":"#VALUE!"},{"$error":"#VALUE!"},{"$f":"SUBSTITUTE(IN!G27,\"-\",\"\")","v":""},"",{"$f":"IN!F27*60","v":0},0,"-"]
[0,{"$error":"#VALUE!"},{"$error":"#VALUE!"},{"$f":"SUBSTITUTE(IN!G28,\"-\",\"\")","v":""},"",{"$f":"IN!F28*60","v":0},0,"-"]
[0,{"$error":"#VALUE!"},{"$error":"#VALUE!"},{"$f":"SUBSTITUTE(IN!G29,\"-\",\"\")","v":""},"",{"$f":"IN!F29*60","v":0},0,"-"]
[0,{"$error":"#VALUE!"},{"$error":"#VALUE!"},{"$f":"SUBSTITUTE(IN!G30,\"-\",\"\")","v":""},"",{"$f":"IN!F30*60","v":0},0,"-"]
[0,{"$error":"#VALUE!"},{"$error":"#VALUE!"},{"$f":"SUBSTITUTE(IN!G31,\"-\",\"\")","v":""},"",{"$f":"IN!F31*60","v":0},0,"-"]
[0,{"$error":"#VALUE!"},{"$error":"#VALUE!"},{"$f":"SUBSTITUTE(IN!G32,\"-\",\"\")","v":""},"",{"$f":"IN!F32*60","v":0},0,"-"]
[0,{"$error":"#VALUE!"},{"$error":"#VALUE!"},{"$f":"SUBSTITUTE(IN!G33,\"-\",\"\")","v":""},"",{"$f":"IN!F33*60","v":0},0,"-"]
[0,{"$error":"#VALUE!"},{"$error":"#VALUE!"},{"$f":"SUBSTITUTE(IN!G34,\"-\",\"\")","v":""},"",{"$f":"IN!F34*60","v":0},0,"-"]
[0,{"$error":"#VALUE!"},{"$error":"#VALUE!"},{"$f":"SUBSTITUTE(IN!G35,\"-\",\"\")","v":""},"",{"$f":"IN!F35*60","v":0},0,"-"]
[0,{"$error":"#VALUE!"},{"$error":"#VALUE!"},{"$f":"SUBSTITUTE(IN!G36,\"-\",\"\")","v":""},"",{"$f":"IN!F36*60","v":0},0,"-"]
[0,{"$error":"#VALUE!"},{"$error":"#VALUE!"},{"$f":"SUBSTITUTE(IN!G37,\"-\",\"\")","v":""},"",{"$f":"IN!F37*60","v":0},0,"-"]
[0,{"$error":"#VALUE!"},{"$error":"#VALUE!"},{"$f":"SUBSTITUTE(IN!G38,\"-\",\"\")","v":""},"",{"$f":"IN!F38*60","v":0},0,"-"]
[0,{"$error":"#VALUE!"},{"$error":"#VALUE!"},{"$f":"SUBSTITUTE(IN!G39,\"-\",\"\")","v":""},"",{"$f":"IN!F39*60","v":0},0,"-"]
[0,{"$error":"#VALUE!"},{"$error":"#VALUE!"},{"$f":"SUBSTITUTE(IN!G40,\"-\",\"\")","v":""},"",{"$f":"IN!F40*60","v":0},0,"-"]
[0,{"$error":"#VALUE!"},{"$error":"#VALUE!"},{"$f":"SUBSTITUTE(IN!G41,\"-\",\"\")","v":""},"",{"$f":"IN!F41*60","v":0},0,"-"]
[0,{"$error":"#VALUE!"},{"$error":"#VALUE!"},{"$f":"SUBSTITUTE(IN!G42,\"-\",\"\")","v":""},"",{"$f":"IN!F42*60","v":0},0,"-"]
[0,{"$error":"#VALUE!"},{"$error":"#VALUE!"},{"$f":"SUBSTITUTE(IN!G43,\"-\",\"\")","v":""},"",{"$f":"IN!F43*60","v":0},0,"-"]
[0,{"$error":"#VALUE!"},{"$error":"#VALUE!"},{"$f":"SUBSTITUTE(IN!G44,\"-\",\"\")","v":""},"",{"$f":"IN!F44*60","v":0},0,"-"]
[0,{"$error":"#VALUE!"},{"$error":"#VALUE!"},{"$f":"SUBSTITUTE(IN!G45,\"-\",\"\")","v":""},"",{"$f":"IN!F45*60","v":0},0,"-"]
[0,{"$error":"#VALUE!"},{"$error":"#VALUE!"},{"$f":"SUBSTITUTE(IN!G46,\"-\",\"\")","v":""},"",{"$f":"IN!F46*60","v":0},0,"-"]
[0,{"$error":"#VALUE!"},{"$error":"#VALUE!"},{"$f":"SUBSTITUTE(IN!G47,\"-\",\"\")","v":""},"",{"$f":"IN!F47*60","v":0},0,"-"]
[0,{"$error":"#VALUE!"},{"$error":"#VALUE!"},{"$f":"SUBSTITUTE(IN!G48,\"-\",\"\")","v":""},"",{"$f":"IN!F48*60","v":0},0,"-"]
[0,{"$error":"#VALUE!"},{"$error":"#VALUE!"},{"$f":"SUBSTITUTE(IN!G49,\"-\",\"\")","v":""},"",{"$f":"IN!F49*60","v":0},0,"-"]
[0,{"$error":"#VALUE!"},{"$error":"#VALUE!"},{"$f":"SUBSTITUTE(IN!G50,\"-\",\"\")","v":""},"",{"$f":"IN!F50*60","v":0},0,"-"]
[0,{"$error":"#VALUE!"},{"$error":"#VALUE!"},{"$f":"SUBSTITUTE(IN!G51,\"-\",\"\")","v":""},"",{"$f":"IN!F51*60","v":0},0,"-"]
[0,{"$error":"#VALUE!"},{"$error":"#VALUE!"},{"$f":"SUBSTITUTE(IN!G52,\"-\",\"\")","v":""},"",{"$f":"IN!F52*60","v":0},0,"-"]
[0,{"$error":"#VALUE!"},{"$error":"#VALUE!"},{"$f":"SUBSTITUTE(IN!G53,\"-\",\"\")","v":""},"",{"$f":"IN!F53*60","v":0},0,"-"]
[0,{"$error":"#VALUE!"},{"$error":"#VALUE!"},{"$f":"SUBSTITUTE(IN!G54,\"-\",\"\")","v":""},"",{"$f":"IN!F54*60","v":0},0,"-"]
[0,{"$error":"#VALUE!"},{"$error":"#VALUE!"},{"$f":"SUBSTITUTE(IN!G55,\"-\",\"\")","v":""},"",{"$f":"IN!F55*60","v":0},0,"-"]
[0,{"$error":"#VALUE!"},{"$error":"#VALUE!"},{"$f":"SUBSTITUTE(IN!G56,\"-\",\"\")","v":""},"",{"$f":"IN!F56*60","v":0},0,"-"]
[0,{"$error":"#VALUE!"},{"$error":"#VALUE!"},{"$f":"SUBSTITUTE(IN!G57,\"-\",\"\")","v":""},"",{"$f":"IN!F57*60","v":0},0,"-"]
[0,{"$error":"#VALUE!"},{"$error":"#VALUE!"},{"$f":"SUBSTITUTE(IN!G58,\"-\",\"\")","v":""},"",{"$f":"IN!F58*60","v":0},0,"-"]
[0,{"$error":"#VALUE!"},{"$error":"#VALUE!"},{"$f":"SUBSTITUTE(IN!G59,\"-\",\"\")","v":""},"",{"$f":"IN!F59*60","v":0},0,"-"]
[0,{"$error":"#VALUE!"},{"$error":"#VALUE!"},{"$f":"SUBSTITUTE(IN!G60,\"-\",\"\")","v":""},"",{"$f":"IN!F60*60","v":0},0,"-"]
[0,{"$error":"#VALUE!"},{"$error":"#VALUE!"},{"$f":"SUBSTITUTE(IN!G61,\"-\",\"\")","v":""},"",{"$f":"IN!F61*60","v":0},0,"-"]
[0,{"$error":"#VALUE!"},{"$error":"#VALUE!"},{"$f":"SUBSTITUTE(IN!G62,\"-\",\"\")","v":""},"",{"$f":"IN!F62*60","v":0},0,"-"]
[0,{"$error":"#VALUE!"},{"$error":"#VALUE!"},{"$f":"SUBSTITUTE(IN!G63,\"-\",\"\")","v":""},"",{"$f":"IN!F63*60","v":0},0,"-"]
[0,{"$error":"#VALUE!"},{"$error":"#VALUE!"},{"$f":"SUBSTITUTE(IN!G64,\"-\",\"\")","v":""},"",{"$f":"IN!F64*60","v":0},0,"-"]
[0,{"$error":"#VALUE!"},{"$error":"#VALUE!"},{"$f":"SUBSTITUTE(IN!G65,\"-\",\"\")","v":""},"",{"$f":"IN!F65*60","v":0},0,"-"]
[0,{"$error":"#VALUE!"},{"$error":"#VALUE!"},{"$f":"SUBSTITUTE(IN!G66,\"-\",\"\")","v":""},"",{"$f":"IN!F66*60","v":0},0,"-"]
[0,{"$error":"#VALUE!"},{"$error":"#VALUE!"},{"$f":"SUBSTITUTE(IN!G67,\"-\",\"\")","v":""},"",{"$f":"IN!F67*60","v":0},0,"-"]
[0,{"$error":"#VALUE!"},{"$error":"#VALUE!"},{"$f":"SUBSTITUTE(IN!G68,\"-\",\"\")","v":""},"",{"$f":"IN!F68*60","v":0},0,"-"]
[{"$f":"LEN(D69)","v":0},{"$f":"VALUE(LEFT(D69,1))","v":{"$error":"#VALUE!"}},{"$f":"IF(B69<2,20,19)","v":{"$error":"#VALUE!"}},{"$f":"SUBSTITUTE(IN!G69,\"-\",\"\")","v":""},{"$f":"IF(A69=10,CONCATENATE(C69,D69),D69)","v":""},{"$f":"IN!F69*60","v":0},{"$f":"ROUND(F69,0)","v":0},{"$f":"CONCATENATE(MID(E69,3,6),\"-\",MID(E69,9,4))","v":"-"}]
[0,{"$error":"#VALUE!"},{"$error":"#VALUE!"},{"$f":"SUBSTITUTE(IN!G70,\"-\",\"\")","v":""},"",{"$f":"IN!F70*60","v":0},0,"-"]
[0,{"$error":"#VALUE!"},{"$error":"#VALUE!"},{"$f":"SUBSTITUTE(IN!G71,\"-\",\"\")","v":""},"",{"$f":"IN!F71*60","v":0},0,"-"]
[0,{"$error":"#VALUE!"},{"$error":"#VALUE!"},{"$f":"SUBSTITUTE(IN!G72,\"-\",\"\")","v":""},"",{"$f":"IN!F72*60","v":0},0,"-"]
[0,{"$error":"#VALUE!"},{"$error":"#VALUE!"},{"$f":"SUBSTITUTE(IN!G73,\"-\",\"\")","v":""},"",{"$f":"IN!F73*60","v":0},0,"-"]
[0,{"$error":"#VALUE!"},{"$error":"#VALUE!"},{"$f":"SUBSTITUTE(IN!G74,\"-\",\"\")","v":""},"",{"$f":"IN!F74*60","v":0},0,"-"]
[0,{"$error":"#VALUE!"},{"$error":"#VALUE!"},{"$f":"SUBSTITUTE(IN!G75,\"-\",\"\")","v":""},"",{"$f":"IN!F75*60","v":0},0,"-"]
[0,{"$error":"#VALUE!"},{"$error":"#VALUE!"},{"$f":"SUBSTITUTE(IN!G76,\"-\",\"\")","v":""},"",{"$f":"IN!F76*60","v":0},0,"-"]
[0,{"$error":"#VALUE!"},{"$error":"#VALUE!"},{"$f":"SUBSTITUTE(IN!G77,\"-\",\"\")","v":""},"",{"$f":"IN!F77*60","v":0},0,"-"]
[0,{"$error":"#VALUE!"},{"$error":"#VALUE!"},{"$f":"SUBSTITUTE(IN!G78,\"-\",\"\")","v":""},"",{"$f":"IN!F78*60","v":0},0,"-"]
[0,{"$error":"#VALUE!"},{"$error":"#VALUE!"},{"$f":"SUBSTITUTE(IN!G79,\"-\",\"\")","v":""},"",{"$f":"IN!F79*60","v":0},0,"-"]
[0,{"$error":"#VALUE!"},{"$error":"#VALUE!"},{"$f":"SUBSTITUTE(IN!G80,\"-\",\"\")","v":""},"",{"$f":"IN!F80*60","v":0},0,"-"]
[0,{"$error":"#VALUE!"},{"$error":"#VALUE!"},{"$f":"SUBSTITUTE(IN!G81,\"-\",\"\")","v":""},"",{"$f":"IN!F81*60","v":0},0,"-"]
[0,{"$error":"#VALUE!"},{"$error":"#VALUE!"},{"$f":"SUBSTITUTE(IN!G82,\"-\",\"\")","v":""},"",{"$f":"IN!F82*60","v":0},0,"-"]
[0,{"$error":"#VALUE!"},{"$error":"#VALUE!"},{"$f":"SUBSTITUTE(IN!G83,\"-\",\"\")","v":""},"",{"$f":"IN!F83*60","v":0},0,"-"]
[0,{"$error":"#VALUE!"},{"$error":"#VALUE!"},{"$f":"SUBSTITUTE(IN!G84,\"-\",\"\")","v":""},"",{"$f":"IN!F84*60","v":0},0,"-"]
[0,{"$error":"#VALUE!"},{"$error":"#VALUE!"},{"$f":"SUBSTITUTE(IN!G85,\"-\",\"\")","v":""},"",{"$f":"IN!F85*60","v":0},0,"-"]
[0,{"$error":"#VALUE!"},{"$error":"#VALUE!"},{"$f":"SUBSTITUTE(IN!G86,\"-\",\"\")","v":""},"",{"$f":"IN!F86*60","v":0},0,"-"]
[0,{"$error":"#VALUE!"},{"$error":"#VALUE!"},{"$f":"SUBSTITUTE(IN!G87,\"-\",\"\")","v":""},"",{"$f":"IN!F87*60","v":0},0,"-"]
[0,{"$error":"#VALUE!"},{"$error":"#VALUE!"},{"$f":"SUBSTITUTE(IN!G88,\"-\",\"\")","v":""},"",{"$f":"IN!F88*60","v":0},0,"-"]
[0,{"$error":"#VALUE!"},{"$error":"#VALUE!"},{"$f":"SUBSTITUTE(IN!G89,\"-\",\"\")","v":""},"",{"$f":"IN!F89*60","v":0},0,"-"]
[0,{"$error":"#VALUE!"},{"$error":"#VALUE!"},{"$f":"SUBSTITUTE(IN!G90,\"-\",\"\")","v":""},"",{"$f":"IN!F90*60","v":0},0,"-"]
[0,{"$error":"#VALUE!"},{"$error":"#VALUE!"},{"$f":"SUBSTITUTE(IN!G91,\"-\",\"\")","v":""},"",{"$f":"IN!F91*60","v":0},0,"-"]
[0,{"$error":"#VALUE!"},{"$error":"#VALUE!"},{"$f":"SUBSTITUTE(IN!G92,\"-\",\"\")","v":""},"",{"$f":"IN!F92*60","v":0},0,"-"]
[0,{"$error":"#VALUE!"},{"$error":"#VALUE!"},{"$f":"SUBSTITUTE(IN!G93,\"-\",\"\")","v":""},"",{"$f":"IN!F93*60","v":0},0,"-"]
[0,{"$error":"#VALUE!"},{"$error":"#VALUE!"},{"$f":"SUBSTITUTE(IN!G94,\"-\",\"\")","v":""},"",{"$f":"IN!F94*60","v":0},0,"-"]
[0,{"$error":"#VALUE!"},{"$error":"#VALUE!"},{"$f":"SUBSTITUTE(IN!G95,\"-\",\"\")","v":""},"",{"$f":"IN!F95*60","v":0},0,"-"]
[0,{"$error":"#VALUE!"},{"$error":"#VALUE!"},{"$f":"SUBSTITUTE(IN!G96,\"-\",\"\")","v":""},"",{"$f":"IN!F96*60","v":0},0,"-"]
[0,{"$error":"#VALUE!"},{"$error":"#VALUE!"},{"$f":"SUBSTITUTE(IN!G97,\"-\",\"\")","v":""},"",{"$f":"IN!F97*60","v":0},0,"-"]
[0,{"$error":"#VALUE!"},{"$error":"#VALUE!"},{"$f":"SUBSTITUTE(IN!G98,\"-\",\"\")","v":""},"",{"$f":"IN!F98*60","v":0},0,"-"]
[0,{"$error":"#VALUE!"},{"$error":"#VALUE!"},{"$f":"SUBSTITUTE(IN!G99,\"-\",\"\")","v":""},"",{"$f":"IN!F99*60","v":0},0,"-"]
[0,{"$error":"#VALUE!"},{"$error":"#VALUE!"},{"$f":"SUBSTITUTE(IN!G100,\"-\",\"\")","v":""},"",{"$f":"IN!F100*60","v":0},0,"-"]
[0,{"$error":"#VALUE!"},{"$error":"#VALUE!"},{"$f":"SUBSTITUTE(IN!G101,\"-\",\"\")","v":""},"",{"$f":"IN!F101*60","v":0},0,"-"]
[0,{"$error":"#VALUE!"},{"$error":"#VALUE!"},{"$f":"SUBSTITUTE(IN!G102,\"-\",\"\")","v":""},"",{"$f":"IN!F102*60","v":0},0,"-"]
[0,{"$error":"#VALUE!"},{"$error":"#VALUE!"},{"$f":"SUBSTITUTE(IN!G103,\"-\",\"\")","v":""},"",{"$f":"IN!F103*60","v":0},0,"-"]
[0,{"$error":"#VALUE!"},{"$error":"#VALUE!"},{"$f":"SUBSTITUTE(IN!G104,\"-\",\"\")","v":""},"",{"$f":"IN!F104*60","v":0},0,"-"]
[0,{"$error":"#VALUE!"},{"$error":"#VALUE!"},{"$f":"SUBSTITUTE(IN!G105,\"-\",\"\")","v":""},"",{"$f":"IN!F105*60","v":0},0,"-"]
[0,{"$error":"#VALUE!"},{"$error":"#VALUE!"},{"$f":"SUBSTITUTE(IN!G106,\"-\",\"\")","v":""},"",{"$f":"IN!F106*60","v":0},0,"-"]
[0,{"$error":"#VALUE!"},{"$error":"#VALUE!"},{"$f":"SUBSTITUTE(IN!G107,\"-\",\"\")","v":""},"",{"$f":"IN!F107*60","v":0},0,"-"]
[0,{"$error":"#VALUE!"},{"$error":"#VALUE!"},{"$f":"SUBSTITUTE(IN!G108,\"-\",\"\")","v":""},"",{"$f":"IN!F108*60","v":0},0,"-"]
[0,{"$error":"#VALUE!"},{"$error":"#VALUE!"},{"$f":"SUBSTITUTE(IN!G109,\"-\",\"\")","v":""},"",{"$f":"IN!F109*60","v":0},0,"-"]
[0,{"$error":"#VALUE!"},{"$error":"#VALUE!"},{"$f":"SUBSTITUTE(IN!G110,\"-\",\"\")","v":""},"",{"$f":"IN!F110*60","v":0},0,"-"]
[0,{"$error":"#VALUE!"},{"$error":"#VALUE!"},{"$f":"SUBSTITUTE(IN!G111,\"-\",\"\")","v":""},"",{"$f":"IN!F111*60","v":0},0,"-"]
[0,{"$error":"#VALUE!"},{"$error":"#VALUE!"},{"$f":"SUBSTITUTE(IN!G112,\"-\",\"\")","v":""},"",{"$f":"IN!F112*60","v":0},0,"-"]
[0,{"$error":"#VALUE!"},{"$error":"#VALUE!"},{"$f":"SUBSTITUTE(IN!G113,\"-\",\"\")","v":""},"",{"$f":"IN!F113*60","v":0},0,"-"]
[0,{"$error":"#VALUE!"},{"$error":"#VALUE!"},{"$f":"SUBSTITUTE(IN!G114,\"-\",\"\")","v":""},"",{"$f":"IN!F114*60","v":0},0,"-"]
[0,{"$error":"#VALUE!"},{"$error":"#VALUE!"},{"$f":"SUBSTITUTE(IN!G115,\"-\",\"\")","v":""},"",{"$f":"IN!F115*60","v":0},0,"-"]
[0,{"$error":"#VALUE!"},{"$error":"#VALUE!"},{"$f":"SUBSTITUTE(IN!G116,\"-\",\"\")","v":""},"",{"$f":"IN!F116*60","v":0},0,"-"]
[0,{"$error":"#VALUE!"},{"$error":"#VALUE!"},{"$f":"SUBSTITUTE(IN!G117,\"-\",\"\")","v":""},"",{"$f":"IN!F117*60","v":0},0,"-"]
[0,{"$error":"#VALUE!"},{"$error":"#VALUE!"},{"$f":"SUBSTITUTE(IN!G118,\"-\",\"\")","v":""},"",{"$f":"IN!F118*60","v":0},0,"-"]
[0,{"$error":"#VALUE!"},{"$error":"#VALUE!"},{"$f":"SUBSTITUTE(IN!G119,\"-\",\"\")","v":""},"",{"$f":"IN!F119*60","v":0},0,"-"]
[0,{"$error":"#VALUE!"},{"$error":"#VALUE!"},{"$f":"SUBSTITUTE(IN!G120,\"-\",\"\")","v":""},"",{"$f":"IN!F120*60","v":0},0,"-"]
[0,{"$error":"#VALUE!"},{"$error":"#VALUE!"},{"$f":"SUBSTITUTE(IN!G121,\"-\",\"\")","v":""},"",{"$f":"IN!F121*60","v":0},0,"-"]
[0,{"$error":"#VALUE!"},{"$error":"#VALUE!"},{"$f":"SUBSTITUTE(IN!G122,\"-\",\"\")","v":""},"",{"$f":"IN!F122*60","v":0},0,"-"]
[0,{"$error":"#VALUE!"},{"$error":"#VALUE!"},{"$f":"SUBSTITUTE(IN!G123,\"-\",\"\")","v":""},"",{"$f":"IN!F123*60","v":0},0,"-"]
[0,{"$error":"#VALUE!"},{"$error":"#VALUE!"},{"$f":"SUBSTITUTE(IN!G124,\"-\",\"\")","v":""},"",{"$f":"IN!F124*60","v":0},0,"-"]
[0,{"$error":"#VALUE!"},{"$error":"#VALUE!"},{"$f":"SUBSTITUTE(IN!G125,\"-\",\"\")","v":""},"",{"$f":"IN!F125*60","v":0},0,"-"]
[0,{"$error":"#VALUE!"},{"$error":"#VALUE!"},{"$f":"SUBSTITUTE(IN!G126,\"-\",\"\")","v":""},"",{"$f":"IN!F126*60","v":0},0,"-"]
[0,{"$error":"#VALUE!"},{"$error":"#VALUE!"},{"$f":"SUBSTITUTE(IN!G127,\"-\",\"\")","v":""},"",{"$f":"IN!F127*60","v":0},0,"-"]
[0,{"$error":"#VALUE!"},{"$error":"#VALUE!"},{"$f":"SUBSTITUTE(IN!G128,\"-\",\"\")","v":""},"",{"$f":"IN!F128*60","v":0},0,"-"]
[0,{"$error":"#VALUE!"},{"$error":"#VALUE!"},{"$f":"SUBSTITUTE(IN!G129,\"-\",\"\")","v":""},"",{"$f":"IN!F129*60","v":0},0,"-"]
[0,{"$error":"#VALUE!"},{"$error":"#VALUE!"},{"$f":"SUBSTITUTE(IN!G130,\"-\",\"\")","v":""},"",{"$f":"IN!F130*60","v":0},0,"-"]
[0,{"$error":"#VALUE!"},{"$error":"#VALUE!"},{"$f":"SUBSTITUTE(IN!G131,\"-\",\"\")","v":""},"",{"$f":"IN!F131*60","v":0},0,"-"]
[0,{"$error":"#VALUE!"},{"$error":"#VALUE!"},{"$f":"SUBSTITUTE(IN!G132,\"-\",\"\")","v":""},"",{"$f":"IN!F132*60","v":0},0,"-"]
[{"$f":"LEN(D133)","v":0},{"$f":"VALUE(LEFT(D133,1))","v":{"$error":"#VALUE!"}},{"$f":"IF(B133<2,20,19)","v":{"$error":"#VALUE!"}},{"$f":"SUBSTITUTE(IN!G133,\"-\",\"\")","v":""},{"$f":"IF(A133=10,CONCATENATE(C133,D133),D133)","v":""},{"$f":"IN!F133*60","v":0},{"$f":"ROUND(F133,0)","v":0},{"$f":"CONCATENATE(MID(E133,3,6),\"-\",MID(E133,9,4))","v":"-"}]
[0,{"$error":"#VALUE!"},{"$error":"#VALUE!"},{"$f":"SUBSTITUTE(IN!G134,\"-\",\"\")","v":""},"",{"$f":"IN!F134*60","v":0},0,"-"]
[0,{"$error":"#VALUE!"},{"$error":"#VALUE!"},{"$f":"SUBSTITUTE(IN!G135,\"-\",\"\")","v":""},"",{"$f":"IN!F135*60","v":0},0,"-"]
[0,{"$error":"#VALUE!"},{"$error":"#VALUE!"},{"$f":"SUBSTITUTE(IN!G136,\"-\",\"\")","v":""},"",{"$f":"IN!F136*60","v":0},0,"-"]
[0,{"$error":"#VALUE!"},{"$error":"#VALUE!"},{"$f":"SUBSTITUTE(IN!G137,\"-\",\"\")","v":""},"",{"$f":"IN!F137*60","v":0},0,"-"]
[0,{"$error":"#VALUE!"},{"$error":"#VALUE!"},{"$f":"SUBSTITUTE(IN!G138,\"-\",\"\")","v":""},"",{"$f":"IN!F138*60","v":0},0,"-"]
[0,{"$error":"#VALUE!"},{"$error":"#VALUE!"},{"$f":"SUBSTITUTE(IN!G139,\"-\",\"\")","v":""},"",{"$f":"IN!F139*60","v":0},0,"-"]
[0,{"$error":"#VALUE!"},{"$error":"#VALUE!"},{"$f":"SUBSTITUTE(IN!G140,\"-\",\"\")","v":""},"",{"$f":"IN!F140*60","v":0},0,"-"]
[0,{"$error":"#VALUE!"},{"$error":"#VALUE!"},{"$f":"SUBSTITUTE(IN!G141,\"-\",\"\")","v":""},"",{"$f":"IN!F141*60","v":0},0,"-"]
[0,{"$error":"#VALUE!"},{"$error":"#VALUE!"},{"$f":"SUBSTITUTE(IN!G142,\"-\",\"\")","v":""},"",{"$f":"IN!F142*60","v":0},0,"-"]
[0,{"$error":"#VALUE!"},{"$error":"#VALUE!"},{"$f":"SUBSTITUTE(IN!G143,\"-\",\"\")","v":""},"",{"$f":"IN!F143*60","v":0},0,"-"]
[0,{"$error":"#VALUE!"},{"$error":"#VALUE!"},{"$f":"SUBSTITUTE(IN!G144,\"-\",\"\")","v":""},"",{"$f":"IN!F144*60","v":0},0,"-"]
[0,{"$error":"#VALUE!"},{"$error":"#VALUE!"},{"$f":"SUBSTITUTE(IN!G145,\"-\",\"\")","v":""},"",{"$f":"IN!F145*60","v":0},0,"-"]
[0,{"$error":"#VALUE!"},{"$error":"#VALUE!"},{"$f":"SUBSTITUTE(IN!G146,\"-\",\"\")","v":""},"",{"$f":"IN!F146*60","v":0},0,"-"]
[0,{"$error":"#VALUE!"},{"$error":"#VALUE!"},{"$f":"SUBSTITUTE(IN!G147,\"-\",\"\")","v":""},"",{"$f":"IN!F147*60","v":0},0,"-"]
[0,{"$error":"#VALUE!"},{"$error":"#VALUE!"},{"$f":"SUBSTITUTE(IN!G148,\"-\",\"\")","v":""},"",{"$f":"IN!F148*60","v":0},0,"-"]
[0,{"$error":"#VALUE!"},{"$error":"#VALUE!"},{"$f":"SUBSTITUTE(IN!G149,\"-\",\"\")","v":""},"",{"$f":"IN!F149*60","v":0},0,"-"]
[0,{"$error":"#VALUE!"},{"$error":"#VALUE!"},{"$f":"SUBSTITUTE(IN!G150,\"-\",\"\")","v":""},"",{"$f":"IN!F150*60","v":0},0,"-"]
[0,{"$error":"#VALUE!"},{"$error":"#VALUE!"},{"$f":"SUBSTITUTE(IN!G151,\"-\",\"\")","v":""},"",{"$f":"IN!F151*60","v":0},0,"-"]
[0,{"$error":"#VALUE!"},{"$error":"#VALUE!"},{"$f":"SUBSTITUTE(IN!G152,\"-\",\"\")","v":""},"",{"$f":"IN!F152*60","v":0},0,"-"]
[0,{"$error":"#VALUE!"},{"$error":"#VALUE!"},{"$f":"SUBSTITUTE(IN!G153,\"-\",\"\")","v":""},"",{"$f":"IN!F153*60","v":0},0,"-"]
[0,{"$error":"#VALUE!"},{"$error":"#VALUE!"},{"$f":"SUBSTITUTE(IN!G154,\"-\",\"\")","v":""},"",{"$f":"IN!F154*60","v":0},0,"-"]
[0,{"$error":"#VALUE!"},{"$error":"#VALUE!"},{"$f":"SUBSTITUTE(IN!G155,\"-\",\"\")","v":""},"",{"$f":"IN!F155*60","v":0},0,"-"]
[0,{"$error":"#VALUE!"},{"$error":"#VALUE!"},{"$f":"SUBSTITUTE(IN!G156,\"-\",\"\")","v":""},"",{"$f":"IN!F156*60","v":0},0,"-"]
[0,{"$error":"#VALUE!"},{"$error":"#VALUE!"},{"$f":"SUBSTITUTE(IN!G157,\"-\",\"\")","v":""},"",{"$f":"IN!F157*60","v":0},0,"-"]
[0,{"$error":"#VALUE!"},{"$error":"#VALUE!"},{"$f":"SUBSTITUTE(IN!G158,\"-\",\"\")","v":""},"",{"$f":"IN!F158*60","v":0},0,"-"]
[0,{"$error":"#VALUE!"},{"$error":"#VALUE!"},{"$f":"SUBSTITUTE(IN!G159,\"-\",\"\")","v":""},"",{"$f":"IN!F159*60","v":0},0,"-"]
[0,{"$error":"#VALUE!"},{"$error":"#VALUE!"},{"$f":"SUBSTITUTE(IN!G160,\"-\",\"\")","v":""},"",{"$f":"IN!F160*60","v":0},0,"-"]
[0,{"$error":"#VALUE!"},{"$error":"#VALUE!"},{"$f":"SUBSTITUTE(IN!G161,\"-\",\"\")","v":""},"",{"$f":"IN!F161*60","v":0},0,"-"]
[0,{"$error":"#VALUE!"},{"$error":"#VALUE!"},{"$f":"SUBSTITUTE(IN!G162,\"-\",\"\")","v":""},"",{"$f":"IN!F162*60","v":0},0,"-"]
[0,{"$error":"#VALUE!"},{"$error":"#VALUE!"},{"$f":"SUBSTITUTE(IN!G163,\"-\",\"\")","v":""},"",{"$f":"IN!F163*60","v":0},0,"-"]
[0,{"$error":"#VALUE!"},{"$error":"#VALUE!"},{"$f":"SUBSTITUTE(IN!G164,\"-\",\"\")","v":""},"",{"$f":"IN!F164*60","v":0},0,"-"]
[0,{"$error":"#VALUE!"},{"$error":"#VALUE!"},{"$f":"SUBSTITUTE(IN!G165,\"-\",\"\")","v":""},"",{"$f":"IN!F165*60","v":0},0,"-"]
[0,{"$error":"#VALUE!"},{"$error":"#VALUE!"},{"$f":"SUBSTITUTE(IN!G166,\"-\",\"\")","v":""},"",{"$f":"IN!F166*60","v":0},0,"-"]
[0,{"$error":"#VALUE!"},{"$error":"#VALUE!"},{"$f":"SUBSTITUTE(IN!G167,\"-\",\"\")","v":""},"",{"$f":"IN!F167*60","v":0},0,"-"]
[0,{"$error":"#VALUE!"},{"$error":"#VALUE!"},{"$f":"SUBSTITUTE(IN!G168,\"-\",\"\")","v":""},"",{"$f":"IN!F168*60","v":0},0,"-"]
[0,{"$error":"#VALUE!"},{"$error":"#VALUE!"},{"$f":"SUBSTITUTE(IN!G169,\"-\",\"\")","v":""},"",{"$f":"IN!F169*60","v":0},0,"-"]
[0,{"$error":"#VALUE!"},{"$error":"#VALUE!"},{"$f":"SUBSTITUTE(IN!G170,\"-\",\"\")","v":""},"",{"$f":"IN!F170*60","v":0},0,"-"]
[0,{"$error":"#VALUE!"},{"$error":"#VALUE!"},{"$f":"SUBSTITUTE(IN!G171,\"-\",\"\")","v":""},"",{"$f":"IN!F171*60","v":0},0,"-"]
[0,{"$error":"#VALUE!"},{"$error":"#VALUE!"},{"$f":"SUBSTITUTE(IN!G172,\"-\",\"\")","v":""},"",{"$f":"IN!F172*60","v":0},0,"-"]
[0,{"$error":"#VALUE!"},{"$error":"#VALUE!"},{"$f":"SUBSTITUTE(IN!G173,\"-\",\"\")","v":""},"",{"$f":"IN!F173*60","v":0},0,"-"]
[0,{"$error":"#VALUE!"},{"$error":"#VALUE!"},{"$f":"SUBSTITUTE(IN!G174,\"-\",\"\")","v":""},"",{"$f":"IN!F174*60","v":0},0,"-"]
[0,{"$error":"#VALUE!"},{"$error":"#VALUE!"},{"$f":"SUBSTITUTE(IN!G175,\"-\",\"\")","v":""},"",{"$f":"IN!F175*60","v":0},0,"-"]
[0,{"$error":"#VALUE!"},{"$error":"#VALUE!"},{"$f":"SUBSTITUTE(IN!G176,\"-\",\"\")","v":""},"",{"$f":"IN!F176*60","v":0},0,"-"]
[0,{"$error":"#VALUE!"},{"$error":"#VALUE!"},{"$f":"SUBSTITUTE(IN!G177,\"-\",\"\")","v":""},"",{"$f":"IN!F177*60","v":0},0,"-"]
[0,{"$error":"#VALUE!"},{"$error":"#VALUE!"},{"$f":"SUBSTITUTE(IN!G178,\"-\",\"\")","v":""},"",{"$f":"IN!F178*60","v":0},0,"-"]
[0,{"$error":"#VALUE!"},{"$error":"#VALUE!"},{"$f":"SUBSTITUTE(IN!G179,\"-\",\"\")","v":""},"",{"$f":"IN!F179*60","v":0},0,"-"]
[0,{"$error":"#VALUE!"},{"$error":"#VALUE!"},{"$f":"SUBSTITUTE(IN!G180,\"-\",\"\")","v":""},"",{"$f":"IN!F180*60","v":0},0,"-"]
[0,{"$error":"#VALUE!"},{"$error":"#VALUE!"},{"$f":"SUBSTITUTE(IN!G181,\"-\",\"\")","v":""},"",{"$f":"IN!F181*60","v":0},0,"-"]
[0,{"$error":"#VALUE!"},{"$error":"#VALUE!"},{"$f":"SUBSTITUTE(IN!G182,\"-\",\"\")","v":""},"",{"$f":"IN!F182*60","v":0},0,"-"]
[0,{"$error":"#VALUE!"},{"$error":"#VALUE!"},{"$f":"SUBSTITUTE(IN!G183,\"-\",\"\")","v":""},"",{"$f":"IN!F183*60","v":0},0,"-"]
[0,{"$error":"#VALUE!"},{"$error":"#VALUE!"},{"$f":"SUBSTITUTE(IN!G184,\"-\",\"\")","v":""},"",{"$f":"IN!F184*60","v":0},0,"-"]
[0,{"$error":"#VALUE!"},{"$error":"#VALUE!"},{"$f":"SUBSTITUTE(IN!G185,\"-\",\"\")","v":""},"",{"$f":"IN!F185*60","v":0},0,"-"]
[0,{"$error":"#VALUE!"},{"$error":"#VALUE!"},{"$f":"SUBSTITUTE(IN!G186,\"-\",\"\")","v":""},"",{"$f":"IN!F186*60","v":0},0,"-"]
[0,{"$error":"#VALUE!"},{"$error":"#VALUE!"},{"$f":"SUBSTITUTE(IN!G187,\"-\",\"\")","v":""},"",{"$f":"IN!F187*60","v":0},0,"-"]
[0,{"$error":"#VALUE!"},{"$error":"#VALUE!"},{"$f":"SUBSTITUTE(IN!G188,\"-\",\"\")","v":""},"",{"$f":"IN!F188*60","v":0},0,"-"]
[0,{"$error":"#VALUE!"},{"$error":"#VALUE!"},{"$f":"SUBSTITUTE(IN!G189,\"-\",\"\")","v":""},"",{"$f":"IN!F189*60","v":0},0,"-"]
[0,{"$error":"#VALUE!"},{"$error":"#VALUE!"},{"$f":"SUBSTITUTE(IN!G190,\"-\",\"\")","v":""},"",{"$f":"IN!F190*60","v":0},0,"-"]
[0,{"$error":"#VALUE!"},{"$error":"#VALUE!"},{"$f":"SUBSTITUTE(IN!G191,\"-\",\"\")","v":""},"",{"$f":"IN!F191*60","v":0},0,"-"]
[0,{"$error":"#VALUE!"},{"$error":"#VALUE!"},{"$f":"SUBSTITUTE(IN!G192,\"-\",\"\")","v":""},"",{"$f":"IN!F192*60","v":0},0,"-"]
[0,{"$error":"#VALUE!"},{"$error":"#VALUE!"},{"$f":"SUBSTITUTE(IN!G193,\"-\",\"\")","v":""},"",{"$f":"IN!F193*60","v":0},0,"-"]
[0,{"$error":"#VALUE!"},{"$error":"#VALUE!"},{"$f":"SUBSTITUTE(IN!G194,\"-\",\"\")","v":""},"",{"$f":"IN!F194*60","v":0},0,"-"]
[0,{"$error":"#VALUE!"},{"$error":"#VALUE!"},{"$f":"SUBSTITUTE(IN!G195,\"-\",\"\")","v":""},"",{"$f":"IN!F195*60","v":0},0,"-"]
[0,{"$error":"#VALUE!"},{"$error":"#VALUE!"},{"$f":"SUBSTITUTE(IN!G196,\"-\",\"\")","v":""},"",{"$f":"IN!F196*60","v":0},0,"-"]
[{"$f":"LEN(D197)","v":0},{"$f":"VALUE(LEFT(D197,1))","v":{"$error":"#VALUE!"}},{"$f":"IF(B197<2,20,19)","v":{"$error":"#VALUE!"}},{"$f":"SUBSTITUTE(IN!G197,\"-\",\"\")","v":""},{"$f":"IF(A197=10,CONCATENATE(C197,D197),D197)","v":""},{"$f":"IN!F197*60","v":0},{"$f":"ROUND(F197,0)","v":0},{"$f":"CONCATENATE(MID(E197,3,6),\"-\",MID(E197,9,4))","v":"-"}]
[0,{"$error":"#VALUE!"},{"$error":"#VALUE!"},{"$f":"SUBSTITUTE(IN!G198,\"-\",\"\")","v":""},"",{"$f":"IN!F198*60","v":0},0,"-"]
[0,{"$error":"#VALUE!"},{"$error":"#VALUE!"},{"$f":"SUBSTITUTE(IN!G199,\"-\",\"\")","v":""},"",{"$f":"IN!F199*60","v":0},0,"-"]
[0,{"$error":"#VALUE!"},{"$error":"#VALUE!"},{"$f":"SUBSTITUTE(IN!G200,\"-\",\"\")","v":""},"",{"$f":"IN!F200*60","v":0},0,"-"]
[0,{"$error":"#VALUE!"},{"$error":"#VALUE!"},{"$f":"SUBSTITUTE(IN!G201,\"-\",\"\")","v":""},"",{"$f":"IN!F201*60","v":0},0,"-"]
[0,{"$error":"#VALUE!"},{"$error":"#VALUE!"},{"$f":"SUBSTITUTE(IN!G202,\"-\",\"\")","v":""},"",{"$f":"IN!F202*60","v":0},0,"-"]
[0,{"$error":"#VALUE!"},{"$error":"#VALUE!"},{"$f":"SUBSTITUTE(IN!G203,\"-\",\"\")","v":""},"",{"$f":"IN!F203*60","v":0},0,"-"]
[0,{"$error":"#VALUE!"},{"$error":"#VALUE!"},{"$f":"SUBSTITUTE(IN!G204,\"-\",\"\")","v":""},"",{"$f":"IN!F204*60","v":0},0,"-"]
[0,{"$error":"#VALUE!"},{"$error":"#VALUE!"},{"$f":"SUBSTITUTE(IN!G205,\"-\",\"\")","v":""},"",{"$f":"IN!F205*60","v":0},0,"-"]
[0,{"$error":"#VALUE!"},{"$error":"#VALUE!"},{"$f":"SUBSTITUTE(IN!G206,\"-\",\"\")","v":""},"",{"$f":"IN!F206*60","v":0},0,"-"]
[0,{"$error":"#VALUE!"},{"$error":"#VALUE!"},{"$f":"SUBSTITUTE(IN!G207,\"-\",\"\")","v":""},"",{"$f":"IN!F207*60","v":0},0,"-"]
[0,{"$error":"#VALUE!"},{"$error":"#VALUE!"},{"$f":"SUBSTITUTE(IN!G208,\"-\",\"\")","v":""},"",{"$f":"IN!F208*60","v":0},0,"-"]
[0,{"$error":"#VALUE!"},{"$error":"#VALUE!"},{"$f":"SUBSTITUTE(IN!G209,\"-\",\"\")","v":""},"",{"$f":"IN!F209*60","v":0},0,"-"]
[0,{"$error":"#VALUE!"},{"$error":"#VALUE!"},{"$f":"SUBSTITUTE(IN!G210,\"-\",\"\")","v":""},"",{"$f":"IN!F210*60","v":0},0,"-"]
[0,{"$error":"#VALUE!"},{"$error":"#VALUE!"},{"$f":"SUBSTITUTE(IN!G211,\"-\",\"\")","v":""},"",{"$f":"IN!F211*60","v":0},0,"-"]
[0,{"$error":"#VALUE!"},{"$error":"#VALUE!"},{"$f":"SUBSTITUTE(IN!G212,\"-\",\"\")","v":""},"",{"$f":"IN!F212*60","v":0},0,"-"]
[0,{"$error":"#VALUE!"},{"$error":"#VALUE!"},{"$f":"SUBSTITUTE(IN!G213,\"-\",\"\")","v":""},"",{"$f":"IN!F213*60","v":0},0,"-"]
[0,{"$error":"#VALUE!"},{"$error":"#VALUE!"},{"$f":"SUBSTITUTE(IN!G214,\"-\",\"\")","v":""},"",{"$f":"IN!F214*60","v":0},0,"-"]
[0,{"$error":"#VALUE!"},{"$error":"#VALUE!"},{"$f":"SUBSTITUTE(IN!G215,\"-\",\"\")","v":""},"",{"$f":"IN!F215*60","v":0},0,"-"]
[0,{"$error":"#VALUE!"},{"$error":"#VALUE!"},{"$f":"SUBSTITUTE(IN!G216,\"-\",\"\")","v":""},"",{"$f":"IN!F216*60","v":0},0,"-"]
[0,{"$error":"#VALUE!"},{"$error":"#VALUE!"},{"$f":"SUBSTITUTE(IN!G217,\"-\",\"\")","v":""},"",{"$f":"IN!F217*60","v":0},0,"-"]
[0,{"$error":"#VALUE!"},{"$error":"#VALUE!"},{"$f":"SUBSTITUTE(IN!G218,\"-\",\"\")","v":""},"",{"$f":"IN!F218*60","v":0},0,"-"]
[0,{"$error":"#VALUE!"},{"$error":"#VALUE!"},{"$f":"SUBSTITUTE(IN!G219,\"-\",\"\")","v":""},"",{"$f":"IN!F219*60","v":0},0,"-"]
[0,{"$error":"#VALUE!"},{"$error":"#VALUE!"},{"$f":"SUBSTITUTE(IN!G220,\"-\",\"\")","v":""},"",{"$f":"IN!F220*60","v":0},0,"-"]
[0,{"$error":"#VALUE!"},{"$error":"#VALUE!"},{"$f":"SUBSTITUTE(IN!G221,\"-\",\"\")","v":""},"",{"$f":"IN!F221*60","v":0},0,"-"]
[0,{"$error":"#VALUE!"},{"$error":"#VALUE!"},{"$f":"SUBSTITUTE(IN!G222,\"-\",\"\")","v":""},"",{"$f":"IN!F222*60","v":0},0,"-"]
[0,{"$error":"#VALUE!"},{"$error":"#VALUE!"},{"$f":"SUBSTITUTE(IN!G223,\"-\",\"\")","v":""},"",{"$f":"IN!F223*60","v":0},0,"-"]
[0,{"$error":"#VALUE!"},{"$error":"#VALUE!"},{"$f":"SUBSTITUTE(IN!G224,\"-\",\"\")","v":""},"",{"$f":"IN!F224*60","v":0},0,"-"]
[0,{"$error":"#VALUE!"},{"$error":"#VALUE!"},{"$f":"SUBSTITUTE(IN!G225,\"-\",\"\")","v":""},"",{"$f":"IN!F225*60","v":0},0,"-"]
[0,{"$error":"#VALUE!"},{"$error":"#VALUE!"},{"$f":"SUBSTITUTE(IN!G226,\"-\",\"\")","v":""},"",{"$f":"IN!F226*60","v":0},0,"-"]
[0,{"$error":"#VALUE!"},{"$error":"#VALUE!"},{"$f":"SUBSTITUTE(IN!G227,\"-\",\"\")","v":""},"",{"$f":"IN!F227*60","v":0},0,"-"]
[0,{"$error":"#VALUE!"},{"$error":"#VALUE!"},{"$f":"SUBSTITUTE(IN!G228,\"-\",\"\")","v":""},"",{"$f":"IN!F228*60","v":0},0,"-"]
[0,{"$error":"#VALUE!"},{"$error":"#VALUE!"},{"$f":"SUBSTITUTE(IN!G229,\"-\",\"\")","v":""},"",{"$f":"IN!F229*60","v":0},0,"-"]
[0,{"$error":"#VALUE!"},{"$error":"#VALUE!"},{"$f":"SUBSTITUTE(IN!G230,\"-\",\"\")","v":""},"",{"$f":"IN!F230*60","v":0},0,"-"]
[0,{"$error":"#VALUE!"},{"$error":"#VALUE!"},{"$f":"SUBSTITUTE(IN!G231,\"-\",\"\")","v":""},"",{"$f":"IN!F231*60","v":0},0,"-"]
[0,{"$error":"#VALUE!"},{"$error":"#VALUE!"},{"$f":"SUBSTITUTE(IN!G232,\"-\",\"\")","v":""},"",{"$f":"IN!F232*60","v":0},0,"-"]
[0,{"$error":"#VALUE!"},{"$error":"#VALUE!"},{"$f":"SUBSTITUTE(IN!G233,\"-\",\"\")","v":""},"",{"$f":"IN!F233*60","v":0},0,"-"]
[0,{"$error":"#VALUE!"},{"$error":"#VALUE!"},{"$f":"SUBSTITUTE(IN!G234,\"-\",\"\")","v":""},"",{"$f":"IN!F234*60","v":0},0,"-"]
[0,{"$error":"#VALUE!"},{"$error":"#VALUE!"},{"$f":"SUBSTITUTE(IN!G235,\"-\",\"\")","v":""},"",{"$f":"IN!F235*60","v":0},0,"-"]
[0,{"$error":"#VALUE!"},{"$error":"#VALUE!"},{"$f":"SUBSTITUTE(IN!G236,\"-\",\"\")","v":""},"",{"$f":"IN!F236*60","v":0},0,"-"]
[0,{"$error":"#VALUE!"},{"$error":"#VALUE!"},{"$f":"SUBSTITUTE(IN!G237,\"-\",\"\")","v":""},"",{"$f":"IN!F237*60","v":0},0,"-"]
[0,{"$error":"#VALUE!"},{"$error":"#VALUE!"},{"$f":"SUBSTITUTE(IN!G238,\"-\",\"\")","v":""},"",{"$f":"IN!F238*60","v":0},0,"-"]
[0,{"$error":"#VALUE!"},{"$error":"#VALUE!"},{"$f":"SUBSTITUTE(IN!G239,\"-\",\"\")","v":""},"",{"$f":"IN!F239*60","v":0},0,"-"]
[0,{"$error":"#VALUE!"},{"$error":"#VALUE!"},{"$f":"SUBSTITUTE(IN!G240,\"-\",\"\")","v":""},"",{"$f":"IN!F240*60","v":0},0,"-"]
[0,{"$error":"#VALUE!"},{"$error":"#VALUE!"},{"$f":"SUBSTITUTE(IN!G241,\"-\",\"\")","v":""},"",{"$f":"IN!F241*60","v":0},0,"-"]
[0,{"$error":"#VALUE!"},{"$error":"#VALUE!"},{"$f":"SUBSTITUTE(IN!G242,\"-\",\"\")","v":""},"",{"$f":"IN!F242*60","v":0},0,"-"]
[0,{"$error":"#VALUE!"},{"$error":"#VALUE!"},{"$f":"SUBSTITUTE(IN!G243,\"-\",\"\")","v":""},"",{"$f":"IN!F243*60","v":0},0,"-"]
[0,{"$error":"#VALUE!"},{"$error":"#VALUE!"},{"$f":"SUBSTITUTE(IN!G244,\"-\",\"\")","v":""},"",{"$f":"IN!F244*60","v":0},0,"-"]
[0,{"$error":"#VALUE!"},{"$error":"#VALUE!"},{"$f":"SUBSTITUTE(IN!G245,\"-\",\"\")","v":""},"",{"$f":"IN!F245*60","v":0},0,"-"]
[0,{"$error":"#VALUE!"},{"$error":"#VALUE!"},{"$f":"SUBSTITUTE(IN!G246,\"-\",\"\")","v":""},"",{"$f":"IN!F246*60","v":0},0,"-"]
[0,{"$error":"#VALUE!"},{"$error":"#VALUE!"},{"$f":"SUBSTITUTE(IN!G247,\"-\",\"\")","v":""},"",{"$f":"IN!F247*60","v":0},0,"-"]
[0,{"$error":"#VALUE!"},{"$error":"#VALUE!"},{"$f":"SUBSTITUTE(IN!G248,\"-\",\"\")","v":""},"",{"$f":"IN!F248*60","v":0},0,"-"]
[0,{"$error":"#VALUE!"},{"$error":"#VALUE!"},{"$f":"SUBSTITUTE(IN!G249,\"-\",\"\")","v":""},"",{"$f":"IN!F249*60","v":0},0,"-"]
[0,{"$error":"#VALUE!"},{"$error":"#VALUE!"},{"$f":"SUBSTITUTE(IN!G250,\"-\",\"\")","v":""},"",{"$f":"IN!F250*60","v":0},0,"-"]
[0,{"$error":"#VALUE!"},{"$error":"#VALUE!"},{"$f":"SUBSTITUTE(IN!G251,\"-\",\"\")","v":""},"",{"$f":"IN!F251*60","v":0},0,"-"]
[0,{"$error":"#VALUE!"},{"$error":"#VALUE!"},{"$f":"SUBSTITUTE(IN!G252,\"-\",\"\")","v":""},"",{"$f":"IN!F252*60","v":0},0,"-"]
[0,{"$error":"#VALUE!"},{"$error":"#VALUE!"},{"$f":"SUBSTITUTE(IN!G253,\"-\",\"\")","v":""},"",{"$f":"IN!F253*60","v":0},0,"-"]
[0,{"$error":"#VALUE!"},{"$error":"#VALUE!"},{"$f":"SUBSTITUTE(IN!G254,\"-\",\"\")","v":""},"",{"$f":"IN!F254*60","v":0},0,"-"]
[0,{"$error":"#VALUE!"},{"$error":"#VALUE!"},{"$f":"SUBSTITUTE(IN!G255,\"-\",\"\")","v":""},"",{"$f":"IN!F255*60","v":0},0,"-"]
[0,{"$error":"#VALUE!"},{"$error":"#VALUE!"},{"$f":"SUBSTITUTE(IN!G256,\"-\",\"\")","v":""},"",{"$f":"IN!F256*60","v":0},0,"-"]
[0,{"$error":"#VALUE!"},{"$error":"#VALUE!"},{"$f":"SUBSTITUTE(IN!G257,\"-\",\"\")","v":""},"",{"$f":"IN!F257*60","v":0},0,"-"]
[0,{"$error":"#VALUE!"},{"$error":"#VALUE!"},{"$f":"SUBSTITUTE(IN!G258,\"-\",\"\")","v":""},"",{"$f":"IN!F258*60","v":0},0,"-"]
[0,{"$error":"#VALUE!"},{"$error":"#VALUE!"},{"$f":"SUBSTITUTE(IN!G259,\"-\",\"\")","v":""},"",{"$f":"IN!F259*60","v":0},0,"-"]
[0,{"$error":"#VALUE!"},{"$error":"#VALUE!"},{"$f":"SUBSTITUTE(IN!G260,\"-\",\"\")","v":""},"",{"$f":"IN!F260*60","v":0},0,"-"]
[{"$f":"LEN(D261)","v":0},{"$f":"VALUE(LEFT(D261,1))","v":{"$error":"#VALUE!"}},{"$f":"IF(B261<2,20,19)","v":{"$error":"#VALUE!"}},{"$f":"SUBSTITUTE(IN!G261,\"-\",\"\")","v":""},{"$f":"IF(A261=10,CONCATENATE(C261,D261),D261)","v":""},{"$f":"IN!F261*60","v":0},{"$f":"ROUND(F261,0)","v":0},{"$f":"CONCATENATE(MID(E261,3,6),\"-\",MID(E261,9,4))","v":"-"}]
[0,{"$error":"#VALUE!"},{"$error":"#VALUE!"},{"$f":"SUBSTITUTE(IN!G262,\"-\",\"\")","v":""},"",{"$f":"IN!F262*60","v":0},0,"-"]
[0,{"$error":"#VALUE!"},{"$error":"#VALUE!"},{"$f":"SUBSTITUTE(IN!G263,\"-\",\"\")","v":""},"",{"$f":"IN!F263*60","v":0},0,"-"]
[0,{"$error":"#VALUE!"},{"$error":"#VALUE!"},{"$f":"SUBSTITUTE(IN!G264,\"-\",\"\")","v":""},"",{"$f":"IN!F264*60","v":0},0,"-"]
[0,{"$error":"#VALUE!"},{"$error":"#VALUE!"},{"$f":"SUBSTITUTE(IN!G265,\"-\",\"\")","v":""},"",{"$f":"IN!F265*60","v":0},0,"-"]
[0,{"$error":"#VALUE!"},{"$error":"#VALUE!"},{"$f":"SUBSTITUTE(IN!G266,\"-\",\"\")","v":""},"",{"$f":"IN!F266*60","v":0},0,"-"]
[0,{"$error":"#VALUE!"},{"$error":"#VALUE!"},{"$f":"SUBSTITUTE(IN!G267,\"-\",\"\")","v":""},"",{"$f":"IN!F267*60","v":0},0,"-"]
[0,{"$error":"#VALUE!"},{"$error":"#VALUE!"},{"$f":"SUBSTITUTE(IN!G268,\"-\",\"\")","v":""},"",{"$f":"IN!F268*60","v":0},0,"-"]
[0,{"$error":"#VALUE!"},{"$error":"#VALUE!"},{"$f":"SUBSTITUTE(IN!G269,\"-\",\"\")","v":""},"",{"$f":"IN!F269*60","v":0},0,"-"]
[0,{"$error":"#VALUE!"},{"$error":"#VALUE!"},{"$f":"SUBSTITUTE(IN!G270,\"-\",\"\")","v":""},"",{"$f":"IN!F270*60","v":0},0,"-"]
[0,{"$error":"#VALUE!"},{"$error":"#VALUE!"},{"$f":"SUBSTITUTE(IN!G271,\"-\",\"\")","v":""},"",{"$f":"IN!F271*60","v":0},0,"-"]
[0,{"$error":"#VALUE!"},{"$error":"#VALUE!"},{"$f":"SUBSTITUTE(IN!G272,\"-\",\"\")","v":""},"",{"$f":"IN!F272*60","v":0},0,"-"]
[0,{"$error":"#VALUE!"},{"$error":"#VALUE!"},{"$f":"SUBSTITUTE(IN!G273,\"-\",\"\")","v":""},"",{"$f":"IN!F273*60","v":0},0,"-"]
[0,{"$error":"#VALUE!"},{"$error":"#VALUE!"},{"$f":"SUBSTITUTE(IN!G274,\"-\",\"\")","v":""},"",{"$f":"IN!F274*60","v":0},0,"-"]
[0,{"$error":"#VALUE!"},{"$error":"#VALUE!"},{"$f":"SUBSTITUTE(IN!G275,\"-\",\"\")","v":""},"",{"$f":"IN!F275*60","v":0},0,"-"]
[0,{"$error":"#VALUE!"},{"$error":"#VALUE!"},{"$f":"SUBSTITUTE(IN!G276,\"-\",\"\")","v":""},"",{"$f":"IN!F276*60","v":0},0,"-"]
[0,{"$error":"#VALUE!"},{"$error":"#VALUE!"},{"$f":"SUBSTITUTE(IN!G277,\"-\",\"\")","v":""},"",{"$f":"IN!F277*60","v":0},0,"-"]
[0,{"$error":"#VALUE!"},{"$error":"#VALUE!"},{"$f":"SUBSTITUTE(IN!G278,\"-\",\"\")","v":""},"",{"$f":"IN!F278*60","v":0},0,"-"]
[0,{"$error":"#VALUE!"},{"$error":"#VALUE!"},{"$f":"SUBSTITUTE(IN!G279,\"-\",\"\")","v":""},"",{"$f":"IN!F279*60","v":0},0,"-"]
[0,{"$error":"#VALUE!"},{"$error":"#VALUE!"},{"$f":"SUBSTITUTE(IN!G280,\"-\",\"\")","v":""},"",{"$f":"IN!F280*60","v":0},0,"-"]
[0,{"$error":"#VALUE!"},{"$error":"#VALUE!"},{"$f":"SUBSTITUTE(IN!G281,\"-\",\"\")","v":""},"",{"$f":"IN!F281*60","v":0},0,"-"]
[0,{"$error":"#VALUE!"},{"$error":"#VALUE!"},{"$f":"SUBSTITUTE(IN!G282,\"-\",\"\")","v":""},"",{"$f":"IN!F282*60","v":0},0,"-"]
[0,{"$error":"#VALUE!"},{"$error":"#VALUE!"},{"$f":"SUBSTITUTE(IN!G283,\"-\",\"\")","v":""},"",{"$f":"IN!F283*60","v":0},0,"-"]
[0,{"$error":"#VALUE!"},{"$error":"#VALUE!"},{"$f":"SUBSTITUTE(IN!G284,\"-\",\"\")","v":""},"",{"$f":"IN!F284*60","v":0},0,"-"]
[0,{"$error":"#VALUE!"},{"$error":"#VALUE!"},{"$f":"SUBSTITUTE(IN!G285,\"-\",\"\")","v":""},"",{"$f":"IN!F285*60","v":0},0,"-"]
[0,{"$error":"#VALUE!"},{"$error":"#VALUE!"},{"$f":"SUBSTITUTE(IN!G286,\"-\",\"\")","v":""},"",{"$f":"IN!F286*60","v":0},0,"-"]
[0,{"$error":"#VALUE!"},{"$error":"#VALUE!"},{"$f":"SUBSTITUTE(IN!G287,\"-\",\"\")","v":""},"",{"$f":"IN!F287*60","v":0},0,"-"]
[0,{"$error":"#VALUE!"},{"$error":"#VALUE!"},{"$f":"SUBSTITUTE(IN!G288,\"-\",\"\")","v":""},"",{"$f":"IN!F288*60","v":0},0,"-"]
[0,{"$error":"#VALUE!"},{"$error":"#VALUE!"},{"$f":"SUBSTITUTE(IN!G289,\"-\",\"\")","v":""},"",{"$f":"IN!F289*60","v":0},0,"-"]
[0,{"$error":"#VALUE!"},{"$error":"#VALUE!"},{"$f":"SUBSTITUTE(IN!G290,\"-\",\"\")","v":""},"",{"$f":"IN!F290*60","v":0},0,"-"]
[0,{"$error":"#VALUE!"},{"$error":"#VALUE!"},{"$f":"SUBSTITUTE(IN!G291,\"-\",\"\")","v":""},"",{"$f":"IN!F291*60","v":0},0,"-"]
[0,{"$error":"#VALUE!"},{"$error":"#VALUE!"},{"$f":"SUBSTITUTE(IN!G292,\"-\",\"\")","v":""},"",{"$f":"IN!F292*60","v":0},0,"-"]
[0,{"$error":"#VALUE!"},{"$error":"#VALUE!"},{"$f":"SUBSTITUTE(IN!G293,\"-\",\"\")","v":""},"",{"$f":"IN!F293*60","v":0},0,"-"]
[0,{"$error":"#VALUE!"},{"$error":"#VALUE!"},{"$f":"SUBSTITUTE(IN!G294,\"-\",\"\")","v":""},"",{"$f":"IN!F294*60","v":0},0,"-"]
[0,{"$error":"#VALUE!"},{"$error":"#VALUE!"},{"$f":"SUBSTITUTE(IN!G295,\"-\",\"\")","v":""},"",{"$f":"IN!F295*60","v":0},0,"-"]
[0,{"$error":"#VALUE!"},{"$error":"#VALUE!"},{"$f":"SUBSTITUTE(IN!G296,\"-\",\"\")","v":""},"",{"$f":"IN!F296*60","v":0},0,"-"]
[0,{"$error":"#VALUE!"},{"$error":"#VALUE!"},{"$f":"SUBSTITUTE(IN!G297,\"-\",\"\")","v":""},"",{"$f":"IN!F297*60","v":0},0,"-"]
[0,{"$error":"#VALUE!"},{"$error":"#VALUE!"},{"$f":"SUBSTITUTE(IN!G298,\"-\",\"\")","v":""},"",{"$f":"IN!F298*60","v":0},0,"-"]
[0,{"$error":"#VALUE!"},{"$error":"#VALUE!"},{"$f":"SUBSTITUTE(IN!G299,\"-\",\"\")","v":""},"",{"$f":"IN!F299*60","v":0},0,"-"]
[0,{"$error":"#VALUE!"},{"$error":"#VALUE!"},{"$f":"SUBSTITUTE(IN!G300,\"-\",\"\")","v":""},"",{"$f":"IN!F300*60","v":0},0,"-"]
[0,{"$error":"#VALUE!"},{"$error":"#VALUE!"},{"$f":"SUBSTITUTE(IN!G301,\"-\",\"\")","v":""},"",{"$f":"IN!F301*60","v":0},0,"-"]
[0,{"$error":"#VALUE!"},{"$error":"#VALUE!"},{"$f":"SUBSTITUTE(IN!G302,\"-\",\"\")","v":""},"",{"$f":"IN!F302*60","v":0},0,"-"]
[0,{"$error":"#VALUE!"},{"$error":"#VALUE!"},{"$f":"SUBSTITUTE(IN!G303,\"-\",\"\")","v":""},"",{"$f":"IN!F303*60","v":0},0,"-"]
[0,{"$error":"#VALUE!"},{"$error":"#VALUE!"},{"$f":"SUBSTITUTE(IN!G304,\"-\",\"\")","v":""},"",{"$f":"IN!F304*60","v":0},0,"-"]
[0,{"$error":"#VALUE!"},{"$error":"#VALUE!"},{"$f":"SUBSTITUTE(IN!G305,\"-\",\"\")","v":""},"",{"$f":"IN!F305*60","v":0},0,"-"]
[0,{"$error":"#VALUE!"},{"$error":"#VALUE!"},{"$f":"SUBSTITUTE(IN!G306,\"-\",\"\")","v":""},"",{"$f":"IN!F306*60","v":0},0,"-"]
[0,{"$error":"#VALUE!"},{"$error":"#VALUE!"},{"$f":"SUBSTITUTE(IN!G307,\"-\",\"\")","v":""},"",{"$f":"IN!F307*60","v":0},0,"-"]
[0,{"$error":"#VALUE!"},{"$error":"#VALUE!"},{"$f":"SUBSTITUTE(IN!G308,\"-\",\"\")","v":""},"",{"$f":"IN!F308*60","v":0},0,"-"]
[0,{"$error":"#VALUE!"},{"$error":"#VALUE!"},{"$f":"SUBSTITUTE(IN!G309,\"-\",\"\")","v":""},"",{"$f":"IN!F309*60","v":0},0,"-"]
[0,{"$error":"#VALUE!"},{"$error":"#VALUE!"},{"$f":"SUBSTITUTE(IN!G310,\"-\",\"\")","v":""},"",{"$f":"IN!F310*60","v":0},0,"-"]
[0,{"$error":"#VALUE!"},{"$error":"#VALUE!"},{"$f":"SUBSTITUTE(IN!G311,\"-\",\"\")","v":""},"",{"$f":"IN!F311*60","v":0},0,"-"]
[0,{"$error":"#VALUE!"},{"$error":"#VALUE!"},{"$f":"SUBSTITUTE(IN!G312,\"-\",\"\")","v":""},"",{"$f":"IN!F312*60","v":0},0,"-"]
[0,{"$error":"#VALUE!"},{"$error":"#VALUE!"},{"$f":"SUBSTITUTE(IN!G313,\"-\",\"\")","v":""},"",{"$f":"IN!F313*60","v":0},0,"-"]
[0,{"$error":"#VALUE!"},{"$error":"#VALUE!"},{"$f":"SUBSTITUTE(IN!G314,\"-\",\"\")","v":""},"",{"$f":"IN!F314*60","v":0},0,"-"]
[0,{"$error":"#VALUE!"},{"$error":"#VALUE!"},{"$f":"SUBSTITUTE(IN!G315,\"-\",\"\")","v":""},"",{"$f":"IN!F315*60","v":0},0,"-"]
[0,{"$error":"#VALUE!"},{"$error":"#VALUE!"},{"$f":"SUBSTITUTE(IN!G316,\"-\",\"\")","v":""},"",{"$f":"IN!F316*60","v":0},0,"-"]
[0,{"$error":"#VALUE!"},{"$error":"#VALUE!"},{"$f":"SUBSTITUTE(IN!G317,\"-\",\"\")","v":""},"",{"$f":"IN!F317*60","v":0},0,"-"]
[0,{"$error":"#VALUE!"},{"$error":"#VALUE!"},{"$f":"SUBSTITUTE(IN!G318,\"-\",\"\")","v":""},"",{"$f":"IN!F318*60","v":0},0,"-"]
[0,{"$error":"#VALUE!"},{"$error":"#VALUE!"},{"$f":"SUBSTITUTE(IN!G319,\"-\",\"\")","v":""},"",{"$f":"IN!F319*60","v":0},0,"-"]
[0,{"$error":"#VALUE!"},{"$error":"#VALUE!"},{"$f":"SUBSTITUTE(IN!G320,\"-\",\"\")","v":""},"",{"$f":"IN!F320*60","v":0},0,"-"]
[0,{"$error":"#VALUE!"},{"$error":"#VALUE!"},{"$f":"SUBSTITUTE(IN!G321,\"-\",\"\")","v":""},"",{"$f":"IN!F321*60","v":0},0,"-"]
[0,{"$error":"#VALUE!"},{"$error":"#VALUE!"},{"$f":"SUBSTITUTE(IN!G322,\"-\",\"\")","v":""},"",{"$f":"IN!F322*60","v":0},0,"-"]
[0,{"$error":"#VALUE!"},{"$error":"#VALUE!"},{"$f":"SUBSTITUTE(IN!G323,\"-\",\"\")","v":""},"",{"$f":"IN!F323*60","v":0},0,"-"]
[0,{"$error":"#VALUE!"},{"$error":"#VALUE!"},{"$f":"SUBSTITUTE(IN!G324,\"-\",\"\")","v":""},"",{"$f":"IN!F324*60","v":0},0,"-"]
[{"$f":"LEN(D325)","v":0},{"$f":"VALUE(LEFT(D325,1))","v":{"$error":"#VALUE!"}},{"$f":"IF(B325<2,20,19)","v":{"$error":"#VALUE!"}},{"$f":"SUBSTITUTE(IN!G325,\"-\",\"\")","v":""},{"$f":"IF(A325=10,CONCATENATE(C325,D325),D325)","v":""},{"$f":"IN!F325*60","v":0},{"$f":"ROUND(F325,0)","v":0},{"$f":"CONCATENATE(MID(E325,3,6),\"-\",MID(E325,9,4))","v":"-"}]
[0,{"$error":"#VALUE!"},{"$error":"#VALUE!"},{"$f":"SUBSTITUTE(IN!G326,\"-\",\"\")","v":""},"",{"$f":"IN!F326*60","v":0},0,"-"]
[0,{"$error":"#VALUE!"},{"$error":"#VALUE!"},{"$f":"SUBSTITUTE(IN!G327,\"-\",\"\")","v":""},"",{"$f":"IN!F327*60","v":0},0,"-"]
[0,{"$error":"#VALUE!"},{"$error":"#VALUE!"},{"$f":"SUBSTITUTE(IN!G328,\"-\",\"\")","v":""},"",{"$f":"IN!F328*60","v":0},0,"-"]
[0,{"$error":"#VALUE!"},{"$error":"#VALUE!"},{"$f":"SUBSTITUTE(IN!G329,\"-\",\"\")","v":""},"",{"$f":"IN!F329*60","v":0},0,"-"]
[0,{"$error":"#VALUE!"},{"$error":"#VALUE!"},{"$f":"SUBSTITUTE(IN!G330,\"-\",\"\")","v":""},"",{"$f":"IN!F330*60","v":0},0,"-"]
[0,{"$error":"#VALUE!"},{"$error":"#VALUE!"},{"$f":"SUBSTITUTE(IN!G331,\"-\",\"\")","v":""},"",{"$f":"IN!F331*60","v":0},0,"-"]
[0,{"$error":"#VALUE!"},{"$error":"#VALUE!"},{"$f":"SUBSTITUTE(IN!G332,\"-\",\"\")","v":""},"",{"$f":"IN!F332*60","v":0},0,"-"]
[0,{"$error":"#VALUE!"},{"$error":"#VALUE!"},{"$f":"SUBSTITUTE(IN!G333,\"-\",\"\")","v":""},"",{"$f":"IN!F333*60","v":0},0,"-"]
[0,{"$error":"#VALUE!"},{"$error":"#VALUE!"},{"$f":"SUBSTITUTE(IN!G334,\"-\",\"\")","v":""},"",{"$f":"IN!F334*60","v":0},0,"-"]
[0,{"$error":"#VALUE!"},{"$error":"#VALUE!"},{"$f":"SUBSTITUTE(IN!G335,\"-\",\"\")","v":""},"",{"$f":"IN!F335*60","v":0},0,"-"]
[0,{"$error":"#VALUE!"},{"$error":"#VALUE!"},{"$f":"SUBSTITUTE(IN!G336,\"-\",\"\")","v":""},"",{"$f":"IN!F336*60","v":0},0,"-"]
[0,{"$error":"#VALUE!"},{"$error":"#VALUE!"},{"$f":"SUBSTITUTE(IN!G337,\"-\",\"\")","v":""},"",{"$f":"IN!F337*60","v":0},0,"-"]
[0,{"$error":"#VALUE!"},{"$error":"#VALUE!"},{"$f":"SUBSTITUTE(IN!G338,\"-\",\"\")","v":""},"",{"$f":"IN!F338*60","v":0},0,"-"]
[0,{"$error":"#VALUE!"},{"$error":"#VALUE!"},{"$f":"SUBSTITUTE(IN!G339,\"-\",\"\")","v":""},"",{"$f":"IN!F339*60","v":0},0,"-"]
[0,{"$error":"#VALUE!"},{"$error":"#VALUE!"},{"$f":"SUBSTITUTE(IN!G340,\"-\",\"\")","v":""},"",{"$f":"IN!F340*60","v":0},0,"-"]
[0,{"$error":"#VALUE!"},{"$error":"#VALUE!"},{"$f":"SUBSTITUTE(IN!G341,\"-\",\"\")","v":""},"",{"$f":"IN!F341*60","v":0},0,"-"]
[0,{"$error":"#VALUE!"},{"$error":"#VALUE!"},{"$f":"SUBSTITUTE(IN!G342,\"-\",\"\")","v":""},"",{"$f":"IN!F342*60","v":0},0,"-"]
[0,{"$error":"#VALUE!"},{"$error":"#VALUE!"},{"$f":"SUBSTITUTE(IN!G343,\"-\",\"\")","v":""},"",{"$f":"IN!F343*60","v":0},0,"-"]
[0,{"$error":"#VALUE!"},{"$error":"#VALUE!"},{"$f":"SUBSTITUTE(IN!G344,\"-\",\"\")","v":""},"",{"$f":"IN!F344*60","v":0},0,"-"]
[0,{"$error":"#VALUE!"},{"$error":"#VALUE!"},{"$f":"SUBSTITUTE(IN!G345,\"-\",\"\")","v":""},"",{"$f":"IN!F345*60","v":0},0,"-"]
[0,{"$error":"#VALUE!"},{"$error":"#VALUE!"},{"$f":"SUBSTITUTE(IN!G346,\"-\",\"\")","v":""},"",{"$f":"IN!F346*60","v":0},0,"-"]
[0,{"$error":"#VALUE!"},{"$error":"#VALUE!"},{"$f":"SUBSTITUTE(IN!G347,\"-\",\"\")","v":""},"",{"$f":"IN!F347*60","v":0},0,"-"]
[0,{"$error":"#VALUE!"},{"$error":"#VALUE!"},{"$f":"SUBSTITUTE(IN!G348,\"-\",\"\")","v":""},"",{"$f":"IN!F348*60","v":0},0,"-"]
[0,{"$error":"#VALUE!"},{"$error":"#VALUE!"},{"$f":"SUBSTITUTE(IN!G349,\"-\",\"\")","v":""},"",{"$f":"IN!F349*60","v":0},0,"-"]
[0,{"$error":"#VALUE!"},{"$error":"#VALUE!"},{"$f":"SUBSTITUTE(IN!G350,\"-\",\"\")","v":""},"",{"$f":"IN!F350*60","v":0},0,"-"]
[0,{"$error":"#VALUE!"},{"$error":"#VALUE!"},{"$f":"SUBSTITUTE(IN!G351,\"-\",\"\")","v":""},"",{"$f":"IN!F351*60","v":0},0,"-"]
[0,{"$error":"#VALUE!"},{"$error":"#VALUE!"},{"$f":"SUBSTITUTE(IN!G352,\"-\",\"\")","v":""},"",{"$f":"IN!F352*60","v":0},0,"-"]
[0,{"$error":"#VALUE!"},{"$error":"#VALUE!"},{"$f":"SUBSTITUTE(IN!G353,\"-\",\"\")","v":""},"",{"$f":"IN!F353*60","v":0},0,"-"]
[0,{"$error":"#VALUE!"},{"$error":"#VALUE!"},{"$f":"SUBSTITUTE(IN!G354,\"-\",\"\")","v":""},"",{"$f":"IN!F354*60","v":0},0,"-"]
[0,{"$error":"#VALUE!"},{"$error":"#VALUE!"},{"$f":"SUBSTITUTE(IN!G355,\"-\",\"\")","v":""},"",{"$f":"IN!F355*60","v":0},0,"-"]
[0,{"$error":"#VALUE!"},{"$error":"#VALUE!"},{"$f":"SUBSTITUTE(IN!G356,\"-\",\"\")","v":""},"",{"$f":"IN!F356*60","v":0},0,"-"]
[0,{"$error":"#VALUE!"},{"$error":"#VALUE!"},{"$f":"SUBSTITUTE(IN!G357,\"-\",\"\")","v":""},"",{"$f":"IN!F357*60","v":0},0,"-"]
[0,{"$error":"#VALUE!"},{"$error":"#VALUE!"},{"$f":"SUBSTITUTE(IN!G358,\"-\",\"\")","v":""},"",{"$f":"IN!F358*60","v":0},0,"-"]
[0,{"$error":"#VALUE!"},{"$error":"#VALUE!"},{"$f":"SUBSTITUTE(IN!G359,\"-\",\"\")","v":""},"",{"$f":"IN!F359*60","v":0},0,"-"]
[0,{"$error":"#VALUE!"},{"$error":"#VALUE!"},{"$f":"SUBSTITUTE(IN!G360,\"-\",\"\")","v":""},"",{"$f":"IN!F360*60","v":0},0,"-"]
[0,{"$error":"#VALUE!"},{"$error":"#VALUE!"},{"$f":"SUBSTITUTE(IN!G361,\"-\",\"\")","v":""},"",{"$f":"IN!F361*60","v":0},0,"-"]
[0,{"$error":"#VALUE!"},{"$error":"#VALUE!"},{"$f":"SUBSTITUTE(IN!G362,\"-\",\"\")","v":""},"",{"$f":"IN!F362*60","v":0},0,"-"]
[0,{"$error":"#VALUE!"},{"$error":"#VALUE!"},{"$f":"SUBSTITUTE(IN!G363,\"-\",\"\")","v":""},"",{"$f":"IN!F363*60","v":0},0,"-"]
[0,{"$error":"#VALUE!"},{"$error":"#VALUE!"},{"$f":"SUBSTITUTE(IN!G364,\"-\",\"\")","v":""},"",{"$f":"IN!F364*60","v":0},0,"-"]
[0,{"$error":"#VALUE!"},{"$error":"#VALUE!"},{"$f":"SUBSTITUTE(IN!G365,\"-\",\"\")","v":""},"",{"$f":"IN!F365*60","v":0},0,"-"]
[0,{"$error":"#VALUE!"},{"$error":"#VALUE!"},{"$f":"SUBSTITUTE(IN!G366,\"-\",\"\")","v":""},"",{"$f":"IN!F366*60","v":0},0,"-"]
[0,{"$error":"#VALUE!"},{"$error":"#VALUE!"},{"$f":"SUBSTITUTE(IN!G367,\"-\",\"\")","v":""},"",{"$f":"IN!F367*60","v":0},0,"-"]
[0,{"$error":"#VALUE!"},{"$error":"#VALUE!"},{"$f":"SUBSTITUTE(IN!G368,\"-\",\"\")","v":""},"",{"$f":"IN!F368*60","v":0},0,"-"]
[0,{"$error":"#VALUE!"},{"$error":"#VALUE!"},{"$f":"SUBSTITUTE(IN!G369,\"-\",\"\")","v":""},"",{"$f":"IN!F369*60","v":0},0,"-"]
[0,{"$error":"#VALUE!"},{"$error":"#VALUE!"},{"$f":"SUBSTITUTE(IN!G370,\"-\",\"\")","v":""},"",{"$f":"IN!F370*60","v":0},0,"-"]
[0,{"$error":"#VALUE!"},{"$error":"#VALUE!"},{"$f":"SUBSTITUTE(IN!G371,\"-\",\"\")","v":""},"",{"$f":"IN!F371*60","v":0},0,"-"]
[0,{"$error":"#VALUE!"},{"$error":"#VALUE!"},{"$f":"SUBSTITUTE(IN!G372,\"-\",\"\")","v":""},"",{"$f":"IN!F372*60","v":0},0,"-"]
[0,{"$error":"#VALUE!"},{"$error":"#VALUE!"},{"$f":"SUBSTITUTE(IN!G373,\"-\",\"\")","v":""},"",{"$f":"IN!F373*60","v":0},0,"-"]
[0,{"$error":"#VALUE!"},{"$error":"#VALUE!"},{"$f":"SUBSTITUTE(IN!G374,\"-\",\"\")","v":""},"",{"$f":"IN!F374*60","v":0},0,"-"]
[0,{"$error":"#VALUE!"},{"$error":"#VALUE!"},{"$f":"SUBSTITUTE(IN!G375,\"-\",\"\")","v":""},"",{"$f":"IN!F375*60","v":0},0,"-"]
[0,{"$error":"#VALUE!"},{"$error":"#VALUE!"},{"$f":"SUBSTITUTE(IN!G376,\"-\",\"\")","v":""},"",{"$f":"IN!F376*60","v":0},0,"-"]
[0,{"$error":"#VALUE!"},{"$error":"#VALUE!"},{"$f":"SUBSTITUTE(IN!G377,\"-\",\"\")","v":""},"",{"$f":"IN!F377*60","v":0},0,"-"]
[0,{"$error":"#VALUE!"},{"$error":"#VALUE!"},{"$f":"SUBSTITUTE(IN!G378,\"-\",\"\")","v":""},"",{"$f":"IN!F378*60","v":0},0,"-"]
[0,{"$error":"#VALUE!"},{"$error":"#VALUE!"},{"$f":"SUBSTITUTE(IN!G379,\"-\",\"\")","v":""},"",{"$f":"IN!F379*60","v":0},0,"-"]
[0,{"$error":"#VALUE!"},{"$error":"#VALUE!"},{"$f":"SUBSTITUTE(IN!G380,\"-\",\"\")","v":""},"",{"$f":"IN!F380*60","v":0},0,"-"]
[0,{"$error":"#VALUE!"},{"$error":"#VALUE!"},{"$f":"SUBSTITUTE(IN!G381,\"-\",\"\")","v":""},"",{"$f":"IN!F381*60","v":0},0,"-"]
[0,{"$error":"#VALUE!"},{"$error":"#VALUE!"},{"$f":"SUBSTITUTE(IN!G382,\"-\",\"\")","v":""},"",{"$f":"IN!F382*60","v":0},0,"-"]
[0,{"$error":"#VALUE!"},{"$error":"#VALUE!"},{"$f":"SUBSTITUTE(IN!G383,\"-\",\"\")","v":""},"",{"$f":"IN!F383*60","v":0},0,"-"]
[0,{"$error":"#VALUE!"},{"$error":"#VALUE!"},{"$f":"SUBSTITUTE(IN!G384,\"-\",\"\")","v":""},"",{"$f":"IN!F384*60","v":0},0,"-"]
[0,{"$error":"#VALUE!"},{"$error":"#VALUE!"},{"$f":"SUBSTITUTE(IN!G385,\"-\",\"\")","v":""},"",{"$f":"IN!F385*60","v":0},0,"-"]
[0,{"$error":"#VALUE!"},{"$error":"#VALUE!"},{"$f":"SUBSTITUTE(IN!G386,\"-\",\"\")","v":""},"",{"$f":"IN!F386*60","v":0},0,"-"]
[0,{"$error":"#VALUE!"},{"$error":"#VALUE!"},{"$f":"SUBSTITUTE(IN!G387,\"-\",\"\")","v":""},"",{"$f":"IN!F387*60","v":0},0,"-"]
[0,{"$error":"#VALUE!"},{"$error":"#VALUE!"},{"$f":"SUBSTITUTE(IN!G388,\"-\",\"\")","v":""},"",{"$f":"IN!F388*60","v":0},0,"-"]
[{"$f":"LEN(D389)","v":0},{"$f":"VALUE(LEFT(D389,1))","v":{"$error":"#VALUE!"}},{"$f":"IF(B389<2,20,19)","v":{"$error":"#VALUE!"}},{"$f":"SUBSTITUTE(IN!G389,\"-\",\"\")","v":""},{"$f":"IF(A389=10,CONCATENATE(C389,D389),D389)","v":""},{"$f":"IN!F389*60","v":0},{"$f":"ROUND(F389,0)","v":0},{"$f":"CONCATENATE(MID(E389,3,6),\"-\",MID(E389,9,4))","v":"-"}]
[0,{"$error":"#VALUE!"},{"$error":"#VALUE!"},{"$f":"SUBSTITUTE(IN!G390,\"-\",\"\")","v":""},"",{"$f":"IN!F390*60","v":0},0,"-"]
[0,{"$error":"#VALUE!"},{"$error":"#VALUE!"},{"$f":"SUBSTITUTE(IN!G391,\"-\",\"\")","v":""},"",{"$f":"IN!F391*60","v":0},0,"-"]
[0,{"$error":"#VALUE!"},{"$error":"#VALUE!"},{"$f":"SUBSTITUTE(IN!G392,\"-\",\"\")","v":""},"",{"$f":"IN!F392*60","v":0},0,"-"]
[0,{"$error":"#VALUE!"},{"$error":"#VALUE!"},{"$f":"SUBSTITUTE(IN!G393,\"-\",\"\")","v":""},"",{"$f":"IN!F393*60","v":0},0,"-"]
[0,{"$error":"#VALUE!"},{"$error":"#VALUE!"},{"$f":"SUBSTITUTE(IN!G394,\"-\",\"\")","v":""},"",{"$f":"IN!F394*60","v":0},0,"-"]
[0,{"$error":"#VALUE!"},{"$error":"#VALUE!"},{"$f":"SUBSTITUTE(IN!G395,\"-\",\"\")","v":""},"",{"$f":"IN!F395*60","v":0},0,"-"]
[0,{"$error":"#VALUE!"},{"$error":"#VALUE!"},{"$f":"SUBSTITUTE(IN!G396,\"-\",\"\")","v":""},"",{"$f":"IN!F396*60","v":0},0,"-"]
[0,{"$error":"#VALUE!"},{"$error":"#VALUE!"},{"$f":"SUBSTITUTE(IN!G397,\"-\",\"\")","v":""},"",{"$f":"IN!F397*60","v":0},0,"-"]
[0,{"$error":"#VALUE!"},{"$error":"#VALUE!"},{"$f":"SUBSTITUTE(IN!G398,\"-\",\"\")","v":""},"",{"$f":"IN!F398*60","v":0},0,"-"]
[0,{"$error":"#VALUE!"},{"$error":"#VALUE!"},{"$f":"SUBSTITUTE(IN!G399,\"-\",\"\")","v":""},"",{"$f":"IN!F399*60","v":0},0,"-"]
[0,{"$error":"#VALUE!"},{"$error":"#VALUE!"},{"$f":"SUBSTITUTE(IN!G400,\"-\",\"\")","v":""},"",{"$f":"IN!F400*60","v":0},0,"-"]
[0,{"$error":"#VALUE!"},{"$error":"#VALUE!"},{"$f":"SUBSTITUTE(IN!G401,\"-\",\"\")","v":""},"",{"$f":"IN!F401*60","v":0},0,"-"]
[0,{"$error":"#VALUE!"},{"$error":"#VALUE!"},{"$f":"SUBSTITUTE(IN!G402,\"-\",\"\")","v":""},"",{"$f":"IN!F402*60","v":0},0,"-"]
[0,{"$error":"#VALUE!"},{"$error":"#VALUE!"},{"$f":"SUBSTITUTE(IN!G403,\"-\",\"\")","v":""},"",{"$f":"IN!F403*60","v":0},0,"-"]
[0,{"$error":"#VALUE!"},{"$error":"#VALUE!"},{"$f":"SUBSTITUTE(IN!G404,\"-\",\"\")","v":""},"",{"$f":"IN!F404*60","v":0},0,"-"]
[0,{"$error":"#VALUE!"},{"$error":"#VALUE!"},{"$f":"SUBSTITUTE(IN!G405,\"-\",\"\")","v":""},"",{"$f":"IN!F405*60","v":0},0,"-"]
[0,{"$error":"#VALUE!"},{"$error":"#VALUE!"},{"$f":"SUBSTITUTE(IN!G406,\"-\",\"\")","v":""},"",{"$f":"IN!F406*60","v":0},0,"-"]
[0,{"$error":"#VALUE!"},{"$error":"#VALUE!"},{"$f":"SUBSTITUTE(IN!G407,\"-\",\"\")","v":""},"",{"$f":"IN!F407*60","v":0},0,"-"]
[0,{"$error":"#VALUE!"},{"$error":"#VALUE!"},{"$f":"SUBSTITUTE(IN!G408,\"-\",\"\")","v":""},"",{"$f":"IN!F408*60","v":0},0,"-"]
[0,{"$error":"#VALUE!"},{"$error":"#VALUE!"},{"$f":"SUBSTITUTE(IN!G409,\"-\",\"\")","v":""},"",{"$f":"IN!F409*60","v":0},0,"-"]
[0,{"$error":"#VALUE!"},{"$error":"#VALUE!"},{"$f":"SUBSTITUTE(IN!G410,\"-\",\"\")","v":""},"",{"$f":"IN!F410*60","v":0},0,"-"]
[0,{"$error":"#VALUE!"},{"$error":"#VALUE!"},{"$f":"SUBSTITUTE(IN!G411,\"-\",\"\")","v":""},"",{"$f":"IN!F411*60","v":0},0,"-"]
[0,{"$error":"#VALUE!"},{"$error":"#VALUE!"},{"$f":"SUBSTITUTE(IN!G412,\"-\",\"\")","v":""},"",{"$f":"IN!F412*60","v":0},0,"-"]
[0,{"$error":"#VALUE!"},{"$error":"#VALUE!"},{"$f":"SUBSTITUTE(IN!G413,\"-\",\"\")","v":""},"",{"$f":"IN!F413*60","v":0},0,"-"]
[0,{"$error":"#VALUE!"},{"$error":"#VALUE!"},{"$f":"SUBSTITUTE(IN!G414,\"-\",\"\")","v":""},"",{"$f":"IN!F414*60","v":0},0,"-"]
[0,{"$error":"#VALUE!"},{"$error":"#VALUE!"},{"$f":"SUBSTITUTE(IN!G415,\"-\",\"\")","v":""},"",{"$f":"IN!F415*60","v":0},0,"-"]
[0,{"$error":"#VALUE!"},{"$error":"#VALUE!"},{"$f":"SUBSTITUTE(IN!G416,\"-\",\"\")","v":""},"",{"$f":"IN!F416*60","v":0},0,"-"]
[0,{"$error":"#VALUE!"},{"$error":"#VALUE!"},{"$f":"SUBSTITUTE(IN!G417,\"-\",\"\")","v":""},"",{"$f":"IN!F417*60","v":0},0,"-"]
[0,{"$error":"#VALUE!"},{"$error":"#VALUE!"},{"$f":"SUBSTITUTE(IN!G418,\"-\",\"\")","v":""},"",{"$f":"IN!F418*60","v":0},0,"-"]
[0,{"$error":"#VALUE!"},{"$error":"#VALUE!"},{"$f":"SUBSTITUTE(IN!G419,\"-\",\"\")","v":""},"",{"$f":"IN!F419*60","v":0},0,"-"]
[0,{"$error":"#VALUE!"},{"$error":"#VALUE!"},{"$f":"SUBSTITUTE(IN!G420,\"-\",\"\")","v":""},"",{"$f":"IN!F420*60","v":0},0,"-"]
[0,{"$error":"#VALUE!"},{"$error":"#VALUE!"},{"$f":"SUBSTITUTE(IN!G421,\"-\",\"\")","v":""},"",{"$f":"IN!F421*60","v":0},0,"-"]
[0,{"$error":"#VALUE!"},{"$error":"#VALUE!"},{"$f":"SUBSTITUTE(IN!G422,\"-\",\"\")","v":""},"",{"$f":"IN!F422*60","v":0},0,"-"]
[0,{"$error":"#VALUE!"},{"$error":"#VALUE!"},{"$f":"SUBSTITUTE(IN!G423,\"-\",\"\")","v":""},"",{"$f":"IN!F423*60","v":0},0,"-"]
[0,{"$error":"#VALUE!"},{"$error":"#VALUE!"},{"$f":"SUBSTITUTE(IN!G424,\"-\",\"\")","v":""},"",{"$f":"IN!F424*60","v":0},0,"-"]
[0,{"$error":"#VALUE!"},{"$error":"#VALUE!"},{"$f":"SUBSTITUTE(IN!G425,\"-\",\"\")","v":""},"",{"$f":"IN!F425*60","v":0},0,"-"]
[0,{"$error":"#VALUE!"},{"$error":"#VALUE!"},{"$f":"SUBSTITUTE(IN!G426,\"-\",\"\")","v":""},"",{"$f":"IN!F426*60","v":0},0,"-"]
[0,{"$error":"#VALUE!"},{"$error":"#VALUE!"},{"$f":"SUBSTITUTE(IN!G427,\"-\",\"\")","v":""},"",{"$f":"IN!F427*60","v":0},0,"-"]
[0,{"$error":"#VALUE!"},{"$error":"#VALUE!"},{"$f":"SUBSTITUTE(IN!G428,\"-\",\"\")","v":""},"",{"$f":"IN!F428*60","v":0},0,"-"]
[0,{"$error":"#VALUE!"},{"$error":"#VALUE!"},{"$f":"SUBSTITUTE(IN!G429,\"-\",\"\")","v":""},"",{"$f":"IN!F429*60","v":0},0,"-"]
[0,{"$error":"#VALUE!"},{"$error":"#VALUE!"},{"$f":"SUBSTITUTE(IN!G430,\"-\",\"\")","v":""},"",{"$f":"IN!F430*60","v":0},0,"-"]
[0,{"$error":"#VALUE!"},{"$error":"#VALUE!"},{"$f":"SUBSTITUTE(IN!G431,\"-\",\"\")","v":""},"",{"$f":"IN!F431*60","v":0},0,"-"]
[0,{"$error":"#VALUE!"},{"$error":"#VALUE!"},{"$f":"SUBSTITUTE(IN!G432,\"-\",\"\")","v":""},"",{"$f":"IN!F432*60","v":0},0,"-"]
[0,{"$error":"#VALUE!"},{"$error":"#VALUE!"},{"$f":"SUBSTITUTE(IN!G433,\"-\",\"\")","v":""},"",{"$f":"IN!F433*60","v":0},0,"-"]
[0,{"$error":"#VALUE!"},{"$error":"#VALUE!"},{"$f":"SUBSTITUTE(IN!G434,\"-\",\"\")","v":""},"",{"$f":"IN!F434*60","v":0},0,"-"]
[0,{"$error":"#VALUE!"},{"$error":"#VALUE!"},{"$f":"SUBSTITUTE(IN!G435,\"-\",\"\")","v":""},"",{"$f":"IN!F435*60","v":0},0,"-"]
[0,{"$error":"#VALUE!"},{"$error":"#VALUE!"},{"$f":"SUBSTITUTE(IN!G436,\"-\",\"\")","v":""},"",{"$f":"IN!F436*60","v":0},0,"-"]
[0,{"$error":"#VALUE!"},{"$error":"#VALUE!"},{"$f":"SUBSTITUTE(IN!G437,\"-\",\"\")","v":""},"",{"$f":"IN!F437*60","v":0},0,"-"]
[0,{"$error":"#VALUE!"},{"$error":"#VALUE!"},{"$f":"SUBSTITUTE(IN!G438,\"-\",\"\")","v":""},"",{"$f":"IN!F438*60","v":0},0,"-"]
[0,{"$error":"#VALUE!"},{"$error":"#VALUE!"},{"$f":"SUBSTITUTE(IN!G439,\"-\",\"\")","v":""},"",{"$f":"IN!F439*60","v":0},0,"-"]
[0,{"$error":"#VALUE!"},{"$error":"#VALUE!"},{"$f":"SUBSTITUTE(IN!G440,\"-\",\"\")","v":""},"",{"$f":"IN!F440*60","v":0},0,"-"]
[0,{"$error":"#VALUE!"},{"$error":"#VALUE!"},{"$f":"SUBSTITUTE(IN!G441,\"-\",\"\")","v":""},"",{"$f":"IN!F441*60","v":0},0,"-"]
[0,{"$error":"#VALUE!"},{"$error":"#VALUE!"},{"$f":"SUBSTITUTE(IN!G442,\"-\",\"\")","v":""},"",{"$f":"IN!F442*60","v":0},0,"-"]
[0,{"$error":"#VALUE!"},{"$error":"#VALUE!"},{"$f":"SUBSTITUTE(IN!G443,\"-\",\"\")","v":""},"",{"$f":"IN!F443*60","v":0},0,"-"]
[0,{"$error":"#VALUE!"},{"$error":"#VALUE!"},{"$f":"SUBSTITUTE(IN!G444,\"-\",\"\")","v":""},"",{"$f":"IN!F444*60","v":0},0,"-"]
[0,{"$error":"#VALUE!"},{"$error":"#VALUE!"},{"$f":"SUBSTITUTE(IN!G445,\"-\",\"\")","v":""},"",{"$f":"IN!F445*60","v":0},0,"-"]
[0,{"$error":"#VALUE!"},{"$error":"#VALUE!"},{"$f":"SUBSTITUTE(IN!G446,\"-\",\"\")","v":""},"",{"$f":"IN!F446*60","v":0},0,"-"]
[0,{"$error":"#VALUE!"},{"$error":"#VALUE!"},{"$f":"SUBSTITUTE(IN!G447,\"-\",\"\")","v":""},"",{"$f":"IN!F447*60","v":0},0,"-"]
[0,{"$error":"#VALUE!"},{"$error":"#VALUE!"},{"$f":"SUBSTITUTE(IN!G448,\"-\",\"\")","v":""},"",{"$f":"IN!F448*60","v":0},0,"-"]
[0,{"$error":"#VALUE!"},{"$error":"#VALUE!"},{"$f":"SUBSTITUTE(IN!G449,\"-\",\"\")","v":""},"",{"$f":"IN!F449*60","v":0},0,"-"]
[0,{"$error":"#VALUE!"},{"$error":"#VALUE!"},{"$f":"SUBSTITUTE(IN!G450,\"-\",\"\")","v":""},"",{"$f":"IN!F450*60","v":0},0,"-"]
[0,{"$error":"#VALUE!"},{"$error":"#VALUE!"},{"$f":"SUBSTITUTE(IN!G451,\"-\",\"\")","v":""},"",{"$f":"IN!F451*60","v":0},0,"-"]
[0,{"$error":"#VALUE!"},{"$error":"#VALUE!"},{"$f":"SUBSTITUTE(IN!G452,\"-\",\"\")","v":""},"",{"$f":"IN!F452*60","v":0},0,"-"]
[{"$f":"LEN(D453)","v":0},{"$f":"VALUE(LEFT(D453,1))","v":{"$error":"#VALUE!"}},{"$f":"IF(B453<2,20,19)","v":{"$error":"#VALUE!"}},{"$f":"SUBSTITUTE(IN!G453,\"-\",\"\")","v":""},{"$f":"IF(A453=10,CONCATENATE(C453,D453),D453)","v":""},{"$f":"IN!F453*60","v":0},{"$f":"ROUND(F453,0)","v":0},{"$f":"CONCATENATE(MID(E453,3,6),\"-\",MID(E453,9,4))","v":"-"}]
[0,{"$error":"#VALUE!"},{"$error":"#VALUE!"},{"$f":"SUBSTITUTE(IN!G454,\"-\",\"\")","v":""},"",{"$f":"IN!F454*60","v":0},0,"-"]
[0,{"$error":"#VALUE!"},{"$error":"#VALUE!"},{"$f":"SUBSTITUTE(IN!G455,\"-\",\"\")","v":""},"",{"$f":"IN!F455*60","v":0},0,"-"]
[0,{"$error":"#VALUE!"},{"$error":"#VALUE!"},{"$f":"SUBSTITUTE(IN!G456,\"-\",\"\")","v":""},"",{"$f":"IN!F456*60","v":0},0,"-"]
[0,{"$error":"#VALUE!"},{"$error":"#VALUE!"},{"$f":"SUBSTITUTE(IN!G457,\"-\",\"\")","v":""},"",{"$f":"IN!F457*60","v":0},0,"-"]
[0,{"$error":"#VALUE!"},{"$error":"#VALUE!"},{"$f":"SUBSTITUTE(IN!G458,\"-\",\"\")","v":""},"",{"$f":"IN!F458*60","v":0},0,"-"]
[0,{"$error":"#VALUE!"},{"$error":"#VALUE!"},{"$f":"SUBSTITUTE(IN!G459,\"-\",\"\")","v":""},"",{"$f":"IN!F459*60","v":0},0,"-"]
[0,{"$error":"#VALUE!"},{"$error":"#VALUE!"},{"$f":"SUBSTITUTE(IN!G460,\"-\",\"\")","v":""},"",{"$f":"IN!F460*60","v":0},0,"-"]
[0,{"$error":"#VALUE!"},{"$error":"#VALUE!"},{"$f":"SUBSTITUTE(IN!G461,\"-\",\"\")","v":""},"",{"$f":"IN!F461*60","v":0},0,"-"]
[0,{"$error":"#VALUE!"},{"$error":"#VALUE!"},{"$f":"SUBSTITUTE(IN!G462,\"-\",\"\")","v":""},"",{"$f":"IN!F462*60","v":0},0,"-"]
[0,{"$error":"#VALUE!"},{"$error":"#VALUE!"},{"$f":"SUBSTITUTE(IN!G463,\"-\",\"\")","v":""},"",{"$f":"IN!F463*60","v":0},0,"-"]
[0,{"$error":"#VALUE!"},{"$error":"#VALUE!"},{"$f":"SUBSTITUTE(IN!G464,\"-\",\"\")","v":""},"",{"$f":"IN!F464*60","v":0},0,"-"]
[0,{"$error":"#VALUE!"},{"$error":"#VALUE!"},{"$f":"SUBSTITUTE(IN!G465,\"-\",\"\")","v":""},"",{"$f":"IN!F465*60","v":0},0,"-"]
[0,{"$error":"#VALUE!"},{"$error":"#VALUE!"},{"$f":"SUBSTITUTE(IN!G466,\"-\",\"\")","v":""},"",{"$f":"IN!F466*60","v":0},0,"-"]
[0,{"$error":"#VALUE!"},{"$error":"#VALUE!"},{"$f":"SUBSTITUTE(IN!G467,\"-\",\"\")","v":""},"",{"$f":"IN!F467*60","v":0},0,"-"]
[0,{"$error":"#VALUE!"},{"$error":"#VALUE!"},{"$f":"SUBSTITUTE(IN!G468,\"-\",\"\")","v":""},"",{"$f":"IN!F468*60","v":0},0,"-"]
[0,{"$error":"#VALUE!"},{"$error":"#VALUE!"},{"$f":"SUBSTITUTE(IN!G469,\"-\",\"\")","v":""},"",{"$f":"IN!F469*60","v":0},0,"-"]
[0,{"$error":"#VALUE!"},{"$error":"#VALUE!"},{"$f":"SUBSTITUTE(IN!G470,\"-\",\"\")","v":""},"",{"$f":"IN!F470*60","v":0},0,"-"]
[0,{"$error":"#VALUE!"},{"$error":"#VALUE!"},{"$f":"SUBSTITUTE(IN!G471,\"-\",\"\")","v":""},"",{"$f":"IN!F471*60","v":0},0,"-"]
[0,{"$error":"#VALUE!"},{"$error":"#VALUE!"},{"$f":"SUBSTITUTE(IN!G472,\"-\",\"\")","v":""},"",{"$f":"IN!F472*60","v":0},0,"-"]
[0,{"$error":"#VALUE!"},{"$error":"#VALUE!"},{"$f":"SUBSTITUTE(IN!G473,\"-\",\"\")","v":""},"",{"$f":"IN!F473*60","v":0},0,"-"]
[0,{"$error":"#VALUE!"},{"$error":"#VALUE!"},{"$f":"SUBSTITUTE(IN!G474,\"-\",\"\")","v":""},"",{"$f":"IN!F474*60","v":0},0,"-"]
[0,{"$error":"#VALUE!"},{"$error":"#VALUE!"},{"$f":"SUBSTITUTE(IN!G475,\"-\",\"\")","v":""},"",{"$f":"IN!F475*60","v":0},0,"-"]
[0,{"$error":"#VALUE!"},{"$error":"#VALUE!"},{"$f":"SUBSTITUTE(IN!G476,\"-\",\"\")","v":""},"",{"$f":"IN!F476*60","v":0},0,"-"]
[0,{"$error":"#VALUE!"},{"$error":"#VALUE!"},{"$f":"SUBSTITUTE(IN!G477,\"-\",\"\")","v":""},"",{"$f":"IN!F477*60","v":0},0,"-"]
[0,{"$error":"#VALUE!"},{"$error":"#VALUE!"},{"$f":"SUBSTITUTE(IN!G478,\"-\",\"\")","v":""},"",{"$f":"IN!F478*60","v":0},0,"-"]
[0,{"$error":"#VALUE!"},{"$error":"#VALUE!"},{"$f":"SUBSTITUTE(IN!G479,\"-\",\"\")","v":""},"",{"$f":"IN!F479*60","v":0},0,"-"]
[0,{"$error":"#VALUE!"},{"$error":"#VALUE!"},{"$f":"SUBSTITUTE(IN!G480,\"-\",\"\")","v":""},"",{"$f":"IN!F480*60","v":0},0,"-"]
[0,{"$error":"#VALUE!"},{"$error":"#VALUE!"},{"$f":"SUBSTITUTE(IN!G481,\"-\",\"\")","v":""},"",{"$f":"IN!F481*60","v":0},0,"-"]
[0,{"$error":"#VALUE!"},{"$error":"#VALUE!"},{"$f":"SUBSTITUTE(IN!G482,\"-\",\"\")","v":""},"",{"$f":"IN!F482*60","v":0},0,"-"]
[0,{"$error":"#VALUE!"},{"$error":"#VALUE!"},{"$f":"SUBSTITUTE(IN!G483,\"-\",\"\")","v":""},"",{"$f":"IN!F483*60","v":0},0,"-"]
[0,{"$error":"#VALUE!"},{"$error":"#VALUE!"},{"$f":"SUBSTITUTE(IN!G484,\"-\",\"\")","v":""},"",{"$f":"IN!F484*60","v":0},0,"-"]
[0,{"$error":"#VALUE!"},{"$error":"#VALUE!"},{"$f":"SUBSTITUTE(IN!G485,\"-\",\"\")","v":""},"",{"$f":"IN!F485*60","v":0},0,"-"]
[0,{"$error":"#VALUE!"},{"$error":"#VALUE!"},{"$f":"SUBSTITUTE(IN!G486,\"-\",\"\")","v":""},"",{"$f":"IN!F486*60","v":0},0,"-"]
[0,{"$error":"#VALUE!"},{"$error":"#VALUE!"},{"$f":"SUBSTITUTE(IN!G487,\"-\",\"\")","v":""},"",{"$f":"IN!F487*60","v":0},0,"-"]
[0,{"$error":"#VALUE!"},{"$error":"#VALUE!"},{"$f":"SUBSTITUTE(IN!G488,\"-\",\"\")","v":""},"",{"$f":"IN!F488*60","v":0},0,"-"]
[0,{"$error":"#VALUE!"},{"$error":"#VALUE!"},{"$f":"SUBSTITUTE(IN!G489,\"-\",\"\")","v":""},"",{"$f":"IN!F489*60","v":0},0,"-"]
[0,{"$error":"#VALUE!"},{"$error":"#VALUE!"},{"$f":"SUBSTITUTE(IN!G490,\"-\",\"\")","v":""},"",{"$f":"IN!F490*60","v":0},0,"-"]
[0,{"$error":"#VALUE!"},{"$error":"#VALUE!"},{"$f":"SUBSTITUTE(IN!G491,\"-\",\"\")","v":""},"",{"$f":"IN!F491*60","v":0},0,"-"]
[0,{"$error":"#VALUE!"},{"$error":"#VALUE!"},{"$f":"SUBSTITUTE(IN!G492,\"-\",\"\")","v":""},"",{"$f":"IN!F492*60","v":0},0,"-"]
[0,{"$error":"#VALUE!"},{"$error":"#VALUE!"},{"$f":"SUBSTITUTE(IN!G493,\"-\",\"\")","v":""},"",{"$f":"IN!F493*60","v":0},0,"-"]
[0,{"$error":"#VALUE!"},{"$error":"#VALUE!"},{"$f":"SUBSTITUTE(IN!G494,\"-\",\"\")","v":""},"",{"$f":"IN!F494*60","v":0},0,"-"]
[0,{"$error":"#VALUE!"},{"$error":"#VALUE!"},{"$f":"SUBSTITUTE(IN!G495,\"-\",\"\")","v":""},"",{"$f":"IN!F495*60","v":0},0,"-"]
[0,{"$error":"#VALUE!"},{"$error":"#VALUE!"},{"$f":"SUBSTITUTE(IN!G496,\"-\",\"\")","v":""},"",{"$f":"IN!F496*60","v":0},0,"-"]
[0,{"$error":"#VALUE!"},{"$error":"#VALUE!"},{"$f":"SUBSTITUTE(IN!G497,\"-\",\"\")","v":""},"",{"$f":"IN!F497*60","v":0},0,"-"]
[0,{"$error":"#VALUE!"},{"$error":"#VALUE!"},{"$f":"SUBSTITUTE(IN!G498,\"-\",\"\")","v":""},"",{"$f":"IN!F498*60","v":0},0,"-"]
[0,{"$error":"#VALUE!"},{"$error":"#VALUE!"},{"$f":"SUBSTITUTE(IN!G499,\"-\",\"\")","v":""},"",{"$f":"IN!F499*60","v":0},0,"-"]
[0,{"$error":"#VALUE!"},{"$error":"#VALUE!"},{"$f":"SUBSTITUTE(IN!G500,\"-\",\"\")","v":""},"",{"$f":"IN!F500*60","v":0},0,"-"]
[0,{"$error":"#VALUE!"},{"$error":"#VALUE!"},{"$f":"SUBSTITUTE(IN!G501,\"-\",\"\")","v":""},"",{"$f":"IN!F501*60","v":0},0,"-"]
[0,{"$error":"#VALUE!"},{"$error":"#VALUE!"},{"$f":"SUBSTITUTE(IN!G502,\"-\",\"\")","v":""},"",{"$f":"IN!F502*60","v":0},0,"-"]
[0,{"$error":"#VALUE!"},{"$error":"#VALUE!"},{"$f":"SUBSTITUTE(IN!G503,\"-\",\"\")","v":""},"",{"$f":"IN!F503*60","v":0},0,"-"]
[0,{"$error":"#VALUE!"},{"$error":"#VALUE!"},{"$f":"SUBSTITUTE(IN!G504,\"-\",\"\")","v":""},"",{"$f":"IN!F504*60","v":0},0,"-"]
[0,{"$error":"#VALUE!"},{"$error":"#VALUE!"},{"$f":"SUBSTITUTE(IN!G505,\"-\",\"\")","v":""},"",{"$f":"IN!F505*60","v":0},0,"-"]
[0,{"$error":"#VALUE!"},{"$error":"#VALUE!"},{"$f":"SUBSTITUTE(IN!G506,\"-\",\"\")","v":""},"",{"$f":"IN!F506*60","v":0},0,"-"]
[0,{"$error":"#VALUE!"},{"$error":"#VALUE!"},{"$f":"SUBSTITUTE(IN!G507,\"-\",\"\")","v":""},"",{"$f":"IN!F507*60","v":0},0,"-"]
[0,{"$error":"#VALUE!"},{"$error":"#VALUE!"},{"$f":"SUBSTITUTE(IN!G508,\"-\",\"\")","v":""},"",{"$f":"IN!F508*60","v":0},0,"-"]
[0,{"$error":"#VALUE!"},{"$error":"#VALUE!"},{"$f":"SUBSTITUTE(IN!G509,\"-\",\"\")","v":""},"",{"$f":"IN!F509*60","v":0},0,"-"]
[0,{"$error":"#VALUE!"},{"$error":"#VALUE!"},{"$f":"SUBSTITUTE(IN!G510,\"-\",\"\")","v":""},"",{"$f":"IN!F510*60","v":0},0,"-"]
[0,{"$error":"#VALUE!"},{"$error":"#VALUE!"},{"$f":"SUBSTITUTE(IN!G511,\"-\",\"\")","v":""},"",{"$f":"IN!F511*60","v":0},0,"-"]
[0,{"$error":"#VALUE!"},{"$error":"#VALUE!"},{"$f":"SUBSTITUTE(IN!G512,\"-\",\"\")","v":""},"",{"$f":"IN!F512*60","v":0},0,"-"]
[0,{"$error":"#VALUE!"},{"$error":"#VALUE!"},{"$f":"SUBSTITUTE(IN!G513,\"-\",\"\")","v":""},"",{"$f":"IN!F513*60","v":0},0,"-"]
[0,{"$error":"#VALUE!"},{"$error":"#VALUE!"},{"$f":"SUBSTITUTE(IN!G514,\"-\",\"\")","v":""},"",{"$f":"IN!F514*60","v":0},0,"-"]
[0,{"$error":"#VALUE!"},{"$error":"#VALUE!"},{"$f":"SUBSTITUTE(IN!G515,\"-\",\"\")","v":""},"",{"$f":"IN!F515*60","v":0},0,"-"]
[0,{"$error":"#VALUE!"},{"$error":"#VALUE!"},{"$f":"SUBSTITUTE(IN!G516,\"-\",\"\")","v":""},"",{"$f":"IN!F516*60","v":0},0,"-"]
[{"$f":"LEN(D517)","v":0},{"$f":"VALUE(LEFT(D517,1))","v":{"$error":"#VALUE!"}},{"$f":"IF(B517<2,20,19)","v":{"$error":"#VALUE!"}},{"$f":"SUBSTITUTE(IN!G517,\"-\",\"\")","v":""},{"$f":"IF(A517=10,CONCATENATE(C517,D517),D517)","v":""},{"$f":"IN!F517*60","v":0},{"$f":"ROUND(F517,0)","v":0},{"$f":"CONCATENATE(MID(E517,3,6),\"-\",MID(E517,9,4))","v":"-"}]
[0,{"$error":"#VALUE!"},{"$error":"#VALUE!"},{"$f":"SUBSTITUTE(IN!G518,\"-\",\"\")","v":""},"",{"$f":"IN!F518*60","v":0},0,"-"]
[0,{"$error":"#VALUE!"},{"$error":"#VALUE!"},{"$f":"SUBSTITUTE(IN!G519,\"-\",\"\")","v":""},"",{"$f":"IN!F519*60","v":0},0,"-"]
[0,{"$error":"#VALUE!"},{"$error":"#VALUE!"},{"$f":"SUBSTITUTE(IN!G520,\"-\",\"\")","v":""},"",{"$f":"IN!F520*60","v":0},0,"-"]
[0,{"$error":"#VALUE!"},{"$error":"#VALUE!"},{"$f":"SUBSTITUTE(IN!G521,\"-\",\"\")","v":""},"",{"$f":"IN!F521*60","v":0},0,"-"]
[0,{"$error":"#VALUE!"},{"$error":"#VALUE!"},{"$f":"SUBSTITUTE(IN!G522,\"-\",\"\")","v":""},"",{"$f":"IN!F522*60","v":0},0,"-"]
[0,{"$error":"#VALUE!"},{"$error":"#VALUE!"},{"$f":"SUBSTITUTE(IN!G523,\"-\",\"\")","v":""},"",{"$f":"IN!F523*60","v":0},0,"-"]
[0,{"$error":"#VALUE!"},{"$error":"#VALUE!"},{"$f":"SUBSTITUTE(IN!G524,\"-\",\"\")","v":""},"",{"$f":"IN!F524*60","v":0},0,"-"]
[0,{"$error":"#VALUE!"},{"$error":"#VALUE!"},{"$f":"SUBSTITUTE(IN!G525,\"-\",\"\")","v":""},"",{"$f":"IN!F525*60","v":0},0,"-"]
[0,{"$error":"#VALUE!"},{"$error":"#VALUE!"},{"$f":"SUBSTITUTE(IN!G526,\"-\",\"\")","v":""},"",{"$f":"IN!F526*60","v":0},0,"-"]
[0,{"$error":"#VALUE!"},{"$error":"#VALUE!"},{"$f":"SUBSTITUTE(IN!G527,\"-\",\"\")","v":""},"",{"$f":"IN!F527*60","v":0},0,"-"]
[0,{"$error":"#VALUE!"},{"$error":"#VALUE!"},{"$f":"SUBSTITUTE(IN!G528,\"-\",\"\")","v":""},"",{"$f":"IN!F528*60","v":0},0,"-"]
[0,{"$error":"#VALUE!"},{"$error":"#VALUE!"},{"$f":"SUBSTITUTE(IN!G529,\"-\",\"\")","v":""},"",{"$f":"IN!F529*60","v":0},0,"-"]
[0,{"$error":"#VALUE!"},{"$error":"#VALUE!"},{"$f":"SUBSTITUTE(IN!G530,\"-\",\"\")","v":""},"",{"$f":"IN!F530*60","v":0},0,"-"]
[0,{"$error":"#VALUE!"},{"$error":"#VALUE!"},{"$f":"SUBSTITUTE(IN!G531,\"-\",\"\")","v":""},"",{"$f":"IN!F531*60","v":0},0,"-"]
[0,{"$error":"#VALUE!"},{"$error":"#VALUE!"},{"$f":"SUBSTITUTE(IN!G532,\"-\",\"\")","v":""},"",{"$f":"IN!F532*60","v":0},0,"-"]
[0,{"$error":"#VALUE!"},{"$error":"#VALUE!"},{"$f":"SUBSTITUTE(IN!G533,\"-\",\"\")","v":""},"",{"$f":"IN!F533*60","v":0},0,"-"]
[0,{"$error":"#VALUE!"},{"$error":"#VALUE!"},{"$f":"SUBSTITUTE(IN!G534,\"-\",\"\")","v":""},"",{"$f":"IN!F534*60","v":0},0,"-"]
[0,{"$error":"#VALUE!"},{"$error":"#VALUE!"},{"$f":"SUBSTITUTE(IN!G535,\"-\",\"\")","v":""},"",{"$f":"IN!F535*60","v":0},0,"-"]
[0,{"$error":"#VALUE!"},{"$error":"#VALUE!"},{"$f":"SUBSTITUTE(IN!G536,\"-\",\"\")","v":""},"",{"$f":"IN!F536*60","v":0},0,"-"]
[0,{"$error":"#VALUE!"},{"$error":"#VALUE!"},{"$f":"SUBSTITUTE(IN!G537,\"-\",\"\")","v":""},"",{"$f":"IN!F537*60","v":0},0,"-"]
[0,{"$error":"#VALUE!"},{"$error":"#VALUE!"},{"$f":"SUBSTITUTE(IN!G538,\"-\",\"\")","v":""},"",{"$f":"IN!F538*60","v":0},0,"-"]
[0,{"$error":"#VALUE!"},{"$error":"#VALUE!"},{"$f":"SUBSTITUTE(IN!G539,\"-\",\"\")","v":""},"",{"$f":"IN!F539*60","v":0},0,"-"]
[0,{"$error":"#VALUE!"},{"$error":"#VALUE!"},{"$f":"SUBSTITUTE(IN!G540,\"-\",\"\")","v":""},"",{"$f":"IN!F540*60","v":0},0,"-"]
[0,{"$error":"#VALUE!"},{"$error":"#VALUE!"},{"$f":"SUBSTITUTE(IN!G541,\"-\",\"\")","v":""},"",{"$f":"IN!F541*60","v":0},0,"-"]
[0,{"$error":"#VALUE!"},{"$error":"#VALUE!"},{"$f":"SUBSTITUTE(IN!G542,\"-\",\"\")","v":""},"",{"$f":"IN!F542*60","v":0},0,"-"]
[0,{"$error":"#VALUE!"},{"$error":"#VALUE!"},{"$f":"SUBSTITUTE(IN!G543,\"-\",\"\")","v":""},"",{"$f":"IN!F543*60","v":0},0,"-"]
[0,{"$error":"#VALUE!"},{"$error":"#VALUE!"},{"$f":"SUBSTITUTE(IN!G544,\"-\",\"\")","v":""},"",{"$f":"IN!F544*60","v":0},0,"-"]
[0,{"$error":"#VALUE!"},{"$error":"#VALUE!"},{"$f":"SUBSTITUTE(IN!G545,\"-\",\"\")","v":""},"",{"$f":"IN!F545*60","v":0},0,"-"]
[0,{"$error":"#VALUE!"},{"$error":"#VALUE!"},{"$f":"SUBSTITUTE(IN!G546,\"-\",\"\")","v":""},"",{"$f":"IN!F546*60","v":0},0,"-"]
[0,{"$error":"#VALUE!"},{"$error":"#VALUE!"},{"$f":"SUBSTITUTE(IN!G547,\"-\",\"\")","v":""},"",{"$f":"IN!F547*60","v":0},0,"-"]
[0,{"$error":"#VALUE!"},{"$error":"#VALUE!"},{"$f":"SUBSTITUTE(IN!G548,\"-\",\"\")","v":""},"",{"$f":"IN!F548*60","v":0},0,"-"]
[0,{"$error":"#VALUE!"},{"$error":"#VALUE!"},{"$f":"SUBSTITUTE(IN!G549,\"-\",\"\")","v":""},"",{"$f":"IN!F549*60","v":0},0,"-"]
[0,{"$error":"#VALUE!"},{"$error":"#VALUE!"},{"$f":"SUBSTITUTE(IN!G550,\"-\",\"\")","v":""},"",{"$f":"IN!F550*60","v":0},0,"-"]
[0,{"$error":"#VALUE!"},{"$error":"#VALUE!"},{"$f":"SUBSTITUTE(IN!G551,\"-\",\"\")","v":""},"",{"$f":"IN!F551*60","v":0},0,"-"]
[0,{"$error":"#VALUE!"},{"$error":"#VALUE!"},{"$f":"SUBSTITUTE(IN!G552,\"-\",\"\")","v":""},"",{"$f":"IN!F552*60","v":0},0,"-"]
[0,{"$error":"#VALUE!"},{"$error":"#VALUE!"},{"$f":"SUBSTITUTE(IN!G553,\"-\",\"\")","v":""},"",{"$f":"IN!F553*60","v":0},0,"-"]
[0,{"$error":"#VALUE!"},{"$error":"#VALUE!"},{"$f":"SUBSTITUTE(IN!G554,\"-\",\"\")","v":""},"",{"$f":"IN!F554*60","v":0},0,"-"]
[0,{"$error":"#VALUE!"},{"$error":"#VALUE!"},{"$f":"SUBSTITUTE(IN!G555,\"-\",\"\")","v":""},"",{"$f":"IN!F555*60","v":0},0,"-"]
[0,{"$error":"#VALUE!"},{"$error":"#VALUE!"},{"$f":"SUBSTITUTE(IN!G556,\"-\",\"\")","v":""},"",{"$f":"IN!F556*60","v":0},0,"-"]
[0,{"$error":"#VALUE!"},{"$error":"#VALUE!"},{"$f":"SUBSTITUTE(IN!G557,\"-\",\"\")","v":""},"",{"$f":"IN!F557*60","v":0},0,"-"]
[0,{"$error":"#VALUE!"},{"$error":"#VALUE!"},{"$f":"SUBSTITUTE(IN!G558,\"-\",\"\")","v":""},"",{"$f":"IN!F558*60","v":0},0,"-"]
[0,{"$error":"#VALUE!"},{"$error":"#VALUE!"},{"$f":"SUBSTITUTE(IN!G559,\"-\",\"\")","v":""},"",{"$f":"IN!F559*60","v":0},0,"-"]
[0,{"$error":"#VALUE!"},{"$error":"#VALUE!"},{"$f":"SUBSTITUTE(IN!G560,\"-\",\"\")","v":""},"",{"$f":"IN!F560*60","v":0},0,"-"]
[0,{"$error":"#VALUE!"},{"$error":"#VALUE!"},{"$f":"SUBSTITUTE(IN!G561,\"-\",\"\")","v":""},"",{"$f":"IN!F561*60","v":0},0,"-"]
[0,{"$error":"#VALUE!"},{"$error":"#VALUE!"},{"$f":"SUBSTITUTE(IN!G562,\"-\",\"\")","v":""},"",{"$f":"IN!F562*60","v":0},0,"-"]
[0,{"$error":"#VALUE!"},{"$error":"#VALUE!"},{"$f":"SUBSTITUTE(IN!G563,\"-\",\"\")","v":""},"",{"$f":"IN!F563*60","v":0},0,"-"]
[0,{"$error":"#VALUE!"},{"$error":"#VALUE!"},{"$f":"SUBSTITUTE(IN!G564,\"-\",\"\")","v":""},"",{"$f":"IN!F564*60","v":0},0,"-"]
[0,{"$error":"#VALUE!"},{"$error":"#VALUE!"},{"$f":"SUBSTITUTE(IN!G565,\"-\",\"\")","v":""},"",{"$f":"IN!F565*60","v":0},0,"-"]
[0,{"$error":"#VALUE!"},{"$error":"#VALUE!"},{"$f":"SUBSTITUTE(IN!G566,\"-\",\"\")","v":""},"",{"$f":"IN!F566*60","v":0},0,"-"]
[0,{"$error":"#VALUE!"},{"$error":"#VALUE!"},{"$f":"SUBSTITUTE(IN!G567,\"-\",\"\")","v":""},"",{"$f":"IN!F567*60","v":0},0,"-"]
[0,{"$error":"#VALUE!"},{"$error":"#VALUE!"},{"$f":"SUBSTITUTE(IN!G568,\"-\",\"\")","v":""},"",{"$f":"IN!F568*60","v":0},0,"-"]
[0,{"$error":"#VALUE!"},{"$error":"#VALUE!"},{"$f":"SUBSTITUTE(IN!G569,\"-\",\"\")","v":""},"",{"$f":"IN!F569*60","v":0},0,"-"]
[0,{"$error":"#VALUE!"},{"$error":"#VALUE!"},{"$f":"SUBSTITUTE(IN!G570,\"-\",\"\")","v":""},"",{"$f":"IN!F570*60","v":0},0,"-"]
[0,{"$error":"#VALUE!"},{"$error":"#VALUE!"},{"$f":"SUBSTITUTE(IN!G571,\"-\",\"\")","v":""},"",{"$f":"IN!F571*60","v":0},0,"-"]
[0,{"$error":"#VALUE!"},{"$error":"#VALUE!"},{"$f":"SUBSTITUTE(IN!G572,\"-\",\"\")","v":""},"",{"$f":"IN!F572*60","v":0},0,"-"]
[0,{"$error":"#VALUE!"},{"$error":"#VALUE!"},{"$f":"SUBSTITUTE(IN!G573,\"-\",\"\")","v":""},"",{"$f":"IN!F573*60","v":0},0,"-"]
[0,{"$error":"#VALUE!"},{"$error":"#VALUE!"},{"$f":"SUBSTITUTE(IN!G574,\"-\",\"\")","v":""},"",{"$f":"IN!F574*60","v":0},0,"-"]
[0,{"$error":"#VALUE!"},{"$error":"#VALUE!"},{"$f":"SUBSTITUTE(IN!G575,\"-\",\"\")","v":""},"",{"$f":"IN!F575*60","v":0},0,"-"]
[0,{"$error":"#VALUE!"},{"$error":"#VALUE!"},{"$f":"SUBSTITUTE(IN!G576,\"-\",\"\")","v":""},"",{"$f":"IN!F576*60","v":0},0,"-"]
[0,{"$error":"#VALUE!"},{"$error":"#VALUE!"},{"$f":"SUBSTITUTE(IN!G577,\"-\",\"\")","v":""},"",{"$f":"IN!F577*60","v":0},0,"-"]
[0,{"$error":"#VALUE!"},{"$error":"#VALUE!"},{"$f":"SUBSTITUTE(IN!G578,\"-\",\"\")","v":""},"",{"$f":"IN!F578*60","v":0},0,"-"]
[0,{"$error":"#VALUE!"},{"$error":"#VALUE!"},{"$f":"SUBSTITUTE(IN!G579,\"-\",\"\")","v":""},"",{"$f":"IN!F579*60","v":0},0,"-"]
[0,{"$error":"#VALUE!"},{"$error":"#VALUE!"},{"$f":"SUBSTITUTE(IN!G580,\"-\",\"\")","v":""},"",{"$f":"IN!F580*60","v":0},0,"-"]
[{"$f":"LEN(D581)","v":0},{"$f":"VALUE(LEFT(D581,1))","v":{"$error":"#VALUE!"}},{"$f":"IF(B581<2,20,19)","v":{"$error":"#VALUE!"}},{"$f":"SUBSTITUTE(IN!G581,\"-\",\"\")","v":""},{"$f":"IF(A581=10,CONCATENATE(C581,D581),D581)","v":""},{"$f":"IN!F581*60","v":0},{"$f":"ROUND(F581,0)","v":0},{"$f":"CONCATENATE(MID(E581,3,6),\"-\",MID(E581,9,4))","v":"-"}]
[0,{"$error":"#VALUE!"},{"$error":"#VALUE!"},{"$f":"SUBSTITUTE(IN!G582,\"-\",\"\")","v":""},"",{"$f":"IN!F582*60","v":0},0,"-"]
[0,{"$error":"#VALUE!"},{"$error":"#VALUE!"},{"$f":"SUBSTITUTE(IN!G583,\"-\",\"\")","v":""},"",{"$f":"IN!F583*60","v":0},0,"-"]
[0,{"$error":"#VALUE!"},{"$error":"#VALUE!"},{"$f":"SUBSTITUTE(IN!G584,\"-\",\"\")","v":""},"",{"$f":"IN!F584*60","v":0},0,"-"]
[0,{"$error":"#VALUE!"},{"$error":"#VALUE!"},{"$f":"SUBSTITUTE(IN!G585,\"-\",\"\")","v":""},"",{"$f":"IN!F585*60","v":0},0,"-"]
[0,{"$error":"#VALUE!"},{"$error":"#VALUE!"},{"$f":"SUBSTITUTE(IN!G586,\"-\",\"\")","v":""},"",{"$f":"IN!F586*60","v":0},0,"-"]
[0,{"$error":"#VALUE!"},{"$error":"#VALUE!"},{"$f":"SUBSTITUTE(IN!G587,\"-\",\"\")","v":""},"",{"$f":"IN!F587*60","v":0},0,"-"]
[0,{"$error":"#VALUE!"},{"$error":"#VALUE!"},{"$f":"SUBSTITUTE(IN!G588,\"-\",\"\")","v":""},"",{"$f":"IN!F588*60","v":0},0,"-"]
[0,{"$error":"#VALUE!"},{"$error":"#VALUE!"},{"$f":"SUBSTITUTE(IN!G589,\"-\",\"\")","v":""},"",{"$f":"IN!F589*60","v":0},0,"-"]
[0,{"$error":"#VALUE!"},{"$error":"#VALUE!"},{"$f":"SUBSTITUTE(IN!G590,\"-\",\"\")","v":""},"",{"$f":"IN!F590*60","v":0},0,"-"]
[0,{"$error":"#VALUE!"},{"$error":"#VALUE!"},{"$f":"SUBSTITUTE(IN!G591,\"-\",\"\")","v":""},"",{"$f":"IN!F591*60","v":0},0,"-"]
[0,{"$error":"#VALUE!"},{"$error":"#VALUE!"},{"$f":"SUBSTITUTE(IN!G592,\"-\",\"\")","v":""},"",{"$f":"IN!F592*60","v":0},0,"-"]
[0,{"$error":"#VALUE!"},{"$error":"#VALUE!"},{"$f":"SUBSTITUTE(IN!G593,\"-\",\"\")","v":""},"",{"$f":"IN!F593*60","v":0},0,"-"]
[0,{"$error":"#VALUE!"},{"$error":"#VALUE!"},{"$f":"SUBSTITUTE(IN!G594,\"-\",\"\")","v":""},"",{"$f":"IN!F594*60","v":0},0,"-"]
[0,{"$error":"#VALUE!"},{"$error":"#VALUE!"},{"$f":"SUBSTITUTE(IN!G595,\"-\",\"\")","v":""},"",{"$f":"IN!F595*60","v":0},0,"-"]
[0,{"$error":"#VALUE!"},{"$error":"#VALUE!"},{"$f":"SUBSTITUTE(IN!G596,\"-\",\"\")","v":""},"",{"$f":"IN!F596*60","v":0},0,"-"]
[0,{"$error":"#VALUE!"},{"$error":"#VALUE!"},{"$f":"SUBSTITUTE(IN!G597,\"-\",\"\")","v":""},"",{"$f":"IN!F597*60","v":0},0,"-"]
[0,{"$error":"#VALUE!"},{"$error":"#VALUE!"},{"$f":"SUBSTITUTE(IN!G598,\"-\",\"\")","v":""},"",{"$f":"IN!F598*60","v":0},0,"-"]
[0,{"$error":"#VALUE!"},{"$error":"#VALUE!"},{"$f":"SUBSTITUTE(IN!G599,\"-\",\"\")","v":""},"",{"$f":"IN!F599*60","v":0},0,"-"]
[0,{"$error":"#VALUE!"},{"$error":"#VALUE!"},{"$f":"SUBSTITUTE(IN!G600,\"-\",\"\")","v":""},"",{"$f":"IN!F600*60","v":0},0,"-"]
[0,{"$error":"#VALUE!"},{"$error":"#VALUE!"},{"$f":"SUBSTITUTE(IN!G601,\"-\",\"\")","v":""},"",{"$f":"IN!F601*60","v":0},0,"-"]
[0,{"$error":"#VALUE!"},{"$error":"#VALUE!"},{"$f":"SUBSTITUTE(IN!G602,\"-\",\"\")","v":""},"",{"$f":"IN!F602*60","v":0},0,"-"]
[0,{"$error":"#VALUE!"},{"$error":"#VALUE!"},{"$f":"SUBSTITUTE(IN!G603,\"-\",\"\")","v":""},"",{"$f":"IN!F603*60","v":0},0,"-"]
[0,{"$error":"#VALUE!"},{"$error":"#VALUE!"},{"$f":"SUBSTITUTE(IN!G604,\"-\",\"\")","v":""},"",{"$f":"IN!F604*60","v":0},0,"-"]
[0,{"$error":"#VALUE!"},{"$error":"#VALUE!"},{"$f":"SUBSTITUTE(IN!G605,\"-\",\"\")","v":""},"",{"$f":"IN!F605*60","v":0},0,"-"]
[0,{"$error":"#VALUE!"},{"$error":"#VALUE!"},{"$f":"SUBSTITUTE(IN!G606,\"-\",\"\")","v":""},"",{"$f":"IN!F606*60","v":0},0,"-"]
[0,{"$error":"#VALUE!"},{"$error":"#VALUE!"},{"$f":"SUBSTITUTE(IN!G607,\"-\",\"\")","v":""},"",{"$f":"IN!F607*60","v":0},0,"-"]
[0,{"$error":"#VALUE!"},{"$error":"#VALUE!"},{"$f":"SUBSTITUTE(IN!G608,\"-\",\"\")","v":""},"",{"$f":"IN!F608*60","v":0},0,"-"]
[0,{"$error":"#VALUE!"},{"$error":"#VALUE!"},{"$f":"SUBSTITUTE(IN!G609,\"-\",\"\")","v":""},"",{"$f":"IN!F609*60","v":0},0,"-"]
[0,{"$error":"#VALUE!"},{"$error":"#VALUE!"},{"$f":"SUBSTITUTE(IN!G610,\"-\",\"\")","v":""},"",{"$f":"IN!F610*60","v":0},0,"-"]
[0,{"$error":"#VALUE!"},{"$error":"#VALUE!"},{"$f":"SUBSTITUTE(IN!G611,\"-\",\"\")","v":""},"",{"$f":"IN!F611*60","v":0},0,"-"]
[0,{"$error":"#VALUE!"},{"$error":"#VALUE!"},{"$f":"SUBSTITUTE(IN!G612,\"-\",\"\")","v":""},"",{"$f":"IN!F612*60","v":0},0,"-"]
[0,{"$error":"#VALUE!"},{"$error":"#VALUE!"},{"$f":"SUBSTITUTE(IN!G613,\"-\",\"\")","v":""},"",{"$f":"IN!F613*60","v":0},0,"-"]
[0,{"$error":"#VALUE!"},{"$error":"#VALUE!"},{"$f":"SUBSTITUTE(IN!G614,\"-\",\"\")","v":""},"",{"$f":"IN!F614*60","v":0},0,"-"]
[0,{"$error":"#VALUE!"},{"$error":"#VALUE!"},{"$f":"SUBSTITUTE(IN!G615,\"-\",\"\")","v":""},"",{"$f":"IN!F615*60","v":0},0,"-"]
[0,{"$error":"#VALUE!"},{"$error":"#VALUE!"},{"$f":"SUBSTITUTE(IN!G616,\"-\",\"\")","v":""},"",{"$f":"IN!F616*60","v":0},0,"-"]
[0,{"$error":"#VALUE!"},{"$error":"#VALUE!"},{"$f":"SUBSTITUTE(IN!G617,\"-\",\"\")","v":""},"",{"$f":"IN!F617*60","v":0},0,"-"]
[0,{"$error":"#VALUE!"},{"$error":"#VALUE!"},{"$f":"SUBSTITUTE(IN!G618,\"-\",\"\")","v":""},"",{"$f":"IN!F618*60","v":0},0,"-"]
[0,{"$error":"#VALUE!"},{"$error":"#VALUE!"},{"$f":"SUBSTITUTE(IN!G619,\"-\",\"\")","v":""},"",{"$f":"IN!F619*60","v":0},0,"-"]
[0,{"$error":"#VALUE!"},{"$error":"#VALUE!"},{"$f":"SUBSTITUTE(IN!G620,\"-\",\"\")","v":""},"",{"$f":"IN!F620*60","v":0},0,"-"]
[0,{"$error":"#VALUE!"},{"$error":"#VALUE!"},{"$f":"SUBSTITUTE(IN!G621,\"-\",\"\")","v":""},"",{"$f":"IN!F621*60","v":0},0,"-"]
[0,{"$error":"#VALUE!"},{"$error":"#VALUE!"},{"$f":"SUBSTITUTE(IN!G622,\"-\",\"\")","v":""},"",{"$f":"IN!F622*60","v":0},0,"-"]
[0,{"$error":"#VALUE!"},{"$error":"#VALUE!"},{"$f":"SUBSTITUTE(IN!G623,\"-\",\"\")","v":""},"",{"$f":"IN!F623*60","v":0},0,"-"]
[0,{"$error":"#VALUE!"},{"$error":"#VALUE!"},{"$f":"SUBSTITUTE(IN!G624,\"-\",\"\")","v":""},"",{"$f":"IN!F624*60","v":0},0,"-"]
[0,{"$error":"#VALUE!"},{"$error":"#VALUE!"},{"$f":"SUBSTITUTE(IN!G625,\"-\",\"\")","v":""},"",{"$f":"IN!F625*60","v":0},0,"-"]
[0,{"$error":"#VALUE!"},{"$error":"#VALUE!"},{"$f":"SUBSTITUTE(IN!G626,\"-\",\"\")","v":""},"",{"$f":"IN!F626*60","v":0},0,"-"]
[0,{"$error":"#VALUE!"},{"$error":"#VALUE!"},{"$f":"SUBSTITUTE(IN!G627,\"-\",\"\")","v":""},"",{"$f":"IN!F627*60","v":0},0,"-"]
[0,{"$error":"#VALUE!"},{"$error":"#VALUE!"},{"$f":"SUBSTITUTE(IN!G628,\"-\",\"\")","v":""},"",{"$f":"IN!F628*60","v":0},0,"-"]
[0,{"$error":"#VALUE!"},{"$error":"#VALUE!"},{"$f":"SUBSTITUTE(IN!G629,\"-\",\"\")","v":""},"",{"$f":"IN!F629*60","v":0},0,"-"]
[0,{"$error":"#VALUE!"},{"$error":"#VALUE!"},{"$f":"SUBSTITUTE(IN!G630,\"-\",\"\")","v":""},"",{"$f":"IN!F630*60","v":0},0,"-"]
[0,{"$error":"#VALUE!"},{"$error":"#VALUE!"},{"$f":"SUBSTITUTE(IN!G631,\"-\",\"\")","v":""},"",{"$f":"IN!F631*60","v":0},0,"-"]
[0,{"$error":"#VALUE!"},{"$error":"#VALUE!"},{"$f":"SUBSTITUTE(IN!G632,\"-\",\"\")","v":""},"",{"$f":"IN!F632*60","v":0},0,"-"]
[0,{"$error":"#VALUE!"},{"$error":"#VALUE!"},{"$f":"SUBSTITUTE(IN!G633,\"-\",\"\")","v":""},"",{"$f":"IN!F633*60","v":0},0,"-"]
[0,{"$error":"#VALUE!"},{"$error":"#VALUE!"},{"$f":"SUBSTITUTE(IN!G634,\"-\",\"\")","v":""},"",{"$f":"IN!F634*60","v":0},0,"-"]
[0,{"$error":"#VALUE!"},{"$error":"#VALUE!"},{"$f":"SUBSTITUTE(IN!G635,\"-\",\"\")","v":""},"",{"$f":"IN!F635*60","v":0},0,"-"]
[0,{"$error":"#VALUE!"},{"$error":"#VALUE!"},{"$f":"SUBSTITUTE(IN!G636,\"-\",\"\")","v":""},"",{"$f":"IN!F636*60","v":0},0,"-"]
[0,{"$error":"#VALUE!"},{"$error":"#VALUE!"},{"$f":"SUBSTITUTE(IN!G637,\"-\",\"\")","v":""},"",{"$f":"IN!F637*60","v":0},0,"-"]
[0,{"$error":"#VALUE!"},{"$error":"#VALUE!"},{"$f":"SUBSTITUTE(IN!G638,\"-\",\"\")","v":""},"",{"$f":"IN!F638*60","v":0},0,"-"]
[0,{"$error":"#VALUE!"},{"$error":"#VALUE!"},{"$f":"SUBSTITUTE(IN!G639,\"-\",\"\")","v":""},"",{"$f":"IN!F639*60","v":0},0,"-"]
[0,{"$error":"#VALUE!"},{"$error":"#VALUE!"},{"$f":"SUBSTITUTE(IN!G640,\"-\",\"\")","v":""},"",{"$f":"IN!F640*60","v":0},0,"-"]
[0,{"$error":"#VALUE!"},{"$error":"#VALUE!"},{"$f":"SUBSTITUTE(IN!G641,\"-\",\"\")","v":""},"",{"$f":"IN!F641*60","v":0},0,"-"]
[0,{"$error":"#VALUE!"},{"$error":"#VALUE!"},{"$f":"SUBSTITUTE(IN!G642,\"-\",\"\")","v":""},"",{"$f":"IN!F642*60","v":0},0,"-"]
[0,{"$error":"#VALUE!"},{"$error":"#VALUE!"},{"$f":"SUBSTITUTE(IN!G643,\"-\",\"\")","v":""},"",{"$f":"IN!F643*60","v":0},0,"-"]
[0,{"$error":"#VALUE!"},{"$error":"#VALUE!"},{"$f":"SUBSTITUTE(IN!G644,\"-\",\"\")","v":""},"",{"$f":"IN!F644*60","v":0},0,"-"]
[{"$f":"LEN(D645)","v":0},{"$f":"VALUE(LEFT(D645,1))","v":{"$error":"#VALUE!"}},{"$f":"IF(B645<2,20,19)","v":{"$error":"#VALUE!"}},{"$f":"SUBSTITUTE(IN!G645,\"-\",\"\")","v":""},{"$f":"IF(A645=10,CONCATENATE(C645,D645),D645)","v":""},{"$f":"IN!F645*60","v":0},{"$f":"ROUND(F645,0)","v":0},{"$f":"CONCATENATE(MID(E645,3,6),\"-\",MID(E645,9,4))","v":"-"}]
[0,{"$error":"#VALUE!"},{"$error":"#VALUE!"},{"$f":"SUBSTITUTE(IN!G646,\"-\",\"\")","v":""},"",{"$f":"IN!F646*60","v":0},0,"-"]
[0,{"$error":"#VALUE!"},{"$error":"#VALUE!"},{"$f":"SUBSTITUTE(IN!G647,\"-\",\"\")","v":""},"",{"$f":"IN!F647*60","v":0},0,"-"]
[0,{"$error":"#VALUE!"},{"$error":"#VALUE!"},{"$f":"SUBSTITUTE(IN!G648,\"-\",\"\")","v":""},"",{"$f":"IN!F648*60","v":0},0,"-"]
[0,{"$error":"#VALUE!"},{"$error":"#VALUE!"},{"$f":"SUBSTITUTE(IN!G649,\"-\",\"\")","v":""},"",{"$f":"IN!F649*60","v":0},0,"-"]
[0,{"$error":"#VALUE!"},{"$error":"#VALUE!"},{"$f":"SUBSTITUTE(IN!G650,\"-\",\"\")","v":""},"",{"$f":"IN!F650*60","v":0},0,"-"]
[0,{"$error":"#VALUE!"},{"$error":"#VALUE!"},{"$f":"SUBSTITUTE(IN!G651,\"-\",\"\")","v":""},"",{"$f":"IN!F651*60","v":0},0,"-"]
[0,{"$error":"#VALUE!"},{"$error":"#VALUE!"},{"$f":"SUBSTITUTE(IN!G652,\"-\",\"\")","v":""},"",{"$f":"IN!F652*60","v":0},0,"-"]
[0,{"$error":"#VALUE!"},{"$error":"#VALUE!"},{"$f":"SUBSTITUTE(IN!G653,\"-\",\"\")","v":""},"",{"$f":"IN!F653*60","v":0},0,"-"]
[0,{"$error":"#VALUE!"},{"$error":"#VALUE!"},{"$f":"SUBSTITUTE(IN!G654,\"-\",\"\")","v":""},"",{"$f":"IN!F654*60","v":0},0,"-"]
[0,{"$error":"#VALUE!"},{"$error":"#VALUE!"},{"$f":"SUBSTITUTE(IN!G655,\"-\",\"\")","v":""},"",{"$f":"IN!F655*60","v":0},0,"-"]
[0,{"$error":"#VALUE!"},{"$error":"#VALUE!"},{"$f":"SUBSTITUTE(IN!G656,\"-\",\"\")","v":""},"",{"$f":"IN!F656*60","v":0},0,"-"]
[0,{"$error":"#VALUE!"},{"$error":"#VALUE!"},{"$f":"SUBSTITUTE(IN!G657,\"-\",\"\")","v":""},"",{"$f":"IN!F657*60","v":0},0,"-"]
[0,{"$error":"#VALUE!"},{"$error":"#VALUE!"},{"$f":"SUBSTITUTE(IN!G658,\"-\",\"\")","v":""},"",{"$f":"IN!F658*60","v":0},0,"-"]
[0,{"$error":"#VALUE!"},{"$error":"#VALUE!"},{"$f":"SUBSTITUTE(IN!G659,\"-\",\"\")","v":""},"",{"$f":"IN!F659*60","v":0},0,"-"]
[0,{"$error":"#VALUE!"},{"$error":"#VALUE!"},{"$f":"SUBSTITUTE(IN!G660,\"-\",\"\")","v":""},"",{"$f":"IN!F660*60","v":0},0,"-"]
[0,{"$error":"#VALUE!"},{"$error":"#VALUE!"},{"$f":"SUBSTITUTE(IN!G661,\"-\",\"\")","v":""},"",{"$f":"IN!F661*60","v":0},0,"-"]
[0,{"$error":"#VALUE!"},{"$error":"#VALUE!"},{"$f":"SUBSTITUTE(IN!G662,\"-\",\"\")","v":""},"",{"$f":"IN!F662*60","v":0},0,"-"]
[0,{"$error":"#VALUE!"},{"$error":"#VALUE!"},{"$f":"SUBSTITUTE(IN!G663,\"-\",\"\")","v":""},"",{"$f":"IN!F663*60","v":0},0,"-"]
[0,{"$error":"#VALUE!"},{"$error":"#VALUE!"},{"$f":"SUBSTITUTE(IN!G664,\"-\",\"\")","v":""},"",{"$f":"IN!F664*60","v":0},0,"-"]
[0,{"$error":"#VALUE!"},{"$error":"#VALUE!"},{"$f":"SUBSTITUTE(IN!G665,\"-\",\"\")","v":""},"",{"$f":"IN!F665*60","v":0},0,"-"]
[0,{"$error":"#VALUE!"},{"$error":"#VALUE!"},{"$f":"SUBSTITUTE(IN!G666,\"-\",\"\")","v":""},"",{"$f":"IN!F666*60","v":0},0,"-"]
[0,{"$error":"#VALUE!"},{"$error":"#VALUE!"},{"$f":"SUBSTITUTE(IN!G667,\"-\",\"\")","v":""},"",{"$f":"IN!F667*60","v":0},0,"-"]
[0,{"$error":"#VALUE!"},{"$error":"#VALUE!"},{"$f":"SUBSTITUTE(IN!G668,\"-\",\"\")","v":""},"",{"$f":"IN!F668*60","v":0},0,"-"]
[0,{"$error":"#VALUE!"},{"$error":"#VALUE!"},{"$f":"SUBSTITUTE(IN!G669,\"-\",\"\")","v":""},"",{"$f":"IN!F669*60","v":0},0,"-"]
[0,{"$error":"#VALUE!"},{"$error":"#VALUE!"},{"$f":"SUBSTITUTE(IN!G670,\"-\",\"\")","v":""},"",{"$f":"IN!F670*60","v":0},0,"-"]
[0,{"$error":"#VALUE!"},{"$error":"#VALUE!"},{"$f":"SUBSTITUTE(IN!G671,\"-\",\"\")","v":""},"",{"$f":"IN!F671*60","v":0},0,"-"]
[0,{"$error":"#VALUE!"},{"$error":"#VALUE!"},{"$f":"SUBSTITUTE(IN!G672,\"-\",\"\")","v":""},"",{"$f":"IN!F672*60","v":0},0,"-"]
[0,{"$error":"#VALUE!"},{"$error":"#VALUE!"},{"$f":"SUBSTITUTE(IN!G673,\"-\",\"\")","v":""},"",{"$f":"IN!F673*60","v":0},0,"-"]
[0,{"$error":"#VALUE!"},{"$error":"#VALUE!"},{"$f":"SUBSTITUTE(IN!G674,\"-\",\"\")","v":""},"",{"$f":"IN!F674*60","v":0},0,"-"]
[0,{"$error":"#VALUE!"},{"$error":"#VALUE!"},{"$f":"SUBSTITUTE(IN!G675,\"-\",\"\")","v":""},"",{"$f":"IN!F675*60","v":0},0,"-"]
[0,{"$error":"#VALUE!"},{"$error":"#VALUE!"},{"$f":"SUBSTITUTE(IN!G676,\"-\",\"\")","v":""},"",{"$f":"IN!F676*60","v":0},0,"-"]
[0,{"$error":"#VALUE!"},{"$error":"#VALUE!"},{"$f":"SUBSTITUTE(IN!G677,\"-\",\"\")","v":""},"",{"$f":"IN!F677*60","v":0},0,"-"]
[0,{"$error":"#VALUE!"},{"$error":"#VALUE!"},{"$f":"SUBSTITUTE(IN!G678,\"-\",\"\")","v":""},"",{"$f":"IN!F678*60","v":0},0,"-"]
[0,{"$error":"#VALUE!"},{"$error":"#VALUE!"},{"$f":"SUBSTITUTE(IN!G679,\"-\",\"\")","v":""},"",{"$f":"IN!F679*60","v":0},0,"-"]
[0,{"$error":"#VALUE!"},{"$error":"#VALUE!"},{"$f":"SUBSTITUTE(IN!G680,\"-\",\"\")","v":""},"",{"$f":"IN!F680*60","v":0},0,"-"]
[0,{"$error":"#VALUE!"},{"$error":"#VALUE!"},{"$f":"SUBSTITUTE(IN!G681,\"-\",\"\")","v":""},"",{"$f":"IN!F681*60","v":0},0,"-"]
[0,{"$error":"#VALUE!"},{"$error":"#VALUE!"},{"$f":"SUBSTITUTE(IN!G682,\"-\",\"\")","v":""},"",{"$f":"IN!F682*60","v":0},0,"-"]
[0,{"$error":"#VALUE!"},{"$error":"#VALUE!"},{"$f":"SUBSTITUTE(IN!G683,\"-\",\"\")","v":""},"",{"$f":"IN!F683*60","v":0},0,"-"]
[0,{"$error":"#VALUE!"},{"$error":"#VALUE!"},{"$f":"SUBSTITUTE(IN!G684,\"-\",\"\")","v":""},"",{"$f":"IN!F684*60","v":0},0,"-"]
[0,{"$error":"#VALUE!"},{"$error":"#VALUE!"},{"$f":"SUBSTITUTE(IN!G685,\"-\",\"\")","v":""},"",{"$f":"IN!F685*60","v":0},0,"-"]
[0,{"$error":"#VALUE!"},{"$error":"#VALUE!"},{"$f":"SUBSTITUTE(IN!G686,\"-\",\"\")","v":""},"",{"$f":"IN!F686*60","v":0},0,"-"]
[0,{"$error":"#VALUE!"},{"$error":"#VALUE!"},{"$f":"SUBSTITUTE(IN!G687,\"-\",\"\")","v":""},"",{"$f":"IN!F687*60","v":0},0,"-"]
[0,{"$error":"#VALUE!"},{"$error":"#VALUE!"},{"$f":"SUBSTITUTE(IN!G688,\"-\",\"\")","v":""},"",{"$f":"IN!F688*60","v":0},0,"-"]
[0,{"$error":"#VALUE!"},{"$error":"#VALUE!"},{"$f":"SUBSTITUTE(IN!G689,\"-\",\"\")","v":""},"",{"$f":"IN!F689*60","v":0},0,"-"]
[0,{"$error":"#VALUE!"},{"$error":"#VALUE!"},{"$f":"SUBSTITUTE(IN!G690,\"-\",\"\")","v":""},"",{"$f":"IN!F690*60","v":0},0,"-"]
[0,{"$error":"#VALUE!"},{"$error":"#VALUE!"},{"$f":"SUBSTITUTE(IN!G691,\"-\",\"\")","v":""},"",{"$f":"IN!F691*60","v":0},0,"-"]
[0,{"$error":"#VALUE!"},{"$error":"#VALUE!"},{"$f":"SUBSTITUTE(IN!G692,\"-\",\"\")","v":""},"",{"$f":"IN!F692*60","v":0},0,"-"]
[0,{"$error":"#VALUE!"},{"$error":"#VALUE!"},{"$f":"SUBSTITUTE(IN!G693,\"-\",\"\")","v":""},"",{"$f":"IN!F693*60","v":0},0,"-"]
[0,{"$error":"#VALUE!"},{"$error":"#VALUE!"},{"$f":"SUBSTITUTE(IN!G694,\"-\",\"\")","v":""},"",{"$f":"IN!F694*60","v":0},0,"-"]
[0,{"$error":"#VALUE!"},{"$error":"#VALUE!"},{"$f":"SUBSTITUTE(IN!G695,\"-\",\"\")","v":""},"",{"$f":"IN!F695*60","v":0},0,"-"]
[0,{"$error":"#VALUE!"},{"$error":"#VALUE!"},{"$f":"SUBSTITUTE(IN!G696,\"-\",\"\")","v":""},"",{"$f":"IN!F696*60","v":0},0,"-"]
[0,{"$error":"#VALUE!"},{"$error":"#VALUE!"},{"$f":"SUBSTITUTE(IN!G697,\"-\",\"\")","v":""},"",{"$f":"IN!F697*60","v":0},0,"-"]
[0,{"$error":"#VALUE!"},{"$error":"#VALUE!"},{"$f":"SUBSTITUTE(IN!G698,\"-\",\"\")","v":""},"",{"$f":"IN!F698*60","v":0},0,"-"]
[0,{"$error":"#VALUE!"},{"$error":"#VALUE!"},{"$f":"SUBSTITUTE(IN!G699,\"-\",\"\")","v":""},"",{"$f":"IN!F699*60","v":0},0,"-"]
[0,{"$error":"#VALUE!"},{"$error":"#VALUE!"},{"$f":"SUBSTITUTE(IN!G700,\"-\",\"\")","v":""},"",{"$f":"IN!F700*60","v":0},0,"-"]
[0,{"$error":"#VALUE!"},{"$error":"#VALUE!"},{"$f":"SUBSTITUTE(IN!G701,\"-\",\"\")","v":""},"",{"$f":"IN!F701*60","v":0},0,"-"]
[0,{"$error":"#VALUE!"},{"$error":"#VALUE!"},{"$f":"SUBSTITUTE(IN!G702,\"-\",\"\")","v":""},"",{"$f":"IN!F702*60","v":0},0,"-"]
[0,{"$error":"#VALUE!"},{"$error":"#VALUE!"},{"$f":"SUBSTITUTE(IN!G703,\"-\",\"\")","v":""},"",{"$f":"IN!F703*60","v":0},0,"-"]
[0,{"$error":"#VALUE!"},{"$error":"#VALUE!"},{"$f":"SUBSTITUTE(IN!G704,\"-\",\"\")","v":""},"",{"$f":"IN!F704*60","v":0},0,"-"]
[0,{"$error":"#VALUE!"},{"$error":"#VALUE!"},{"$f":"SUBSTITUTE(IN!G705,\"-\",\"\")","v":""},"",{"$f":"IN!F705*60","v":0},0,"-"]
[0,{"$error":"#VALUE!"},{"$error":"#VALUE!"},{"$f":"SUBSTITUTE(IN!G706,\"-\",\"\")","v":""},"",{"$f":"IN!F706*60","v":0},0,"-"]
[0,{"$error":"#VALUE!"},{"$error":"#VALUE!"},{"$f":"SUBSTITUTE(IN!G707,\"-\",\"\")","v":""},"",{"$f":"IN!F707*60","v":0},0,"-"]
[0,{"$error":"#VALUE!"},{"$error":"#VALUE!"},{"$f":"SUBSTITUTE(IN!G708,\"-\",\"\")","v":""},"",{"$f":"IN!F708*60","v":0},0,"-"]
[{"$f":"LEN(D709)","v":0},{"$f":"VALUE(LEFT(D709,1))","v":{"$error":"#VALUE!"}},{"$f":"IF(B709<2,20,19)","v":{"$error":"#VALUE!"}},{"$f":"SUBSTITUTE(IN!G709,\"-\",\"\")","v":""},{"$f":"IF(A709=10,CONCATENATE(C709,D709),D709)","v":""},{"$f":"IN!F709*60","v":0},{"$f":"ROUND(F709,0)","v":0},{"$f":"CONCATENATE(MID(E709,3,6),\"-\",MID(E709,9,4))","v":"-"}]
[0,{"$error":"#VALUE!"},{"$error":"#VALUE!"},{"$f":"SUBSTITUTE(IN!G710,\"-\",\"\")","v":""},"",{"$f":"IN!F710*60","v":0},0,"-"]
[0,{"$error":"#VALUE!"},{"$error":"#VALUE!"},{"$f":"SUBSTITUTE(IN!G711,\"-\",\"\")","v":""},"",{"$f":"IN!F711*60","v":0},0,"-"]
[0,{"$error":"#VALUE!"},{"$error":"#VALUE!"},{"$f":"SUBSTITUTE(IN!G712,\"-\",\"\")","v":""},"",{"$f":"IN!F712*60","v":0},0,"-"]
[0,{"$error":"#VALUE!"},{"$error":"#VALUE!"},{"$f":"SUBSTITUTE(IN!G713,\"-\",\"\")","v":""},"",{"$f":"IN!F713*60","v":0},0,"-"]
[0,{"$error":"#VALUE!"},{"$error":"#VALUE!"},{"$f":"SUBSTITUTE(IN!G714,\"-\",\"\")","v":""},"",{"$f":"IN!F714*60","v":0},0,"-"]
[0,{"$error":"#VALUE!"},{"$error":"#VALUE!"},{"$f":"SUBSTITUTE(IN!G715,\"-\",\"\")","v":""},"",{"$f":"IN!F715*60","v":0},0,"-"]
[0,{"$error":"#VALUE!"},{"$error":"#VALUE!"},{"$f":"SUBSTITUTE(IN!G716,\"-\",\"\")","v":""},"",{"$f":"IN!F716*60","v":0},0,"-"]
[0,{"$error":"#VALUE!"},{"$error":"#VALUE!"},{"$f":"SUBSTITUTE(IN!G717,\"-\",\"\")","v":""},"",{"$f":"IN!F717*60","v":0},0,"-"]
[0,{"$error":"#VALUE!"},{"$error":"#VALUE!"},{"$f":"SUBSTITUTE(IN!G718,\"-\",\"\")","v":""},"",{"$f":"IN!F718*60","v":0},0,"-"]
[0,{"$error":"#VALUE!"},{"$error":"#VALUE!"},{"$f":"SUBSTITUTE(IN!G719,\"-\",\"\")","v":""},"",{"$f":"IN!F719*60","v":0},0,"-"]
[0,{"$error":"#VALUE!"},{"$error":"#VALUE!"},{"$f":"SUBSTITUTE(IN!G720,\"-\",\"\")","v":""},"",{"$f":"IN!F720*60","v":0},0,"-"]
[0,{"$error":"#VALUE!"},{"$error":"#VALUE!"},{"$f":"SUBSTITUTE(IN!G721,\"-\",\"\")","v":""},"",{"$f":"IN!F721*60","v":0},0,"-"]
[0,{"$error":"#VALUE!"},{"$error":"#VALUE!"},{"$f":"SUBSTITUTE(IN!G722,\"-\",\"\")","v":""},"",{"$f":"IN!F722*60","v":0},0,"-"]
[0,{"$error":"#VALUE!"},{"$error":"#VALUE!"},{"$f":"SUBSTITUTE(IN!G723,\"-\",\"\")","v":""},"",{"$f":"IN!F723*60","v":0},0,"-"]
[0,{"$error":"#VALUE!"},{"$error":"#VALUE!"},{"$f":"SUBSTITUTE(IN!G724,\"-\",\"\")","v":""},"",{"$f":"IN!F724*60","v":0},0,"-"]
[0,{"$error":"#VALUE!"},{"$error":"#VALUE!"},{"$f":"SUBSTITUTE(IN!G725,\"-\",\"\")","v":""},"",{"$f":"IN!F725*60","v":0},0,"-"]
[0,{"$error":"#VALUE!"},{"$error":"#VALUE!"},{"$f":"SUBSTITUTE(IN!G726,\"-\",\"\")","v":""},"",{"$f":"IN!F726*60","v":0},0,"-"]
[0,{"$error":"#VALUE!"},{"$error":"#VALUE!"},{"$f":"SUBSTITUTE(IN!G727,\"-\",\"\")","v":""},"",{"$f":"IN!F727*60","v":0},0,"-"]
[0,{"$error":"#VALUE!"},{"$error":"#VALUE!"},{"$f":"SUBSTITUTE(IN!G728,\"-\",\"\")","v":""},"",{"$f":"IN!F728*60","v":0},0,"-"]
[0,{"$error":"#VALUE!"},{"$error":"#VALUE!"},{"$f":"SUBSTITUTE(IN!G729,\"-\",\"\")","v":""},"",{"$f":"IN!F729*60","v":0},0,"-"]
[0,{"$error":"#VALUE!"},{"$error":"#VALUE!"},{"$f":"SUBSTITUTE(IN!G730,\"-\",\"\")","v":""},"",{"$f":"IN!F730*60","v":0},0,"-"]
[0,{"$error":"#VALUE!"},{"$error":"#VALUE!"},{"$f":"SUBSTITUTE(IN!G731,\"-\",\"\")","v":""},"",{"$f":"IN!F731*60","v":0},0,"-"]
[0,{"$error":"#VALUE!"},{"$error":"#VALUE!"},{"$f":"SUBSTITUTE(IN!G732,\"-\",\"\")","v":""},"",{"$f":"IN!F732*60","v":0},0,"-"]
[0,{"$error":"#VALUE!"},{"$error":"#VALUE!"},{"$f":"SUBSTITUTE(IN!G733,\"-\",\"\")","v":""},"",{"$f":"IN!F733*60","v":0},0,"-"]
[0,{"$error":"#VALUE!"},{"$error":"#VALUE!"},{"$f":"SUBSTITUTE(IN!G734,\"-\",\"\")","v":""},"",{"$f":"IN!F734*60","v":0},0,"-"]
[0,{"$error":"#VALUE!"},{"$error":"#VALUE!"},{"$f":"SUBSTITUTE(IN!G735,\"-\",\"\")","v":""},"",{"$f":"IN!F735*60","v":0},0,"-"]
[0,{"$error":"#VALUE!"},{"$error":"#VALUE!"},{"$f":"SUBSTITUTE(IN!G736,\"-\",\"\")","v":""},"",{"$f":"IN!F736*60","v":0},0,"-"]
[0,{"$error":"#VALUE!"},{"$error":"#VALUE!"},{"$f":"SUBSTITUTE(IN!G737,\"-\",\"\")","v":""},"",{"$f":"IN!F737*60","v":0},0,"-"]
[0,{"$error":"#VALUE!"},{"$error":"#VALUE!"},{"$f":"SUBSTITUTE(IN!G738,\"-\",\"\")","v":""},"",{"$f":"IN!F738*60","v":0},0,"-"]
[0,{"$error":"#VALUE!"},{"$error":"#VALUE!"},{"$f":"SUBSTITUTE(IN!G739,\"-\",\"\")","v":""},"",{"$f":"IN!F739*60","v":0},0,"-"]
[0,{"$error":"#VALUE!"},{"$error":"#VALUE!"},{"$f":"SUBSTITUTE(IN!G740,\"-\",\"\")","v":""},"",{"$f":"IN!F740*60","v":0},0,"-"]
[0,{"$error":"#VALUE!"},{"$error":"#VALUE!"},{"$f":"SUBSTITUTE(IN!G741,\"-\",\"\")","v":""},"",{"$f":"IN!F741*60","v":0},0,"-"]
[0,{"$error":"#VALUE!"},{"$error":"#VALUE!"},{"$f":"SUBSTITUTE(IN!G742,\"-\",\"\")","v":""},"",{"$f":"IN!F742*60","v":0},0,"-"]
[0,{"$error":"#VALUE!"},{"$error":"#VALUE!"},{"$f":"SUBSTITUTE(IN!G743,\"-\",\"\")","v":""},"",{"$f":"IN!F743*60","v":0},0,"-"]
[0,{"$error":"#VALUE!"},{"$error":"#VALUE!"},{"$f":"SUBSTITUTE(IN!G744,\"-\",\"\")","v":""},"",{"$f":"IN!F744*60","v":0},0,"-"]
[0,{"$error":"#VALUE!"},{"$error":"#VALUE!"},{"$f":"SUBSTITUTE(IN!G745,\"-\",\"\")","v":""},"",{"$f":"IN!F745*60","v":0},0,"-"]
[0,{"$error":"#VALUE!"},{"$error":"#VALUE!"},{"$f":"SUBSTITUTE(IN!G746,\"-\",\"\")","v":""},"",{"$f":"IN!F746*60","v":0},0,"-"]
[0,{"$error":"#VALUE!"},{"$error":"#VALUE!"},{"$f":"SUBSTITUTE(IN!G747,\"-\",\"\")","v":""},"",{"$f":"IN!F747*60","v":0},0,"-"]
[0,{"$error":"#VALUE!"},{"$error":"#VALUE!"},{"$f":"SUBSTITUTE(IN!G748,\"-\",\"\")","v":""},"",{"$f":"IN!F748*60","v":0},0,"-"]
[0,{"$error":"#VALUE!"},{"$error":"#VALUE!"},{"$f":"SUBSTITUTE(IN!G749,\"-\",\"\")","v":""},"",{"$f":"IN!F749*60","v":0},0,"-"]
[0,{"$error":"#VALUE!"},{"$error":"#VALUE!"},{"$f":"SUBSTITUTE(IN!G750,\"-\",\"\")","v":""},"",{"$f":"IN!F750*60","v":0},0,"-"]
[0,{"$error":"#VALUE!"},{"$error":"#VALUE!"},{"$f":"SUBSTITUTE(IN!G751,\"-\",\"\")","v":""},"",{"$f":"IN!F751*60","v":0},0,"-"]
[0,{"$error":"#VALUE!"},{"$error":"#VALUE!"},{"$f":"SUBSTITUTE(IN!G752,\"-\",\"\")","v":""},"",{"$f":"IN!F752*60","v":0},0,"-"]
[0,{"$error":"#VALUE!"},{"$error":"#VALUE!"},{"$f":"SUBSTITUTE(IN!G753,\"-\",\"\")","v":""},"",{"$f":"IN!F753*60","v":0},0,"-"]
[0,{"$error":"#VALUE!"},{"$error":"#VALUE!"},{"$f":"SUBSTITUTE(IN!G754,\"-\",\"\")","v":""},"",{"$f":"IN!F754*60","v":0},0,"-"]
[0,{"$error":"#VALUE!"},{"$error":"#VALUE!"},{"$f":"SUBSTITUTE(IN!G755,\"-\",\"\")","v":""},"",{"$f":"IN!F755*60","v":0},0,"-"]
[0,{"$error":"#VALUE!"},{"$error":"#VALUE!"},{"$f":"SUBSTITUTE(IN!G756,\"-\",\"\")","v":""},"",{"$f":"IN!F756*60","v":0},0,"-"]
[0,{"$error":"#VALUE!"},{"$error":"#VALUE!"},{"$f":"SUBSTITUTE(IN!G757,\"-\",\"\")","v":""},"",{"$f":"IN!F757*60","v":0},0,"-"]
[0,{"$error":"#VALUE!"},{"$error":"#VALUE!"},{"$f":"SUBSTITUTE(IN!G758,\"-\",\"\")","v":""},"",{"$f":"IN!F758*60","v":0},0,"-"]
[0,{"$error":"#VALUE!"},{"$error":"#VALUE!"},{"$f":"SUBSTITUTE(IN!G759,\"-\",\"\")","v":""},"",{"$f":"IN!F759*60","v":0},0,"-"]
[0,{"$error":"#VALUE!"},{"$error":"#VALUE!"},{"$f":"SUBSTITUTE(IN!G760,\"-\",\"\")","v":""},"",{"$f":"IN!F760*60","v":0},0,"-"]
[0,{"$error":"#VALUE!"},{"$error":"#VALUE!"},{"$f":"SUBSTITUTE(IN!G761,\"-\",\"\")","v":""},"",{"$f":"IN!F761*60","v":0},0,"-"]
[0,{"$error":"#VALUE!"},{"$error":"#VALUE!"},{"$f":"SUBSTITUTE(IN!G762,\"-\",\"\")","v":""},"",{"$f":"IN!F762*60","v":0},0,"-"]
[0,{"$error":"#VALUE!"},{"$error":"#VALUE!"},{"$f":"SUBSTITUTE(IN!G763,\"-\",\"\")","v":""},"",{"$f":"IN!F763*60","v":0},0,"-"]
[0,{"$error":"#VALUE!"},{"$error":"#VALUE!"},{"$f":"SUBSTITUTE(IN!G764,\"-\",\"\")","v":""},"",{"$f":"IN!F764*60","v":0},0,"-"]
[0,{"$error":"#VALUE!"},{"$error":"#VALUE!"},{"$f":"SUBSTITUTE(IN!G765,\"-\",\"\")","v":""},"",{"$f":"IN!F765*60","v":0},0,"-"]
[0,{"$error":"#VALUE!"},{"$error":"#VALUE!"},{"$f":"SUBSTITUTE(IN!G766,\"-\",\"\")","v":""},"",{"$f":"IN!F766*60","v":0},0,"-"]
[0,{"$error":"#VALUE!"},{"$error":"#VALUE!"},{"$f":"SUBSTITUTE(IN!G767,\"-\",\"\")","v":""},"",{"$f":"IN!F767*60","v":0},0,"-"]
[0,{"$error":"#VALUE!"},{"$error":"#VALUE!"},{"$f":"SUBSTITUTE(IN!G768,\"-\",\"\")","v":""},"",{"$f":"IN!F768*60","v":0},0,"-"]
[0,{"$error":"#VALUE!"},{"$error":"#VALUE!"},{"$f":"SUBSTITUTE(IN!G769,\"-\",\"\")","v":""},"",{"$f":"IN!F769*60","v":0},0,"-"]
[0,{"$error":"#VALUE!"},{"$error":"#VALUE!"},{"$f":"SUBSTITUTE(IN!G770,\"-\",\"\")","v":""},"",{"$f":"IN!F770*60","v":0},0,"-"]
[0,{"$error":"#VALUE!"},{"$error":"#VALUE!"},{"$f":"SUBSTITUTE(IN!G771,\"-\",\"\")","v":""},"",{"$f":"IN!F771*60","v":0},0,"-"]
[0,{"$error":"#VALUE!"},{"$error":"#VALUE!"},{"$f":"SUBSTITUTE(IN!G772,\"-\",\"\")","v":""},"",{"$f":"IN!F772*60","v":0},0,"-"]
[{"$f":"LEN(D773)","v":0},{"$f":"VALUE(LEFT(D773,1))","v":{"$error":"#VALUE!"}},{"$f":"IF(B773<2,20,19)","v":{"$error":"#VALUE!"}},{"$f":"SUBSTITUTE(IN!G773,\"-\",\"\")","v":""},{"$f":"IF(A773=10,CONCATENATE(C773,D773),D773)","v":""},{"$f":"IN!F773*60","v":0},{"$f":"ROUND(F773,0)","v":0},{"$f":"CONCATENATE(MID(E773,3,6),\"-\",MID(E773,9,4))","v":"-"}]
[0,{"$error":"#VALUE!"},{"$error":"#VALUE!"},{"$f":"SUBSTITUTE(IN!G774,\"-\",\"\")","v":""},"",{"$f":"IN!F774*60","v":0},0,"-"]
[0,{"$error":"#VALUE!"},{"$error":"#VALUE!"},{"$f":"SUBSTITUTE(IN!G775,\"-\",\"\")","v":""},"",{"$f":"IN!F775*60","v":0},0,"-"]
[0,{"$error":"#VALUE!"},{"$error":"#VALUE!"},{"$f":"SUBSTITUTE(IN!G776,\"-\",\"\")","v":""},"",{"$f":"IN!F776*60","v":0},0,"-"]
[0,{"$error":"#VALUE!"},{"$error":"#VALUE!"},{"$f":"SUBSTITUTE(IN!G777,\"-\",\"\")","v":""},"",{"$f":"IN!F777*60","v":0},0,"-"]
[0,{"$error":"#VALUE!"},{"$error":"#VALUE!"},{"$f":"SUBSTITUTE(IN!G778,\"-\",\"\")","v":""},"",{"$f":"IN!F778*60","v":0},0,"-"]
[0,{"$error":"#VALUE!"},{"$error":"#VALUE!"},{"$f":"SUBSTITUTE(IN!G779,\"-\",\"\")","v":""},"",{"$f":"IN!F779*60","v":0},0,"-"]
[0,{"$error":"#VALUE!"},{"$error":"#VALUE!"},{"$f":"SUBSTITUTE(IN!G780,\"-\",\"\")","v":""},"",{"$f":"IN!F780*60","v":0},0,"-"]
[0,{"$error":"#VALUE!"},{"$error":"#VALUE!"},{"$f":"SUBSTITUTE(IN!G781,\"-\",\"\")","v":""},"",{"$f":"IN!F781*60","v":0},0,"-"]
[0,{"$error":"#VALUE!"},{"$error":"#VALUE!"},{"$f":"SUBSTITUTE(IN!G782,\"-\",\"\")","v":""},"",{"$f":"IN!F782*60","v":0},0,"-"]
[0,{"$error":"#VALUE!"},{"$error":"#VALUE!"},{"$f":"SUBSTITUTE(IN!G783,\"-\",\"\")","v":""},"",{"$f":"IN!F783*60","v":0},0,"-"]
[0,{"$error":"#VALUE!"},{"$error":"#VALUE!"},{"$f":"SUBSTITUTE(IN!G784,\"-\",\"\")","v":""},"",{"$f":"IN!F784*60","v":0},0,"-"]
[0,{"$error":"#VALUE!"},{"$error":"#VALUE!"},{"$f":"SUBSTITUTE(IN!G785,\"-\",\"\")","v":""},"",{"$f":"IN!F785*60","v":0},0,"-"]
[0,{"$error":"#VALUE!"},{"$error":"#VALUE!"},{"$f":"SUBSTITUTE(IN!G786,\"-\",\"\")","v":""},"",{"$f":"IN!F786*60","v":0},0,"-"]
[0,{"$error":"#VALUE!"},{"$error":"#VALUE!"},{"$f":"SUBSTITUTE(IN!G787,\"-\",\"\")","v":""},"",{"$f":"IN!F787*60","v":0},0,"-"]
[0,{"$error":"#VALUE!"},{"$error":"#VALUE!"},{"$f":"SUBSTITUTE(IN!G788,\"-\",\"\")","v":""},"",{"$f":"IN!F788*60","v":0},0,"-"]
[0,{"$error":"#VALUE!"},{"$error":"#VALUE!"},{"$f":"SUBSTITUTE(IN!G789,\"-\",\"\")","v":""},"",{"$f":"IN!F789*60","v":0},0,"-"]
[0,{"$error":"#VALUE!"},{"$error":"#VALUE!"},{"$f":"SUBSTITUTE(IN!G790,\"-\",\"\")","v":""},"",{"$f":"IN!F790*60","v":0},0,"-"]
[0,{"$error":"#VALUE!"},{"$error":"#VALUE!"},{"$f":"SUBSTITUTE(IN!G791,\"-\",\"\")","v":""},"",{"$f":"IN!F791*60","v":0},0,"-"]
[0,{"$error":"#VALUE!"},{"$error":"#VALUE!"},{"$f":"SUBSTITUTE(IN!G792,\"-\",\"\")","v":""},"",{"$f":"IN!F792*60","v":0},0,"-"]
[0,{"$error":"#VALUE!"},{"$error":"#VALUE!"},{"$f":"SUBSTITUTE(IN!G793,\"-\",\"\")","v":""},"",{"$f":"IN!F793*60","v":0},0,"-"]
[0,{"$error":"#VALUE!"},{"$error":"#VALUE!"},{"$f":"SUBSTITUTE(IN!G794,\"-\",\"\")","v":""},"",{"$f":"IN!F794*60","v":0},0,"-"]
[0,{"$error":"#VALUE!"},{"$error":"#VALUE!"},{"$f":"SUBSTITUTE(IN!G795,\"-\",\"\")","v":""},"",{"$f":"IN!F795*60","v":0},0,"-"]
[0,{"$error":"#VALUE!"},{"$error":"#VALUE!"},{"$f":"SUBSTITUTE(IN!G796,\"-\",\"\")","v":""},"",{"$f":"IN!F796*60","v":0},0,"-"]
[0,{"$error":"#VALUE!"},{"$error":"#VALUE!"},{"$f":"SUBSTITUTE(IN!G797,\"-\",\"\")","v":""},"",{"$f":"IN!F797*60","v":0},0,"-"]
[0,{"$error":"#VALUE!"},{"$error":"#VALUE!"},{"$f":"SUBSTITUTE(IN!G798,\"-\",\"\")","v":""},"",{"$f":"IN!F798*60","v":0},0,"-"]
[0,{"$error":"#VALUE!"},{"$error":"#VALUE!"},{"$f":"SUBSTITUTE(IN!G799,\"-\",\"\")","v":""},"",{"$f":"IN!F799*60","v":0},0,"-"]
[0,{"$error":"#VALUE!"},{"$error":"#VALUE!"},{"$f":"SUBSTITUTE(IN!G800,\"-\",\"\")","v":""},"",{"$f":"IN!F800*60","v":0},0,"-"]
[0,{"$error":"#VALUE!"},{"$error":"#VALUE!"},{"$f":"SUBSTITUTE(IN!G801,\"-\",\"\")","v":""},"",{"$f":"IN!F801*60","v":0},0,"-"]
[0,{"$error":"#VALUE!"},{"$error":"#VALUE!"},{"$f":"SUBSTITUTE(IN!G802,\"-\",\"\")","v":""},"",{"$f":"IN!F802*60","v":0},0,"-"]
[0,{"$error":"#VALUE!"},{"$error":"#VALUE!"},{"$f":"SUBSTITUTE(IN!G803,\"-\",\"\")","v":""},"",{"$f":"IN!F803*60","v":0},0,"-"]
[0,{"$error":"#VALUE!"},{"$error":"#VALUE!"},{"$f":"SUBSTITUTE(IN!G804,\"-\",\"\")","v":""},"",{"$f":"IN!F804*60","v":0},0,"-"]
[0,{"$error":"#VALUE!"},{"$error":"#VALUE!"},{"$f":"SUBSTITUTE(IN!G805,\"-\",\"\")","v":""},"",{"$f":"IN!F805*60","v":0},0,"-"]
[0,{"$error":"#VALUE!"},{"$error":"#VALUE!"},{"$f":"SUBSTITUTE(IN!G806,\"-\",\"\")","v":""},"",{"$f":"IN!F806*60","v":0},0,"-"]
[0,{"$error":"#VALUE!"},{"$error":"#VALUE!"},{"$f":"SUBSTITUTE(IN!G807,\"-\",\"\")","v":""},"",{"$f":"IN!F807*60","v":0},0,"-"]
[0,{"$error":"#VALUE!"},{"$error":"#VALUE!"},{"$f":"SUBSTITUTE(IN!G808,\"-\",\"\")","v":""},"",{"$f":"IN!F808*60","v":0},0,"-"]
[0,{"$error":"#VALUE!"},{"$error":"#VALUE!"},{"$f":"SUBSTITUTE(IN!G809,\"-\",\"\")","v":""},"",{"$f":"IN!F809*60","v":0},0,"-"]
[0,{"$error":"#VALUE!"},{"$error":"#VALUE!"},{"$f":"SUBSTITUTE(IN!G810,\"-\",\"\")","v":""},"",{"$f":"IN!F810*60","v":0},0,"-"]
[0,{"$error":"#VALUE!"},{"$error":"#VALUE!"},{"$f":"SUBSTITUTE(IN!G811,\"-\",\"\")","v":""},"",{"$f":"IN!F811*60","v":0},0,"-"]
[0,{"$error":"#VALUE!"},{"$error":"#VALUE!"},{"$f":"SUBSTITUTE(IN!G812,\"-\",\"\")","v":""},"",{"$f":"IN!F812*60","v":0},0,"-"]
[0,{"$error":"#VALUE!"},{"$error":"#VALUE!"},{"$f":"SUBSTITUTE(IN!G813,\"-\",\"\")","v":""},"",{"$f":"IN!F813*60","v":0},0,"-"]
[0,{"$error":"#VALUE!"},{"$error":"#VALUE!"},{"$f":"SUBSTITUTE(IN!G814,\"-\",\"\")","v":""},"",{"$f":"IN!F814*60","v":0},0,"-"]
[0,{"$error":"#VALUE!"},{"$error":"#VALUE!"},{"$f":"SUBSTITUTE(IN!G815,\"-\",\"\")","v":""},"",{"$f":"IN!F815*60","v":0},0,"-"]
[0,{"$error":"#VALUE!"},{"$error":"#VALUE!"},{"$f":"SUBSTITUTE(IN!G816,\"-\",\"\")","v":""},"",{"$f":"IN!F816*60","v":0},0,"-"]
[0,{"$error":"#VALUE!"},{"$error":"#VALUE!"},{"$f":"SUBSTITUTE(IN!G817,\"-\",\"\")","v":""},"",{"$f":"IN!F817*60","v":0},0,"-"]
[0,{"$error":"#VALUE!"},{"$error":"#VALUE!"},{"$f":"SUBSTITUTE(IN!G818,\"-\",\"\")","v":""},"",{"$f":"IN!F818*60","v":0},0,"-"]
[0,{"$error":"#VALUE!"},{"$error":"#VALUE!"},{"$f":"SUBSTITUTE(IN!G819,\"-\",\"\")","v":""},"",{"$f":"IN!F819*60","v":0},0,"-"]
[0,{"$error":"#VALUE!"},{"$error":"#VALUE!"},{"$f":"SUBSTITUTE(IN!G820,\"-\",\"\")","v":""},"",{"$f":"IN!F820*60","v":0},0,"-"]
[0,{"$error":"#VALUE!"},{"$error":"#VALUE!"},{"$f":"SUBSTITUTE(IN!G821,\"-\",\"\")","v":""},"",{"$f":"IN!F821*60","v":0},0,"-"]
[0,{"$error":"#VALUE!"},{"$error":"#VALUE!"},{"$f":"SUBSTITUTE(IN!G822,\"-\",\"\")","v":""},"",{"$f":"IN!F822*60","v":0},0,"-"]
[0,{"$error":"#VALUE!"},{"$error":"#VALUE!"},{"$f":"SUBSTITUTE(IN!G823,\"-\",\"\")","v":""},"",{"$f":"IN!F823*60","v":0},0,"-"]
[0,{"$error":"#VALUE!"},{"$error":"#VALUE!"},{"$f":"SUBSTITUTE(IN!G824,\"-\",\"\")","v":""},"",{"$f":"IN!F824*60","v":0},0,"-"]
[0,{"$error":"#VALUE!"},{"$error":"#VALUE!"},{"$f":"SUBSTITUTE(IN!G825,\"-\",\"\")","v":""},"",{"$f":"IN!F825*60","v":0},0,"-"]
[0,{"$error":"#VALUE!"},{"$error":"#VALUE!"},{"$f":"SUBSTITUTE(IN!G826,\"-\",\"\")","v":""},"",{"$f":"IN!F826*60","v":0},0,"-"]
[0,{"$error":"#VALUE!"},{"$error":"#VALUE!"},{"$f":"SUBSTITUTE(IN!G827,\"-\",\"\")","v":""},"",{"$f":"IN!F827*60","v":0},0,"-"]
[0,{"$error":"#VALUE!"},{"$error":"#VALUE!"},{"$f":"SUBSTITUTE(IN!G828,\"-\",\"\")","v":""},"",{"$f":"IN!F828*60","v":0},0,"-"]
[0,{"$error":"#VALUE!"},{"$error":"#VALUE!"},{"$f":"SUBSTITUTE(IN!G829,\"-\",\"\")","v":""},"",{"$f":"IN!F829*60","v":0},0,"-"]
[0,{"$error":"#VALUE!"},{"$error":"#VALUE!"},{"$f":"SUBSTITUTE(IN!G830,\"-\",\"\")","v":""},"",{"$f":"IN!F830*60","v":0},0,"-"]
[0,{"$error":"#VALUE!"},{"$error":"#VALUE!"},{"$f":"SUBSTITUTE(IN!G831,\"-\",\"\")","v":""},"",{"$f":"IN!F831*60","v":0},0,"-"]
[0,{"$error":"#VALUE!"},{"$error":"#VALUE!"},{"$f":"SUBSTITUTE(IN!G832,\"-\",\"\")","v":""},"",{"$f":"IN!F832*60","v":0},0,"-"]
[0,{"$error":"#VALUE!"},{"$error":"#VALUE!"},{"$f":"SUBSTITUTE(IN!G833,\"-\",\"\")","v":""},"",{"$f":"IN!F833*60","v":0},0,"-"]
[0,{"$error":"#VALUE!"},{"$error":"#VALUE!"},{"$f":"SUBSTITUTE(IN!G834,\"-\",\"\")","v":""},"",{"$f":"IN!F834*60","v":0},0,"-"]
[0,{"$error":"#VALUE!"},{"$error":"#VALUE!"},{"$f":"SUBSTITUTE(IN!G835,\"-\",\"\")","v":""},"",{"$f":"IN!F835*60","v":0},0,"-"]
[0,{"$error":"#VALUE!"},{"$error":"#VALUE!"},{"$f":"SUBSTITUTE(IN!G836,\"-\",\"\")","v":""},"",{"$f":"IN!F836*60","v":0},0,"-"]
[{"$f":"LEN(D837)","v":0},{"$f":"VALUE(LEFT(D837,1))","v":{"$error":"#VALUE!"}},{"$f":"IF(B837<2,20,19)","v":{"$error":"#VALUE!"}},{"$f":"SUBSTITUTE(IN!G837,\"-\",\"\")","v":""},{"$f":"IF(A837=10,CONCATENATE(C837,D837),D837)","v":""},{"$f":"IN!F837*60","v":0},{"$f":"ROUND(F837,0)","v":0},{"$f":"CONCATENATE(MID(E837,3,6),\"-\",MID(E837,9,4))","v":"-"}]
[0,{"$error":"#VALUE!"},{"$error":"#VALUE!"},{"$f":"SUBSTITUTE(IN!G838,\"-\",\"\")","v":""},"",{"$f":"IN!F838*60","v":0},0,"-"]
[0,{"$error":"#VALUE!"},{"$error":"#VALUE!"},{"$f":"SUBSTITUTE(IN!G839,\"-\",\"\")","v":""},"",{"$f":"IN!F839*60","v":0},0,"-"]
[0,{"$error":"#VALUE!"},{"$error":"#VALUE!"},{"$f":"SUBSTITUTE(IN!G840,\"-\",\"\")","v":""},"",{"$f":"IN!F840*60","v":0},0,"-"]
[0,{"$error":"#VALUE!"},{"$error":"#VALUE!"},{"$f":"SUBSTITUTE(IN!G841,\"-\",\"\")","v":""},"",{"$f":"IN!F841*60","v":0},0,"-"]
[0,{"$error":"#VALUE!"},{"$error":"#VALUE!"},{"$f":"SUBSTITUTE(IN!G842,\"-\",\"\")","v":""},"",{"$f":"IN!F842*60","v":0},0,"-"]
[0,{"$error":"#VALUE!"},{"$error":"#VALUE!"},{"$f":"SUBSTITUTE(IN!G843,\"-\",\"\")","v":""},"",{"$f":"IN!F843*60","v":0},0,"-"]
[0,{"$error":"#VALUE!"},{"$error":"#VALUE!"},{"$f":"SUBSTITUTE(IN!G844,\"-\",\"\")","v":""},"",{"$f":"IN!F844*60","v":0},0,"-"]
[0,{"$error":"#VALUE!"},{"$error":"#VALUE!"},{"$f":"SUBSTITUTE(IN!G845,\"-\",\"\")","v":""},"",{"$f":"IN!F845*60","v":0},0,"-"]
[0,{"$error":"#VALUE!"},{"$error":"#VALUE!"},{"$f":"SUBSTITUTE(IN!G846,\"-\",\"\")","v":""},"",{"$f":"IN!F846*60","v":0},0,"-"]
[0,{"$error":"#VALUE!"},{"$error":"#VALUE!"},{"$f":"SUBSTITUTE(IN!G847,\"-\",\"\")","v":""},"",{"$f":"IN!F847*60","v":0},0,"-"]
[0,{"$error":"#VALUE!"},{"$error":"#VALUE!"},{"$f":"SUBSTITUTE(IN!G848,\"-\",\"\")","v":""},"",{"$f":"IN!F848*60","v":0},0,"-"]
[0,{"$error":"#VALUE!"},{"$error":"#VALUE!"},{"$f":"SUBSTITUTE(IN!G849,\"-\",\"\")","v":""},"",{"$f":"IN!F849*60","v":0},0,"-"]
[0,{"$error":"#VALUE!"},{"$error":"#VALUE!"},{"$f":"SUBSTITUTE(IN!G850,\"-\",\"\")","v":""},"",{"$f":"IN!F850*60","v":0},0,"-"]
[0,{"$error":"#VALUE!"},{"$error":"#VALUE!"},{"$f":"SUBSTITUTE(IN!G851,\"-\",\"\")","v":""},"",{"$f":"IN!F851*60","v":0},0,"-"]
[0,{"$error":"#VALUE!"},{"$error":"#VALUE!"},{"$f":"SUBSTITUTE(IN!G852,\"-\",\"\")","v":""},"",{"$f":"IN!F852*60","v":0},0,"-"]
[0,{"$error":"#VALUE!"},{"$error":"#VALUE!"},{"$f":"SUBSTITUTE(IN!G853,\"-\",\"\")","v":""},"",{"$f":"IN!F853*60","v":0},0,"-"]
[0,{"$error":"#VALUE!"},{"$error":"#VALUE!"},{"$f":"SUBSTITUTE(IN!G854,\"-\",\"\")","v":""},"",{"$f":"IN!F854*60","v":0},0,"-"]
[0,{"$error":"#VALUE!"},{"$error":"#VALUE!"},{"$f":"SUBSTITUTE(IN!G855,\"-\",\"\")","v":""},"",{"$f":"IN!F855*60","v":0},0,"-"]
[0,{"$error":"#VALUE!"},{"$error":"#VALUE!"},{"$f":"SUBSTITUTE(IN!G856,\"-\",\"\")","v":""},"",{"$f":"IN!F856*60","v":0},0,"-"]
[0,{"$error":"#VALUE!"},{"$error":"#VALUE!"},{"$f":"SUBSTITUTE(IN!G857,\"-\",\"\")","v":""},"",{"$f":"IN!F857*60","v":0},0,"-"]
[0,{"$error":"#VALUE!"},{"$error":"#VALUE!"},{"$f":"SUBSTITUTE(IN!G858,\"-\",\"\")","v":""},"",{"$f":"IN!F858*60","v":0},0,"-"]
[0,{"$error":"#VALUE!"},{"$error":"#VALUE!"},{"$f":"SUBSTITUTE(IN!G859,\"-\",\"\")","v":""},"",{"$f":"IN!F859*60","v":0},0,"-"]
[0,{"$error":"#VALUE!"},{"$error":"#VALUE!"},{"$f":"SUBSTITUTE(IN!G860,\"-\",\"\")","v":""},"",{"$f":"IN!F860*60","v":0},0,"-"]
[0,{"$error":"#VALUE!"},{"$error":"#VALUE!"},{"$f":"SUBSTITUTE(IN!G861,\"-\",\"\")","v":""},"",{"$f":"IN!F861*60","v":0},0,"-"]
[0,{"$error":"#VALUE!"},{"$error":"#VALUE!"},{"$f":"SUBSTITUTE(IN!G862,\"-\",\"\")","v":""},"",{"$f":"IN!F862*60","v":0},0,"-"]
[0,{"$error":"#VALUE!"},{"$error":"#VALUE!"},{"$f":"SUBSTITUTE(IN!G863,\"-\",\"\")","v":""},"",{"$f":"IN!F863*60","v":0},0,"-"]
[0,{"$error":"#VALUE!"},{"$error":"#VALUE!"},{"$f":"SUBSTITUTE(IN!G864,\"-\",\"\")","v":""},"",{"$f":"IN!F864*60","v":0},0,"-"]
[0,{"$error":"#VALUE!"},{"$error":"#VALUE!"},{"$f":"SUBSTITUTE(IN!G865,\"-\",\"\")","v":""},"",{"$f":"IN!F865*60","v":0},0,"-"]
[0,{"$error":"#VALUE!"},{"$error":"#VALUE!"},{"$f":"SUBSTITUTE(IN!G866,\"-\",\"\")","v":""},"",{"$f":"IN!F866*60","v":0},0,"-"]
[0,{"$error":"#VALUE!"},{"$error":"#VALUE!"},{"$f":"SUBSTITUTE(IN!G867,\"-\",\"\")","v":""},"",{"$f":"IN!F867*60","v":0},0,"-"]
[0,{"$error":"#VALUE!"},{"$error":"#VALUE!"},{"$f":"SUBSTITUTE(IN!G868,\"-\",\"\")","v":""},"",{"$f":"IN!F868*60","v":0},0,"-"]
[0,{"$error":"#VALUE!"},{"$error":"#VALUE!"},{"$f":"SUBSTITUTE(IN!G869,\"-\",\"\")","v":""},"",{"$f":"IN!F869*60","v":0},0,"-"]
[0,{"$error":"#VALUE!"},{"$error":"#VALUE!"},{"$f":"SUBSTITUTE(IN!G870,\"-\",\"\")","v":""},"",{"$f":"IN!F870*60","v":0},0,"-"]
[0,{"$error":"#VALUE!"},{"$error":"#VALUE!"},{"$f":"SUBSTITUTE(IN!G871,\"-\",\"\")","v":""},"",{"$f":"IN!F871*60","v":0},0,"-"]
[0,{"$error":"#VALUE!"},{"$error":"#VALUE!"},{"$f":"SUBSTITUTE(IN!G872,\"-\",\"\")","v":""},"",{"$f":"IN!F872*60","v":0},0,"-"]
[0,{"$error":"#VALUE!"},{"$error":"#VALUE!"},{"$f":"SUBSTITUTE(IN!G873,\"-\",\"\")","v":""},"",{"$f":"IN!F873*60","v":0},0,"-"]
[0,{"$error":"#VALUE!"},{"$error":"#VALUE!"},{"$f":"SUBSTITUTE(IN!G874,\"-\",\"\")","v":""},"",{"$f":"IN!F874*60","v":0},0,"-"]
[0,{"$error":"#VALUE!"},{"$error":"#VALUE!"},{"$f":"SUBSTITUTE(IN!G875,\"-\",\"\")","v":""},"",{"$f":"IN!F875*60","v":0},0,"-"]
[0,{"$error":"#VALUE!"},{"$error":"#VALUE!"},{"$f":"SUBSTITUTE(IN!G876,\"-\",\"\")","v":""},"",{"$f":"IN!F876*60","v":0},0,"-"]
[0,{"$error":"#VALUE!"},{"$error":"#VALUE!"},{"$f":"SUBSTITUTE(IN!G877,\"-\",\"\")","v":""},"",{"$f":"IN!F877*60","v":0},0,"-"]
[0,{"$error":"#VALUE!"},{"$error":"#VALUE!"},{"$f":"SUBSTITUTE(IN!G878,\"-\",\"\")","v":""},"",{"$f":"IN!F878*60","v":0},0,"-"]
[0,{"$error":"#VALUE!"},{"$error":"#VALUE!"},{"$f":"SUBSTITUTE(IN!G879,\"-\",\"\")","v":""},"",{"$f":"IN!F879*60","v":0},0,"-"]
[0,{"$error":"#VALUE!"},{"$error":"#VALUE!"},{"$f":"SUBSTITUTE(IN!G880,\"-\",\"\")","v":""},"",{"$f":"IN!F880*60","v":0},0,"-"]
[0,{"$error":"#VALUE!"},{"$error":"#VALUE!"},{"$f":"SUBSTITUTE(IN!G881,\"-\",\"\")","v":""},"",{"$f":"IN!F881*60","v":0},0,"-"]
[0,{"$error":"#VALUE!"},{"$error":"#VALUE!"},{"$f":"SUBSTITUTE(IN!G882,\"-\",\"\")","v":""},"",{"$f":"IN!F882*60","v":0},0,"-"]
[0,{"$error":"#VALUE!"},{"$error":"#VALUE!"},{"$f":"SUBSTITUTE(IN!G883,\"-\",\"\")","v":""},"",{"$f":"IN!F883*60","v":0},0,"-"]
[0,{"$error":"#VALUE!"},{"$error":"#VALUE!"},{"$f":"SUBSTITUTE(IN!G884,\"-\",\"\")","v":""},"",{"$f":"IN!F884*60","v":0},0,"-"]
[0,{"$error":"#VALUE!"},{"$error":"#VALUE!"},{"$f":"SUBSTITUTE(IN!G885,\"-\",\"\")","v":""},"",{"$f":"IN!F885*60","v":0},0,"-"]
[0,{"$error":"#VALUE!"},{"$error":"#VALUE!"},{"$f":"SUBSTITUTE(IN!G886,\"-\",\"\")","v":""},"",{"$f":"IN!F886*60","v":0},0,"-"]
[0,{"$error":"#VALUE!"},{"$error":"#VALUE!"},{"$f":"SUBSTITUTE(IN!G887,\"-\",\"\")","v":""},"",{"$f":"IN!F887*60","v":0},0,"-"]
[0,{"$error":"#VALUE!"},{"$error":"#VALUE!"},{"$f":"SUBSTITUTE(IN!G888,\"-\",\"\")","v":""},"",{"$f":"IN!F888*60","v":0},0,"-"]
[0,{"$error":"#VALUE!"},{"$error":"#VALUE!"},{"$f":"SUBSTITUTE(IN!G889,\"-\",\"\")","v":""},"",{"$f":"IN!F889*60","v":0},0,"-"]
[0,{"$error":"#VALUE!"},{"$error":"#VALUE!"},{"$f":"SUBSTITUTE(IN!G890,\"-\",\"\")","v":""},"",{"$f":"IN!F890*60","v":0},0,"-"]
[0,{"$error":"#VALUE!"},{"$error":"#VALUE!"},{"$f":"SUBSTITUTE(IN!G891,\"-\",\"\")","v":""},"",{"$f":"IN!F891*60","v":0},0,"-"]
[0,{"$error":"#VALUE!"},{"$error":"#VALUE!"},{"$f":"SUBSTITUTE(IN!G892,\"-\",\"\")","v":""},"",{"$f":"IN!F892*60","v":0},0,"-"]
[0,{"$error":"#VALUE!"},{"$error":"#VALUE!"},{"$f":"SUBSTITUTE(IN!G893,\"-\",\"\")","v":""},"",{"$f":"IN!F893*60","v":0},0,"-"]
[0,{"$error":"#VALUE!"},{"$error":"#VALUE!"},{"$f":"SUBSTITUTE(IN!G894,\"-\",\"\")","v":""},"",{"$f":"IN!F894*60","v":0},0,"-"]
[0,{"$error":"#VALUE!"},{"$error":"#VALUE!"},{"$f":"SUBSTITUTE(IN!G895,\"-\",\"\")","v":""},"",{"$f":"IN!F895*60","v":0},0,"-"]
[0,{"$error":"#VALUE!"},{"$error":"#VALUE!"},{"$f":"SUBSTITUTE(IN!G896,\"-\",\"\")","v":""},"",{"$f":"IN!F896*60","v":0},0,"-"]
[0,{"$error":"#VALUE!"},{"$error":"#VALUE!"},{"$f":"SUBSTITUTE(IN!G897,\"-\",\"\")","v":""},"",{"$f":"IN!F897*60","v":0},0,"-"]
[0,{"$error":"#VALUE!"},{"$error":"#VALUE!"},{"$f":"SUBSTITUTE(IN!G898,\"-\",\"\")","v":""},"",{"$f":"IN!F898*60","v":0},0,"-"]
[0,{"$error":"#VALUE!"},{"$error":"#VALUE!"},{"$f":"SUBSTITUTE(IN!G899,\"-\",\"\")","v":""},"",{"$f":"IN!F899*60","v":0},0,"-"]
[0,{"$error":"#VALUE!"},{"$error":"#VALUE!"},{"$f":"SUBSTITUTE(IN!G900,\"-\",\"\")","v":""},"",{"$f":"IN!F900*60","v":0},0,"-"]
[{"$f":"LEN(D901)","v":0},{"$f":"VALUE(LEFT(D901,1))","v":{"$error":"#VALUE!"}},{"$f":"IF(B901<2,20,19)","v":{"$error":"#VALUE!"}},{"$f":"SUBSTITUTE(IN!G901,\"-\",\"\")","v":""},{"$f":"IF(A901=10,CONCATENATE(C901,D901),D901)","v":""},{"$f":"IN!F901*60","v":0},{"$f":"ROUND(F901,0)","v":0},{"$f":"CONCATENATE(MID(E901,3,6),\"-\",MID(E901,9,4))","v":"-"}]
[0,{"$error":"#VALUE!"},{"$error":"#VALUE!"},{"$f":"SUBSTITUTE(IN!G902,\"-\",\"\")","v":""},"",{"$f":"IN!F902*60","v":0},0,"-"]
[0,{"$error":"#VALUE!"},{"$error":"#VALUE!"},{"$f":"SUBSTITUTE(IN!G903,\"-\",\"\")","v":""},"",{"$f":"IN!F903*60","v":0},0,"-"]
[0,{"$error":"#VALUE!"},{"$error":"#VALUE!"},{"$f":"SUBSTITUTE(IN!G904,\"-\",\"\")","v":""},"",{"$f":"IN!F904*60","v":0},0,"-"]
[0,{"$error":"#VALUE!"},{"$error":"#VALUE!"},{"$f":"SUBSTITUTE(IN!G905,\"-\",\"\")","v":""},"",{"$f":"IN!F905*60","v":0},0,"-"]
[0,{"$error":"#VALUE!"},{"$error":"#VALUE!"},{"$f":"SUBSTITUTE(IN!G906,\"-\",\"\")","v":""},"",{"$f":"IN!F906*60","v":0},0,"-"]
[0,{"$error":"#VALUE!"},{"$error":"#VALUE!"},{"$f":"SUBSTITUTE(IN!G907,\"-\",\"\")","v":""},"",{"$f":"IN!F907*60","v":0},0,"-"]
[0,{"$error":"#VALUE!"},{"$error":"#VALUE!"},{"$f":"SUBSTITUTE(IN!G908,\"-\",\"\")","v":""},"",{"$f":"IN!F908*60","v":0},0,"-"]
[0,{"$error":"#VALUE!"},{"$error":"#VALUE!"},{"$f":"SUBSTITUTE(IN!G909,\"-\",\"\")","v":""},"",{"$f":"IN!F909*60","v":0},0,"-"]
[0,{"$error":"#VALUE!"},{"$error":"#VALUE!"},{"$f":"SUBSTITUTE(IN!G910,\"-\",\"\")","v":""},"",{"$f":"IN!F910*60","v":0},0,"-"]
[0,{"$error":"#VALUE!"},{"$error":"#VALUE!"},{"$f":"SUBSTITUTE(IN!G911,\"-\",\"\")","v":""},"",{"$f":"IN!F911*60","v":0},0,"-"]
[0,{"$error":"#VALUE!"},{"$error":"#VALUE!"},{"$f":"SUBSTITUTE(IN!G912,\"-\",\"\")","v":""},"",{"$f":"IN!F912*60","v":0},0,"-"]
[0,{"$error":"#VALUE!"},{"$error":"#VALUE!"},{"$f":"SUBSTITUTE(IN!G913,\"-\",\"\")","v":""},"",{"$f":"IN!F913*60","v":0},0,"-"]
[0,{"$error":"#VALUE!"},{"$error":"#VALUE!"},{"$f":"SUBSTITUTE(IN!G914,\"-\",\"\")","v":""},"",{"$f":"IN!F914*60","v":0},0,"-"]
[0,{"$error":"#VALUE!"},{"$error":"#VALUE!"},{"$f":"SUBSTITUTE(IN!G915,\"-\",\"\")","v":""},"",{"$f":"IN!F915*60","v":0},0,"-"]
[0,{"$error":"#VALUE!"},{"$error":"#VALUE!"},{"$f":"SUBSTITUTE(IN!G916,\"-\",\"\")","v":""},"",{"$f":"IN!F916*60","v":0},0,"-"]
[0,{"$error":"#VALUE!"},{"$error":"#VALUE!"},{"$f":"SUBSTITUTE(IN!G917,\"-\",\"\")","v":""},"",{"$f":"IN!F917*60","v":0},0,"-"]
[0,{"$error":"#VALUE!"},{"$error":"#VALUE!"},{"$f":"SUBSTITUTE(IN!G918,\"-\",\"\")","v":""},"",{"$f":"IN!F918*60","v":0},0,"-"]
[0,{"$error":"#VALUE!"},{"$error":"#VALUE!"},{"$f":"SUBSTITUTE(IN!G919,\"-\",\"\")","v":""},"",{"$f":"IN!F919*60","v":0},0,"-"]
[0,{"$error":"#VALUE!"},{"$error":"#VALUE!"},{"$f":"SUBSTITUTE(IN!G920,\"-\",\"\")","v":""},"",{"$f":"IN!F920*60","v":0},0,"-"]
[0,{"$error":"#VALUE!"},{"$error":"#VALUE!"},{"$f":"SUBSTITUTE(IN!G921,\"-\",\"\")","v":""},"",{"$f":"IN!F921*60","v":0},0,"-"]
[0,{"$error":"#VALUE!"},{"$error":"#VALUE!"},{"$f":"SUBSTITUTE(IN!G922,\"-\",\"\")","v":""},"",{"$f":"IN!F922*60","v":0},0,"-"]
[0,{"$error":"#VALUE!"},{"$error":"#VALUE!"},{"$f":"SUBSTITUTE(IN!G923,\"-\",\"\")","v":""},"",{"$f":"IN!F923*60","v":0},0,"-"]
[0,{"$error":"#VALUE!"},{"$error":"#VALUE!"},{"$f":"SUBSTITUTE(IN!G924,\"-\",\"\")","v":""},"",{"$f":"IN!F924*60","v":0},0,"-"]
[0,{"$error":"#VALUE!"},{"$error":"#VALUE!"},{"$f":"SUBSTITUTE(IN!G925,\"-\",\"\")","v":""},"",{"$f":"IN!F925*60","v":0},0,"-"]
[0,{"$error":"#VALUE!"},{"$error":"#VALUE!"},{"$f":"SUBSTITUTE(IN!G926,\"-\",\"\")","v":""},"",{"$f":"IN!F926*60","v":0},0,"-"]
[0,{"$error":"#VALUE!"},{"$error":"#VALUE!"},{"$f":"SUBSTITUTE(IN!G927,\"-\",\"\")","v":""},"",{"$f":"IN!F927*60","v":0},0,"-"]
[0,{"$error":"#VALUE!"},{"$error":"#VALUE!"},{"$f":"SUBSTITUTE(IN!G928,\"-\",\"\")","v":""},"",{"$f":"IN!F928*60","v":0},0,"-"]
[0,{"$error":"#VALUE!"},{"$error":"#VALUE!"},{"$f":"SUBSTITUTE(IN!G929,\"-\",\"\")","v":""},"",{"$f":"IN!F929*60","v":0},0,"-"]
[0,{"$error":"#VALUE!"},{"$error":"#VALUE!"},{"$f":"SUBSTITUTE(IN!G930,\"-\",\"\")","v":""},"",{"$f":"IN!F930*60","v":0},0,"-"]
[0,{"$error":"#VALUE!"},{"$error":"#VALUE!"},{"$f":"SUBSTITUTE(IN!G931,\"-\",\"\")","v":""},"",{"$f":"IN!F931*60","v":0},0,"-"]
[0,{"$error":"#VALUE!"},{"$error":"#VALUE!"},{"$f":"SUBSTITUTE(IN!G932,\"-\",\"\")","v":""},"",{"$f":"IN!F932*60","v":0},0,"-"]
[0,{"$error":"#VALUE!"},{"$error":"#VALUE!"},{"$f":"SUBSTITUTE(IN!G933,\"-\",\"\")","v":""},"",{"$f":"IN!F933*60","v":0},0,"-"]
[0,{"$error":"#VALUE!"},{"$error":"#VALUE!"},{"$f":"SUBSTITUTE(IN!G934,\"-\",\"\")","v":""},"",{"$f":"IN!F934*60","v":0},0,"-"]
[0,{"$error":"#VALUE!"},{"$error":"#VALUE!"},{"$f":"SUBSTITUTE(IN!G935,\"-\",\"\")","v":""},"",{"$f":"IN!F935*60","v":0},0,"-"]
[0,{"$error":"#VALUE!"},{"$error":"#VALUE!"},{"$f":"SUBSTITUTE(IN!G936,\"-\",\"\")","v":""},"",{"$f":"IN!F936*60","v":0},0,"-"]
[0,{"$error":"#VALUE!"},{"$error":"#VALUE!"},{"$f":"SUBSTITUTE(IN!G937,\"-\",\"\")","v":""},"",{"$f":"IN!F937*60","v":0},0,"-"]
[0,{"$error":"#VALUE!"},{"$error":"#VALUE!"},{"$f":"SUBSTITUTE(IN!G938,\"-\",\"\")","v":""},"",{"$f":"IN!F938*60","v":0},0,"-"]
[0,{"$error":"#VALUE!"},{"$error":"#VALUE!"},{"$f":"SUBSTITUTE(IN!G939,\"-\",\"\")","v":""},"",{"$f":"IN!F939*60","v":0},0,"-"]
[0,{"$error":"#VALUE!"},{"$error":"#VALUE!"},{"$f":"SUBSTITUTE(IN!G940,\"-\",\"\")","v":""},"",{"$f":"IN!F940*60","v":0},0,"-"]
[0,{"$error":"#VALUE!"},{"$error":"#VALUE!"},{"$f":"SUBSTITUTE(IN!G941,\"-\",\"\")","v":""},"",{"$f":"IN!F941*60","v":0},0,"-"]
[0,{"$error":"#VALUE!"},{"$error":"#VALUE!"},{"$f":"SUBSTITUTE(IN!G942,\"-\",\"\")","v":""},"",{"$f":"IN!F942*60","v":0},0,"-"]
[0,{"$error":"#VALUE!"},{"$error":"#VALUE!"},{"$f":"SUBSTITUTE(IN!G943,\"-\",\"\")","v":""},"",{"$f":"IN!F943*60","v":0},0,"-"]
[0,{"$error":"#VALUE!"},{"$error":"#VALUE!"},{"$f":"SUBSTITUTE(IN!G944,\"-\",\"\")","v":""},"",{"$f":"IN!F944*60","v":0},0,"-"]
[0,{"$error":"#VALUE!"},{"$error":"#VALUE!"},{"$f":"SUBSTITUTE(IN!G945,\"-\",\"\")","v":""},"",{"$f":"IN!F945*60","v":0},0,"-"]
[0,{"$error":"#VALUE!"},{"$error":"#VALUE!"},{"$f":"SUBSTITUTE(IN!G946,\"-\",\"\")","v":""},"",{"$f":"IN!F946*60","v":0},0,"-"]
[0,{"$error":"#VALUE!"},{"$error":"#VALUE!"},{"$f":"SUBSTITUTE(IN!G947,\"-\",\"\")","v":""},"",{"$f":"IN!F947*60","v":0},0,"-"]
[0,{"$error":"#VALUE!"},{"$error":"#VALUE!"},{"$f":"SUBSTITUTE(IN!G948,\"-\",\"\")","v":""},"",{"$f":"IN!F948*60","v":0},0,"-"]
[0,{"$error":"#VALUE!"},{"$error":"#VALUE!"},{"$f":"SUBSTITUTE(IN!G949,\"-\",\"\")","v":""},"",{"$f":"IN!F949*60","v":0},0,"-"]
[0,{"$error":"#VALUE!"},{"$error":"#VALUE!"},{"$f":"SUBSTITUTE(IN!G950,\"-\",\"\")","v":""},"",{"$f":"IN!F950*60","v":0},0,"-"]
[0,{"$error":"#VALUE!"},{"$error":"#VALUE!"},{"$f":"SUBSTITUTE(IN!G951,\"-\",\"\")","v":""},"",{"$f":"IN!F951*60","v":0},0,"-"]
[0,{"$error":"#VALUE!"},{"$error":"#VALUE!"},{"$f":"SUBSTITUTE(IN!G952,\"-\",\"\")","v":""},"",{"$f":"IN!F952*60","v":0},0,"-"]
[0,{"$error":"#VALUE!"},{"$error":"#VALUE!"},{"$f":"SUBSTITUTE(IN!G953,\"-\",\"\")","v":""},"",{"$f":"IN!F953*60","v":0},0,"-"]
[0,{"$error":"#VALUE!"},{"$error":"#VALUE!"},{"$f":"SUBSTITUTE(IN!G954,\"-\",\"\")","v":""},"",{"$f":"IN!F954*60","v":0},0,"-"]
[0,{"$error":"#VALUE!"},{"$error":"#VALUE!"},{"$f":"SUBSTITUTE(IN!G955,\"-\",\"\")","v":""},"",{"$f":"IN!F955*60","v":0},0,"-"]
[0,{"$error":"#VALUE!"},{"$error":"#VALUE!"},{"$f":"SUBSTITUTE(IN!G956,\"-\",\"\")","v":""},"",{"$f":"IN!F956*60","v":0},0,"-"]
[0,{"$error":"#VALUE!"},{"$error":"#VALUE!"},{"$f":"SUBSTITUTE(IN!G957,\"-\",\"\")","v":""},"",{"$f":"IN!F957*60","v":0},0,"-"]
[0,{"$error":"#VALUE!"},{"$error":"#VALUE!"},{"$f":"SUBSTITUTE(IN!G958,\"-\",\"\")","v":""},"",{"$f":"IN!F958*60","v":0},0,"-"]
[0,{"$error":"#VALUE!"},{"$error":"#VALUE!"},{"$f":"SUBSTITUTE(IN!G959,\"-\",\"\")","v":""},"",{"$f":"IN!F959*60","v":0},0,"-"]
[0,{"$error":"#VALUE!"},{"$error":"#VALUE!"},{"$f":"SUBSTITUTE(IN!G960,\"-\",\"\")","v":""},"",{"$f":"IN!F960*60","v":0},0,"-"]
[0,{"$error":"#VALUE!"},{"$error":"#VALUE!"},{"$f":"SUBSTITUTE(IN!G961,\"-\",\"\")","v":""},"",{"$f":"IN!F961*60","v":0},0,"-"]
[0,{"$error":"#VALUE!"},{"$error":"#VALUE!"},{"$f":"SUBSTITUTE(IN!G962,\"-\",\"\")","v":""},"",{"$f":"IN!F962*60","v":0},0,"-"]
[0,{"$error":"#VALUE!"},{"$error":"#VALUE!"},{"$f":"SUBSTITUTE(IN!G963,\"-\",\"\")","v":""},"",{"$f":"IN!F963*60","v":0},0,"-"]
[0,{"$error":"#VALUE!"},{"$error":"#VALUE!"},{"$f":"SUBSTITUTE(IN!G964,\"-\",\"\")","v":""},"",{"$f":"IN!F964*60","v":0},0,"-"]
[{"$f":"LEN(D965)","v":0},{"$f":"VALUE(LEFT(D965,1))","v":{"$error":"#VALUE!"}},{"$f":"IF(B965<2,20,19)","v":{"$error":"#VALUE!"}},{"$f":"SUBSTITUTE(IN!G965,\"-\",\"\")","v":""},{"$f":"IF(A965=10,CONCATENATE(C965,D965),D965)","v":""},{"$f":"IN!F965*60","v":0},{"$f":"ROUND(F965,0)","v":0},{"$f":"CONCATENATE(MID(E965,3,6),\"-\",MID(E965,9,4))","v":"-"}]
[0,{"$error":"#VALUE!"},{"$error":"#VALUE!"},{"$f":"SUBSTITUTE(IN!G966,\"-\",\"\")","v":""},"",{"$f":"IN!F966*60","v":0},0,"-"]
[0,{"$error":"#VALUE!"},{"$error":"#VALUE!"},{"$f":"SUBSTITUTE(IN!G967,\"-\",\"\")","v":""},"",{"$f":"IN!F967*60","v":0},0,"-"]
[0,{"$error":"#VALUE!"},{"$error":"#VALUE!"},{"$f":"SUBSTITUTE(IN!G968,\"-\",\"\")","v":""},"",{"$f":"IN!F968*60","v":0},0,"-"]
[0,{"$error":"#VALUE!"},{"$error":"#VALUE!"},{"$f":"SUBSTITUTE(IN!G969,\"-\",\"\")","v":""},"",{"$f":"IN!F969*60","v":0},0,"-"]
[0,{"$error":"#VALUE!"},{"$error":"#VALUE!"},{"$f":"SUBSTITUTE(IN!G970,\"-\",\"\")","v":""},"",{"$f":"IN!F970*60","v":0},0,"-"]
[0,{"$error":"#VALUE!"},{"$error":"#VALUE!"},{"$f":"SUBSTITUTE(IN!G971,\"-\",\"\")","v":""},"",{"$f":"IN!F971*60","v":0},0,"-"]
[0,{"$error":"#VALUE!"},{"$error":"#VALUE!"},{"$f":"SUBSTITUTE(IN!G972,\"-\",\"\")","v":""},"",{"$f":"IN!F972*60","v":0},0,"-"]
[0,{"$error":"#VALUE!"},{"$error":"#VALUE!"},{"$f":"SUBSTITUTE(IN!G973,\"-\",\"\")","v":""},"",{"$f":"IN!F973*60","v":0},0,"-"]
[0,{"$error":"#VALUE!"},{"$error":"#VALUE!"},{"$f":"SUBSTITUTE(IN!G974,\"-\",\"\")","v":""},"",{"$f":"IN!F974*60","v":0},0,"-"]
[0,{"$error":"#VALUE!"},{"$error":"#VALUE!"},{"$f":"SUBSTITUTE(IN!G975,\"-\",\"\")","v":""},"",{"$f":"IN!F975*60","v":0},0,"-"]
[0,{"$error":"#VALUE!"},{"$error":"#VALUE!"},{"$f":"SUBSTITUTE(IN!G976,\"-\",\"\")","v":""},"",{"$f":"IN!F976*60","v":0},0,"-"]
[0,{"$error":"#VALUE!"},{"$error":"#VALUE!"},{"$f":"SUBSTITUTE(IN!G977,\"-\",\"\")","v":""},"",{"$f":"IN!F977*60","v":0},0,"-"]
[0,{"$error":"#VALUE!"},{"$error":"#VALUE!"},{"$f":"SUBSTITUTE(IN!G978,\"-\",\"\")","v":""},"",{"$f":"IN!F978*60","v":0},0,"-"]
[0,{"$error":"#VALUE!"},{"$error":"#VALUE!"},{"$f":"SUBSTITUTE(IN!G979,\"-\",\"\")","v":""},"",{"$f":"IN!F979*60","v":0},0,"-"]
[0,{"$error":"#VALUE!"},{"$error":"#VALUE!"},{"$f":"SUBSTITUTE(IN!G980,\"-\",\"\")","v":""},"",{"$f":"IN!F980*60","v":0},0,"-"]
[0,{"$error":"#VALUE!"},{"$error":"#VALUE!"},{"$f":"SUBSTITUTE(IN!G981,\"-\",\"\")","v":""},"",{"$f":"IN!F981*60","v":0},0,"-"]
[0,{"$error":"#VALUE!"},{"$error":"#VALUE!"},{"$f":"SUBSTITUTE(IN!G982,\"-\",\"\")","v":""},"",{"$f":"IN!F982*60","v":0},0,"-"]
[0,{"$error":"#VALUE!"},{"$error":"#VALUE!"},{"$f":"SUBSTITUTE(IN!G983,\"-\",\"\")","v":""},"",{"$f":"IN!F983*60","v":0},0,"-"]
[0,{"$error":"#VALUE!"},{"$error":"#VALUE!"},{"$f":"SUBSTITUTE(IN!G984,\"-\",\"\")","v":""},"",{"$f":"IN!F984*60","v":0},0,"-"]
[0,{"$error":"#VALUE!"},{"$error":"#VALUE!"},{"$f":"SUBSTITUTE(IN!G985,\"-\",\"\")","v":""},"",{"$f":"IN!F985*60","v":0},0,"-"]
[0,{"$error":"#VALUE!"},{"$error":"#VALUE!"},{"$f":"SUBSTITUTE(IN!G986,\"-\",\"\")","v":""},"",{"$f":"IN!F986*60","v":0},0,"-"]
[0,{"$error":"#VALUE!"},{"$error":"#VALUE!"},{"$f":"SUBSTITUTE(IN!G987,\"-\",\"\")","v":""},"",{"$f":"IN!F987*60","v":0},0,"-"]
[0,{"$error":"#VALUE!"},{"$error":"#VALUE!"},{"$f":"SUBSTITUTE(IN!G988,\"-\",\"\")","v":""},"",{"$f":"IN!F988*60","v":0},0,"-"]
[0,{"$error":"#VALUE!"},{"$error":"#VALUE!"},{"$f":"SUBSTITUTE(IN!G989,\"-\",\"\")","v":""},"",{"$f":"IN!F989*60","v":0},0,"-"]
[0,{"$error":"#VALUE!"},{"$error":"#VALUE!"},{"$f":"SUBSTITUTE(IN!G990,\"-\",\"\")","v":""},"",{"$f":"IN!F990*60","v":0},0,"-"]
[0,{"$error":"#VALUE!"},{"$error":"#VALUE!"},{"$f":"SUBSTITUTE(IN!G991,\"-\",\"\")","v":""},"",{"$f":"IN!F991*60","v":0},0,"-"]
[0,{"$error":"#VALUE!"},{"$error":"#VALUE!"},{"$f":"SUBSTITUTE(IN!G992,\"-\",\"\")","v":""},"",{"$f":"IN!F992*60","v":0},0,"-"]
[0,{"$error":"#VALUE!"},{"$error":"#VALUE!"},{"$f":"SUBSTITUTE(IN!G993,\"-\",\"\")","v":""},"",{"$f":"IN!F993*60","v":0},0,"-"]
[0,{"$error":"#VALUE!"},{"$error":"#VALUE!"},{"$f":"SUBSTITUTE(IN!G994,\"-\",\"\")","v":""},"",{"$f":"IN!F994*60","v":0},0,"-"]
[0,{"$error":"#VALUE!"},{"$error":"#VALUE!"},{"$f":"SUBSTITUTE(IN!G995,\"-\",\"\")","v":""},"",{"$f":"IN!F995*60","v":0},0,"-"]
[0,{"$error":"#VALUE!"},{"$error":"#VALUE!"},{"$f":"SUBSTITUTE(IN!G996,\"-\",\"\")","v":""},"",{"$f":"IN!F996*60","v":0},0,"-"]
[0,{"$error":"#VALUE!"},{"$error":"#VALUE!"},{"$f":"SUBSTITUTE(IN!G997,\"-\",\"\")","v":""},"",{"$f":"IN!F997*60","v":0},0,"-"]
[0,{"$error":"#VALUE!"},{"$error":"#VALUE!"},{"$f":"SUBSTITUTE(IN!G998,\"-\",\"\")","v":""},"",{"$f":"IN!F998*60","v":0},0,"-"]
[0,{"$error":"#VALUE!"},{"$error":"#VALUE!"},{"$f":"SUBSTITUTE(IN!G999,\"-\",\"\")","v":""},"",{"$f":"IN!F999*60","v":0},0,"-"]
[0,{"$error":"#VALUE!"},{"$error":"#VALUE!"},{"$f":"SUBSTITUTE(IN!G1000,\"-\",\"\")","v":""},"",{"$f":"IN!F1000*60","v":0},0,"-"]
[0,{"$error":"#VALUE!"},{"$error":"#VALUE!"},{"$f":"SUBSTITUTE(IN!G1001,\"-\",\"\")","v":""},"",{"$f":"IN!F1001*60","v":0},0,"-"]
[0,{"$error":"#VALUE!"},{"$error":"#VALUE!"},{"$f":"SUBSTITUTE(IN!G1002,\"-\",\"\")","v":""},"",{"$f":"IN!F1002*60","v":0},0,"-"]
[0,{"$error":"#VALUE!"},{"$error":"#VALUE!"},{"$f":"SUBSTITUTE(IN!G1003,\"-\",\"\")","v":""},"",{"$f":"IN!F1003*60","v":0},0,"-"]
[0,{"$error":"#VALUE!"},{"$error":"#VALUE!"},{"$f":"SUBSTITUTE(IN!G1004,\"-\",\"\")","v":""},"",{"$f":"IN!F1004*60","v":0},0,"-"]
[0,{"$error":"#VALUE!"},{"$error":"#VALUE!"},{"$f":"SUBSTITUTE(IN!G1005,\"-\",\"\")","v":""},"",{"$f":"IN!F1005*60","v":0},0,"-"]
[0,{"$error":"#VALUE!"},{"$error":"#VALUE!"},{"$f":"SUBSTITUTE(IN!G1006,\"-\",\"\")","v":""},"",{"$f":"IN!F1006*60","v":0},0,"-"]
[0,{"$error":"#VALUE!"},{"$error":"#VALUE!"},{"$f":"SUBSTITUTE(IN!G1007,\"-\",\"\")","v":""},"",{"$f":"IN!F1007*60","v":0},0,"-"]
[0,{"$error":"#VALUE!"},{"$error":"#VALUE!"},{"$f":"SUBSTITUTE(IN!G1008,\"-\",\"\")","v":""},"",{"$f":"IN!F1008*60","v":0},0,"-"]
[0,{"$error":"#VALUE!"},{"$error":"#VALUE!"},{"$f":"SUBSTITUTE(IN!G1009,\"-\",\"\")","v":""},"",{"$f":"IN!F1009*60","v":0},0,"-"]
[0,{"$error":"#VALUE!"},{"$error":"#VALUE!"},{"$f":"SUBSTITUTE(IN!G1010,\"-\",\"\")","v":""},"",{"$f":"IN!F1010*60","v":0},0,"-"]
[0,{"$error":"#VALUE!"},{"$error":"#VALUE!"},{"$f":"SUBSTITUTE(IN!G1011,\"-\",\"\")","v":""},"",{"$f":"IN!F1011*60","v":0},0,"-"]
[0,{"$error":"#VALUE!"},{"$error":"#VALUE!"},{"$f":"SUBSTITUTE(IN!G1012,\"-\",\"\")","v":""},"",{"$f":"IN!F1012*60","v":0},0,"-"]
[0,{"$error":"#VALUE!"},{"$error":"#VALUE!"},{"$f":"SUBSTITUTE(IN!G1013,\"-\",\"\")","v":""},"",{"$f":"IN!F1013*60","v":0},0,"-"]
[0,{"$error":"#VALUE!"},{"$error":"#VALUE!"},{"$f":"SUBSTITUTE(IN!G1014,\"-\",\"\")","v":""},"",{"$f":"IN!F1014*60","v":0},0,"-"]
[0,{"$error":"#VALUE!"},{"$error":"#VALUE!"},{"$f":"SUBSTITUTE(IN!G1015,\"-\",\"\")","v":""},"",{"$f":"IN!F1015*60","v":0},0,"-"]
[0,{"$error":"#VALUE!"},{"$error":"#VALUE!"},{"$f":"SUBSTITUTE(IN!G1016,\"-\",\"\")","v":""},"",{"$f":"IN!F1016*60","v":0},0,"-"]
[0,{"$error":"#VALUE!"},{"$error":"#VALUE!"},{"$f":"SUBSTITUTE(IN!G1017,\"-\",\"\")","v":""},"",{"$f":"IN!F1017*60","v":0},0,"-"]
[0,{"$error":"#VALUE!"},{"$error":"#VALUE!"},{"$f":"SUBSTITUTE(IN!G1018,\"-\",\"\")","v":""},"",{"$f":"IN!F1018*60","v":0},0,"-"]
[0,{"$error":"#VALUE!"},{"$error":"#VALUE!"},{"$f":"SUBSTITUTE(IN!G1019,\"-\",\"\")","v":""},"",{"$f":"IN!F1019*60","v":0},0,"-"]
[0,{"$error":"#VALUE!"},{"$error":"#VALUE!"},{"$f":"SUBSTITUTE(IN!G1020,\"-\",\"\")","v":""},"",{"$f":"IN!F1020*60","v":0},0,"-"]
[0,{"$error":"#VALUE!"},{"$error":"#VALUE!"},{"$f":"SUBSTITUTE(IN!G1021,\"-\",\"\")","v":""},"",{"$f":"IN!F1021*60","v":0},0,"-"]
[0,{"$error":"#VALUE!"},{"$error":"#VALUE!"},{"$f":"SUBSTITUTE(IN!G1022,\"-\",\"\")","v":""},"",{"$f":"IN!F1022*60","v":0},0,"-"]
[0,{"$error":"#VALUE!"},{"$error":"#VALUE!"},{"$f":"SUBSTITUTE(IN!G1023,\"-\",\"\")","v":""},"",{"$f":"IN!F1023*60","v":0},0,"-"]
[0,{"$error":"#VALUE!"},{"$error":"#VALUE!"},{"$f":"SUBSTITUTE(IN!G1024,\"-\",\"\")","v":""},"",{"$f":"IN!F1024*60","v":0},0,"-"]
[0,{"$error":"#VALUE!"},{"$error":"#VALUE!"},{"$f":"SUBSTITUTE(IN!G1025,\"-\",\"\")","v":""},"",{"$f":"IN!F1025*60","v":0},0,"-"]
[0,{"$error":"#VALUE!"},{"$error":"#VALUE!"},{"$f":"SUBSTITUTE(IN!G1026,\"-\",\"\")","v":""},"",{"$f":"IN!F1026*60","v":0},0,"-"]
[0,{"$error":"#VALUE!"},{"$error":"#VALUE!"},{"$f":"SUBSTITUTE(IN!G1027,\"-\",\"\")","v":""},"",{"$f":"IN!F1027*60","v":0},0,"-"]
[0,{"$error":"#VALUE!"},{"$error":"#VALUE!"},{"$f":"SUBSTITUTE(IN!G1028,\"-\",\"\")","v":""},"",{"$f":"IN!F1028*60","v":0},0,"-"]
[{"$f":"LEN(D1029)","v":0},{"$f":"VALUE(LEFT(D1029,1))","v":{"$error":"#VALUE!"}},{"$f":"IF(B1029<2,20,19)","v":{"$error":"#VALUE!"}},{"$f":"SUBSTITUTE(IN!G1029,\"-\",\"\")","v":""},{"$f":"IF(A1029=10,CONCATENATE(C1029,D1029),D1029)","v":""},{"$f":"IN!F1029*60","v":0},{"$f":"ROUND(F1029,0)","v":0},{"$f":"CONCATENATE(MID(E1029,3,6),\"-\",MID(E1029,9,4))","v":"-"}]
[0,{"$error":"#VALUE!"},{"$error":"#VALUE!"},{"$f":"SUBSTITUTE(IN!G1030,\"-\",\"\")","v":""},"",{"$f":"IN!F1030*60","v":0},0,"-"]
[0,{"$error":"#VALUE!"},{"$error":"#VALUE!"},{"$f":"SUBSTITUTE(IN!G1031,\"-\",\"\")","v":""},"",{"$f":"IN!F1031*60","v":0},0,"-"]
[0,{"$error":"#VALUE!"},{"$error":"#VALUE!"},{"$f":"SUBSTITUTE(IN!G1032,\"-\",\"\")","v":""},"",{"$f":"IN!F1032*60","v":0},0,"-"]
[0,{"$error":"#VALUE!"},{"$error":"#VALUE!"},{"$f":"SUBSTITUTE(IN!G1033,\"-\",\"\")","v":""},"",{"$f":"IN!F1033*60","v":0},0,"-"]
[0,{"$error":"#VALUE!"},{"$error":"#VALUE!"},{"$f":"SUBSTITUTE(IN!G1034,\"-\",\"\")","v":""},"",{"$f":"IN!F1034*60","v":0},0,"-"]
[0,{"$error":"#VALUE!"},{"$error":"#VALUE!"},{"$f":"SUBSTITUTE(IN!G1035,\"-\",\"\")","v":""},"",{"$f":"IN!F1035*60","v":0},0,"-"]
[0,{"$error":"#VALUE!"},{"$error":"#VALUE!"},{"$f":"SUBSTITUTE(IN!G1036,\"-\",\"\")","v":""},"",{"$f":"IN!F1036*60","v":0},0,"-"]
[0,{"$error":"#VALUE!"},{"$error":"#VALUE!"},{"$f":"SUBSTITUTE(IN!G1037,\"-\",\"\")","v":""},"",{"$f":"IN!F1037*60","v":0},0,"-"]
[0,{"$error":"#VALUE!"},{"$error":"#VALUE!"},{"$f":"SUBSTITUTE(IN!G1038,\"-\",\"\")","v":""},"",{"$f":"IN!F1038*60","v":0},0,"-"]
[0,{"$error":"#VALUE!"},{"$error":"#VALUE!"},{"$f":"SUBSTITUTE(IN!G1039,\"-\",\"\")","v":""},"",{"$f":"IN!F1039*60","v":0},0,"-"]
[0,{"$error":"#VALUE!"},{"$error":"#VALUE!"},{"$f":"SUBSTITUTE(IN!G1040,\"-\",\"\")","v":""},"",{"$f":"IN!F1040*60","v":0},0,"-"]
[0,{"$error":"#VALUE!"},{"$error":"#VALUE!"},{"$f":"SUBSTITUTE(IN!G1041,\"-\",\"\")","v":""},"",{"$f":"IN!F1041*60","v":0},0,"-"]
[0,{"$error":"#VALUE!"},{"$error":"#VALUE!"},{"$f":"SUBSTITUTE(IN!G1042,\"-\",\"\")","v":""},"",{"$f":"IN!F1042*60","v":0},0,"-"]
[0,{"$error":"#VALUE!"},{"$error":"#VALUE!"},{"$f":"SUBSTITUTE(IN!G1043,\"-\",\"\")","v":""},"",{"$f":"IN!F1043*60","v":0},0,"-"]
[0,{"$error":"#VALUE!"},{"$error":"#VALUE!"},{"$f":"SUBSTITUTE(IN!G1044,\"-\",\"\")","v":""},"",{"$f":"IN!F1044*60","v":0},0,"-"]
[0,{"$error":"#VALUE!"},{"$error":"#VALUE!"},{"$f":"SUBSTITUTE(IN!G1045,\"-\",\"\")","v":""},"",{"$f":"IN!F1045*60","v":0},0,"-"]
[0,{"$error":"#VALUE!"},{"$error":"#VALUE!"},{"$f":"SUBSTITUTE(IN!G1046,\"-\",\"\")","v":""},"",{"$f":"IN!F1046*60","v":0},0,"-"]
[0,{"$error":"#VALUE!"},{"$error":"#VALUE!"},{"$f":"SUBSTITUTE(IN!G1047,\"-\",\"\")","v":""},"",{"$f":"IN!F1047*60","v":0},0,"-"]
[0,{"$error":"#VALUE!"},{"$error":"#VALUE!"},{"$f":"SUBSTITUTE(IN!G1048,\"-\",\"\")","v":""},"",{"$f":"IN!F1048*60","v":0},0,"-"]
[0,{"$error":"#VALUE!"},{"$error":"#VALUE!"},{"$f":"SUBSTITUTE(IN!G1049,\"-\",\"\")","v":""},"",{"$f":"IN!F1049*60","v":0},0,"-"]
[0,{"$error":"#VALUE!"},{"$error":"#VALUE!"},{"$f":"SUBSTITUTE(IN!G1050,\"-\",\"\")","v":""},"",{"$f":"IN!F1050*60","v":0},0,"-"]
[0,{"$error":"#VALUE!"},{"$error":"#VALUE!"},{"$f":"SUBSTITUTE(IN!G1051,\"-\",\"\")","v":""},"",{"$f":"IN!F1051*60","v":0},0,"-"]
[0,{"$error":"#VALUE!"},{"$error":"#VALUE!"},{"$f":"SUBSTITUTE(IN!G1052,\"-\",\"\")","v":""},"",{"$f":"IN!F1052*60","v":0},0,"-"]
[0,{"$error":"#VALUE!"},{"$error":"#VALUE!"},{"$f":"SUBSTITUTE(IN!G1053,\"-\",\"\")","v":""},"",{"$f":"IN!F1053*60","v":0},0,"-"]
[0,{"$error":"#VALUE!"},{"$error":"#VALUE!"},{"$f":"SUBSTITUTE(IN!G1054,\"-\",\"\")","v":""},"",{"$f":"IN!F1054*60","v":0},0,"-"]
[0,{"$error":"#VALUE!"},{"$error":"#VALUE!"},{"$f":"SUBSTITUTE(IN!G1055,\"-\",\"\")","v":""},"",{"$f":"IN!F1055*60","v":0},0,"-"]
[0,{"$error":"#VALUE!"},{"$error":"#VALUE!"},{"$f":"SUBSTITUTE(IN!G1056,\"-\",\"\")","v":""},"",{"$f":"IN!F1056*60","v":0},0,"-"]
[0,{"$error":"#VALUE!"},{"$error":"#VALUE!"},{"$f":"SUBSTITUTE(IN!G1057,\"-\",\"\")","v":""},"",{"$f":"IN!F1057*60","v":0},0,"-"]
[0,{"$error":"#VALUE!"},{"$error":"#VALUE!"},{"$f":"SUBSTITUTE(IN!G1058,\"-\",\"\")","v":""},"",{"$f":"IN!F1058*60","v":0},0,"-"]
[0,{"$error":"#VALUE!"},{"$error":"#VALUE!"},{"$f":"SUBSTITUTE(IN!G1059,\"-\",\"\")","v":""},"",{"$f":"IN!F1059*60","v":0},0,"-"]
[0,{"$error":"#VALUE!"},{"$error":"#VALUE!"},{"$f":"SUBSTITUTE(IN!G1060,\"-\",\"\")","v":""},"",{"$f":"IN!F1060*60","v":0},0,"-"]
[0,{"$error":"#VALUE!"},{"$error":"#VALUE!"},{"$f":"SUBSTITUTE(IN!G1061,\"-\",\"\")","v":""},"",{"$f":"IN!F1061*60","v":0},0,"-"]
[0,{"$error":"#VALUE!"},{"$error":"#VALUE!"},{"$f":"SUBSTITUTE(IN!G1062,\"-\",\"\")","v":""},"",{"$f":"IN!F1062*60","v":0},0,"-"]
[0,{"$error":"#VALUE!"},{"$error":"#VALUE!"},{"$f":"SUBSTITUTE(IN!G1063,\"-\",\"\")","v":""},"",{"$f":"IN!F1063*60","v":0},0,"-"]
[0,{"$error":"#VALUE!"},{"$error":"#VALUE!"},{"$f":"SUBSTITUTE(IN!G1064,\"-\",\"\")","v":""},"",{"$f":"IN!F1064*60","v":0},0,"-"]
[0,{"$error":"#VALUE!"},{"$error":"#VALUE!"},{"$f":"SUBSTITUTE(IN!G1065,\"-\",\"\")","v":""},"",{"$f":"IN!F1065*60","v":0},0,"-"]
[0,{"$error":"#VALUE!"},{"$error":"#VALUE!"},{"$f":"SUBSTITUTE(IN!G1066,\"-\",\"\")","v":""},"",{"$f":"IN!F1066*60","v":0},0,"-"]
[0,{"$error":"#VALUE!"},{"$error":"#VALUE!"},{"$f":"SUBSTITUTE(IN!G1067,\"-\",\"\")","v":""},"",{"$f":"IN!F1067*60","v":0},0,"-"]
[0,{"$error":"#VALUE!"},{"$error":"#VALUE!"},{"$f":"SUBSTITUTE(IN!G1068,\"-\",\"\")","v":""},"",{"$f":"IN!F1068*60","v":0},0,"-"]
[0,{"$error":"#VALUE!"},{"$error":"#VALUE!"},{"$f":"SUBSTITUTE(IN!G1069,\"-\",\"\")","v":""},"",{"$f":"IN!F1069*60","v":0},0,"-"]
[0,{"$error":"#VALUE!"},{"$error":"#VALUE!"},{"$f":"SUBSTITUTE(IN!G1070,\"-\",\"\")","v":""},"",{"$f":"IN!F1070*60","v":0},0,"-"]
[0,{"$error":"#VALUE!"},{"$error":"#VALUE!"},{"$f":"SUBSTITUTE(IN!G1071,\"-\",\"\")","v":""},"",{"$f":"IN!F1071*60","v":0},0,"-"]
[0,{"$error":"#VALUE!"},{"$error":"#VALUE!"},{"$f":"SUBSTITUTE(IN!G1072,\"-\",\"\")","v":""},"",{"$f":"IN!F1072*60","v":0},0,"-"]
[0,{"$error":"#VALUE!"},{"$error":"#VALUE!"},{"$f":"SUBSTITUTE(IN!G1073,\"-\",\"\")","v":""},"",{"$f":"IN!F1073*60","v":0},0,"-"]
[0,{"$error":"#VALUE!"},{"$error":"#VALUE!"},{"$f":"SUBSTITUTE(IN!G1074,\"-\",\"\")","v":""},"",{"$f":"IN!F1074*60","v":0},0,"-"]
[0,{"$error":"#VALUE!"},{"$error":"#VALUE!"},{"$f":"SUBSTITUTE(IN!G1075,\"-\",\"\")","v":""},"",{"$f":"IN!F1075*60","v":0},0,"-"]
[0,{"$error":"#VALUE!"},{"$error":"#VALUE!"},{"$f":"SUBSTITUTE(IN!G1076,\"-\",\"\")","v":""},"",{"$f":"IN!F1076*60","v":0},0,"-"]
[0,{"$error":"#VALUE!"},{"$error":"#VALUE!"},{"$f":"SUBSTITUTE(IN!G1077,\"-\",\"\")","v":""},"",{"$f":"IN!F1077*60","v":0},0,"-"]
[0,{"$error":"#VALUE!"},{"$error":"#VALUE!"},{"$f":"SUBSTITUTE(IN!G1078,\"-\",\"\")","v":""},"",{"$f":"IN!F1078*60","v":0},0,"-"]
[0,{"$error":"#VALUE!"},{"$error":"#VALUE!"},{"$f":"SUBSTITUTE(IN!G1079,\"-\",\"\")","v":""},"",{"$f":"IN!F1079*60","v":0},0,"-"]
[0,{"$error":"#VALUE!"},{"$error":"#VALUE!"},{"$f":"SUBSTITUTE(IN!G1080,\"-\",\"\")","v":""},"",{"$f":"IN!F1080*60","v":0},0,"-"]
[0,{"$error":"#VALUE!"},{"$error":"#VALUE!"},{"$f":"SUBSTITUTE(IN!G1081,\"-\",\"\")","v":""},"",{"$f":"IN!F1081*60","v":0},0,"-"]
[0,{"$error":"#VALUE!"},{"$error":"#VALUE!"},{"$f":"SUBSTITUTE(IN!G1082,\"-\",\"\")","v":""},"",{"$f":"IN!F1082*60","v":0},0,"-"]
[0,{"$error":"#VALUE!"},{"$error":"#VALUE!"},{"$f":"SUBSTITUTE(IN!G1083,\"-\",\"\")","v":""},"",{"$f":"IN!F1083*60","v":0},0,"-"]
[0,{"$error":"#VALUE!"},{"$error":"#VALUE!"},{"$f":"SUBSTITUTE(IN!G1084,\"-\",\"\")","v":""},"",{"$f":"IN!F1084*60","v":0},0,"-"]
[0,{"$error":"#VALUE!"},{"$error":"#VALUE!"},{"$f":"SUBSTITUTE(IN!G1085,\"-\",\"\")","v":""},"",{"$f":"IN!F1085*60","v":0},0,"-"]
[0,{"$error":"#VALUE!"},{"$error":"#VALUE!"},{"$f":"SUBSTITUTE(IN!G1086,\"-\",\"\")","v":""},"",{"$f":"IN!F1086*60","v":0},0,"-"]
[0,{"$error":"#VALUE!"},{"$error":"#VALUE!"},{"$f":"SUBSTITUTE(IN!G1087,\"-\",\"\")","v":""},"",{"$f":"IN!F1087*60","v":0},0,"-"]
[0,{"$error":"#VALUE!"},{"$error":"#VALUE!"},{"$f":"SUBSTITUTE(IN!G1088,\"-\",\"\")","v":""},"",{"$f":"IN!F1088*60","v":0},0,"-"]
[0,{"$error":"#VALUE!"},{"$error":"#VALUE!"},{"$f":"SUBSTITUTE(IN!G1089,\"-\",\"\")","v":""},"",{"$f":"IN!F1089*60","v":0},0,"-"]
[0,{"$error":"#VALUE!"},{"$error":"#VALUE!"},{"$f":"SUBSTITUTE(IN!G1090,\"-\",\"\")","v":""},"",{"$f":"IN!F1090*60","v":0},0,"-"]
[0,{"$error":"#VALUE!"},{"$error":"#VALUE!"},{"$f":"SUBSTITUTE(IN!G1091,\"-\",\"\")","v":""},"",{"$f":"IN!F1091*60","v":0},0,"-"]
[0,{"$error":"#VALUE!"},{"$error":"#VALUE!"},{"$f":"SUBSTITUTE(IN!G1092,\"-\",\"\")","v":""},"",{"$f":"IN!F1092*60","v":0},0,"-"]
[{"$f":"LEN(D1093)","v":0},{"$f":"VALUE(LEFT(D1093,1))","v":{"$error":"#VALUE!"}},{"$f":"IF(B1093<2,20,19)","v":{"$error":"#VALUE!"}},{"$f":"SUBSTITUTE(IN!G1093,\"-\",\"\")","v":""},{"$f":"IF(A1093=10,CONCATENATE(C1093,D1093),D1093)","v":""},{"$f":"IN!F1093*60","v":0},{"$f":"ROUND(F1093,0)","v":0},{"$f":"CONCATENATE(MID(E1093,3,6),\"-\",MID(E1093,9,4))","v":"-"}]
[0,{"$error":"#VALUE!"},{"$error":"#VALUE!"},{"$f":"SUBSTITUTE(IN!G1094,\"-\",\"\")","v":""},"",{"$f":"IN!F1094*60","v":0},0,"-"]
[0,{"$error":"#VALUE!"},{"$error":"#VALUE!"},{"$f":"SUBSTITUTE(IN!G1095,\"-\",\"\")","v":""},"",{"$f":"IN!F1095*60","v":0},0,"-"]
[0,{"$error":"#VALUE!"},{"$error":"#VALUE!"},{"$f":"SUBSTITUTE(IN!G1096,\"-\",\"\")","v":""},"",{"$f":"IN!F1096*60","v":0},0,"-"]
[0,{"$error":"#VALUE!"},{"$error":"#VALUE!"},{"$f":"SUBSTITUTE(IN!G1097,\"-\",\"\")","v":""},"",{"$f":"IN!F1097*60","v":0},0,"-"]
[0,{"$error":"#VALUE!"},{"$error":"#VALUE!"},{"$f":"SUBSTITUTE(IN!G1098,\"-\",\"\")","v":""},"",{"$f":"IN!F1098*60","v":0},0,"-"]
[0,{"$error":"#VALUE!"},{"$error":"#VALUE!"},{"$f":"SUBSTITUTE(IN!G1099,\"-\",\"\")","v":""},"",{"$f":"IN!F1099*60","v":0},0,"-"]
[0,{"$error":"#VALUE!"},{"$error":"#VALUE!"},{"$f":"SUBSTITUTE(IN!G1100,\"-\",\"\")","v":""},"",{"$f":"IN!F1100*60","v":0},0,"-"]
[0,{"$error":"#VALUE!"},{"$error":"#VALUE!"},{"$f":"SUBSTITUTE(IN!G1101,\"-\",\"\")","v":""},"",{"$f":"IN!F1101*60","v":0},0,"-"]
[0,{"$error":"#VALUE!"},{"$error":"#VALUE!"},{"$f":"SUBSTITUTE(IN!G1102,\"-\",\"\")","v":""},"",{"$f":"IN!F1102*60","v":0},0,"-"]
[0,{"$error":"#VALUE!"},{"$error":"#VALUE!"},{"$f":"SUBSTITUTE(IN!G1103,\"-\",\"\")","v":""},"",{"$f":"IN!F1103*60","v":0},0,"-"]
[0,{"$error":"#VALUE!"},{"$error":"#VALUE!"},{"$f":"SUBSTITUTE(IN!G1104,\"-\",\"\")","v":""},"",{"$f":"IN!F1104*60","v":0},0,"-"]
[0,{"$error":"#VALUE!"},{"$error":"#VALUE!"},{"$f":"SUBSTITUTE(IN!G1105,\"-\",\"\")","v":""},"",{"$f":"IN!F1105*60","v":0},0,"-"]
[0,{"$error":"#VALUE!"},{"$error":"#VALUE!"},{"$f":"SUBSTITUTE(IN!G1106,\"-\",\"\")","v":""},"",{"$f":"IN!F1106*60","v":0},0,"-"]
[0,{"$error":"#VALUE!"},{"$error":"#VALUE!"},{"$f":"SUBSTITUTE(IN!G1107,\"-\",\"\")","v":""},"",{"$f":"IN!F1107*60","v":0},0,"-"]
[0,{"$error":"#VALUE!"},{"$error":"#VALUE!"},{"$f":"SUBSTITUTE(IN!G1108,\"-\",\"\")","v":""},"",{"$f":"IN!F1108*60","v":0},0,"-"]
[0,{"$error":"#VALUE!"},{"$error":"#VALUE!"},{"$f":"SUBSTITUTE(IN!G1109,\"-\",\"\")","v":""},"",{"$f":"IN!F1109*60","v":0},0,"-"]
[0,{"$error":"#VALUE!"},{"$error":"#VALUE!"},{"$f":"SUBSTITUTE(IN!G1110,\"-\",\"\")","v":""},"",{"$f":"IN!F1110*60","v":0},0,"-"]
[0,{"$error":"#VALUE!"},{"$error":"#VALUE!"},{"$f":"SUBSTITUTE(IN!G1111,\"-\",\"\")","v":""},"",{"$f":"IN!F1111*60","v":0},0,"-"]
[0,{"$error":"#VALUE!"},{"$error":"#VALUE!"},{"$f":"SUBSTITUTE(IN!G1112,\"-\",\"\")","v":""},"",{"$f":"IN!F1112*60","v":0},0,"-"]
[0,{"$error":"#VALUE!"},{"$error":"#VALUE!"},{"$f":"SUBSTITUTE(IN!G1113,\"-\",\"\")","v":""},"",{"$f":"IN!F1113*60","v":0},0,"-"]
[0,{"$error":"#VALUE!"},{"$error":"#VALUE!"},{"$f":"SUBSTITUTE(IN!G1114,\"-\",\"\")","v":""},"",{"$f":"IN!F1114*60","v":0},0,"-"]
[0,{"$error":"#VALUE!"},{"$error":"#VALUE!"},{"$f":"SUBSTITUTE(IN!G1115,\"-\",\"\")","v":""},"",{"$f":"IN!F1115*60","v":0},0,"-"]
[0,{"$error":"#VALUE!"},{"$error":"#VALUE!"},{"$f":"SUBSTITUTE(IN!G1116,\"-\",\"\")","v":""},"",{"$f":"IN!F1116*60","v":0},0,"-"]
[0,{"$error":"#VALUE!"},{"$error":"#VALUE!"},{"$f":"SUBSTITUTE(IN!G1117,\"-\",\"\")","v":""},"",{"$f":"IN!F1117*60","v":0},0,"-"]
[0,{"$error":"#VALUE!"},{"$error":"#VALUE!"},{"$f":"SUBSTITUTE(IN!G1118,\"-\",\"\")","v":""},"",{"$f":"IN!F1118*60","v":0},0,"-"]
[0,{"$error":"#VALUE!"},{"$error":"#VALUE!"},{"$f":"SUBSTITUTE(IN!G1119,\"-\",\"\")","v":""},"",{"$f":"IN!F1119*60","v":0},0,"-"]
[0,{"$error":"#VALUE!"},{"$error":"#VALUE!"},{"$f":"SUBSTITUTE(IN!G1120,\"-\",\"\")","v":""},"",{"$f":"IN!F1120*60","v":0},0,"-"]
[0,{"$error":"#VALUE!"},{"$error":"#VALUE!"},{"$f":"SUBSTITUTE(IN!G1121,\"-\",\"\")","v":""},"",{"$f":"IN!F1121*60","v":0},0,"-"]
[0,{"$error":"#VALUE!"},{"$error":"#VALUE!"},{"$f":"SUBSTITUTE(IN!G1122,\"-\",\"\")","v":""},"",{"$f":"IN!F1122*60","v":0},0,"-"]
[0,{"$error":"#VALUE!"},{"$error":"#VALUE!"},{"$f":"SUBSTITUTE(IN!G1123,\"-\",\"\")","v":""},"",{"$f":"IN!F1123*60","v":0},0,"-"]
[0,{"$error":"#VALUE!"},{"$error":"#VALUE!"},{"$f":"SUBSTITUTE(IN!G1124,\"-\",\"\")","v":""},"",{"$f":"IN!F1124*60","v":0},0,"-"]
[0,{"$error":"#VALUE!"},{"$error":"#VALUE!"},{"$f":"SUBSTITUTE(IN!G1125,\"-\",\"\")","v":""},"",{"$f":"IN!F1125*60","v":0},0,"-"]
[0,{"$error":"#VALUE!"},{"$error":"#VALUE!"},{"$f":"SUBSTITUTE(IN!G1126,\"-\",\"\")","v":""},"",{"$f":"IN!F1126*60","v":0},0,"-"]
[0,{"$error":"#VALUE!"},{"$error":"#VALUE!"},{"$f":"SUBSTITUTE(IN!G1127,\"-\",\"\")","v":""},"",{"$f":"IN!F1127*60","v":0},0,"-"]
[0,{"$error":"#VALUE!"},{"$error":"#VALUE!"},{"$f":"SUBSTITUTE(IN!G1128,\"-\",\"\")","v":""},"",{"$f":"IN!F1128*60","v":0},0,"-"]
[0,{"$error":"#VALUE!"},{"$error":"#VALUE!"},{"$f":"SUBSTITUTE(IN!G1129,\"-\",\"\")","v":""},"",{"$f":"IN!F1129*60","v":0},0,"-"]
[0,{"$error":"#VALUE!"},{"$error":"#VALUE!"},{"$f":"SUBSTITUTE(IN!G1130,\"-\",\"\")","v":""},"",{"$f":"IN!F1130*60","v":0},0,"-"]
[0,{"$error":"#VALUE!"},{"$error":"#VALUE!"},{"$f":"SUBSTITUTE(IN!G1131,\"-\",\"\")","v":""},"",{"$f":"IN!F1131*60","v":0},0,"-"]
[0,{"$error":"#VALUE!"},{"$error":"#VALUE!"},{"$f":"SUBSTITUTE(IN!G1132,\"-\",\"\")","v":""},"",{"$f":"IN!F1132*60","v":0},0,"-"]
[0,{"$error":"#VALUE!"},{"$error":"#VALUE!"},{"$f":"SUBSTITUTE(IN!G1133,\"-\",\"\")","v":""},"",{"$f":"IN!F1133*60","v":0},0,"-"]
[0,{"$error":"#VALUE!"},{"$error":"#VALUE!"},{"$f":"SUBSTITUTE(IN!G1134,\"-\",\"\")","v":""},"",{"$f":"IN!F1134*60","v":0},0,"-"]
[0,{"$error":"#VALUE!"},{"$error":"#VALUE!"},{"$f":"SUBSTITUTE(IN!G1135,\"-\",\"\")","v":""},"",{"$f":"IN!F1135*60","v":0},0,"-"]
[0,{"$error":"#VALUE!"},{"$error":"#VALUE!"},{"$f":"SUBSTITUTE(IN!G1136,\"-\",\"\")","v":""},"",{"$f":"IN!F1136*60","v":0},0,"-"]
[0,{"$error":"#VALUE!"},{"$error":"#VALUE!"},{"$f":"SUBSTITUTE(IN!G1137,\"-\",\"\")","v":""},"",{"$f":"IN!F1137*60","v":0},0,"-"]
[0,{"$error":"#VALUE!"},{"$error":"#VALUE!"},{"$f":"SUBSTITUTE(IN!G1138,\"-\",\"\")","v":""},"",{"$f":"IN!F1138*60","v":0},0,"-"]
[0,{"$error":"#VALUE!"},{"$error":"#VALUE!"},{"$f":"SUBSTITUTE(IN!G1139,\"-\",\"\")","v":""},"",{"$f":"IN!F1139*60","v":0},0,"-"]
[0,{"$error":"#VALUE!"},{"$error":"#VALUE!"},{"$f":"SUBSTITUTE(IN!G1140,\"-\",\"\")","v":""},"",{"$f":"IN!F1140*60","v":0},0,"-"]
[0,{"$error":"#VALUE!"},{"$error":"#VALUE!"},{"$f":"SUBSTITUTE(IN!G1141,\"-\",\"\")","v":""},"",{"$f":"IN!F1141*60","v":0},0,"-"]
[0,{"$error":"#VALUE!"},{"$error":"#VALUE!"},{"$f":"SUBSTITUTE(IN!G1142,\"-\",\"\")","v":""},"",{"$f":"IN!F1142*60","v":0},0,"-"]
[0,{"$error":"#VALUE!"},{"$error":"#VALUE!"},{"$f":"SUBSTITUTE(IN!G1143,\"-\",\"\")","v":""},"",{"$f":"IN!F1143*60","v":0},0,"-"]
[0,{"$error":"#VALUE!"},{"$error":"#VALUE!"},{"$f":"SUBSTITUTE(IN!G1144,\"-\",\"\")","v":""},"",{"$f":"IN!F1144*60","v":0},0,"-"]
[0,{"$error":"#VALUE!"},{"$error":"#VALUE!"},{"$f":"SUBSTITUTE(IN!G1145,\"-\",\"\")","v":""},"",{"$f":"IN!F1145*60","v":0},0,"-"]
[0,{"$error":"#VALUE!"},{"$error":"#VALUE!"},{"$f":"SUBSTITUTE(IN!G1146,\"-\",\"\")","v":""},"",{"$f":"IN!F1146*60","v":0},0,"-"]
[0,{"$error":"#VALUE!"},{"$error":"#VALUE!"},{"$f":"SUBSTITUTE(IN!G1147,\"-\",\"\")","v":""},"",{"$f":"IN!F1147*60","v":0},0,"-"]
[0,{"$error":"#VALUE!"},{"$error":"#VALUE!"},{"$f":"SUBSTITUTE(IN!G1148,\"-\",\"\")","v":""},"",{"$f":"IN!F1148*60","v":0},0,"-"]
[0,{"$error":"#VALUE!"},{"$error":"#VALUE!"},{"$f":"SUBSTITUTE(IN!G1149,\"-\",\"\")","v":""},"",{"$f":"IN!F1149*60","v":0},0,"-"]
[0,{"$error":"#VALUE!"},{"$error":"#VALUE!"},{"$f":"SUBSTITUTE(IN!G1150,\"-\",\"\")","v":""},"",{"$f":"IN!F1150*60","v":0},0,"-"]
[0,{"$error":"#VALUE!"},{"$error":"#VALUE!"},{"$f":"SUBSTITUTE(IN!G1151,\"-\",\"\")","v":""},"",{"$f":"IN!F1151*60","v":0},0,"-"]
[0,{"$error":"#VALUE!"},{"$error":"#VALUE!"},{"$f":"SUBSTITUTE(IN!G1152,\"-\",\"\")","v":""},"",{"$f":"IN!F1152*60","v":0},0,"-"]
[0,{"$error":"#VALUE!"},{"$error":"#VALUE!"},{"$f":"SUBSTITUTE(IN!G1153,\"-\",\"\")","v":""},"",{"$f":"IN!F1153*60","v":0},0,"-"]
[0,{"$error":"#VALUE!"},{"$error":"#VALUE!"},{"$f":"SUBSTITUTE(IN!G1154,\"-\",\"\")","v":""},"",{"$f":"IN!F1154*60","v":0},0,"-"]
[0,{"$error":"#VALUE!"},{"$error":"#VALUE!"},{"$f":"SUBSTITUTE(IN!G1155,\"-\",\"\")","v":""},"",{"$f":"IN!F1155*60","v":0},0,"-"]
[0,{"$error":"#VALUE!"},{"$error":"#VALUE!"},{"$f":"SUBSTITUTE(IN!G1156,\"-\",\"\")","v":""},"",{"$f":"IN!F1156*60","v":0},0,"-"]
[{"$f":"LEN(D1157)","v":0},{"$f":"VALUE(LEFT(D1157,1))","v":{"$error":"#VALUE!"}},{"$f":"IF(B1157<2,20,19)","v":{"$error":"#VALUE!"}},{"$f":"SUBSTITUTE(IN!G1157,\"-\",\"\")","v":""},{"$f":"IF(A1157=10,CONCATENATE(C1157,D1157),D1157)","v":""},{"$f":"IN!F1157*60","v":0},{"$f":"ROUND(F1157,0)","v":0},{"$f":"CONCATENATE(MID(E1157,3,6),\"-\",MID(E1157,9,4))","v":"-"}]
[0,{"$error":"#VALUE!"},{"$error":"#VALUE!"},{"$f":"SUBSTITUTE(IN!G1158,\"-\",\"\")","v":""},"",{"$f":"IN!F1158*60","v":0},0,"-"]
[0,{"$error":"#VALUE!"},{"$error":"#VALUE!"},{"$f":"SUBSTITUTE(IN!G1159,\"-\",\"\")","v":""},"",{"$f":"IN!F1159*60","v":0},0,"-"]
[0,{"$error":"#VALUE!"},{"$error":"#VALUE!"},{"$f":"SUBSTITUTE(IN!G1160,\"-\",\"\")","v":""},"",{"$f":"IN!F1160*60","v":0},0,"-"]
[0,{"$error":"#VALUE!"},{"$error":"#VALUE!"},{"$f":"SUBSTITUTE(IN!G1161,\"-\",\"\")","v":""},"",{"$f":"IN!F1161*60","v":0},0,"-"]
[0,{"$error":"#VALUE!"},{"$error":"#VALUE!"},{"$f":"SUBSTITUTE(IN!G1162,\"-\",\"\")","v":""},"",{"$f":"IN!F1162*60","v":0},0,"-"]
[0,{"$error":"#VALUE!"},{"$error":"#VALUE!"},{"$f":"SUBSTITUTE(IN!G1163,\"-\",\"\")","v":""},"",{"$f":"IN!F1163*60","v":0},0,"-"]
[0,{"$error":"#VALUE!"},{"$error":"#VALUE!"},{"$f":"SUBSTITUTE(IN!G1164,\"-\",\"\")","v":""},"",{"$f":"IN!F1164*60","v":0},0,"-"]
[0,{"$error":"#VALUE!"},{"$error":"#VALUE!"},{"$f":"SUBSTITUTE(IN!G1165,\"-\",\"\")","v":""},"",{"$f":"IN!F1165*60","v":0},0,"-"]
[0,{"$error":"#VALUE!"},{"$error":"#VALUE!"},{"$f":"SUBSTITUTE(IN!G1166,\"-\",\"\")","v":""},"",{"$f":"IN!F1166*60","v":0},0,"-"]
[0,{"$error":"#VALUE!"},{"$error":"#VALUE!"},{"$f":"SUBSTITUTE(IN!G1167,\"-\",\"\")","v":""},"",{"$f":"IN!F1167*60","v":0},0,"-"]
[0,{"$error":"#VALUE!"},{"$error":"#VALUE!"},{"$f":"SUBSTITUTE(IN!G1168,\"-\",\"\")","v":""},"",{"$f":"IN!F1168*60","v":0},0,"-"]
[0,{"$error":"#VALUE!"},{"$error":"#VALUE!"},{"$f":"SUBSTITUTE(IN!G1169,\"-\",\"\")","v":""},"",{"$f":"IN!F1169*60","v":0},0,"-"]
[0,{"$error":"#VALUE!"},{"$error":"#VALUE!"},{"$f":"SUBSTITUTE(IN!G1170,\"-\",\"\")","v":""},"",{"$f":"IN!F1170*60","v":0},0,"-"]
[0,{"$error":"#VALUE!"},{"$error":"#VALUE!"},{"$f":"SUBSTITUTE(IN!G1171,\"-\",\"\")","v":""},"",{"$f":"IN!F1171*60","v":0},0,"-"]
[0,{"$error":"#VALUE!"},{"$error":"#VALUE!"},{"$f":"SUBSTITUTE(IN!G1172,\"-\",\"\")","v":""},"",{"$f":"IN!F1172*60","v":0},0,"-"]
[0,{"$error":"#VALUE!"},{"$error":"#VALUE!"},{"$f":"SUBSTITUTE(IN!G1173,\"-\",\"\")","v":""},"",{"$f":"IN!F1173*60","v":0},0,"-"]
[0,{"$error":"#VALUE!"},{"$error":"#VALUE!"},{"$f":"SUBSTITUTE(IN!G1174,\"-\",\"\")","v":""},"",{"$f":"IN!F1174*60","v":0},0,"-"]
[0,{"$error":"#VALUE!"},{"$error":"#VALUE!"},{"$f":"SUBSTITUTE(IN!G1175,\"-\",\"\")","v":""},"",{"$f":"IN!F1175*60","v":0},0,"-"]
[0,{"$error":"#VALUE!"},{"$error":"#VALUE!"},{"$f":"SUBSTITUTE(IN!G1176,\"-\",\"\")","v":""},"",{"$f":"IN!F1176*60","v":0},0,"-"]
[0,{"$error":"#VALUE!"},{"$error":"#VALUE!"},{"$f":"SUBSTITUTE(IN!G1177,\"-\",\"\")","v":""},"",{"$f":"IN!F1177*60","v":0},0,"-"]
[0,{"$error":"#VALUE!"},{"$error":"#VALUE!"},{"$f":"SUBSTITUTE(IN!G1178,\"-\",\"\")","v":""},"",{"$f":"IN!F1178*60","v":0},0,"-"]
[0,{"$error":"#VALUE!"},{"$error":"#VALUE!"},{"$f":"SUBSTITUTE(IN!G1179,\"-\",\"\")","v":""},"",{"$f":"IN!F1179*60","v":0},0,"-"]
[0,{"$error":"#VALUE!"},{"$error":"#VALUE!"},{"$f":"SUBSTITUTE(IN!G1180,\"-\",\"\")","v":""},"",{"$f":"IN!F1180*60","v":0},0,"-"]
[0,{"$error":"#VALUE!"},{"$error":"#VALUE!"},{"$f":"SUBSTITUTE(IN!G1181,\"-\",\"\")","v":""},"",{"$f":"IN!F1181*60","v":0},0,"-"]
[0,{"$error":"#VALUE!"},{"$error":"#VALUE!"},{"$f":"SUBSTITUTE(IN!G1182,\"-\",\"\")","v":""},"",{"$f":"IN!F1182*60","v":0},0,"-"]
[0,{"$error":"#VALUE!"},{"$error":"#VALUE!"},{"$f":"SUBSTITUTE(IN!G1183,\"-\",\"\")","v":""},"",{"$f":"IN!F1183*60","v":0},0,"-"]
[0,{"$error":"#VALUE!"},{"$error":"#VALUE!"},{"$f":"SUBSTITUTE(IN!G1184,\"-\",\"\")","v":""},"",{"$f":"IN!F1184*60","v":0},0,"-"]
[0,{"$error":"#VALUE!"},{"$error":"#VALUE!"},{"$f":"SUBSTITUTE(IN!G1185,\"-\",\"\")","v":""},"",{"$f":"IN!F1185*60","v":0},0,"-"]
[0,{"$error":"#VALUE!"},{"$error":"#VALUE!"},{"$f":"SUBSTITUTE(IN!G1186,\"-\",\"\")","v":""},"",{"$f":"IN!F1186*60","v":0},0,"-"]
[0,{"$error":"#VALUE!"},{"$error":"#VALUE!"},{"$f":"SUBSTITUTE(IN!G1187,\"-\",\"\")","v":""},"",{"$f":"IN!F1187*60","v":0},0,"-"]
[0,{"$error":"#VALUE!"},{"$error":"#VALUE!"},{"$f":"SUBSTITUTE(IN!G1188,\"-\",\"\")","v":""},"",{"$f":"IN!F1188*60","v":0},0,"-"]
[0,{"$error":"#VALUE!"},{"$error":"#VALUE!"},{"$f":"SUBSTITUTE(IN!G1189,\"-\",\"\")","v":""},"",{"$f":"IN!F1189*60","v":0},0,"-"]
[0,{"$error":"#VALUE!"},{"$error":"#VALUE!"},{"$f":"SUBSTITUTE(IN!G1190,\"-\",\"\")","v":""},"",{"$f":"IN!F1190*60","v":0},0,"-"]
[0,{"$error":"#VALUE!"},{"$error":"#VALUE!"},{"$f":"SUBSTITUTE(IN!G1191,\"-\",\"\")","v":""},"",{"$f":"IN!F1191*60","v":0},0,"-"]
[0,{"$error":"#VALUE!"},{"$error":"#VALUE!"},{"$f":"SUBSTITUTE(IN!G1192,\"-\",\"\")","v":""},"",{"$f":"IN!F1192*60","v":0},0,"-"]
[0,{"$error":"#VALUE!"},{"$error":"#VALUE!"},{"$f":"SUBSTITUTE(IN!G1193,\"-\",\"\")","v":""},"",{"$f":"IN!F1193*60","v":0},0,"-"]
[0,{"$error":"#VALUE!"},{"$error":"#VALUE!"},{"$f":"SUBSTITUTE(IN!G1194,\"-\",\"\")","v":""},"",{"$f":"IN!F1194*60","v":0},0,"-"]
[0,{"$error":"#VALUE!"},{"$error":"#VALUE!"},{"$f":"SUBSTITUTE(IN!G1195,\"-\",\"\")","v":""},"",{"$f":"IN!F1195*60","v":0},0,"-"]
[0,{"$error":"#VALUE!"},{"$error":"#VALUE!"},{"$f":"SUBSTITUTE(IN!G1196,\"-\",\"\")","v":""},"",{"$f":"IN!F1196*60","v":0},0,"-"]
[0,{"$error":"#VALUE!"},{"$error":"#VALUE!"},{"$f":"SUBSTITUTE(IN!G1197,\"-\",\"\")","v":""},"",{"$f":"IN!F1197*60","v":0},0,"-"]
[0,{"$error":"#VALUE!"},{"$error":"#VALUE!"},{"$f":"SUBSTITUTE(IN!G1198,\"-\",\"\")","v":""},"",{"$f":"IN!F1198*60","v":0},0,"-"]
[0,{"$error":"#VALUE!"},{"$error":"#VALUE!"},{"$f":"SUBSTITUTE(IN!G1199,\"-\",\"\")","v":""},"",{"$f":"IN!F1199*60","v":0},0,"-"]
[0,{"$error":"#VALUE!"},{"$error":"#VALUE!"},{"$f":"SUBSTITUTE(IN!G1200,\"-\",\"\")","v":""},"",{"$f":"IN!F1200*60","v":0},0,"-"]
[0,{"$error":"#VALUE!"},{"$error":"#VALUE!"},{"$f":"SUBSTITUTE(IN!G1201,\"-\",\"\")","v":""},"",{"$f":"IN!F1201*60","v":0},0,"-"]
[0,{"$error":"#VALUE!"},{"$error":"#VALUE!"},{"$f":"SUBSTITUTE(IN!G1202,\"-\",\"\")","v":""},"",{"$f":"IN!F1202*60","v":0},0,"-"]
[0,{"$error":"#VALUE!"},{"$error":"#VALUE!"},{"$f":"SUBSTITUTE(IN!G1203,\"-\",\"\")","v":""},"",{"$f":"IN!F1203*60","v":0},0,"-"]
[0,{"$error":"#VALUE!"},{"$error":"#VALUE!"},{"$f":"SUBSTITUTE(IN!G1204,\"-\",\"\")","v":""},"",{"$f":"IN!F1204*60","v":0},0,"-"]
[0,{"$error":"#VALUE!"},{"$error":"#VALUE!"},{"$f":"SUBSTITUTE(IN!G1205,\"-\",\"\")","v":""},"",{"$f":"IN!F1205*60","v":0},0,"-"]
[0,{"$error":"#VALUE!"},{"$error":"#VALUE!"},{"$f":"SUBSTITUTE(IN!G1206,\"-\",\"\")","v":""},"",{"$f":"IN!F1206*60","v":0},0,"-"]
[0,{"$error":"#VALUE!"},{"$error":"#VALUE!"},{"$f":"SUBSTITUTE(IN!G1207,\"-\",\"\")","v":""},"",{"$f":"IN!F1207*60","v":0},0,"-"]
[0,{"$error":"#VALUE!"},{"$error":"#VALUE!"},{"$f":"SUBSTITUTE(IN!G1208,\"-\",\"\")","v":""},"",{"$f":"IN!F1208*60","v":0},0,"-"]
[0,{"$error":"#VALUE!"},{"$error":"#VALUE!"},{"$f":"SUBSTITUTE(IN!G1209,\"-\",\"\")","v":""},"",{"$f":"IN!F1209*60","v":0},0,"-"]
[0,{"$error":"#VALUE!"},{"$error":"#VALUE!"},{"$f":"SUBSTITUTE(IN!G1210,\"-\",\"\")","v":""},"",{"$f":"IN!F1210*60","v":0},0,"-"]
[0,{"$error":"#VALUE!"},{"$error":"#VALUE!"},{"$f":"SUBSTITUTE(IN!G1211,\"-\",\"\")","v":""},"",{"$f":"IN!F1211*60","v":0},0,"-"]
[0,{"$error":"#VALUE!"},{"$error":"#VALUE!"},{"$f":"SUBSTITUTE(IN!G1212,\"-\",\"\")","v":""},"",{"$f":"IN!F1212*60","v":0},0,"-"]
[0,{"$error":"#VALUE!"},{"$error":"#VALUE!"},{"$f":"SUBSTITUTE(IN!G1213,\"-\",\"\")","v":""},"",{"$f":"IN!F1213*60","v":0},0,"-"]
[0,{"$error":"#VALUE!"},{"$error":"#VALUE!"},{"$f":"SUBSTITUTE(IN!G1214,\"-\",\"\")","v":""},"",{"$f":"IN!F1214*60","v":0},0,"-"]
[0,{"$error":"#VALUE!"},{"$error":"#VALUE!"},{"$f":"SUBSTITUTE(IN!G1215,\"-\",\"\")","v":""},"",{"$f":"IN!F1215*60","v":0},0,"-"]
[0,{"$error":"#VALUE!"},{"$error":"#VALUE!"},{"$f":"SUBSTITUTE(IN!G1216,\"-\",\"\")","v":""},"",{"$f":"IN!F1216*60","v":0},0,"-"]
[0,{"$error":"#VALUE!"},{"$error":"#VALUE!"},{"$f":"SUBSTITUTE(IN!G1217,\"-\",\"\")","v":""},"",{"$f":"IN!F1217*60","v":0},0,"-"]
[0,{"$error":"#VALUE!"},{"$error":"#VALUE!"},{"$f":"SUBSTITUTE(IN!G1218,\"-\",\"\")","v":""},"",{"$f":"IN!F1218*60","v":0},0,"-"]
[0,{"$error":"#VALUE!"},{"$error":"#VALUE!"},{"$f":"SUBSTITUTE(IN!G1219,\"-\",\"\")","v":""},"",{"$f":"IN!F1219*60","v":0},0,"-"]
[0,{"$error":"#VALUE!"},{"$error":"#VALUE!"},{"$f":"SUBSTITUTE(IN!G1220,\"-\",\"\")","v":""},"",{"$f":"IN!F1220*60","v":0},0,"-"]
[{"$f":"LEN(D1221)","v":0},{"$f":"VALUE(LEFT(D1221,1))","v":{"$error":"#VALUE!"}},{"$f":"IF(B1221<2,20,19)","v":{"$error":"#VALUE!"}},{"$f":"SUBSTITUTE(IN!G1221,\"-\",\"\")","v":""},{"$f":"IF(A1221=10,CONCATENATE(C1221,D1221),D1221)","v":""},{"$f":"IN!F1221*60","v":0},{"$f":"ROUND(F1221,0)","v":0},{"$f":"CONCATENATE(MID(E1221,3,6),\"-\",MID(E1221,9,4))","v":"-"}]
[0,{"$error":"#VALUE!"},{"$error":"#VALUE!"},{"$f":"SUBSTITUTE(IN!G1222,\"-\",\"\")","v":""},"",{"$f":"IN!F1222*60","v":0},0,"-"]
[0,{"$error":"#VALUE!"},{"$error":"#VALUE!"},{"$f":"SUBSTITUTE(IN!G1223,\"-\",\"\")","v":""},"",{"$f":"IN!F1223*60","v":0},0,"-"]
[0,{"$error":"#VALUE!"},{"$error":"#VALUE!"},{"$f":"SUBSTITUTE(IN!G1224,\"-\",\"\")","v":""},"",{"$f":"IN!F1224*60","v":0},0,"-"]
[0,{"$error":"#VALUE!"},{"$error":"#VALUE!"},{"$f":"SUBSTITUTE(IN!G1225,\"-\",\"\")","v":""},"",{"$f":"IN!F1225*60","v":0},0,"-"]
[0,{"$error":"#VALUE!"},{"$error":"#VALUE!"},{"$f":"SUBSTITUTE(IN!G1226,\"-\",\"\")","v":""},"",{"$f":"IN!F1226*60","v":0},0,"-"]
[0,{"$error":"#VALUE!"},{"$error":"#VALUE!"},{"$f":"SUBSTITUTE(IN!G1227,\"-\",\"\")","v":""},"",{"$f":"IN!F1227*60","v":0},0,"-"]
[0,{"$error":"#VALUE!"},{"$error":"#VALUE!"},{"$f":"SUBSTITUTE(IN!G1228,\"-\",\"\")","v":""},"",{"$f":"IN!F1228*60","v":0},0,"-"]
[0,{"$error":"#VALUE!"},{"$error":"#VALUE!"},{"$f":"SUBSTITUTE(IN!G1229,\"-\",\"\")","v":""},"",{"$f":"IN!F1229*60","v":0},0,"-"]
[0,{"$error":"#VALUE!"},{"$error":"#VALUE!"},{"$f":"SUBSTITUTE(IN!G1230,\"-\",\"\")","v":""},"",{"$f":"IN!F1230*60","v":0},0,"-"]
[0,{"$error":"#VALUE!"},{"$error":"#VALUE!"},{"$f":"SUBSTITUTE(IN!G1231,\"-\",\"\")","v":""},"",{"$f":"IN!F1231*60","v":0},0,"-"]
[0,{"$error":"#VALUE!"},{"$error":"#VALUE!"},{"$f":"SUBSTITUTE(IN!G1232,\"-\",\"\")","v":""},"",{"$f":"IN!F1232*60","v":0},0,"-"]
[0,{"$error":"#VALUE!"},{"$error":"#VALUE!"},{"$f":"SUBSTITUTE(IN!G1233,\"-\",\"\")","v":""},"",{"$f":"IN!F1233*60","v":0},0,"-"]
[0,{"$error":"#VALUE!"},{"$error":"#VALUE!"},{"$f":"SUBSTITUTE(IN!G1234,\"-\",\"\")","v":""},"",{"$f":"IN!F1234*60","v":0},0,"-"]
[0,{"$error":"#VALUE!"},{"$error":"#VALUE!"},{"$f":"SUBSTITUTE(IN!G1235,\"-\",\"\")","v":""},"",{"$f":"IN!F1235*60","v":0},0,"-"]
[0,{"$error":"#VALUE!"},{"$error":"#VALUE!"},{"$f":"SUBSTITUTE(IN!G1236,\"-\",\"\")","v":""},"",{"$f":"IN!F1236*60","v":0},0,"-"]
[0,{"$error":"#VALUE!"},{"$error":"#VALUE!"},{"$f":"SUBSTITUTE(IN!G1237,\"-\",\"\")","v":""},"",{"$f":"IN!F1237*60","v":0},0,"-"]
[0,{"$error":"#VALUE!"},{"$error":"#VALUE!"},{"$f":"SUBSTITUTE(IN!G1238,\"-\",\"\")","v":""},"",{"$f":"IN!F1238*60","v":0},0,"-"]
[0,{"$error":"#VALUE!"},{"$error":"#VALUE!"},{"$f":"SUBSTITUTE(IN!G1239,\"-\",\"\")","v":""},"",{"$f":"IN!F1239*60","v":0},0,"-"]
[0,{"$error":"#VALUE!"},{"$error":"#VALUE!"},{"$f":"SUBSTITUTE(IN!G1240,\"-\",\"\")","v":""},"",{"$f":"IN!F1240*60","v":0},0,"-"]
[0,{"$error":"#VALUE!"},{"$error":"#VALUE!"},{"$f":"SUBSTITUTE(IN!G1241,\"-\",\"\")","v":""},"",{"$f":"IN!F1241*60","v":0},0,"-"]
[0,{"$error":"#VALUE!"},{"$error":"#VALUE!"},{"$f":"SUBSTITUTE(IN!G1242,\"-\",\"\")","v":""},"",{"$f":"IN!F1242*60","v":0},0,"-"]
[0,{"$error":"#VALUE!"},{"$error":"#VALUE!"},{"$f":"SUBSTITUTE(IN!G1243,\"-\",\"\")","v":""},"",{"$f":"IN!F1243*60","v":0},0,"-"]
[0,{"$error":"#VALUE!"},{"$error":"#VALUE!"},{"$f":"SUBSTITUTE(IN!G1244,\"-\",\"\")","v":""},"",{"$f":"IN!F1244*60","v":0},0,"-"]
[0,{"$error":"#VALUE!"},{"$error":"#VALUE!"},{"$f":"SUBSTITUTE(IN!G1245,\"-\",\"\")","v":""},"",{"$f":"IN!F1245*60","v":0},0,"-"]
[0,{"$error":"#VALUE!"},{"$error":"#VALUE!"},{"$f":"SUBSTITUTE(IN!G1246,\"-\",\"\")","v":""},"",{"$f":"IN!F1246*60","v":0},0,"-"]
[0,{"$error":"#VALUE!"},{"$error":"#VALUE!"},{"$f":"SUBSTITUTE(IN!G1247,\"-\",\"\")","v":""},"",{"$f":"IN!F1247*60","v":0},0,"-"]
[0,{"$error":"#VALUE!"},{"$error":"#VALUE!"},{"$f":"SUBSTITUTE(IN!G1248,\"-\",\"\")","v":""},"",{"$f":"IN!F1248*60","v":0},0,"-"]
[0,{"$error":"#VALUE!"},{"$error":"#VALUE!"},{"$f":"SUBSTITUTE(IN!G1249,\"-\",\"\")","v":""},"",{"$f":"IN!F1249*60","v":0},0,"-"]
[0,{"$error":"#VALUE!"},{"$error":"#VALUE!"},{"$f":"SUBSTITUTE(IN!G1250,\"-\",\"\")","v":""},"",{"$f":"IN!F1250*60","v":0},0,"-"]
[0,{"$error":"#VALUE!"},{"$error":"#VALUE!"},{"$f":"SUBSTITUTE(IN!G1251,\"-\",\"\")","v":""},"",{"$f":"IN!F1251*60","v":0},0,"-"]
[0,{"$error":"#VALUE!"},{"$error":"#VALUE!"},{"$f":"SUBSTITUTE(IN!G1252,\"-\",\"\")","v":""},"",{"$f":"IN!F1252*60","v":0},0,"-"]
[0,{"$error":"#VALUE!"},{"$error":"#VALUE!"},{"$f":"SUBSTITUTE(IN!G1253,\"-\",\"\")","v":""},"",{"$f":"IN!F1253*60","v":0},0,"-"]
[0,{"$error":"#VALUE!"},{"$error":"#VALUE!"},{"$f":"SUBSTITUTE(IN!G1254,\"-\",\"\")","v":""},"",{"$f":"IN!F1254*60","v":0},0,"-"]
[0,{"$error":"#VALUE!"},{"$error":"#VALUE!"},{"$f":"SUBSTITUTE(IN!G1255,\"-\",\"\")","v":""},"",{"$f":"IN!F1255*60","v":0},0,"-"]
[0,{"$error":"#VALUE!"},{"$error":"#VALUE!"},{"$f":"SUBSTITUTE(IN!G1256,\"-\",\"\")","v":""},"",{"$f":"IN!F1256*60","v":0},0,"-"]
[0,{"$error":"#VALUE!"},{"$error":"#VALUE!"},{"$f":"SUBSTITUTE(IN!G1257,\"-\",\"\")","v":""},"",{"$f":"IN!F1257*60","v":0},0,"-"]
[0,{"$error":"#VALUE!"},{"$error":"#VALUE!"},{"$f":"SUBSTITUTE(IN!G1258,\"-\",\"\")","v":""},"",{"$f":"IN!F1258*60","v":0},0,"-"]
[0,{"$error":"#VALUE!"},{"$error":"#VALUE!"},{"$f":"SUBSTITUTE(IN!G1259,\"-\",\"\")","v":""},"",{"$f":"IN!F1259*60","v":0},0,"-"]
[0,{"$error":"#VALUE!"},{"$error":"#VALUE!"},{"$f":"SUBSTITUTE(IN!G1260,\"-\",\"\")","v":""},"",{"$f":"IN!F1260*60","v":0},0,"-"]
[0,{"$error":"#VALUE!"},{"$error":"#VALUE!"},{"$f":"SUBSTITUTE(IN!G1261,\"-\",\"\")","v":""},"",{"$f":"IN!F1261*60","v":0},0,"-"]
[0,{"$error":"#VALUE!"},{"$error":"#VALUE!"},{"$f":"SUBSTITUTE(IN!G1262,\"-\",\"\")","v":""},"",{"$f":"IN!F1262*60","v":0},0,"-"]
[0,{"$error":"#VALUE!"},{"$error":"#VALUE!"},{"$f":"SUBSTITUTE(IN!G1263,\"-\",\"\")","v":""},"",{"$f":"IN!F1263*60","v":0},0,"-"]
[0,{"$error":"#VALUE!"},{"$error":"#VALUE!"},{"$f":"SUBSTITUTE(IN!G1264,\"-\",\"\")","v":""},"",{"$f":"IN!F1264*60","v":0},0,"-"]
[0,{"$error":"#VALUE!"},{"$error":"#VALUE!"},{"$f":"SUBSTITUTE(IN!G1265,\"-\",\"\")","v":""},"",{"$f":"IN!F1265*60","v":0},0,"-"]
[0,{"$error":"#VALUE!"},{"$error":"#VALUE!"},{"$f":"SUBSTITUTE(IN!G1266,\"-\",\"\")","v":""},"",{"$f":"IN!F1266*60","v":0},0,"-"]
[0,{"$error":"#VALUE!"},{"$error":"#VALUE!"},{"$f":"SUBSTITUTE(IN!G1267,\"-\",\"\")","v":""},"",{"$f":"IN!F1267*60","v":0},0,"-"]
[0,{"$error":"#VALUE!"},{"$error":"#VALUE!"},{"$f":"SUBSTITUTE(IN!G1268,\"-\",\"\")","v":""},"",{"$f":"IN!F1268*60","v":0},0,"-"]
[0,{"$error":"#VALUE!"},{"$error":"#VALUE!"},{"$f":"SUBSTITUTE(IN!G1269,\"-\",\"\")","v":""},"",{"$f":"IN!F1269*60","v":0},0,"-"]
[0,{"$error":"#VALUE!"},{"$error":"#VALUE!"},{"$f":"SUBSTITUTE(IN!G1270,\"-\",\"\")","v":""},"",{"$f":"IN!F1270*60","v":0},0,"-"]
[0,{"$error":"#VALUE!"},{"$error":"#VALUE!"},{"$f":"SUBSTITUTE(IN!G1271,\"-\",\"\")","v":""},"",{"$f":"IN!F1271*60","v":0},0,"-"]
[0,{"$error":"#VALUE!"},{"$error":"#VALUE!"},{"$f":"SUBSTITUTE(IN!G1272,\"-\",\"\")","v":""},"",{"$f":"IN!F1272*60","v":0},0,"-"]
[0,{"$error":"#VALUE!"},{"$error":"#VALUE!"},{"$f":"SUBSTITUTE(IN!G1273,\"-\",\"\")","v":""},"",{"$f":"IN!F1273*60","v":0},0,"-"]
[0,{"$error":"#VALUE!"},{"$error":"#VALUE!"},{"$f":"SUBSTITUTE(IN!G1274,\"-\",\"\")","v":""},"",{"$f":"IN!F1274*60","v":0},0,"-"]
[0,{"$error":"#VALUE!"},{"$error":"#VALUE!"},{"$f":"SUBSTITUTE(IN!G1275,\"-\",\"\")","v":""},"",{"$f":"IN!F1275*60","v":0},0,"-"]
[0,{"$error":"#VALUE!"},{"$error":"#VALUE!"},{"$f":"SUBSTITUTE(IN!G1276,\"-\",\"\")","v":""},"",{"$f":"IN!F1276*60","v":0},0,"-"]
[0,{"$error":"#VALUE!"},{"$error":"#VALUE!"},{"$f":"SUBSTITUTE(IN!G1277,\"-\",\"\")","v":""},"",{"$f":"IN!F1277*60","v":0},0,"-"]
[0,{"$error":"#VALUE!"},{"$error":"#VALUE!"},{"$f":"SUBSTITUTE(IN!G1278,\"-\",\"\")","v":""},"",{"$f":"IN!F1278*60","v":0},0,"-"]
[0,{"$error":"#VALUE!"},{"$error":"#VALUE!"},{"$f":"SUBSTITUTE(IN!G1279,\"-\",\"\")","v":""},"",{"$f":"IN!F1279*60","v":0},0,"-"]
[0,{"$error":"#VALUE!"},{"$error":"#VALUE!"},{"$f":"SUBSTITUTE(IN!G1280,\"-\",\"\")","v":""},"",{"$f":"IN!F1280*60","v":0},0,"-"]
[0,{"$error":"#VALUE!"},{"$error":"#VALUE!"},{"$f":"SUBSTITUTE(IN!G1281,\"-\",\"\")","v":""},"",{"$f":"IN!F1281*60","v":0},0,"-"]
[0,{"$error":"#VALUE!"},{"$error":"#VALUE!"},{"$f":"SUBSTITUTE(IN!G1282,\"-\",\"\")","v":""},"",{"$f":"IN!F1282*60","v":0},0,"-"]
[0,{"$error":"#VALUE!"},{"$error":"#VALUE!"},{"$f":"SUBSTITUTE(IN!G1283,\"-\",\"\")","v":""},"",{"$f":"IN!F1283*60","v":0},0,"-"]
[0,{"$error":"#VALUE!"},{"$error":"#VALUE!"},{"$f":"SUBSTITUTE(IN!G1284,\"-\",\"\")","v":""},"",{"$f":"IN!F1284*60","v":0},0,"-"]
[{"$f":"LEN(D1285)","v":0},{"$f":"VALUE(LEFT(D1285,1))","v":{"$error":"#VALUE!"}},{"$f":"IF(B1285<2,20,19)","v":{"$error":"#VALUE!"}},{"$f":"SUBSTITUTE(IN!G1285,\"-\",\"\")","v":""},{"$f":"IF(A1285=10,CONCATENATE(C1285,D1285),D1285)","v":""},{"$f":"IN!F1285*60","v":0},{"$f":"ROUND(F1285,0)","v":0},{"$f":"CONCATENATE(MID(E1285,3,6),\"-\",MID(E1285,9,4))","v":"-"}]
[0,{"$error":"#VALUE!"},{"$error":"#VALUE!"},{"$f":"SUBSTITUTE(IN!G1286,\"-\",\"\")","v":""},"",{"$f":"IN!F1286*60","v":0},0,"-"]
[0,{"$error":"#VALUE!"},{"$error":"#VALUE!"},{"$f":"SUBSTITUTE(IN!G1287,\"-\",\"\")","v":""},"",{"$f":"IN!F1287*60","v":0},0,"-"]
[0,{"$error":"#VALUE!"},{"$error":"#VALUE!"},{"$f":"SUBSTITUTE(IN!G1288,\"-\",\"\")","v":""},"",{"$f":"IN!F1288*60","v":0},0,"-"]
[0,{"$error":"#VALUE!"},{"$error":"#VALUE!"},{"$f":"SUBSTITUTE(IN!G1289,\"-\",\"\")","v":""},"",{"$f":"IN!F1289*60","v":0},0,"-"]
[0,{"$error":"#VALUE!"},{"$error":"#VALUE!"},{"$f":"SUBSTITUTE(IN!G1290,\"-\",\"\")","v":""},"",{"$f":"IN!F1290*60","v":0},0,"-"]
[0,{"$error":"#VALUE!"},{"$error":"#VALUE!"},{"$f":"SUBSTITUTE(IN!G1291,\"-\",\"\")","v":""},"",{"$f":"IN!F1291*60","v":0},0,"-"]
[0,{"$error":"#VALUE!"},{"$error":"#VALUE!"},{"$f":"SUBSTITUTE(IN!G1292,\"-\",\"\")","v":""},"",{"$f":"IN!F1292*60","v":0},0,"-"]
[0,{"$error":"#VALUE!"},{"$error":"#VALUE!"},{"$f":"SUBSTITUTE(IN!G1293,\"-\",\"\")","v":""},"",{"$f":"IN!F1293*60","v":0},0,"-"]
[0,{"$error":"#VALUE!"},{"$error":"#VALUE!"},{"$f":"SUBSTITUTE(IN!G1294,\"-\",\"\")","v":""},"",{"$f":"IN!F1294*60","v":0},0,"-"]
[0,{"$error":"#VALUE!"},{"$error":"#VALUE!"},{"$f":"SUBSTITUTE(IN!G1295,\"-\",\"\")","v":""},"",{"$f":"IN!F1295*60","v":0},0,"-"]
[0,{"$error":"#VALUE!"},{"$error":"#VALUE!"},{"$f":"SUBSTITUTE(IN!G1296,\"-\",\"\")","v":""},"",{"$f":"IN!F1296*60","v":0},0,"-"]
[0,{"$error":"#VALUE!"},{"$error":"#VALUE!"},{"$f":"SUBSTITUTE(IN!G1297,\"-\",\"\")","v":""},"",{"$f":"IN!F1297*60","v":0},0,"-"]
[0,{"$error":"#VALUE!"},{"$error":"#VALUE!"},{"$f":"SUBSTITUTE(IN!G1298,\"-\",\"\")","v":""},"",{"$f":"IN!F1298*60","v":0},0,"-"]
[0,{"$error":"#VALUE!"},{"$error":"#VALUE!"},{"$f":"SUBSTITUTE(IN!G1299,\"-\",\"\")","v":""},"",{"$f":"IN!F1299*60","v":0},0,"-"]
[0,{"$error":"#VALUE!"},{"$error":"#VALUE!"},{"$f":"SUBSTITUTE(IN!G1300,\"-\",\"\")","v":""},"",{"$f":"IN!F1300*60","v":0},0,"-"]
[0,{"$error":"#VALUE!"},{"$error":"#VALUE!"},{"$f":"SUBSTITUTE(IN!G1301,\"-\",\"\")","v":""},"",{"$f":"IN!F1301*60","v":0},0,"-"]
[0,{"$error":"#VALUE!"},{"$error":"#VALUE!"},{"$f":"SUBSTITUTE(IN!G1302,\"-\",\"\")","v":""},"",{"$f":"IN!F1302*60","v":0},0,"-"]
[0,{"$error":"#VALUE!"},{"$error":"#VALUE!"},{"$f":"SUBSTITUTE(IN!G1303,\"-\",\"\")","v":""},"",{"$f":"IN!F1303*60","v":0},0,"-"]
[0,{"$error":"#VALUE!"},{"$error":"#VALUE!"},{"$f":"SUBSTITUTE(IN!G1304,\"-\",\"\")","v":""},"",{"$f":"IN!F1304*60","v":0},0,"-"]
[0,{"$error":"#VALUE!"},{"$error":"#VALUE!"},{"$f":"SUBSTITUTE(IN!G1305,\"-\",\"\")","v":""},"",{"$f":"IN!F1305*60","v":0},0,"-"]
[0,{"$error":"#VALUE!"},{"$error":"#VALUE!"},{"$f":"SUBSTITUTE(IN!G1306,\"-\",\"\")","v":""},"",{"$f":"IN!F1306*60","v":0},0,"-"]
[0,{"$error":"#VALUE!"},{"$error":"#VALUE!"},{"$f":"SUBSTITUTE(IN!G1307,\"-\",\"\")","v":""},"",{"$f":"IN!F1307*60","v":0},0,"-"]
[0,{"$error":"#VALUE!"},{"$error":"#VALUE!"},{"$f":"SUBSTITUTE(IN!G1308,\"-\",\"\")","v":""},"",{"$f":"IN!F1308*60","v":0},0,"-"]
[0,{"$error":"#VALUE!"},{"$error":"#VALUE!"},{"$f":"SUBSTITUTE(IN!G1309,\"-\",\"\")","v":""},"",{"$f":"IN!F1309*60","v":0},0,"-"]
[0,{"$error":"#VALUE!"},{"$error":"#VALUE!"},{"$f":"SUBSTITUTE(IN!G1310,\"-\",\"\")","v":""},"",{"$f":"IN!F1310*60","v":0},0,"-"]
[0,{"$error":"#VALUE!"},{"$error":"#VALUE!"},{"$f":"SUBSTITUTE(IN!G1311,\"-\",\"\")","v":""},"",{"$f":"IN!F1311*60","v":0},0,"-"]
[0,{"$error":"#VALUE!"},{"$error":"#VALUE!"},{"$f":"SUBSTITUTE(IN!G1312,\"-\",\"\")","v":""},"",{"$f":"IN!F1312*60","v":0},0,"-"]
[0,{"$error":"#VALUE!"},{"$error":"#VALUE!"},{"$f":"SUBSTITUTE(IN!G1313,\"-\",\"\")","v":""},"",{"$f":"IN!F1313*60","v":0},0,"-"]
[0,{"$error":"#VALUE!"},{"$error":"#VALUE!"},{"$f":"SUBSTITUTE(IN!G1314,\"-\",\"\")","v":""},"",{"$f":"IN!F1314*60","v":0},0,"-"]
[0,{"$error":"#VALUE!"},{"$error":"#VALUE!"},{"$f":"SUBSTITUTE(IN!G1315,\"-\",\"\")","v":""},"",{"$f":"IN!F1315*60","v":0},0,"-"]
[0,{"$error":"#VALUE!"},{"$error":"#VALUE!"},{"$f":"SUBSTITUTE(IN!G1316,\"-\",\"\")","v":""},"",{"$f":"IN!F1316*60","v":0},0,"-"]
[0,{"$error":"#VALUE!"},{"$error":"#VALUE!"},{"$f":"SUBSTITUTE(IN!G1317,\"-\",\"\")","v":""},"",{"$f":"IN!F1317*60","v":0},0,"-"]
[0,{"$error":"#VALUE!"},{"$error":"#VALUE!"},{"$f":"SUBSTITUTE(IN!G1318,\"-\",\"\")","v":""},"",{"$f":"IN!F1318*60","v":0},0,"-"]
[0,{"$error":"#VALUE!"},{"$error":"#VALUE!"},{"$f":"SUBSTITUTE(IN!G1319,\"-\",\"\")","v":""},"",{"$f":"IN!F1319*60","v":0},0,"-"]
[0,{"$error":"#VALUE!"},{"$error":"#VALUE!"},{"$f":"SUBSTITUTE(IN!G1320,\"-\",\"\")","v":""},"",{"$f":"IN!F1320*60","v":0},0,"-"]
[0,{"$error":"#VALUE!"},{"$error":"#VALUE!"},{"$f":"SUBSTITUTE(IN!G1321,\"-\",\"\")","v":""},"",{"$f":"IN!F1321*60","v":0},0,"-"]
[0,{"$error":"#VALUE!"},{"$error":"#VALUE!"},{"$f":"SUBSTITUTE(IN!G1322,\"-\",\"\")","v":""},"",{"$f":"IN!F1322*60","v":0},0,"-"]
[0,{"$error":"#VALUE!"},{"$error":"#VALUE!"},{"$f":"SUBSTITUTE(IN!G1323,\"-\",\"\")","v":""},"",{"$f":"IN!F1323*60","v":0},0,"-"]
[0,{"$error":"#VALUE!"},{"$error":"#VALUE!"},{"$f":"SUBSTITUTE(IN!G1324,\"-\",\"\")","v":""},"",{"$f":"IN!F1324*60","v":0},0,"-"]
[0,{"$error":"#VALUE!"},{"$error":"#VALUE!"},{"$f":"SUBSTITUTE(IN!G1325,\"-\",\"\")","v":""},"",{"$f":"IN!F1325*60","v":0},0,"-"]
[0,{"$error":"#VALUE!"},{"$error":"#VALUE!"},{"$f":"SUBSTITUTE(IN!G1326,\"-\",\"\")","v":""},"",{"$f":"IN!F1326*60","v":0},0,"-"]
[0,{"$error":"#VALUE!"},{"$error":"#VALUE!"},{"$f":"SUBSTITUTE(IN!G1327,\"-\",\"\")","v":""},"",{"$f":"IN!F1327*60","v":0},0,"-"]
[0,{"$error":"#VALUE!"},{"$error":"#VALUE!"},{"$f":"SUBSTITUTE(IN!G1328,\"-\",\"\")","v":""},"",{"$f":"IN!F1328*60","v":0},0,"-"]
[0,{"$error":"#VALUE!"},{"$error":"#VALUE!"},{"$f":"SUBSTITUTE(IN!G1329,\"-\",\"\")","v":""},"",{"$f":"IN!F1329*60","v":0},0,"-"]
[0,{"$error":"#VALUE!"},{"$error":"#VALUE!"},{"$f":"SUBSTITUTE(IN!G1330,\"-\",\"\")","v":""},"",{"$f":"IN!F1330*60","v":0},0,"-"]
[0,{"$error":"#VALUE!"},{"$error":"#VALUE!"},{"$f":"SUBSTITUTE(IN!G1331,\"-\",\"\")","v":""},"",{"$f":"IN!F1331*60","v":0},0,"-"]
[0,{"$error":"#VALUE!"},{"$error":"#VALUE!"},{"$f":"SUBSTITUTE(IN!G1332,\"-\",\"\")","v":""},"",{"$f":"IN!F1332*60","v":0},0,"-"]
[0,{"$error":"#VALUE!"},{"$error":"#VALUE!"},{"$f":"SUBSTITUTE(IN!G1333,\"-\",\"\")","v":""},"",{"$f":"IN!F1333*60","v":0},0,"-"]
[0,{"$error":"#VALUE!"},{"$error":"#VALUE!"},{"$f":"SUBSTITUTE(IN!G1334,\"-\",\"\")","v":""},"",{"$f":"IN!F1334*60","v":0},0,"-"]
[0,{"$error":"#VALUE!"},{"$error":"#VALUE!"},{"$f":"SUBSTITUTE(IN!G1335,\"-\",\"\")","v":""},"",{"$f":"IN!F1335*60","v":0},0,"-"]
[0,{"$error":"#VALUE!"},{"$error":"#VALUE!"},{"$f":"SUBSTITUTE(IN!G1336,\"-\",\"\")","v":""},"",{"$f":"IN!F1336*60","v":0},0,"-"]
[0,{"$error":"#VALUE!"},{"$error":"#VALUE!"},{"$f":"SUBSTITUTE(IN!G1337,\"-\",\"\")","v":""},"",{"$f":"IN!F1337*60","v":0},0,"-"]
[0,{"$error":"#VALUE!"},{"$error":"#VALUE!"},{"$f":"SUBSTITUTE(IN!G1338,\"-\",\"\")","v":""},"",{"$f":"IN!F1338*60","v":0},0,"-"]
[0,{"$error":"#VALUE!"},{"$error":"#VALUE!"},{"$f":"SUBSTITUTE(IN!G1339,\"-\",\"\")","v":""},"",{"$f":"IN!F1339*60","v":0},0,"-"]
[0,{"$error":"#VALUE!"},{"$error":"#VALUE!"},{"$f":"SUBSTITUTE(IN!G1340,\"-\",\"\")","v":""},"",{"$f":"IN!F1340*60","v":0},0,"-"]
[0,{"$error":"#VALUE!"},{"$error":"#VALUE!"},{"$f":"SUBSTITUTE(IN!G1341,\"-\",\"\")","v":""},"",{"$f":"IN!F1341*60","v":0},0,"-"]
[0,{"$error":"#VALUE!"},{"$error":"#VALUE!"},{"$f":"SUBSTITUTE(IN!G1342,\"-\",\"\")","v":""},"",{"$f":"IN!F1342*60","v":0},0,"-"]
[0,{"$error":"#VALUE!"},{"$error":"#VALUE!"},{"$f":"SUBSTITUTE(IN!G1343,\"-\",\"\")","v":""},"",{"$f":"IN!F1343*60","v":0},0,"-"]
[0,{"$error":"#VALUE!"},{"$error":"#VALUE!"},{"$f":"SUBSTITUTE(IN!G1344,\"-\",\"\")","v":""},"",{"$f":"IN!F1344*60","v":0},0,"-"]
[0,{"$error":"#VALUE!"},{"$error":"#VALUE!"},{"$f":"SUBSTITUTE(IN!G1345,\"-\",\"\")","v":""},"",{"$f":"IN!F1345*60","v":0},0,"-"]
[0,{"$error":"#VALUE!"},{"$error":"#VALUE!"},{"$f":"SUBSTITUTE(IN!G1346,\"-\",\"\")","v":""},"",{"$f":"IN!F1346*60","v":0},0,"-"]
[0,{"$error":"#VALUE!"},{"$error":"#VALUE!"},{"$f":"SUBSTITUTE(IN!G1347,\"-\",\"\")","v":""},"",{"$f":"IN!F1347*60","v":0},0,"-"]
[0,{"$error":"#VALUE!"},{"$error":"#VALUE!"},{"$f":"SUBSTITUTE(IN!G1348,\"-\",\"\")","v":""},"",{"$f":"IN!F1348*60","v":0},0,"-"]
[{"$f":"LEN(D1349)","v":0},{"$f":"VALUE(LEFT(D1349,1))","v":{"$error":"#VALUE!"}},{"$f":"IF(B1349<2,20,19)","v":{"$error":"#VALUE!"}},{"$f":"SUBSTITUTE(IN!G1349,\"-\",\"\")","v":""},{"$f":"IF(A1349=10,CONCATENATE(C1349,D1349),D1349)","v":""},{"$f":"IN!F1349*60","v":0},{"$f":"ROUND(F1349,0)","v":0},{"$f":"CONCATENATE(MID(E1349,3,6),\"-\",MID(E1349,9,4))","v":"-"}]
[0,{"$error":"#VALUE!"},{"$error":"#VALUE!"},{"$f":"SUBSTITUTE(IN!G1350,\"-\",\"\")","v":""},"",{"$f":"IN!F1350*60","v":0},0,"-"]
[0,{"$error":"#VALUE!"},{"$error":"#VALUE!"},{"$f":"SUBSTITUTE(IN!G1351,\"-\",\"\")","v":""},"",{"$f":"IN!F1351*60","v":0},0,"-"]
[0,{"$error":"#VALUE!"},{"$error":"#VALUE!"},{"$f":"SUBSTITUTE(IN!G1352,\"-\",\"\")","v":""},"",{"$f":"IN!F1352*60","v":0},0,"-"]
[0,{"$error":"#VALUE!"},{"$error":"#VALUE!"},{"$f":"SUBSTITUTE(IN!G1353,\"-\",\"\")","v":""},"",{"$f":"IN!F1353*60","v":0},0,"-"]
[0,{"$error":"#VALUE!"},{"$error":"#VALUE!"},{"$f":"SUBSTITUTE(IN!G1354,\"-\",\"\")","v":""},"",{"$f":"IN!F1354*60","v":0},0,"-"]
[0,{"$error":"#VALUE!"},{"$error":"#VALUE!"},{"$f":"SUBSTITUTE(IN!G1355,\"-\",\"\")","v":""},"",{"$f":"IN!F1355*60","v":0},0,"-"]
[0,{"$error":"#VALUE!"},{"$error":"#VALUE!"},{"$f":"SUBSTITUTE(IN!G1356,\"-\",\"\")","v":""},"",{"$f":"IN!F1356*60","v":0},0,"-"]
[0,{"$error":"#VALUE!"},{"$error":"#VALUE!"},{"$f":"SUBSTITUTE(IN!G1357,\"-\",\"\")","v":""},"",{"$f":"IN!F1357*60","v":0},0,"-"]
[0,{"$error":"#VALUE!"},{"$error":"#VALUE!"},{"$f":"SUBSTITUTE(IN!G1358,\"-\",\"\")","v":""},"",{"$f":"IN!F1358*60","v":0},0,"-"]
[0,{"$error":"#VALUE!"},{"$error":"#VALUE!"},{"$f":"SUBSTITUTE(IN!G1359,\"-\",\"\")","v":""},"",{"$f":"IN!F1359*60","v":0},0,"-"]
[0,{"$error":"#VALUE!"},{"$error":"#VALUE!"},{"$f":"SUBSTITUTE(IN!G1360,\"-\",\"\")","v":""},"",{"$f":"IN!F1360*60","v":0},0,"-"]
[0,{"$error":"#VALUE!"},{"$error":"#VALUE!"},{"$f":"SUBSTITUTE(IN!G1361,\"-\",\"\")","v":""},"",{"$f":"IN!F1361*60","v":0},0,"-"]
[0,{"$error":"#VALUE!"},{"$error":"#VALUE!"},{"$f":"SUBSTITUTE(IN!G1362,\"-\",\"\")","v":""},"",{"$f":"IN!F1362*60","v":0},0,"-"]
[0,{"$error":"#VALUE!"},{"$error":"#VALUE!"},{"$f":"SUBSTITUTE(IN!G1363,\"-\",\"\")","v":""},"",{"$f":"IN!F1363*60","v":0},0,"-"]
[0,{"$error":"#VALUE!"},{"$error":"#VALUE!"},{"$f":"SUBSTITUTE(IN!G1364,\"-\",\"\")","v":""},"",{"$f":"IN!F1364*60","v":0},0,"-"]
[0,{"$error":"#VALUE!"},{"$error":"#VALUE!"},{"$f":"SUBSTITUTE(IN!G1365,\"-\",\"\")","v":""},"",{"$f":"IN!F1365*60","v":0},0,"-"]
[0,{"$error":"#VALUE!"},{"$error":"#VALUE!"},{"$f":"SUBSTITUTE(IN!G1366,\"-\",\"\")","v":""},"",{"$f":"IN!F1366*60","v":0},0,"-"]
[0,{"$error":"#VALUE!"},{"$error":"#VALUE!"},{"$f":"SUBSTITUTE(IN!G1367,\"-\",\"\")","v":""},"",{"$f":"IN!F1367*60","v":0},0,"-"]
[0,{"$error":"#VALUE!"},{"$error":"#VALUE!"},{"$f":"SUBSTITUTE(IN!G1368,\"-\",\"\")","v":""},"",{"$f":"IN!F1368*60","v":0},0,"-"]
[0,{"$error":"#VALUE!"},{"$error":"#VALUE!"},{"$f":"SUBSTITUTE(IN!G1369,\"-\",\"\")","v":""},"",{"$f":"IN!F1369*60","v":0},0,"-"]
[0,{"$error":"#VALUE!"},{"$error":"#VALUE!"},{"$f":"SUBSTITUTE(IN!G1370,\"-\",\"\")","v":""},"",{"$f":"IN!F1370*60","v":0},0,"-"]
[0,{"$error":"#VALUE!"},{"$error":"#VALUE!"},{"$f":"SUBSTITUTE(IN!G1371,\"-\",\"\")","v":""},"",{"$f":"IN!F1371*60","v":0},0,"-"]
[0,{"$error":"#VALUE!"},{"$error":"#VALUE!"},{"$f":"SUBSTITUTE(IN!G1372,\"-\",\"\")","v":""},"",{"$f":"IN!F1372*60","v":0},0,"-"]
[0,{"$error":"#VALUE!"},{"$error":"#VALUE!"},{"$f":"SUBSTITUTE(IN!G1373,\"-\",\"\")","v":""},"",{"$f":"IN!F1373*60","v":0},0,"-"]
[0,{"$error":"#VALUE!"},{"$error":"#VALUE!"},{"$f":"SUBSTITUTE(IN!G1374,\"-\",\"\")","v":""},"",{"$f":"IN!F1374*60","v":0},0,"-"]
[0,{"$error":"#VALUE!"},{"$error":"#VALUE!"},{"$f":"SUBSTITUTE(IN!G1375,\"-\",\"\")","v":""},"",{"$f":"IN!F1375*60","v":0},0,"-"]
[0,{"$error":"#VALUE!"},{"$error":"#VALUE!"},{"$f":"SUBSTITUTE(IN!G1376,\"-\",\"\")","v":""},"",{"$f":"IN!F1376*60","v":0},0,"-"]
[0,{"$error":"#VALUE!"},{"$error":"#VALUE!"},{"$f":"SUBSTITUTE(IN!G1377,\"-\",\"\")","v":""},"",{"$f":"IN!F1377*60","v":0},0,"-"]
[0,{"$error":"#VALUE!"},{"$error":"#VALUE!"},{"$f":"SUBSTITUTE(IN!G1378,\"-\",\"\")","v":""},"",{"$f":"IN!F1378*60","v":0},0,"-"]
[0,{"$error":"#VALUE!"},{"$error":"#VALUE!"},{"$f":"SUBSTITUTE(IN!G1379,\"-\",\"\")","v":""},"",{"$f":"IN!F1379*60","v":0},0,"-"]
[0,{"$error":"#VALUE!"},{"$error":"#VALUE!"},{"$f":"SUBSTITUTE(IN!G1380,\"-\",\"\")","v":""},"",{"$f":"IN!F1380*60","v":0},0,"-"]
[0,{"$error":"#VALUE!"},{"$error":"#VALUE!"},{"$f":"SUBSTITUTE(IN!G1381,\"-\",\"\")","v":""},"",{"$f":"IN!F1381*60","v":0},0,"-"]
[0,{"$error":"#VALUE!"},{"$error":"#VALUE!"},{"$f":"SUBSTITUTE(IN!G1382,\"-\",\"\")","v":""},"",{"$f":"IN!F1382*60","v":0},0,"-"]
[0,{"$error":"#VALUE!"},{"$error":"#VALUE!"},{"$f":"SUBSTITUTE(IN!G1383,\"-\",\"\")","v":""},"",{"$f":"IN!F1383*60","v":0},0,"-"]
[0,{"$error":"#VALUE!"},{"$error":"#VALUE!"},{"$f":"SUBSTITUTE(IN!G1384,\"-\",\"\")","v":""},"",{"$f":"IN!F1384*60","v":0},0,"-"]
[0,{"$error":"#VALUE!"},{"$error":"#VALUE!"},{"$f":"SUBSTITUTE(IN!G1385,\"-\",\"\")","v":""},"",{"$f":"IN!F1385*60","v":0},0,"-"]
[0,{"$error":"#VALUE!"},{"$error":"#VALUE!"},{"$f":"SUBSTITUTE(IN!G1386,\"-\",\"\")","v":""},"",{"$f":"IN!F1386*60","v":0},0,"-"]
[0,{"$error":"#VALUE!"},{"$error":"#VALUE!"},{"$f":"SUBSTITUTE(IN!G1387,\"-\",\"\")","v":""},"",{"$f":"IN!F1387*60","v":0},0,"-"]
[0,{"$error":"#VALUE!"},{"$error":"#VALUE!"},{"$f":"SUBSTITUTE(IN!G1388,\"-\",\"\")","v":""},"",{"$f":"IN!F1388*60","v":0},0,"-"]
[0,{"$error":"#VALUE!"},{"$error":"#VALUE!"},{"$f":"SUBSTITUTE(IN!G1389,\"-\",\"\")","v":""},"",{"$f":"IN!F1389*60","v":0},0,"-"]
[0,{"$error":"#VALUE!"},{"$error":"#VALUE!"},{"$f":"SUBSTITUTE(IN!G1390,\"-\",\"\")","v":""},"",{"$f":"IN!F1390*60","v":0},0,"-"]
[0,{"$error":"#VALUE!"},{"$error":"#VALUE!"},{"$f":"SUBSTITUTE(IN!G1391,\"-\",\"\")","v":""},"",{"$f":"IN!F1391*60","v":0},0,"-"]
[0,{"$error":"#VALUE!"},{"$error":"#VALUE!"},{"$f":"SUBSTITUTE(IN!G1392,\"-\",\"\")","v":""},"",{"$f":"IN!F1392*60","v":0},0,"-"]
[0,{"$error":"#VALUE!"},{"$error":"#VALUE!"},{"$f":"SUBSTITUTE(IN!G1393,\"-\",\"\")","v":""},"",{"$f":"IN!F1393*60","v":0},0,"-"]
[0,{"$error":"#VALUE!"},{"$error":"#VALUE!"},{"$f":"SUBSTITUTE(IN!G1394,\"-\",\"\")","v":""},"",{"$f":"IN!F1394*60","v":0},0,"-"]
[0,{"$error":"#VALUE!"},{"$error":"#VALUE!"},{"$f":"SUBSTITUTE(IN!G1395,\"-\",\"\")","v":""},"",{"$f":"IN!F1395*60","v":0},0,"-"]
[0,{"$error":"#VALUE!"},{"$error":"#VALUE!"},{"$f":"SUBSTITUTE(IN!G1396,\"-\",\"\")","v":""},"",{"$f":"IN!F1396*60","v":0},0,"-"]
[0,{"$error":"#VALUE!"},{"$error":"#VALUE!"},{"$f":"SUBSTITUTE(IN!G1397,\"-\",\"\")","v":""},"",{"$f":"IN!F1397*60","v":0},0,"-"]
[0,{"$error":"#VALUE!"},{"$error":"#VALUE!"},{"$f":"SUBSTITUTE(IN!G1398,\"-\",\"\")","v":""},"",{"$f":"IN!F1398*60","v":0},0,"-"]
[0,{"$error":"#VALUE!"},{"$error":"#VALUE!"},{"$f":"SUBSTITUTE(IN!G1399,\"-\",\"\")","v":""},"",{"$f":"IN!F1399*60","v":0},0,"-"]
[0,{"$error":"#VALUE!"},{"$error":"#VALUE!"},{"$f":"SUBSTITUTE(IN!G1400,\"-\",\"\")","v":""},"",{"$f":"IN!F1400*60","v":0},0,"-"]
[0,{"$error":"#VALUE!"},{"$error":"#VALUE!"},{"$f":"SUBSTITUTE(IN!G1401,\"-\",\"\")","v":""},"",{"$f":"IN!F1401*60","v":0},0,"-"]
[0,{"$error":"#VALUE!"},{"$error":"#VALUE!"},{"$f":"SUBSTITUTE(IN!G1402,\"-\",\"\")","v":""},"",{"$f":"IN!F1402*60","v":0},0,"-"]
[0,{"$error":"#VALUE!"},{"$error":"#VALUE!"},{"$f":"SUBSTITUTE(IN!G1403,\"-\",\"\")","v":""},"",{"$f":"IN!F1403*60","v":0},0,"-"]
[0,{"$error":"#VALUE!"},{"$error":"#VALUE!"},{"$f":"SUBSTITUTE(IN!G1404,\"-\",\"\")","v":""},"",{"$f":"IN!F1404*60","v":0},0,"-"]
[0,{"$error":"#VALUE!"},{"$error":"#VALUE!"},{"$f":"SUBSTITUTE(IN!G1405,\"-\",\"\")","v":""},"",{"$f":"IN!F1405*60","v":0},0,"-"]
[0,{"$error":"#VALUE!"},{"$error":"#VALUE!"},{"$f":"SUBSTITUTE(IN!G1406,\"-\",\"\")","v":""},"",{"$f":"IN!F1406*60","v":0},0,"-"]
[0,{"$error":"#VALUE!"},{"$error":"#VALUE!"},{"$f":"SUBSTITUTE(IN!G1407,\"-\",\"\")","v":""},"",{"$f":"IN!F1407*60","v":0},0,"-"]
[0,{"$error":"#VALUE!"},{"$error":"#VALUE!"},{"$f":"SUBSTITUTE(IN!G1408,\"-\",\"\")","v":""},"",{"$f":"IN!F1408*60","v":0},0,"-"]
[0,{"$error":"#VALUE!"},{"$error":"#VALUE!"},{"$f":"SUBSTITUTE(IN!G1409,\"-\",\"\")","v":""},"",{"$f":"IN!F1409*60","v":0},0,"-"]
[0,{"$error":"#VALUE!"},{"$error":"#VALUE!"},{"$f":"SUBSTITUTE(IN!G1410,\"-\",\"\")","v":""},"",{"$f":"IN!F1410*60","v":0},0,"-"]
[0,{"$error":"#VALUE!"},{"$error":"#VALUE!"},{"$f":"SUBSTITUTE(IN!G1411,\"-\",\"\")","v":""},"",{"$f":"IN!F1411*60","v":0},0,"-"]
[0,{"$error":"#VALUE!"},{"$error":"#VALUE!"},{"$f":"SUBSTITUTE(IN!G1412,\"-\",\"\")","v":""},"",{"$f":"IN!F1412*60","v":0},0,"-"]
[{"$f":"LEN(D1413)","v":0},{"$f":"VALUE(LEFT(D1413,1))","v":{"$error":"#VALUE!"}},{"$f":"IF(B1413<2,20,19)","v":{"$error":"#VALUE!"}},{"$f":"SUBSTITUTE(IN!G1413,\"-\",\"\")","v":""},{"$f":"IF(A1413=10,CONCATENATE(C1413,D1413),D1413)","v":""},{"$f":"IN!F1413*60","v":0},{"$f":"ROUND(F1413,0)","v":0},{"$f":"CONCATENATE(MID(E1413,3,6),\"-\",MID(E1413,9,4))","v":"-"}]
[0,{"$error":"#VALUE!"},{"$error":"#VALUE!"},{"$f":"SUBSTITUTE(IN!G1414,\"-\",\"\")","v":""},"",{"$f":"IN!F1414*60","v":0},0,"-"]
[0,{"$error":"#VALUE!"},{"$error":"#VALUE!"},{"$f":"SUBSTITUTE(IN!G1415,\"-\",\"\")","v":""},"",{"$f":"IN!F1415*60","v":0},0,"-"]
[0,{"$error":"#VALUE!"},{"$error":"#VALUE!"},{"$f":"SUBSTITUTE(IN!G1416,\"-\",\"\")","v":""},"",{"$f":"IN!F1416*60","v":0},0,"-"]
[0,{"$error":"#VALUE!"},{"$error":"#VALUE!"},{"$f":"SUBSTITUTE(IN!G1417,\"-\",\"\")","v":""},"",{"$f":"IN!F1417*60","v":0},0,"-"]
[0,{"$error":"#VALUE!"},{"$error":"#VALUE!"},{"$f":"SUBSTITUTE(IN!G1418,\"-\",\"\")","v":""},"",{"$f":"IN!F1418*60","v":0},0,"-"]
[0,{"$error":"#VALUE!"},{"$error":"#VALUE!"},{"$f":"SUBSTITUTE(IN!G1419,\"-\",\"\")","v":""},"",{"$f":"IN!F1419*60","v":0},0,"-"]
[0,{"$error":"#VALUE!"},{"$error":"#VALUE!"},{"$f":"SUBSTITUTE(IN!G1420,\"-\",\"\")","v":""},"",{"$f":"IN!F1420*60","v":0},0,"-"]
[0,{"$error":"#VALUE!"},{"$error":"#VALUE!"},{"$f":"SUBSTITUTE(IN!G1421,\"-\",\"\")","v":""},"",{"$f":"IN!F1421*60","v":0},0,"-"]
[0,{"$error":"#VALUE!"},{"$error":"#VALUE!"},{"$f":"SUBSTITUTE(IN!G1422,\"-\",\"\")","v":""},"",{"$f":"IN!F1422*60","v":0},0,"-"]
[0,{"$error":"#VALUE!"},{"$error":"#VALUE!"},{"$f":"SUBSTITUTE(IN!G1423,\"-\",\"\")","v":""},"",{"$f":"IN!F1423*60","v":0},0,"-"]
[0,{"$error":"#VALUE!"},{"$error":"#VALUE!"},{"$f":"SUBSTITUTE(IN!G1424,\"-\",\"\")","v":""},"",{"$f":"IN!F1424*60","v":0},0,"-"]
[0,{"$error":"#VALUE!"},{"$error":"#VALUE!"},{"$f":"SUBSTITUTE(IN!G1425,\"-\",\"\")","v":""},"",{"$f":"IN!F1425*60","v":0},0,"-"]
[0,{"$error":"#VALUE!"},{"$error":"#VALUE!"},{"$f":"SUBSTITUTE(IN!G1426,\"-\",\"\")","v":""},"",{"$f":"IN!F1426*60","v":0},0,"-"]
[0,{"$error":"#VALUE!"},{"$error":"#VALUE!"},{"$f":"SUBSTITUTE(IN!G1427,\"-\",\"\")","v":""},"",{"$f":"IN!F1427*60","v":0},0,"-"]
[0,{"$error":"#VALUE!"},{"$error":"#VALUE!"},{"$f":"SUBSTITUTE(IN!G1428,\"-\",\"\")","v":""},"",{"$f":"IN!F1428*60","v":0},0,"-"]
[0,{"$error":"#VALUE!"},{"$error":"#VALUE!"},{"$f":"SUBSTITUTE(IN!G1429,\"-\",\"\")","v":""},"",{"$f":"IN!F1429*60","v":0},0,"-"]
[0,{"$error":"#VALUE!"},{"$error":"#VALUE!"},{"$f":"SUBSTITUTE(IN!G1430,\"-\",\"\")","v":""},"",{"$f":"IN!F1430*60","v":0},0,"-"]
[0,{"$error":"#VALUE!"},{"$error":"#VALUE!"},{"$f":"SUBSTITUTE(IN!G1431,\"-\",\"\")","v":""},"",{"$f":"IN!F1431*60","v":0},0,"-"]
[0,{"$error":"#VALUE!"},{"$error":"#VALUE!"},{"$f":"SUBSTITUTE(IN!G1432,\"-\",\"\")","v":""},"",{"$f":"IN!F1432*60","v":0},0,"-"]
[0,{"$error":"#VALUE!"},{"$error":"#VALUE!"},{"$f":"SUBSTITUTE(IN!G1433,\"-\",\"\")","v":""},"",{"$f":"IN!F1433*60","v":0},0,"-"]
[0,{"$error":"#VALUE!"},{"$error":"#VALUE!"},{"$f":"SUBSTITUTE(IN!G1434,\"-\",\"\")","v":""},"",{"$f":"IN!F1434*60","v":0},0,"-"]
[0,{"$error":"#VALUE!"},{"$error":"#VALUE!"},{"$f":"SUBSTITUTE(IN!G1435,\"-\",\"\")","v":""},"",{"$f":"IN!F1435*60","v":0},0,"-"]
[0,{"$error":"#VALUE!"},{"$error":"#VALUE!"},{"$f":"SUBSTITUTE(IN!G1436,\"-\",\"\")","v":""},"",{"$f":"IN!F1436*60","v":0},0,"-"]
[0,{"$error":"#VALUE!"},{"$error":"#VALUE!"},{"$f":"SUBSTITUTE(IN!G1437,\"-\",\"\")","v":""},"",{"$f":"IN!F1437*60","v":0},0,"-"]
[0,{"$error":"#VALUE!"},{"$error":"#VALUE!"},{"$f":"SUBSTITUTE(IN!G1438,\"-\",\"\")","v":""},"",{"$f":"IN!F1438*60","v":0},0,"-"]
[0,{"$error":"#VALUE!"},{"$error":"#VALUE!"},{"$f":"SUBSTITUTE(IN!G1439,\"-\",\"\")","v":""},"",{"$f":"IN!F1439*60","v":0},0,"-"]
[0,{"$error":"#VALUE!"},{"$error":"#VALUE!"},{"$f":"SUBSTITUTE(IN!G1440,\"-\",\"\")","v":""},"",{"$f":"IN!F1440*60","v":0},0,"-"]
[0,{"$error":"#VALUE!"},{"$error":"#VALUE!"},{"$f":"SUBSTITUTE(IN!G1441,\"-\",\"\")","v":""},"",{"$f":"IN!F1441*60","v":0},0,"-"]
[0,{"$error":"#VALUE!"},{"$error":"#VALUE!"},{"$f":"SUBSTITUTE(IN!G1442,\"-\",\"\")","v":""},"",{"$f":"IN!F1442*60","v":0},0,"-"]
[0,{"$error":"#VALUE!"},{"$error":"#VALUE!"},{"$f":"SUBSTITUTE(IN!G1443,\"-\",\"\")","v":""},"",{"$f":"IN!F1443*60","v":0},0,"-"]
[0,{"$error":"#VALUE!"},{"$error":"#VALUE!"},{"$f":"SUBSTITUTE(IN!G1444,\"-\",\"\")","v":""},"",{"$f":"IN!F1444*60","v":0},0,"-"]
[0,{"$error":"#VALUE!"},{"$error":"#VALUE!"},{"$f":"SUBSTITUTE(IN!G1445,\"-\",\"\")","v":""},"",{"$f":"IN!F1445*60","v":0},0,"-"]
[0,{"$error":"#VALUE!"},{"$error":"#VALUE!"},{"$f":"SUBSTITUTE(IN!G1446,\"-\",\"\")","v":""},"",{"$f":"IN!F1446*60","v":0},0,"-"]
[0,{"$error":"#VALUE!"},{"$error":"#VALUE!"},{"$f":"SUBSTITUTE(IN!G1447,\"-\",\"\")","v":""},"",{"$f":"IN!F1447*60","v":0},0,"-"]
[0,{"$error":"#VALUE!"},{"$error":"#VALUE!"},{"$f":"SUBSTITUTE(IN!G1448,\"-\",\"\")","v":""},"",{"$f":"IN!F1448*60","v":0},0,"-"]
[0,{"$error":"#VALUE!"},{"$error":"#VALUE!"},{"$f":"SUBSTITUTE(IN!G1449,\"-\",\"\")","v":""},"",{"$f":"IN!F1449*60","v":0},0,"-"]
[0,{"$error":"#VALUE!"},{"$error":"#VALUE!"},{"$f":"SUBSTITUTE(IN!G1450,\"-\",\"\")","v":""},"",{"$f":"IN!F1450*60","v":0},0,"-"]
[0,{"$error":"#VALUE!"},{"$error":"#VALUE!"},{"$f":"SUBSTITUTE(IN!G1451,\"-\",\"\")","v":""},"",{"$f":"IN!F1451*60","v":0},0,"-"]
[0,{"$error":"#VALUE!"},{"$error":"#VALUE!"},{"$f":"SUBSTITUTE(IN!G1452,\"-\",\"\")","v":""},"",{"$f":"IN!F1452*60","v":0},0,"-"]
[0,{"$error":"#VALUE!"},{"$error":"#VALUE!"},{"$f":"SUBSTITUTE(IN!G1453,\"-\",\"\")","v":""},"",{"$f":"IN!F1453*60","v":0},0,"-"]
[0,{"$error":"#VALUE!"},{"$error":"#VALUE!"},{"$f":"SUBSTITUTE(IN!G1454,\"-\",\"\")","v":""},"",{"$f":"IN!F1454*60","v":0},0,"-"]
[0,{"$error":"#VALUE!"},{"$error":"#VALUE!"},{"$f":"SUBSTITUTE(IN!G1455,\"-\",\"\")","v":""},"",{"$f":"IN!F1455*60","v":0},0,"-"]
[0,{"$error":"#VALUE!"},{"$error":"#VALUE!"},{"$f":"SUBSTITUTE(IN!G1456,\"-\",\"\")","v":""},"",{"$f":"IN!F1456*60","v":0},0,"-"]
[0,{"$error":"#VALUE!"},{"$error":"#VALUE!"},{"$f":"SUBSTITUTE(IN!G1457,\"-\",\"\")","v":""},"",{"$f":"IN!F1457*60","v":0},0,"-"]
[0,{"$error":"#VALUE!"},{"$error":"#VALUE!"},{"$f":"SUBSTITUTE(IN!G1458,\"-\",\"\")","v":""},"",{"$f":"IN!F1458*60","v":0},0,"-"]
[0,{"$error":"#VALUE!"},{"$error":"#VALUE!"},{"$f":"SUBSTITUTE(IN!G1459,\"-\",\"\")","v":""},"",{"$f":"IN!F1459*60","v":0},0,"-"]
[0,{"$error":"#VALUE!"},{"$error":"#VALUE!"},{"$f":"SUBSTITUTE(IN!G1460,\"-\",\"\")","v":""},"",{"$f":"IN!F1460*60","v":0},0,"-"]
[0,{"$error":"#VALUE!"},{"$error":"#VALUE!"},{"$f":"SUBSTITUTE(IN!G1461,\"-\",\"\")","v":""},"",{"$f":"IN!F1461*60","v":0},0,"-"]
[0,{"$error":"#VALUE!"},{"$error":"#VALUE!"},{"$f":"SUBSTITUTE(IN!G1462,\"-\",\"\")","v":""},"",{"$f":"IN!F1462*60","v":0},0,"-"]
[0,{"$error":"#VALUE!"},{"$error":"#VALUE!"},{"$f":"SUBSTITUTE(IN!G1463,\"-\",\"\")","v":""},"",{"$f":"IN!F1463*60","v":0},0,"-"]
[0,{"$error":"#VALUE!"},{"$error":"#VALUE!"},{"$f":"SUBSTITUTE(IN!G1464,\"-\",\"\")","v":""},"",{"$f":"IN!F1464*60","v":0},0,"-"]
[0,{"$error":"#VALUE!"},{"$error":"#VALUE!"},{"$f":"SUBSTITUTE(IN!G1465,\"-\",\"\")","v":""},"",{"$f":"IN!F1465*60","v":0},0,"-"]
[0,{"$error":"#VALUE!"},{"$error":"#VALUE!"},{"$f":"SUBSTITUTE(IN!G1466,\"-\",\"\")","v":""},"",{"$f":"IN!F1466*60","v":0},0,"-"]
[0,{"$error":"#VALUE!"},{"$error":"#VALUE!"},{"$f":"SUBSTITUTE(IN!G1467,\"-\",\"\")","v":""},"",{"$f":"IN!F1467*60","v":0},0,"-"]
[0,{"$error":"#VALUE!"},{"$error":"#VALUE!"},{"$f":"SUBSTITUTE(IN!G1468,\"-\",\"\")","v":""},"",{"$f":"IN!F1468*60","v":0},0,"-"]
[0,{"$error":"#VALUE!"},{"$error":"#VALUE!"},{"$f":"SUBSTITUTE(IN!G1469,\"-\",\"\")","v":""},"",{"$f":"IN!F1469*60","v":0},0,"-"]
[0,{"$error":"#VALUE!"},{"$error":"#VALUE!"},{"$f":"SUBSTITUTE(IN!G1470,\"-\",\"\")","v":""},"",{"$f":"IN!F1470*60","v":0},0,"-"]
[0,{"$error":"#VALUE!"},{"$error":"#VALUE!"},{"$f":"SUBSTITUTE(IN!G1471,\"-\",\"\")","v":""},"",{"$f":"IN!F1471*60","v":0},0,"-"]
[0,{"$error":"#VALUE!"},{"$error":"#VALUE!"},{"$f":"SUBSTITUTE(IN!G1472,\"-\",\"\")","v":""},"",{"$f":"IN!F1472*60","v":0},0,"-"]
[0,{"$error":"#VALUE!"},{"$error":"#VALUE!"},{"$f":"SUBSTITUTE(IN!G1473,\"-\",\"\")","v":""},"",{"$f":"IN!F1473*60","v":0},0,"-"]
[0,{"$error":"#VALUE!"},{"$error":"#VALUE!"},{"$f":"SUBSTITUTE(IN!G1474,\"-\",\"\")","v":""},"",{"$f":"IN!F1474*60","v":0},0,"-"]
[0,{"$error":"#VALUE!"},{"$error":"#VALUE!"},{"$f":"SUBSTITUTE(IN!G1475,\"-\",\"\")","v":""},"",{"$f":"IN!F1475*60","v":0},0,"-"]
[0,{"$error":"#VALUE!"},{"$error":"#VALUE!"},{"$f":"SUBSTITUTE(IN!G1476,\"-\",\"\")","v":""},"",{"$f":"IN!F1476*60","v":0},0,"-"]
[{"$f":"LEN(D1477)","v":0},{"$f":"VALUE(LEFT(D1477,1))","v":{"$error":"#VALUE!"}},{"$f":"IF(B1477<2,20,19)","v":{"$error":"#VALUE!"}},{"$f":"SUBSTITUTE(IN!G1477,\"-\",\"\")","v":""},{"$f":"IF(A1477=10,CONCATENATE(C1477,D1477),D1477)","v":""},{"$f":"IN!F1477*60","v":0},{"$f":"ROUND(F1477,0)","v":0},{"$f":"CONCATENATE(MID(E1477,3,6),\"-\",MID(E1477,9,4))","v":"-"}]
[0,{"$error":"#VALUE!"},{"$error":"#VALUE!"},{"$f":"SUBSTITUTE(IN!G1478,\"-\",\"\")","v":""},"",{"$f":"IN!F1478*60","v":0},0,"-"]
[0,{"$error":"#VALUE!"},{"$error":"#VALUE!"},{"$f":"SUBSTITUTE(IN!G1479,\"-\",\"\")","v":""},"",{"$f":"IN!F1479*60","v":0},0,"-"]
[0,{"$error":"#VALUE!"},{"$error":"#VALUE!"},{"$f":"SUBSTITUTE(IN!G1480,\"-\",\"\")","v":""},"",{"$f":"IN!F1480*60","v":0},0,"-"]
[0,{"$error":"#VALUE!"},{"$error":"#VALUE!"},{"$f":"SUBSTITUTE(IN!G1481,\"-\",\"\")","v":""},"",{"$f":"IN!F1481*60","v":0},0,"-"]
[0,{"$error":"#VALUE!"},{"$error":"#VALUE!"},{"$f":"SUBSTITUTE(IN!G1482,\"-\",\"\")","v":""},"",{"$f":"IN!F1482*60","v":0},0,"-"]
[0,{"$error":"#VALUE!"},{"$error":"#VALUE!"},{"$f":"SUBSTITUTE(IN!G1483,\"-\",\"\")","v":""},"",{"$f":"IN!F1483*60","v":0},0,"-"]
[0,{"$error":"#VALUE!"},{"$error":"#VALUE!"},{"$f":"SUBSTITUTE(IN!G1484,\"-\",\"\")","v":""},"",{"$f":"IN!F1484*60","v":0},0,"-"]
[0,{"$error":"#VALUE!"},{"$error":"#VALUE!"},{"$f":"SUBSTITUTE(IN!G1485,\"-\",\"\")","v":""},"",{"$f":"IN!F1485*60","v":0},0,"-"]
[0,{"$error":"#VALUE!"},{"$error":"#VALUE!"},{"$f":"SUBSTITUTE(IN!G1486,\"-\",\"\")","v":""},"",{"$f":"IN!F1486*60","v":0},0,"-"]
[0,{"$error":"#VALUE!"},{"$error":"#VALUE!"},{"$f":"SUBSTITUTE(IN!G1487,\"-\",\"\")","v":""},"",{"$f":"IN!F1487*60","v":0},0,"-"]
[0,{"$error":"#VALUE!"},{"$error":"#VALUE!"},{"$f":"SUBSTITUTE(IN!G1488,\"-\",\"\")","v":""},"",{"$f":"IN!F1488*60","v":0},0,"-"]
[0,{"$error":"#VALUE!"},{"$error":"#VALUE!"},{"$f":"SUBSTITUTE(IN!G1489,\"-\",\"\")","v":""},"",{"$f":"IN!F1489*60","v":0},0,"-"]
[0,{"$error":"#VALUE!"},{"$error":"#VALUE!"},{"$f":"SUBSTITUTE(IN!G1490,\"-\",\"\")","v":""},"",{"$f":"IN!F1490*60","v":0},0,"-"]
[0,{"$error":"#VALUE!"},{"$error":"#VALUE!"},{"$f":"SUBSTITUTE(IN!G1491,\"-\",\"\")","v":""},"",{"$f":"IN!F1491*60","v":0},0,"-"]
[0,{"$error":"#VALUE!"},{"$error":"#VALUE!"},{"$f":"SUBSTITUTE(IN!G1492,\"-\",\"\")","v":""},"",{"$f":"IN!F1492*60","v":0},0,"-"]
[0,{"$error":"#VALUE!"},{"$error":"#VALUE!"},{"$f":"SUBSTITUTE(IN!G1493,\"-\",\"\")","v":""},"",{"$f":"IN!F1493*60","v":0},0,"-"]
[0,{"$error":"#VALUE!"},{"$error":"#VALUE!"},{"$f":"SUBSTITUTE(IN!G1494,\"-\",\"\")","v":""},"",{"$f":"IN!F1494*60","v":0},0,"-"]
[0,{"$error":"#VALUE!"},{"$error":"#VALUE!"},{"$f":"SUBSTITUTE(IN!G1495,\"-\",\"\")","v":""},"",{"$f":"IN!F1495*60","v":0},0,"-"]
[0,{"$error":"#VALUE!"},{"$error":"#VALUE!"},{"$f":"SUBSTITUTE(IN!G1496,\"-\",\"\")","v":""},"",{"$f":"IN!F1496*60","v":0},0,"-"]
[0,{"$error":"#VALUE!"},{"$error":"#VALUE!"},{"$f":"SUBSTITUTE(IN!G1497,\"-\",\"\")","v":""},"",{"$f":"IN!F1497*60","v":0},0,"-"]
[0,{"$error":"#VALUE!"},{"$error":"#VALUE!"},{"$f":"SUBSTITUTE(IN!G1498,\"-\",\"\")","v":""},"",{"$f":"IN!F1498*60","v":0},0,"-"]
[0,{"$error":"#VALUE!"},{"$error":"#VALUE!"},{"$f":"SUBSTITUTE(IN!G1499,\"-\",\"\")","v":""},"",{"$f":"IN!F1499*60","v":0},0,"-"]
[0,{"$error":"#VALUE!"},{"$error":"#VALUE!"},{"$f":"SUBSTITUTE(IN!G1500,\"-\",\"\")","v":""},"",{"$f":"IN!F1500*60","v":0},0,"-"]
[0,{"$error":"#VALUE!"},{"$error":"#VALUE!"},{"$f":"SUBSTITUTE(IN!G1501,\"-\",\"\")","v":""},"",{"$f":"IN!F1501*60","v":0},0,"-"]
[0,{"$error":"#VALUE!"},{"$error":"#VALUE!"},{"$f":"SUBSTITUTE(IN!G1502,\"-\",\"\")","v":""},"",{"$f":"IN!F1502*60","v":0},0,"-"]
[0,{"$error":"#VALUE!"},{"$error":"#VALUE!"},{"$f":"SUBSTITUTE(IN!G1503,\"-\",\"\")","v":""},"",{"$f":"IN!F1503*60","v":0},0,"-"]
[0,{"$error":"#VALUE!"},{"$error":"#VALUE!"},{"$f":"SUBSTITUTE(IN!G1504,\"-\",\"\")","v":""},"",{"$f":"IN!F1504*60","v":0},0,"-"]
[0,{"$error":"#VALUE!"},{"$error":"#VALUE!"},{"$f":"SUBSTITUTE(IN!G1505,\"-\",\"\")","v":""},"",{"$f":"IN!F1505*60","v":0},0,"-"]
[0,{"$error":"#VALUE!"},{"$error":"#VALUE!"},{"$f":"SUBSTITUTE(IN!G1506,\"-\",\"\")","v":""},"",{"$f":"IN!F1506*60","v":0},0,"-"]
[0,{"$error":"#VALUE!"},{"$error":"#VALUE!"},{"$f":"SUBSTITUTE(IN!G1507,\"-\",\"\")","v":""},"",{"$f":"IN!F1507*60","v":0},0,"-"]
[0,{"$error":"#VALUE!"},{"$error":"#VALUE!"},{"$f":"SUBSTITUTE(IN!G1508,\"-\",\"\")","v":""},"",{"$f":"IN!F1508*60","v":0},0,"-"]
[0,{"$error":"#VALUE!"},{"$error":"#VALUE!"},{"$f":"SUBSTITUTE(IN!G1509,\"-\",\"\")","v":""},"",{"$f":"IN!F1509*60","v":0},0,"-"]
[0,{"$error":"#VALUE!"},{"$error":"#VALUE!"},{"$f":"SUBSTITUTE(IN!G1510,\"-\",\"\")","v":""},"",{"$f":"IN!F1510*60","v":0},0,"-"]
[0,{"$error":"#VALUE!"},{"$error":"#VALUE!"},{"$f":"SUBSTITUTE(IN!G1511,\"-\",\"\")","v":""},"",{"$f":"IN!F1511*60","v":0},0,"-"]
[0,{"$error":"#VALUE!"},{"$error":"#VALUE!"},{"$f":"SUBSTITUTE(IN!G1512,\"-\",\"\")","v":""},"",{"$f":"IN!F1512*60","v":0},0,"-"]
[0,{"$error":"#VALUE!"},{"$error":"#VALUE!"},{"$f":"SUBSTITUTE(IN!G1513,\"-\",\"\")","v":""},"",{"$f":"IN!F1513*60","v":0},0,"-"]
[0,{"$error":"#VALUE!"},{"$error":"#VALUE!"},{"$f":"SUBSTITUTE(IN!G1514,\"-\",\"\")","v":""},"",{"$f":"IN!F1514*60","v":0},0,"-"]
[0,{"$error":"#VALUE!"},{"$error":"#VALUE!"},{"$f":"SUBSTITUTE(IN!G1515,\"-\",\"\")","v":""},"",{"$f":"IN!F1515*60","v":0},0,"-"]
[0,{"$error":"#VALUE!"},{"$error":"#VALUE!"},{"$f":"SUBSTITUTE(IN!G1516,\"-\",\"\")","v":""},"",{"$f":"IN!F1516*60","v":0},0,"-"]
[0,{"$error":"#VALUE!"},{"$error":"#VALUE!"},{"$f":"SUBSTITUTE(IN!G1517,\"-\",\"\")","v":""},"",{"$f":"IN!F1517*60","v":0},0,"-"]
[0,{"$error":"#VALUE!"},{"$error":"#VALUE!"},{"$f":"SUBSTITUTE(IN!G1518,\"-\",\"\")","v":""},"",{"$f":"IN!F1518*60","v":0},0,"-"]
[0,{"$error":"#VALUE!"},{"$error":"#VALUE!"},{"$f":"SUBSTITUTE(IN!G1519,\"-\",\"\")","v":""},"",{"$f":"IN!F1519*60","v":0},0,"-"]
[0,{"$error":"#VALUE!"},{"$error":"#VALUE!"},{"$f":"SUBSTITUTE(IN!G1520,\"-\",\"\")","v":""},"",{"$f":"IN!F1520*60","v":0},0,"-"]
[0,{"$error":"#VALUE!"},{"$error":"#VALUE!"},{"$f":"SUBSTITUTE(IN!G1521,\"-\",\"\")","v":""},"",{"$f":"IN!F1521*60","v":0},0,"-"]
[0,{"$error":"#VALUE!"},{"$error":"#VALUE!"},{"$f":"SUBSTITUTE(IN!G1522,\"-\",\"\")","v":""},"",{"$f":"IN!F1522*60","v":0},0,"-"]
[0,{"$error":"#VALUE!"},{"$error":"#VALUE!"},{"$f":"SUBSTITUTE(IN!G1523,\"-\",\"\")","v":""},"",{"$f":"IN!F1523*60","v":0},0,"-"]
[0,{"$error":"#VALUE!"},{"$error":"#VALUE!"},{"$f":"SUBSTITUTE(IN!G1524,\"-\",\"\")","v":""},"",{"$f":"IN!F1524*60","v":0},0,"-"]
[0,{"$error":"#VALUE!"},{"$error":"#VALUE!"},{"$f":"SUBSTITUTE(IN!G1525,\"-\",\"\")","v":""},"",{"$f":"IN!F1525*60","v":0},0,"-"]
[0,{"$error":"#VALUE!"},{"$error":"#VALUE!"},{"$f":"SUBSTITUTE(IN!G1526,\"-\",\"\")","v":""},"",{"$f":"IN!F1526*60","v":0},0,"-"]
[0,{"$error":"#VALUE!"},{"$error":"#VALUE!"},{"$f":"SUBSTITUTE(IN!G1527,\"-\",\"\")","v":""},"",{"$f":"IN!F1527*60","v":0},0,"-"]
[0,{"$error":"#VALUE!"},{"$error":"#VALUE!"},{"$f":"SUBSTITUTE(IN!G1528,\"-\",\"\")","v":""},"",{"$f":"IN!F1528*60","v":0},0,"-"]
[0,{"$error":"#VALUE!"},{"$error":"#VALUE!"},{"$f":"SUBSTITUTE(IN!G1529,\"-\",\"\")","v":""},"",{"$f":"IN!F1529*60","v":0},0,"-"]
[0,{"$error":"#VALUE!"},{"$error":"#VALUE!"},{"$f":"SUBSTITUTE(IN!G1530,\"-\",\"\")","v":""},"",{"$f":"IN!F1530*60","v":0},0,"-"]
[0,{"$error":"#VALUE!"},{"$error":"#VALUE!"},{"$f":"SUBSTITUTE(IN!G1531,\"-\",\"\")","v":""},"",{"$f":"IN!F1531*60","v":0},0,"-"]
[0,{"$error":"#VALUE!"},{"$error":"#VALUE!"},{"$f":"SUBSTITUTE(IN!G1532,\"-\",\"\")","v":""},"",{"$f":"IN!F1532*60","v":0},0,"-"]
[0,{"$error":"#VALUE!"},{"$error":"#VALUE!"},{"$f":"SUBSTITUTE(IN!G1533,\"-\",\"\")","v":""},"",{"$f":"IN!F1533*60","v":0},0,"-"]
[0,{"$error":"#VALUE!"},{"$error":"#VALUE!"},{"$f":"SUBSTITUTE(IN!G1534,\"-\",\"\")","v":""},"",{"$f":"IN!F1534*60","v":0},0,"-"]
[0,{"$error":"#VALUE!"},{"$error":"#VALUE!"},{"$f":"SUBSTITUTE(IN!G1535,\"-\",\"\")","v":""},"",{"$f":"IN!F1535*60","v":0},0,"-"]
[0,{"$error":"#VALUE!"},{"$error":"#VALUE!"},{"$f":"SUBSTITUTE(IN!G1536,\"-\",\"\")","v":""},"",{"$f":"IN!F1536*60","v":0},0,"-"]
[0,{"$error":"#VALUE!"},{"$error":"#VALUE!"},{"$f":"SUBSTITUTE(IN!G1537,\"-\",\"\")","v":""},"",{"$f":"IN!F1537*60","v":0},0,"-"]
[0,{"$error":"#VALUE!"},{"$error":"#VALUE!"},{"$f":"SUBSTITUTE(IN!G1538,\"-\",\"\")","v":""},"",{"$f":"IN!F1538*60","v":0},0,"-"]
[0,{"$error":"#VALUE!"},{"$error":"#VALUE!"},{"$f":"SUBSTITUTE(IN!G1539,\"-\",\"\")","v":""},"",{"$f":"IN!F1539*60","v":0},0,"-"]
[0,{"$error":"#VALUE!"},{"$error":"#VALUE!"},{"$f":"SUBSTITUTE(IN!G1540,\"-\",\"\")","v":""},"",{"$f":"IN!F1540*60","v":0},0,"-"]
[{"$f":"LEN(D1541)","v":0},{"$f":"VALUE(LEFT(D1541,1))","v":{"$error":"#VALUE!"}},{"$f":"IF(B1541<2,20,19)","v":{"$error":"#VALUE!"}},{"$f":"SUBSTITUTE(IN!G1541,\"-\",\"\")","v":""},{"$f":"IF(A1541=10,CONCATENATE(C1541,D1541),D1541)","v":""},{"$f":"IN!F1541*60","v":0},{"$f":"ROUND(F1541,0)","v":0},{"$f":"CONCATENATE(MID(E1541,3,6),\"-\",MID(E1541,9,4))","v":"-"}]
[0,{"$error":"#VALUE!"},{"$error":"#VALUE!"},{"$f":"SUBSTITUTE(IN!G1542,\"-\",\"\")","v":""},"",{"$f":"IN!F1542*60","v":0},0,"-"]
[0,{"$error":"#VALUE!"},{"$error":"#VALUE!"},{"$f":"SUBSTITUTE(IN!G1543,\"-\",\"\")","v":""},"",{"$f":"IN!F1543*60","v":0},0,"-"]
[0,{"$error":"#VALUE!"},{"$error":"#VALUE!"},{"$f":"SUBSTITUTE(IN!G1544,\"-\",\"\")","v":""},"",{"$f":"IN!F1544*60","v":0},0,"-"]
[0,{"$error":"#VALUE!"},{"$error":"#VALUE!"},{"$f":"SUBSTITUTE(IN!G1545,\"-\",\"\")","v":""},"",{"$f":"IN!F1545*60","v":0},0,"-"]
[0,{"$error":"#VALUE!"},{"$error":"#VALUE!"},{"$f":"SUBSTITUTE(IN!G1546,\"-\",\"\")","v":""},"",{"$f":"IN!F1546*60","v":0},0,"-"]
[0,{"$error":"#VALUE!"},{"$error":"#VALUE!"},{"$f":"SUBSTITUTE(IN!G1547,\"-\",\"\")","v":""},"",{"$f":"IN!F1547*60","v":0},0,"-"]
[0,{"$error":"#VALUE!"},{"$error":"#VALUE!"},{"$f":"SUBSTITUTE(IN!G1548,\"-\",\"\")","v":""},"",{"$f":"IN!F1548*60","v":0},0,"-"]
[0,{"$error":"#VALUE!"},{"$error":"#VALUE!"},{"$f":"SUBSTITUTE(IN!G1549,\"-\",\"\")","v":""},"",{"$f":"IN!F1549*60","v":0},0,"-"]
[0,{"$error":"#VALUE!"},{"$error":"#VALUE!"},{"$f":"SUBSTITUTE(IN!G1550,\"-\",\"\")","v":""},"",{"$f":"IN!F1550*60","v":0},0,"-"]
[0,{"$error":"#VALUE!"},{"$error":"#VALUE!"},{"$f":"SUBSTITUTE(IN!G1551,\"-\",\"\")","v":""},"",{"$f":"IN!F1551*60","v":0},0,"-"]
[0,{"$error":"#VALUE!"},{"$error":"#VALUE!"},{"$f":"SUBSTITUTE(IN!G1552,\"-\",\"\")","v":""},"",{"$f":"IN!F1552*60","v":0},0,"-"]
[0,{"$error":"#VALUE!"},{"$error":"#VALUE!"},{"$f":"SUBSTITUTE(IN!G1553,\"-\",\"\")","v":""},"",{"$f":"IN!F1553*60","v":0},0,"-"]
[0,{"$error":"#VALUE!"},{"$error":"#VALUE!"},{"$f":"SUBSTITUTE(IN!G1554,\"-\",\"\")","v":""},"",{"$f":"IN!F1554*60","v":0},0,"-"]
[0,{"$error":"#VALUE!"},{"$error":"#VALUE!"},{"$f":"SUBSTITUTE(IN!G1555,\"-\",\"\")","v":""},"",{"$f":"IN!F1555*60","v":0},0,"-"]
[0,{"$error":"#VALUE!"},{"$error":"#VALUE!"},{"$f":"SUBSTITUTE(IN!G1556,\"-\",\"\")","v":""},"",{"$f":"IN!F1556*60","v":0},0,"-"]
[0,{"$error":"#VALUE!"},{"$error":"#VALUE!"},{"$f":"SUBSTITUTE(IN!G1557,\"-\",\"\")","v":""},"",{"$f":"IN!F1557*60","v":0},0,"-"]
[0,{"$error":"#VALUE!"},{"$error":"#VALUE!"},{"$f":"SUBSTITUTE(IN!G1558,\"-\",\"\")","v":""},"",{"$f":"IN!F1558*60","v":0},0,"-"]
[0,{"$error":"#VALUE!"},{"$error":"#VALUE!"},{"$f":"SUBSTITUTE(IN!G1559,\"-\",\"\")","v":""},"",{"$f":"IN!F1559*60","v":0},0,"-"]
[0,{"$error":"#VALUE!"},{"$error":"#VALUE!"},{"$f":"SUBSTITUTE(IN!G1560,\"-\",\"\")","v":""},"",{"$f":"IN!F1560*60","v":0},0,"-"]
[0,{"$error":"#VALUE!"},{"$error":"#VALUE!"},{"$f":"SUBSTITUTE(IN!G1561,\"-\",\"\")","v":""},"",{"$f":"IN!F1561*60","v":0},0,"-"]
[0,{"$error":"#VALUE!"},{"$error":"#VALUE!"},{"$f":"SUBSTITUTE(IN!G1562,\"-\",\"\")","v":""},"",{"$f":"IN!F1562*60","v":0},0,"-"]
[0,{"$error":"#VALUE!"},{"$error":"#VALUE!"},{"$f":"SUBSTITUTE(IN!G1563,\"-\",\"\")","v":""},"",{"$f":"IN!F1563*60","v":0},0,"-"]
[0,{"$error":"#VALUE!"},{"$error":"#VALUE!"},{"$f":"SUBSTITUTE(IN!G1564,\"-\",\"\")","v":""},"",{"$f":"IN!F1564*60","v":0},0,"-"]
[0,{"$error":"#VALUE!"},{"$error":"#VALUE!"},{"$f":"SUBSTITUTE(IN!G1565,\"-\",\"\")","v":""},"",{"$f":"IN!F1565*60","v":0},0,"-"]
[0,{"$error":"#VALUE!"},{"$error":"#VALUE!"},{"$f":"SUBSTITUTE(IN!G1566,\"-\",\"\")","v":""},"",{"$f":"IN!F1566*60","v":0},0,"-"]
[0,{"$error":"#VALUE!"},{"$error":"#VALUE!"},{"$f":"SUBSTITUTE(IN!G1567,\"-\",\"\")","v":""},"",{"$f":"IN!F1567*60","v":0},0,"-"]
[0,{"$error":"#VALUE!"},{"$error":"#VALUE!"},{"$f":"SUBSTITUTE(IN!G1568,\"-\",\"\")","v":""},"",{"$f":"IN!F1568*60","v":0},0,"-"]
[0,{"$error":"#VALUE!"},{"$error":"#VALUE!"},{"$f":"SUBSTITUTE(IN!G1569,\"-\",\"\")","v":""},"",{"$f":"IN!F1569*60","v":0},0,"-"]
[0,{"$error":"#VALUE!"},{"$error":"#VALUE!"},{"$f":"SUBSTITUTE(IN!G1570,\"-\",\"\")","v":""},"",{"$f":"IN!F1570*60","v":0},0,"-"]
[0,{"$error":"#VALUE!"},{"$error":"#VALUE!"},{"$f":"SUBSTITUTE(IN!G1571,\"-\",\"\")","v":""},"",{"$f":"IN!F1571*60","v":0},0,"-"]
[0,{"$error":"#VALUE!"},{"$error":"#VALUE!"},{"$f":"SUBSTITUTE(IN!G1572,\"-\",\"\")","v":""},"",{"$f":"IN!F1572*60","v":0},0,"-"]
[0,{"$error":"#VALUE!"},{"$error":"#VALUE!"},{"$f":"SUBSTITUTE(IN!G1573,\"-\",\"\")","v":""},"",{"$f":"IN!F1573*60","v":0},0,"-"]
[0,{"$error":"#VALUE!"},{"$error":"#VALUE!"},{"$f":"SUBSTITUTE(IN!G1574,\"-\",\"\")","v":""},"",{"$f":"IN!F1574*60","v":0},0,"-"]
[0,{"$error":"#VALUE!"},{"$error":"#VALUE!"},{"$f":"SUBSTITUTE(IN!G1575,\"-\",\"\")","v":""},"",{"$f":"IN!F1575*60","v":0},0,"-"]
[0,{"$error":"#VALUE!"},{"$error":"#VALUE!"},{"$f":"SUBSTITUTE(IN!G1576,\"-\",\"\")","v":""},"",{"$f":"IN!F1576*60","v":0},0,"-"]
[0,{"$error":"#VALUE!"},{"$error":"#VALUE!"},{"$f":"SUBSTITUTE(IN!G1577,\"-\",\"\")","v":""},"",{"$f":"IN!F1577*60","v":0},0,"-"]
[0,{"$error":"#VALUE!"},{"$error":"#VALUE!"},{"$f":"SUBSTITUTE(IN!G1578,\"-\",\"\")","v":""},"",{"$f":"IN!F1578*60","v":0},0,"-"]
[0,{"$error":"#VALUE!"},{"$error":"#VALUE!"},{"$f":"SUBSTITUTE(IN!G1579,\"-\",\"\")","v":""},"",{"$f":"IN!F1579*60","v":0},0,"-"]
[0,{"$error":"#VALUE!"},{"$error":"#VALUE!"},{"$f":"SUBSTITUTE(IN!G1580,\"-\",\"\")","v":""},"",{"$f":"IN!F1580*60","v":0},0,"-"]
[0,{"$error":"#VALUE!"},{"$error":"#VALUE!"},{"$f":"SUBSTITUTE(IN!G1581,\"-\",\"\")","v":""},"",{"$f":"IN!F1581*60","v":0},0,"-"]
[0,{"$error":"#VALUE!"},{"$error":"#VALUE!"},{"$f":"SUBSTITUTE(IN!G1582,\"-\",\"\")","v":""},"",{"$f":"IN!F1582*60","v":0},0,"-"]
[0,{"$error":"#VALUE!"},{"$error":"#VALUE!"},{"$f":"SUBSTITUTE(IN!G1583,\"-\",\"\")","v":""},"",{"$f":"IN!F1583*60","v":0},0,"-"]
[0,{"$error":"#VALUE!"},{"$error":"#VALUE!"},{"$f":"SUBSTITUTE(IN!G1584,\"-\",\"\")","v":""},"",{"$f":"IN!F1584*60","v":0},0,"-"]
[0,{"$error":"#VALUE!"},{"$error":"#VALUE!"},{"$f":"SUBSTITUTE(IN!G1585,\"-\",\"\")","v":""},"",{"$f":"IN!F1585*60","v":0},0,"-"]
[0,{"$error":"#VALUE!"},{"$error":"#VALUE!"},{"$f":"SUBSTITUTE(IN!G1586,\"-\",\"\")","v":""},"",{"$f":"IN!F1586*60","v":0},0,"-"]
[0,{"$error":"#VALUE!"},{"$error":"#VALUE!"},{"$f":"SUBSTITUTE(IN!G1587,\"-\",\"\")","v":""},"",{"$f":"IN!F1587*60","v":0},0,"-"]
[0,{"$error":"#VALUE!"},{"$error":"#VALUE!"},{"$f":"SUBSTITUTE(IN!G1588,\"-\",\"\")","v":""},"",{"$f":"IN!F1588*60","v":0},0,"-"]
[0,{"$error":"#VALUE!"},{"$error":"#VALUE!"},{"$f":"SUBSTITUTE(IN!G1589,\"-\",\"\")","v":""},"",{"$f":"IN!F1589*60","v":0},0,"-"]
[0,{"$error":"#VALUE!"},{"$error":"#VALUE!"},{"$f":"SUBSTITUTE(IN!G1590,\"-\",\"\")","v":""},"",{"$f":"IN!F1590*60","v":0},0,"-"]
[0,{"$error":"#VALUE!"},{"$error":"#VALUE!"},{"$f":"SUBSTITUTE(IN!G1591,\"-\",\"\")","v":""},"",{"$f":"IN!F1591*60","v":0},0,"-"]
[0,{"$error":"#VALUE!"},{"$error":"#VALUE!"},{"$f":"SUBSTITUTE(IN!G1592,\"-\",\"\")","v":""},"",{"$f":"IN!F1592*60","v":0},0,"-"]
[0,{"$error":"#VALUE!"},{"$error":"#VALUE!"},{"$f":"SUBSTITUTE(IN!G1593,\"-\",\"\")","v":""},"",{"$f":"IN!F1593*60","v":0},0,"-"]
[0,{"$error":"#VALUE!"},{"$error":"#VALUE!"},{"$f":"SUBSTITUTE(IN!G1594,\"-\",\"\")","v":""},"",{"$f":"IN!F1594*60","v":0},0,"-"]
[0,{"$error":"#VALUE!"},{"$error":"#VALUE!"},{"$f":"SUBSTITUTE(IN!G1595,\"-\",\"\")","v":""},"",{"$f":"IN!F1595*60","v":0},0,"-"]
[0,{"$error":"#VALUE!"},{"$error":"#VALUE!"},{"$f":"SUBSTITUTE(IN!G1596,\"-\",\"\")","v":""},"",{"$f":"IN!F1596*60","v":0},0,"-"]
[0,{"$error":"#VALUE!"},{"$error":"#VALUE!"},{"$f":"SUBSTITUTE(IN!G1597,\"-\",\"\")","v":""},"",{"$f":"IN!F1597*60","v":0},0,"-"]
[0,{"$error":"#VALUE!"},{"$error":"#VALUE!"},{"$f":"SUBSTITUTE(IN!G1598,\"-\",\"\")","v":""},"",{"$f":"IN!F1598*60","v":0},0,"-"]
[0,{"$error":"#VALUE!"},{"$error":"#VALUE!"},{"$f":"SUBSTITUTE(IN!G1599,\"-\",\"\")","v":""},"",{"$f":"IN!F1599*60","v":0},0,"-"]
[0,{"$error":"#VALUE!"},{"$error":"#VALUE!"},{"$f":"SUBSTITUTE(IN!G1600,\"-\",\"\")","v":""},"",{"$f":"IN!F1600*60","v":0},0,"-"]
[0,{"$error":"#VALUE!"},{"$error":"#VALUE!"},{"$f":"SUBSTITUTE(IN!G1601,\"-\",\"\")","v":""},"",{"$f":"IN!F1601*60","v":0},0,"-"]
[0,{"$error":"#VALUE!"},{"$error":"#VALUE!"},{"$f":"SUBSTITUTE(IN!G1602,\"-\",\"\")","v":""},"",{"$f":"IN!F1602*60","v":0},0,"-"]
[0,{"$error":"#VALUE!"},{"$error":"#VALUE!"},{"$f":"SUBSTITUTE(IN!G1603,\"-\",\"\")","v":""},"",{"$f":"IN!F1603*60","v":0},0,"-"]
[0,{"$error":"#VALUE!"},{"$error":"#VALUE!"},{"$f":"SUBSTITUTE(IN!G1604,\"-\",\"\")","v":""},"",{"$f":"IN!F1604*60","v":0},0,"-"]
[{"$f":"LEN(D1605)","v":0},{"$f":"VALUE(LEFT(D1605,1))","v":{"$error":"#VALUE!"}},{"$f":"IF(B1605<2,20,19)","v":{"$error":"#VALUE!"}},{"$f":"SUBSTITUTE(IN!G1605,\"-\",\"\")","v":""},{"$f":"IF(A1605=10,CONCATENATE(C1605,D1605),D1605)","v":""},{"$f":"IN!F1605*60","v":0},{"$f":"ROUND(F1605,0)","v":0},{"$f":"CONCATENATE(MID(E1605,3,6),\"-\",MID(E1605,9,4))","v":"-"}]
[0,{"$error":"#VALUE!"},{"$error":"#VALUE!"},{"$f":"SUBSTITUTE(IN!G1606,\"-\",\"\")","v":""},"",{"$f":"IN!F1606*60","v":0},0,"-"]
[0,{"$error":"#VALUE!"},{"$error":"#VALUE!"},{"$f":"SUBSTITUTE(IN!G1607,\"-\",\"\")","v":""},"",{"$f":"IN!F1607*60","v":0},0,"-"]
[0,{"$error":"#VALUE!"},{"$error":"#VALUE!"},{"$f":"SUBSTITUTE(IN!G1608,\"-\",\"\")","v":""},"",{"$f":"IN!F1608*60","v":0},0,"-"]
[0,{"$error":"#VALUE!"},{"$error":"#VALUE!"},{"$f":"SUBSTITUTE(IN!G1609,\"-\",\"\")","v":""},"",{"$f":"IN!F1609*60","v":0},0,"-"]
[0,{"$error":"#VALUE!"},{"$error":"#VALUE!"},{"$f":"SUBSTITUTE(IN!G1610,\"-\",\"\")","v":""},"",{"$f":"IN!F1610*60","v":0},0,"-"]
[0,{"$error":"#VALUE!"},{"$error":"#VALUE!"},{"$f":"SUBSTITUTE(IN!G1611,\"-\",\"\")","v":""},"",{"$f":"IN!F1611*60","v":0},0,"-"]
[0,{"$error":"#VALUE!"},{"$error":"#VALUE!"},{"$f":"SUBSTITUTE(IN!G1612,\"-\",\"\")","v":""},"",{"$f":"IN!F1612*60","v":0},0,"-"]
[0,{"$error":"#VALUE!"},{"$error":"#VALUE!"},{"$f":"SUBSTITUTE(IN!G1613,\"-\",\"\")","v":""},"",{"$f":"IN!F1613*60","v":0},0,"-"]
[0,{"$error":"#VALUE!"},{"$error":"#VALUE!"},{"$f":"SUBSTITUTE(IN!G1614,\"-\",\"\")","v":""},"",{"$f":"IN!F1614*60","v":0},0,"-"]
[0,{"$error":"#VALUE!"},{"$error":"#VALUE!"},{"$f":"SUBSTITUTE(IN!G1615,\"-\",\"\")","v":""},"",{"$f":"IN!F1615*60","v":0},0,"-"]
[0,{"$error":"#VALUE!"},{"$error":"#VALUE!"},{"$f":"SUBSTITUTE(IN!G1616,\"-\",\"\")","v":""},"",{"$f":"IN!F1616*60","v":0},0,"-"]
[0,{"$error":"#VALUE!"},{"$error":"#VALUE!"},{"$f":"SUBSTITUTE(IN!G1617,\"-\",\"\")","v":""},"",{"$f":"IN!F1617*60","v":0},0,"-"]
[0,{"$error":"#VALUE!"},{"$error":"#VALUE!"},{"$f":"SUBSTITUTE(IN!G1618,\"-\",\"\")","v":""},"",{"$f":"IN!F1618*60","v":0},0,"-"]
[0,{"$error":"#VALUE!"},{"$error":"#VALUE!"},{"$f":"SUBSTITUTE(IN!G1619,\"-\",\"\")","v":""},"",{"$f":"IN!F1619*60","v":0},0,"-"]
[0,{"$error":"#VALUE!"},{"$error":"#VALUE!"},{"$f":"SUBSTITUTE(IN!G1620,\"-\",\"\")","v":""},"",{"$f":"IN!F1620*60","v":0},0,"-"]
[0,{"$error":"#VALUE!"},{"$error":"#VALUE!"},{"$f":"SUBSTITUTE(IN!G1621,\"-\",\"\")","v":""},"",{"$f":"IN!F1621*60","v":0},0,"-"]
[0,{"$error":"#VALUE!"},{"$error":"#VALUE!"},{"$f":"SUBSTITUTE(IN!G1622,\"-\",\"\")","v":""},"",{"$f":"IN!F1622*60","v":0},0,"-"]
[0,{"$error":"#VALUE!"},{"$error":"#VALUE!"},{"$f":"SUBSTITUTE(IN!G1623,\"-\",\"\")","v":""},"",{"$f":"IN!F1623*60","v":0},0,"-"]
[0,{"$error":"#VALUE!"},{"$error":"#VALUE!"},{"$f":"SUBSTITUTE(IN!G1624,\"-\",\"\")","v":""},"",{"$f":"IN!F1624*60","v":0},0,"-"]
[0,{"$error":"#VALUE!"},{"$error":"#VALUE!"},{"$f":"SUBSTITUTE(IN!G1625,\"-\",\"\")","v":""},"",{"$f":"IN!F1625*60","v":0},0,"-"]
[0,{"$error":"#VALUE!"},{"$error":"#VALUE!"},{"$f":"SUBSTITUTE(IN!G1626,\"-\",\"\")","v":""},"",{"$f":"IN!F1626*60","v":0},0,"-"]
[0,{"$error":"#VALUE!"},{"$error":"#VALUE!"},{"$f":"SUBSTITUTE(IN!G1627,\"-\",\"\")","v":""},"",{"$f":"IN!F1627*60","v":0},0,"-"]
[0,{"$error":"#VALUE!"},{"$error":"#VALUE!"},{"$f":"SUBSTITUTE(IN!G1628,\"-\",\"\")","v":""},"",{"$f":"IN!F1628*60","v":0},0,"-"]
[0,{"$error":"#VALUE!"},{"$error":"#VALUE!"},{"$f":"SUBSTITUTE(IN!G1629,\"-\",\"\")","v":""},"",{"$f":"IN!F1629*60","v":0},0,"-"]
[0,{"$error":"#VALUE!"},{"$error":"#VALUE!"},{"$f":"SUBSTITUTE(IN!G1630,\"-\",\"\")","v":""},"",{"$f":"IN!F1630*60","v":0},0,"-"]
[0,{"$error":"#VALUE!"},{"$error":"#VALUE!"},{"$f":"SUBSTITUTE(IN!G1631,\"-\",\"\")","v":""},"",{"$f":"IN!F1631*60","v":0},0,"-"]
[0,{"$error":"#VALUE!"},{"$error":"#VALUE!"},{"$f":"SUBSTITUTE(IN!G1632,\"-\",\"\")","v":""},"",{"$f":"IN!F1632*60","v":0},0,"-"]
[0,{"$error":"#VALUE!"},{"$error":"#VALUE!"},{"$f":"SUBSTITUTE(IN!G1633,\"-\",\"\")","v":""},"",{"$f":"IN!F1633*60","v":0},0,"-"]
[0,{"$error":"#VALUE!"},{"$error":"#VALUE!"},{"$f":"SUBSTITUTE(IN!G1634,\"-\",\"\")","v":""},"",{"$f":"IN!F1634*60","v":0},0,"-"]
[0,{"$error":"#VALUE!"},{"$error":"#VALUE!"},{"$f":"SUBSTITUTE(IN!G1635,\"-\",\"\")","v":""},"",{"$f":"IN!F1635*60","v":0},0,"-"]
[0,{"$error":"#VALUE!"},{"$error":"#VALUE!"},{"$f":"SUBSTITUTE(IN!G1636,\"-\",\"\")","v":""},"",{"$f":"IN!F1636*60","v":0},0,"-"]
[0,{"$error":"#VALUE!"},{"$error":"#VALUE!"},{"$f":"SUBSTITUTE(IN!G1637,\"-\",\"\")","v":""},"",{"$f":"IN!F1637*60","v":0},0,"-"]
[0,{"$error":"#VALUE!"},{"$error":"#VALUE!"},{"$f":"SUBSTITUTE(IN!G1638,\"-\",\"\")","v":""},"",{"$f":"IN!F1638*60","v":0},0,"-"]
[0,{"$error":"#VALUE!"},{"$error":"#VALUE!"},{"$f":"SUBSTITUTE(IN!G1639,\"-\",\"\")","v":""},"",{"$f":"IN!F1639*60","v":0},0,"-"]
[0,{"$error":"#VALUE!"},{"$error":"#VALUE!"},{"$f":"SUBSTITUTE(IN!G1640,\"-\",\"\")","v":""},"",{"$f":"IN!F1640*60","v":0},0,"-"]
[0,{"$error":"#VALUE!"},{"$error":"#VALUE!"},{"$f":"SUBSTITUTE(IN!G1641,\"-\",\"\")","v":""},"",{"$f":"IN!F1641*60","v":0},0,"-"]
[0,{"$error":"#VALUE!"},{"$error":"#VALUE!"},{"$f":"SUBSTITUTE(IN!G1642,\"-\",\"\")","v":""},"",{"$f":"IN!F1642*60","v":0},0,"-"]
[0,{"$error":"#VALUE!"},{"$error":"#VALUE!"},{"$f":"SUBSTITUTE(IN!G1643,\"-\",\"\")","v":""},"",{"$f":"IN!F1643*60","v":0},0,"-"]
[0,{"$error":"#VALUE!"},{"$error":"#VALUE!"},{"$f":"SUBSTITUTE(IN!G1644,\"-\",\"\")","v":""},"",{"$f":"IN!F1644*60","v":0},0,"-"]
[0,{"$error":"#VALUE!"},{"$error":"#VALUE!"},{"$f":"SUBSTITUTE(IN!G1645,\"-\",\"\")","v":""},"",{"$f":"IN!F1645*60","v":0},0,"-"]
[0,{"$error":"#VALUE!"},{"$error":"#VALUE!"},{"$f":"SUBSTITUTE(IN!G1646,\"-\",\"\")","v":""},"",{"$f":"IN!F1646*60","v":0},0,"-"]
[0,{"$error":"#VALUE!"},{"$error":"#VALUE!"},{"$f":"SUBSTITUTE(IN!G1647,\"-\",\"\")","v":""},"",{"$f":"IN!F1647*60","v":0},0,"-"]
[0,{"$error":"#VALUE!"},{"$error":"#VALUE!"},{"$f":"SUBSTITUTE(IN!G1648,\"-\",\"\")","v":""},"",{"$f":"IN!F1648*60","v":0},0,"-"]
[0,{"$error":"#VALUE!"},{"$error":"#VALUE!"},{"$f":"SUBSTITUTE(IN!G1649,\"-\",\"\")","v":""},"",{"$f":"IN!F1649*60","v":0},0,"-"]
[0,{"$error":"#VALUE!"},{"$error":"#VALUE!"},{"$f":"SUBSTITUTE(IN!G1650,\"-\",\"\")","v":""},"",{"$f":"IN!F1650*60","v":0},0,"-"]
[0,{"$error":"#VALUE!"},{"$error":"#VALUE!"},{"$f":"SUBSTITUTE(IN!G1651,\"-\",\"\")","v":""},"",{"$f":"IN!F1651*60","v":0},0,"-"]
[0,{"$error":"#VALUE!"},{"$error":"#VALUE!"},{"$f":"SUBSTITUTE(IN!G1652,\"-\",\"\")","v":""},"",{"$f":"IN!F1652*60","v":0},0,"-"]
[0,{"$error":"#VALUE!"},{"$error":"#VALUE!"},{"$f":"SUBSTITUTE(IN!G1653,\"-\",\"\")","v":""},"",{"$f":"IN!F1653*60","v":0},0,"-"]
[0,{"$error":"#VALUE!"},{"$error":"#VALUE!"},{"$f":"SUBSTITUTE(IN!G1654,\"-\",\"\")","v":""},"",{"$f":"IN!F1654*60","v":0},0,"-"]
[0,{"$error":"#VALUE!"},{"$error":"#VALUE!"},{"$f":"SUBSTITUTE(IN!G1655,\"-\",\"\")","v":""},"",{"$f":"IN!F1655*60","v":0},0,"-"]
[0,{"$error":"#VALUE!"},{"$error":"#VALUE!"},{"$f":"SUBSTITUTE(IN!G1656,\"-\",\"\")","v":""},"",{"$f":"IN!F1656*60","v":0},0,"-"]
[0,{"$error":"#VALUE!"},{"$error":"#VALUE!"},{"$f":"SUBSTITUTE(IN!G1657,\"-\",\"\")","v":""},"",{"$f":"IN!F1657*60","v":0},0,"-"]
[0,{"$error":"#VALUE!"},{"$error":"#VALUE!"},{"$f":"SUBSTITUTE(IN!G1658,\"-\",\"\")","v":""},"",{"$f":"IN!F1658*60","v":0},0,"-"]
[0,{"$error":"#VALUE!"},{"$error":"#VALUE!"},{"$f":"SUBSTITUTE(IN!G1659,\"-\",\"\")","v":""},"",{"$f":"IN!F1659*60","v":0},0,"-"]
[0,{"$error":"#VALUE!"},{"$error":"#VALUE!"},{"$f":"SUBSTITUTE(IN!G1660,\"-\",\"\")","v":""},"",{"$f":"IN!F1660*60","v":0},0,"-"]
[0,{"$error":"#VALUE!"},{"$error":"#VALUE!"},{"$f":"SUBSTITUTE(IN!G1661,\"-\",\"\")","v":""},"",{"$f":"IN!F1661*60","v":0},0,"-"]
[0,{"$error":"#VALUE!"},{"$error":"#VALUE!"},{"$f":"SUBSTITUTE(IN!G1662,\"-\",\"\")","v":""},"",{"$f":"IN!F1662*60","v":0},0,"-"]
[0,{"$error":"#VALUE!"},{"$error":"#VALUE!"},{"$f":"SUBSTITUTE(IN!G1663,\"-\",\"\")","v":""},"",{"$f":"IN!F1663*60","v":0},0,"-"]
[0,{"$error":"#VALUE!"},{"$error":"#VALUE!"},{"$f":"SUBSTITUTE(IN!G1664,\"-\",\"\")","v":""},"",{"$f":"IN!F1664*60","v":0},0,"-"]
[0,{"$error":"#VALUE!"},{"$error":"#VALUE!"},{"$f":"SUBSTITUTE(IN!G1665,\"-\",\"\")","v":""},"",{"$f":"IN!F1665*60","v":0},0,"-"]
[0,{"$error":"#VALUE!"},{"$error":"#VALUE!"},{"$f":"SUBSTITUTE(IN!G1666,\"-\",\"\")","v":""},"",{"$f":"IN!F1666*60","v":0},0,"-"]
[0,{"$error":"#VALUE!"},{"$error":"#VALUE!"},{"$f":"SUBSTITUTE(IN!G1667,\"-\",\"\")","v":""},"",{"$f":"IN!F1667*60","v":0},0,"-"]
[0,{"$error":"#VALUE!"},{"$error":"#VALUE!"},{"$f":"SUBSTITUTE(IN!G1668,\"-\",\"\")","v":""},"",{"$f":"IN!F1668*60","v":0},0,"-"]
[{"$f":"LEN(D1669)","v":0},{"$f":"VALUE(LEFT(D1669,1))","v":{"$error":"#VALUE!"}},{"$f":"IF(B1669<2,20,19)","v":{"$error":"#VALUE!"}},{"$f":"SUBSTITUTE(IN!G1669,\"-\",\"\")","v":""},{"$f":"IF(A1669=10,CONCATENATE(C1669,D1669),D1669)","v":""},{"$f":"IN!F1669*60","v":0},{"$f":"ROUND(F1669,0)","v":0},{"$f":"CONCATENATE(MID(E1669,3,6),\"-\",MID(E1669,9,4))","v":"-"}]
[0,{"$error":"#VALUE!"},{"$error":"#VALUE!"},{"$f":"SUBSTITUTE(IN!G1670,\"-\",\"\")","v":""},"",{"$f":"IN!F1670*60","v":0},0,"-"]
[0,{"$error":"#VALUE!"},{"$error":"#VALUE!"},{"$f":"SUBSTITUTE(IN!G1671,\"-\",\"\")","v":""},"",{"$f":"IN!F1671*60","v":0},0,"-"]
[0,{"$error":"#VALUE!"},{"$error":"#VALUE!"},{"$f":"SUBSTITUTE(IN!G1672,\"-\",\"\")","v":""},"",{"$f":"IN!F1672*60","v":0},0,"-"]
[0,{"$error":"#VALUE!"},{"$error":"#VALUE!"},{"$f":"SUBSTITUTE(IN!G1673,\"-\",\"\")","v":""},"",{"$f":"IN!F1673*60","v":0},0,"-"]
[0,{"$error":"#VALUE!"},{"$error":"#VALUE!"},{"$f":"SUBSTITUTE(IN!G1674,\"-\",\"\")","v":""},"",{"$f":"IN!F1674*60","v":0},0,"-"]
[0,{"$error":"#VALUE!"},{"$error":"#VALUE!"},{"$f":"SUBSTITUTE(IN!G1675,\"-\",\"\")","v":""},"",{"$f":"IN!F1675*60","v":0},0,"-"]
[0,{"$error":"#VALUE!"},{"$error":"#VALUE!"},{"$f":"SUBSTITUTE(IN!G1676,\"-\",\"\")","v":""},"",{"$f":"IN!F1676*60","v":0},0,"-"]
[0,{"$error":"#VALUE!"},{"$error":"#VALUE!"},{"$f":"SUBSTITUTE(IN!G1677,\"-\",\"\")","v":""},"",{"$f":"IN!F1677*60","v":0},0,"-"]
[0,{"$error":"#VALUE!"},{"$error":"#VALUE!"},{"$f":"SUBSTITUTE(IN!G1678,\"-\",\"\")","v":""},"",{"$f":"IN!F1678*60","v":0},0,"-"]
[0,{"$error":"#VALUE!"},{"$error":"#VALUE!"},{"$f":"SUBSTITUTE(IN!G1679,\"-\",\"\")","v":""},"",{"$f":"IN!F1679*60","v":0},0,"-"]
[0,{"$error":"#VALUE!"},{"$error":"#VALUE!"},{"$f":"SUBSTITUTE(IN!G1680,\"-\",\"\")","v":""},"",{"$f":"IN!F1680*60","v":0},0,"-"]
[0,{"$error":"#VALUE!"},{"$error":"#VALUE!"},{"$f":"SUBSTITUTE(IN!G1681,\"-\",\"\")","v":""},"",{"$f":"IN!F1681*60","v":0},0,"-"]
[0,{"$error":"#VALUE!"},{"$error":"#VALUE!"},{"$f":"SUBSTITUTE(IN!G1682,\"-\",\"\")","v":""},"",{"$f":"IN!F1682*60","v":0},0,"-"]
[0,{"$error":"#VALUE!"},{"$error":"#VALUE!"},{"$f":"SUBSTITUTE(IN!G1683,\"-\",\"\")","v":""},"",{"$f":"IN!F1683*60","v":0},0,"-"]
[0,{"$error":"#VALUE!"},{"$error":"#VALUE!"},{"$f":"SUBSTITUTE(IN!G1684,\"-\",\"\")","v":""},"",{"$f":"IN!F1684*60","v":0},0,"-"]
[0,{"$error":"#VALUE!"},{"$error":"#VALUE!"},{"$f":"SUBSTITUTE(IN!G1685,\"-\",\"\")","v":""},"",{"$f":"IN!F1685*60","v":0},0,"-"]
[0,{"$error":"#VALUE!"},{"$error":"#VALUE!"},{"$f":"SUBSTITUTE(IN!G1686,\"-\",\"\")","v":""},"",{"$f":"IN!F1686*60","v":0},0,"-"]
[0,{"$error":"#VALUE!"},{"$error":"#VALUE!"},{"$f":"SUBSTITUTE(IN!G1687,\"-\",\"\")","v":""},"",{"$f":"IN!F1687*60","v":0},0,"-"]
[0,{"$error":"#VALUE!"},{"$error":"#VALUE!"},{"$f":"SUBSTITUTE(IN!G1688,\"-\",\"\")","v":""},"",{"$f":"IN!F1688*60","v":0},0,"-"]
[0,{"$error":"#VALUE!"},{"$error":"#VALUE!"},{"$f":"SUBSTITUTE(IN!G1689,\"-\",\"\")","v":""},"",{"$f":"IN!F1689*60","v":0},0,"-"]
[0,{"$error":"#VALUE!"},{"$error":"#VALUE!"},{"$f":"SUBSTITUTE(IN!G1690,\"-\",\"\")","v":""},"",{"$f":"IN!F1690*60","v":0},0,"-"]
[0,{"$error":"#VALUE!"},{"$error":"#VALUE!"},{"$f":"SUBSTITUTE(IN!G1691,\"-\",\"\")","v":""},"",{"$f":"IN!F1691*60","v":0},0,"-"]
[0,{"$error":"#VALUE!"},{"$error":"#VALUE!"},{"$f":"SUBSTITUTE(IN!G1692,\"-\",\"\")","v":""},"",{"$f":"IN!F1692*60","v":0},0,"-"]
[0,{"$error":"#VALUE!"},{"$error":"#VALUE!"},{"$f":"SUBSTITUTE(IN!G1693,\"-\",\"\")","v":""},"",{"$f":"IN!F1693*60","v":0},0,"-"]
[0,{"$error":"#VALUE!"},{"$error":"#VALUE!"},{"$f":"SUBSTITUTE(IN!G1694,\"-\",\"\")","v":""},"",{"$f":"IN!F1694*60","v":0},0,"-"]
[0,{"$error":"#VALUE!"},{"$error":"#VALUE!"},{"$f":"SUBSTITUTE(IN!G1695,\"-\",\"\")","v":""},"",{"$f":"IN!F1695*60","v":0},0,"-"]
[0,{"$error":"#VALUE!"},{"$error":"#VALUE!"},{"$f":"SUBSTITUTE(IN!G1696,\"-\",\"\")","v":""},"",{"$f":"IN!F1696*60","v":0},0,"-"]
[0,{"$error":"#VALUE!"},{"$error":"#VALUE!"},{"$f":"SUBSTITUTE(IN!G1697,\"-\",\"\")","v":""},"",{"$f":"IN!F1697*60","v":0},0,"-"]
[0,{"$error":"#VALUE!"},{"$error":"#VALUE!"},{"$f":"SUBSTITUTE(IN!G1698,\"-\",\"\")","v":""},"",{"$f":"IN!F1698*60","v":0},0,"-"]
[0,{"$error":"#VALUE!"},{"$error":"#VALUE!"},{"$f":"SUBSTITUTE(IN!G1699,\"-\",\"\")","v":""},"",{"$f":"IN!F1699*60","v":0},0,"-"]
[0,{"$error":"#VALUE!"},{"$error":"#VALUE!"},{"$f":"SUBSTITUTE(IN!G1700,\"-\",\"\")","v":""},"",{"$f":"IN!F1700*60","v":0},0,"-"]
[0,{"$error":"#VALUE!"},{"$error":"#VALUE!"},{"$f":"SUBSTITUTE(IN!G1701,\"-\",\"\")","v":""},"",{"$f":"IN!F1701*60","v":0},0,"-"]
[0,{"$error":"#VALUE!"},{"$error":"#VALUE!"},{"$f":"SUBSTITUTE(IN!G1702,\"-\",\"\")","v":""},"",{"$f":"IN!F1702*60","v":0},0,"-"]
[0,{"$error":"#VALUE!"},{"$error":"#VALUE!"},{"$f":"SUBSTITUTE(IN!G1703,\"-\",\"\")","v":""},"",{"$f":"IN!F1703*60","v":0},0,"-"]
[0,{"$error":"#VALUE!"},{"$error":"#VALUE!"},{"$f":"SUBSTITUTE(IN!G1704,\"-\",\"\")","v":""},"",{"$f":"IN!F1704*60","v":0},0,"-"]
[0,{"$error":"#VALUE!"},{"$error":"#VALUE!"},{"$f":"SUBSTITUTE(IN!G1705,\"-\",\"\")","v":""},"",{"$f":"IN!F1705*60","v":0},0,"-"]
[0,{"$error":"#VALUE!"},{"$error":"#VALUE!"},{"$f":"SUBSTITUTE(IN!G1706,\"-\",\"\")","v":""},"",{"$f":"IN!F1706*60","v":0},0,"-"]
[0,{"$error":"#VALUE!"},{"$error":"#VALUE!"},{"$f":"SUBSTITUTE(IN!G1707,\"-\",\"\")","v":""},"",{"$f":"IN!F1707*60","v":0},0,"-"]
[0,{"$error":"#VALUE!"},{"$error":"#VALUE!"},{"$f":"SUBSTITUTE(IN!G1708,\"-\",\"\")","v":""},"",{"$f":"IN!F1708*60","v":0},0,"-"]
[0,{"$error":"#VALUE!"},{"$error":"#VALUE!"},{"$f":"SUBSTITUTE(IN!G1709,\"-\",\"\")","v":""},"",{"$f":"IN!F1709*60","v":0},0,"-"]
[0,{"$error":"#VALUE!"},{"$error":"#VALUE!"},{"$f":"SUBSTITUTE(IN!G1710,\"-\",\"\")","v":""},"",{"$f":"IN!F1710*60","v":0},0,"-"]
[0,{"$error":"#VALUE!"},{"$error":"#VALUE!"},{"$f":"SUBSTITUTE(IN!G1711,\"-\",\"\")","v":""},"",{"$f":"IN!F1711*60","v":0},0,"-"]
[0,{"$error":"#VALUE!"},{"$error":"#VALUE!"},{"$f":"SUBSTITUTE(IN!G1712,\"-\",\"\")","v":""},"",{"$f":"IN!F1712*60","v":0},0,"-"]
[0,{"$error":"#VALUE!"},{"$error":"#VALUE!"},{"$f":"SUBSTITUTE(IN!G1713,\"-\",\"\")","v":""},"",{"$f":"IN!F1713*60","v":0},0,"-"]
[0,{"$error":"#VALUE!"},{"$error":"#VALUE!"},{"$f":"SUBSTITUTE(IN!G1714,\"-\",\"\")","v":""},"",{"$f":"IN!F1714*60","v":0},0,"-"]
[0,{"$error":"#VALUE!"},{"$error":"#VALUE!"},{"$f":"SUBSTITUTE(IN!G1715,\"-\",\"\")","v":""},"",{"$f":"IN!F1715*60","v":0},0,"-"]
[0,{"$error":"#VALUE!"},{"$error":"#VALUE!"},{"$f":"SUBSTITUTE(IN!G1716,\"-\",\"\")","v":""},"",{"$f":"IN!F1716*60","v":0},0,"-"]
[0,{"$error":"#VALUE!"},{"$error":"#VALUE!"},{"$f":"SUBSTITUTE(IN!G1717,\"-\",\"\")","v":""},"",{"$f":"IN!F1717*60","v":0},0,"-"]
[0,{"$error":"#VALUE!"},{"$error":"#VALUE!"},{"$f":"SUBSTITUTE(IN!G1718,\"-\",\"\")","v":""},"",{"$f":"IN!F1718*60","v":0},0,"-"]
[0,{"$error":"#VALUE!"},{"$error":"#VALUE!"},{"$f":"SUBSTITUTE(IN!G1719,\"-\",\"\")","v":""},"",{"$f":"IN!F1719*60","v":0},0,"-"]
[0,{"$error":"#VALUE!"},{"$error":"#VALUE!"},{"$f":"SUBSTITUTE(IN!G1720,\"-\",\"\")","v":""},"",{"$f":"IN!F1720*60","v":0},0,"-"]
[0,{"$error":"#VALUE!"},{"$error":"#VALUE!"},{"$f":"SUBSTITUTE(IN!G1721,\"-\",\"\")","v":""},"",{"$f":"IN!F1721*60","v":0},0,"-"]
[0,{"$error":"#VALUE!"},{"$error":"#VALUE!"},{"$f":"SUBSTITUTE(IN!G1722,\"-\",\"\")","v":""},"",{"$f":"IN!F1722*60","v":0},0,"-"]
[0,{"$error":"#VALUE!"},{"$error":"#VALUE!"},{"$f":"SUBSTITUTE(IN!G1723,\"-\",\"\")","v":""},"",{"$f":"IN!F1723*60","v":0},0,"-"]
[0,{"$error":"#VALUE!"},{"$error":"#VALUE!"},{"$f":"SUBSTITUTE(IN!G1724,\"-\",\"\")","v":""},"",{"$f":"IN!F1724*60","v":0},0,"-"]
[0,{"$error":"#VALUE!"},{"$error":"#VALUE!"},{"$f":"SUBSTITUTE(IN!G1725,\"-\",\"\")","v":""},"",{"$f":"IN!F1725*60","v":0},0,"-"]
[0,{"$error":"#VALUE!"},{"$error":"#VALUE!"},{"$f":"SUBSTITUTE(IN!G1726,\"-\",\"\")","v":""},"",{"$f":"IN!F1726*60","v":0},0,"-"]
[0,{"$error":"#VALUE!"},{"$error":"#VALUE!"},{"$f":"SUBSTITUTE(IN!G1727,\"-\",\"\")","v":""},"",{"$f":"IN!F1727*60","v":0},0,"-"]
[0,{"$error":"#VALUE!"},{"$error":"#VALUE!"},{"$f":"SUBSTITUTE(IN!G1728,\"-\",\"\")","v":""},"",{"$f":"IN!F1728*60","v":0},0,"-"]
[0,{"$error":"#VALUE!"},{"$error":"#VALUE!"},{"$f":"SUBSTITUTE(IN!G1729,\"-\",\"\")","v":""},"",{"$f":"IN!F1729*60","v":0},0,"-"]
[0,{"$error":"#VALUE!"},{"$error":"#VALUE!"},{"$f":"SUBSTITUTE(IN!G1730,\"-\",\"\")","v":""},"",{"$f":"IN!F1730*60","v":0},0,"-"]
[0,{"$error":"#VALUE!"},{"$error":"#VALUE!"},{"$f":"SUBSTITUTE(IN!G1731,\"-\",\"\")","v":""},"",{"$f":"IN!F1731*60","v":0},0,"-"]
[0,{"$error":"#VALUE!"},{"$error":"#VALUE!"},{"$f":"SUBSTITUTE(IN!G1732,\"-\",\"\")","v":""},"",{"$f":"IN!F1732*60","v":0},0,"-"]
[{"$f":"LEN(D1733)","v":0},{"$f":"VALUE(LEFT(D1733,1))","v":{"$error":"#VALUE!"}},{"$f":"IF(B1733<2,20,19)","v":{"$error":"#VALUE!"}},{"$f":"SUBSTITUTE(IN!G1733,\"-\",\"\")","v":""},{"$f":"IF(A1733=10,CONCATENATE(C1733,D1733),D1733)","v":""},{"$f":"IN!F1733*60","v":0},{"$f":"ROUND(F1733,0)","v":0},{"$f":"CONCATENATE(MID(E1733,3,6),\"-\",MID(E1733,9,4))","v":"-"}]
[0,{"$error":"#VALUE!"},{"$error":"#VALUE!"},{"$f":"SUBSTITUTE(IN!G1734,\"-\",\"\")","v":""},"",{"$f":"IN!F1734*60","v":0},0,"-"]
[0,{"$error":"#VALUE!"},{"$error":"#VALUE!"},{"$f":"SUBSTITUTE(IN!G1735,\"-\",\"\")","v":""},"",{"$f":"IN!F1735*60","v":0},0,"-"]
[0,{"$error":"#VALUE!"},{"$error":"#VALUE!"},{"$f":"SUBSTITUTE(IN!G1736,\"-\",\"\")","v":""},"",{"$f":"IN!F1736*60","v":0},0,"-"]
[0,{"$error":"#VALUE!"},{"$error":"#VALUE!"},{"$f":"SUBSTITUTE(IN!G1737,\"-\",\"\")","v":""},"",{"$f":"IN!F1737*60","v":0},0,"-"]
[0,{"$error":"#VALUE!"},{"$error":"#VALUE!"},{"$f":"SUBSTITUTE(IN!G1738,\"-\",\"\")","v":""},"",{"$f":"IN!F1738*60","v":0},0,"-"]
[0,{"$error":"#VALUE!"},{"$error":"#VALUE!"},{"$f":"SUBSTITUTE(IN!G1739,\"-\",\"\")","v":""},"",{"$f":"IN!F1739*60","v":0},0,"-"]
[0,{"$error":"#VALUE!"},{"$error":"#VALUE!"},{"$f":"SUBSTITUTE(IN!G1740,\"-\",\"\")","v":""},"",{"$f":"IN!F1740*60","v":0},0,"-"]
[0,{"$error":"#VALUE!"},{"$error":"#VALUE!"},{"$f":"SUBSTITUTE(IN!G1741,\"-\",\"\")","v":""},"",{"$f":"IN!F1741*60","v":0},0,"-"]
[0,{"$error":"#VALUE!"},{"$error":"#VALUE!"},{"$f":"SUBSTITUTE(IN!G1742,\"-\",\"\")","v":""},"",{"$f":"IN!F1742*60","v":0},0,"-"]
[0,{"$error":"#VALUE!"},{"$error":"#VALUE!"},{"$f":"SUBSTITUTE(IN!G1743,\"-\",\"\")","v":""},"",{"$f":"IN!F1743*60","v":0},0,"-"]
[0,{"$error":"#VALUE!"},{"$error":"#VALUE!"},{"$f":"SUBSTITUTE(IN!G1744,\"-\",\"\")","v":""},"",{"$f":"IN!F1744*60","v":0},0,"-"]
[0,{"$error":"#VALUE!"},{"$error":"#VALUE!"},{"$f":"SUBSTITUTE(IN!G1745,\"-\",\"\")","v":""},"",{"$f":"IN!F1745*60","v":0},0,"-"]
[0,{"$error":"#VALUE!"},{"$error":"#VALUE!"},{"$f":"SUBSTITUTE(IN!G1746,\"-\",\"\")","v":""},"",{"$f":"IN!F1746*60","v":0},0,"-"]
[0,{"$error":"#VALUE!"},{"$error":"#VALUE!"},{"$f":"SUBSTITUTE(IN!G1747,\"-\",\"\")","v":""},"",{"$f":"IN!F1747*60","v":0},0,"-"]
[0,{"$error":"#VALUE!"},{"$error":"#VALUE!"},{"$f":"SUBSTITUTE(IN!G1748,\"-\",\"\")","v":""},"",{"$f":"IN!F1748*60","v":0},0,"-"]
[0,{"$error":"#VALUE!"},{"$error":"#VALUE!"},{"$f":"SUBSTITUTE(IN!G1749,\"-\",\"\")","v":""},"",{"$f":"IN!F1749*60","v":0},0,"-"]
[0,{"$error":"#VALUE!"},{"$error":"#VALUE!"},{"$f":"SUBSTITUTE(IN!G1750,\"-\",\"\")","v":""},"",{"$f":"IN!F1750*60","v":0},0,"-"]
[0,{"$error":"#VALUE!"},{"$error":"#VALUE!"},{"$f":"SUBSTITUTE(IN!G1751,\"-\",\"\")","v":""},"",{"$f":"IN!F1751*60","v":0},0,"-"]
[0,{"$error":"#VALUE!"},{"$error":"#VALUE!"},{"$f":"SUBSTITUTE(IN!G1752,\"-\",\"\")","v":""},"",{"$f":"IN!F1752*60","v":0},0,"-"]
[0,{"$error":"#VALUE!"},{"$error":"#VALUE!"},{"$f":"SUBSTITUTE(IN!G1753,\"-\",\"\")","v":""},"",{"$f":"IN!F1753*60","v":0},0,"-"]
[0,{"$error":"#VALUE!"},{"$error":"#VALUE!"},{"$f":"SUBSTITUTE(IN!G1754,\"-\",\"\")","v":""},"",{"$f":"IN!F1754*60","v":0},0,"-"]
[0,{"$error":"#VALUE!"},{"$error":"#VALUE!"},{"$f":"SUBSTITUTE(IN!G1755,\"-\",\"\")","v":""},"",{"$f":"IN!F1755*60","v":0},0,"-"]
[0,{"$error":"#VALUE!"},{"$error":"#VALUE!"},{"$f":"SUBSTITUTE(IN!G1756,\"-\",\"\")","v":""},"",{"$f":"IN!F1756*60","v":0},0,"-"]
[0,{"$error":"#VALUE!"},{"$error":"#VALUE!"},{"$f":"SUBSTITUTE(IN!G1757,\"-\",\"\")","v":""},"",{"$f":"IN!F1757*60","v":0},0,"-"]
[0,{"$error":"#VALUE!"},{"$error":"#VALUE!"},{"$f":"SUBSTITUTE(IN!G1758,\"-\",\"\")","v":""},"",{"$f":"IN!F1758*60","v":0},0,"-"]
[0,{"$error":"#VALUE!"},{"$error":"#VALUE!"},{"$f":"SUBSTITUTE(IN!G1759,\"-\",\"\")","v":""},"",{"$f":"IN!F1759*60","v":0},0,"-"]
[0,{"$error":"#VALUE!"},{"$error":"#VALUE!"},{"$f":"SUBSTITUTE(IN!G1760,\"-\",\"\")","v":""},"",{"$f":"IN!F1760*60","v":0},0,"-"]
[0,{"$error":"#VALUE!"},{"$error":"#VALUE!"},{"$f":"SUBSTITUTE(IN!G1761,\"-\",\"\")","v":""},"",{"$f":"IN!F1761*60","v":0},0,"-"]
[0,{"$error":"#VALUE!"},{"$error":"#VALUE!"},{"$f":"SUBSTITUTE(IN!G1762,\"-\",\"\")","v":""},"",{"$f":"IN!F1762*60","v":0},0,"-"]
[0,{"$error":"#VALUE!"},{"$error":"#VALUE!"},{"$f":"SUBSTITUTE(IN!G1763,\"-\",\"\")","v":""},"",{"$f":"IN!F1763*60","v":0},0,"-"]
[0,{"$error":"#VALUE!"},{"$error":"#VALUE!"},{"$f":"SUBSTITUTE(IN!G1764,\"-\",\"\")","v":""},"",{"$f":"IN!F1764*60","v":0},0,"-"]
[0,{"$error":"#VALUE!"},{"$error":"#VALUE!"},{"$f":"SUBSTITUTE(IN!G1765,\"-\",\"\")","v":""},"",{"$f":"IN!F1765*60","v":0},0,"-"]
[0,{"$error":"#VALUE!"},{"$error":"#VALUE!"},{"$f":"SUBSTITUTE(IN!G1766,\"-\",\"\")","v":""},"",{"$f":"IN!F1766*60","v":0},0,"-"]
[0,{"$error":"#VALUE!"},{"$error":"#VALUE!"},{"$f":"SUBSTITUTE(IN!G1767,\"-\",\"\")","v":""},"",{"$f":"IN!F1767*60","v":0},0,"-"]
[0,{"$error":"#VALUE!"},{"$error":"#VALUE!"},{"$f":"SUBSTITUTE(IN!G1768,\"-\",\"\")","v":""},"",{"$f":"IN!F1768*60","v":0},0,"-"]
[0,{"$error":"#VALUE!"},{"$error":"#VALUE!"},{"$f":"SUBSTITUTE(IN!G1769,\"-\",\"\")","v":""},"",{"$f":"IN!F1769*60","v":0},0,"-"]
[0,{"$error":"#VALUE!"},{"$error":"#VALUE!"},{"$f":"SUBSTITUTE(IN!G1770,\"-\",\"\")","v":""},"",{"$f":"IN!F1770*60","v":0},0,"-"]
[0,{"$error":"#VALUE!"},{"$error":"#VALUE!"},{"$f":"SUBSTITUTE(IN!G1771,\"-\",\"\")","v":""},"",{"$f":"IN!F1771*60","v":0},0,"-"]
[0,{"$error":"#VALUE!"},{"$error":"#VALUE!"},{"$f":"SUBSTITUTE(IN!G1772,\"-\",\"\")","v":""},"",{"$f":"IN!F1772*60","v":0},0,"-"]
[0,{"$error":"#VALUE!"},{"$error":"#VALUE!"},{"$f":"SUBSTITUTE(IN!G1773,\"-\",\"\")","v":""},"",{"$f":"IN!F1773*60","v":0},0,"-"]
[0,{"$error":"#VALUE!"},{"$error":"#VALUE!"},{"$f":"SUBSTITUTE(IN!G1774,\"-\",\"\")","v":""},"",{"$f":"IN!F1774*60","v":0},0,"-"]
[0,{"$error":"#VALUE!"},{"$error":"#VALUE!"},{"$f":"SUBSTITUTE(IN!G1775,\"-\",\"\")","v":""},"",{"$f":"IN!F1775*60","v":0},0,"-"]
[0,{"$error":"#VALUE!"},{"$error":"#VALUE!"},{"$f":"SUBSTITUTE(IN!G1776,\"-\",\"\")","v":""},"",{"$f":"IN!F1776*60","v":0},0,"-"]
[0,{"$error":"#VALUE!"},{"$error":"#VALUE!"},{"$f":"SUBSTITUTE(IN!G1777,\"-\",\"\")","v":""},"",{"$f":"IN!F1777*60","v":0},0,"-"]
[0,{"$error":"#VALUE!"},{"$error":"#VALUE!"},{"$f":"SUBSTITUTE(IN!G1778,\"-\",\"\")","v":""},"",{"$f":"IN!F1778*60","v":0},0,"-"]
[0,{"$error":"#VALUE!"},{"$error":"#VALUE!"},{"$f":"SUBSTITUTE(IN!G1779,\"-\",\"\")","v":""},"",{"$f":"IN!F1779*60","v":0},0,"-"]
[0,{"$error":"#VALUE!"},{"$error":"#VALUE!"},{"$f":"SUBSTITUTE(IN!G1780,\"-\",\"\")","v":""},"",{"$f":"IN!F1780*60","v":0},0,"-"]
[0,{"$error":"#VALUE!"},{"$error":"#VALUE!"},{"$f":"SUBSTITUTE(IN!G1781,\"-\",\"\")","v":""},"",{"$f":"IN!F1781*60","v":0},0,"-"]
[0,{"$error":"#VALUE!"},{"$error":"#VALUE!"},{"$f":"SUBSTITUTE(IN!G1782,\"-\",\"\")","v":""},"",{"$f":"IN!F1782*60","v":0},0,"-"]
[0,{"$error":"#VALUE!"},{"$error":"#VALUE!"},{"$f":"SUBSTITUTE(IN!G1783,\"-\",\"\")","v":""},"",{"$f":"IN!F1783*60","v":0},0,"-"]
[0,{"$error":"#VALUE!"},{"$error":"#VALUE!"},{"$f":"SUBSTITUTE(IN!G1784,\"-\",\"\")","v":""},"",{"$f":"IN!F1784*60","v":0},0,"-"]
[0,{"$error":"#VALUE!"},{"$error":"#VALUE!"},{"$f":"SUBSTITUTE(IN!G1785,\"-\",\"\")","v":""},"",{"$f":"IN!F1785*60","v":0},0,"-"]
[0,{"$error":"#VALUE!"},{"$error":"#VALUE!"},{"$f":"SUBSTITUTE(IN!G1786,\"-\",\"\")","v":""},"",{"$f":"IN!F1786*60","v":0},0,"-"]
[0,{"$error":"#VALUE!"},{"$error":"#VALUE!"},{"$f":"SUBSTITUTE(IN!G1787,\"-\",\"\")","v":""},"",{"$f":"IN!F1787*60","v":0},0,"-"]
[0,{"$error":"#VALUE!"},{"$error":"#VALUE!"},{"$f":"SUBSTITUTE(IN!G1788,\"-\",\"\")","v":""},"",{"$f":"IN!F1788*60","v":0},0,"-"]
[0,{"$error":"#VALUE!"},{"$error":"#VALUE!"},{"$f":"SUBSTITUTE(IN!G1789,\"-\",\"\")","v":""},"",{"$f":"IN!F1789*60","v":0},0,"-"]
[0,{"$error":"#VALUE!"},{"$error":"#VALUE!"},{"$f":"SUBSTITUTE(IN!G1790,\"-\",\"\")","v":""},"",{"$f":"IN!F1790*60","v":0},0,"-"]
[0,{"$error":"#VALUE!"},{"$error":"#VALUE!"},{"$f":"SUBSTITUTE(IN!G1791,\"-\",\"\")","v":""},"",{"$f":"IN!F1791*60","v":0},0,"-"]
[0,{"$error":"#VALUE!"},{"$error":"#VALUE!"},{"$f":"SUBSTITUTE(IN!G1792,\"-\",\"\")","v":""},"",{"$f":"IN!F1792*60","v":0},0,"-"]
[0,{"$error":"#VALUE!"},{"$error":"#VALUE!"},{"$f":"SUBSTITUTE(IN!G1793,\"-\",\"\")","v":""},"",{"$f":"IN!F1793*60","v":0},0,"-"]
[0,{"$error":"#VALUE!"},{"$error":"#VALUE!"},{"$f":"SUBSTITUTE(IN!G1794,\"-\",\"\")","v":""},"",{"$f":"IN!F1794*60","v":0},0,"-"]
[0,{"$error":"#VALUE!"},{"$error":"#VALUE!"},{"$f":"SUBSTITUTE(IN!G1795,\"-\",\"\")","v":""},"",{"$f":"IN!F1795*60","v":0},0,"-"]
[0,{"$error":"#VALUE!"},{"$error":"#VALUE!"},{"$f":"SUBSTITUTE(IN!G1796,\"-\",\"\")","v":""},"",{"$f":"IN!F1796*60","v":0},0,"-"]
[{"$f":"LEN(D1797)","v":0},{"$f":"VALUE(LEFT(D1797,1))","v":{"$error":"#VALUE!"}},{"$f":"IF(B1797<2,20,19)","v":{"$error":"#VALUE!"}},{"$f":"SUBSTITUTE(IN!G1797,\"-\",\"\")","v":""},{"$f":"IF(A1797=10,CONCATENATE(C1797,D1797),D1797)","v":""},{"$f":"IN!F1797*60","v":0},{"$f":"ROUND(F1797,0)","v":0},{"$f":"CONCATENATE(MID(E1797,3,6),\"-\",MID(E1797,9,4))","v":"-"}]
[0,{"$error":"#VALUE!"},{"$error":"#VALUE!"},{"$f":"SUBSTITUTE(IN!G1798,\"-\",\"\")","v":""},"",{"$f":"IN!F1798*60","v":0},0,"-"]
[0,{"$error":"#VALUE!"},{"$error":"#VALUE!"},{"$f":"SUBSTITUTE(IN!G1799,\"-\",\"\")","v":""},"",{"$f":"IN!F1799*60","v":0},0,"-"]
[0,{"$error":"#VALUE!"},{"$error":"#VALUE!"},{"$f":"SUBSTITUTE(IN!G1800,\"-\",\"\")","v":""},"",{"$f":"IN!F1800*60","v":0},0,"-"]
[0,{"$error":"#VALUE!"},{"$error":"#VALUE!"},{"$f":"SUBSTITUTE(IN!G1801,\"-\",\"\")","v":""},"",{"$f":"IN!F1801*60","v":0},0,"-"]
[0,{"$error":"#VALUE!"},{"$error":"#VALUE!"},{"$f":"SUBSTITUTE(IN!G1802,\"-\",\"\")","v":""},"",{"$f":"IN!F1802*60","v":0},0,"-"]
[0,{"$error":"#VALUE!"},{"$error":"#VALUE!"},{"$f":"SUBSTITUTE(IN!G1803,\"-\",\"\")","v":""},"",{"$f":"IN!F1803*60","v":0},0,"-"]
[0,{"$error":"#VALUE!"},{"$error":"#VALUE!"},{"$f":"SUBSTITUTE(IN!G1804,\"-\",\"\")","v":""},"",{"$f":"IN!F1804*60","v":0},0,"-"]
[0,{"$error":"#VALUE!"},{"$error":"#VALUE!"},{"$f":"SUBSTITUTE(IN!G1805,\"-\",\"\")","v":""},"",{"$f":"IN!F1805*60","v":0},0,"-"]
[0,{"$error":"#VALUE!"},{"$error":"#VALUE!"},{"$f":"SUBSTITUTE(IN!G1806,\"-\",\"\")","v":""},"",{"$f":"IN!F1806*60","v":0},0,"-"]
[0,{"$error":"#VALUE!"},{"$error":"#VALUE!"},{"$f":"SUBSTITUTE(IN!G1807,\"-\",\"\")","v":""},"",{"$f":"IN!F1807*60","v":0},0,"-"]
[0,{"$error":"#VALUE!"},{"$error":"#VALUE!"},{"$f":"SUBSTITUTE(IN!G1808,\"-\",\"\")","v":""},"",{"$f":"IN!F1808*60","v":0},0,"-"]
[0,{"$error":"#VALUE!"},{"$error":"#VALUE!"},{"$f":"SUBSTITUTE(IN!G1809,\"-\",\"\")","v":""},"",{"$f":"IN!F1809*60","v":0},0,"-"]
[0,{"$error":"#VALUE!"},{"$error":"#VALUE!"},{"$f":"SUBSTITUTE(IN!G1810,\"-\",\"\")","v":""},"",{"$f":"IN!F1810*60","v":0},0,"-"]
[0,{"$error":"#VALUE!"},{"$error":"#VALUE!"},{"$f":"SUBSTITUTE(IN!G1811,\"-\",\"\")","v":""},"",{"$f":"IN!F1811*60","v":0},0,"-"]
[0,{"$error":"#VALUE!"},{"$error":"#VALUE!"},{"$f":"SUBSTITUTE(IN!G1812,\"-\",\"\")","v":""},"",{"$f":"IN!F1812*60","v":0},0,"-"]
[0,{"$error":"#VALUE!"},{"$error":"#VALUE!"},{"$f":"SUBSTITUTE(IN!G1813,\"-\",\"\")","v":""},"",{"$f":"IN!F1813*60","v":0},0,"-"]
[0,{"$error":"#VALUE!"},{"$error":"#VALUE!"},{"$f":"SUBSTITUTE(IN!G1814,\"-\",\"\")","v":""},"",{"$f":"IN!F1814*60","v":0},0,"-"]
[0,{"$error":"#VALUE!"},{"$error":"#VALUE!"},{"$f":"SUBSTITUTE(IN!G1815,\"-\",\"\")","v":""},"",{"$f":"IN!F1815*60","v":0},0,"-"]
[0,{"$error":"#VALUE!"},{"$error":"#VALUE!"},{"$f":"SUBSTITUTE(IN!G1816,\"-\",\"\")","v":""},"",{"$f":"IN!F1816*60","v":0},0,"-"]
[0,{"$error":"#VALUE!"},{"$error":"#VALUE!"},{"$f":"SUBSTITUTE(IN!G1817,\"-\",\"\")","v":""},"",{"$f":"IN!F1817*60","v":0},0,"-"]
[0,{"$error":"#VALUE!"},{"$error":"#VALUE!"},{"$f":"SUBSTITUTE(IN!G1818,\"-\",\"\")","v":""},"",{"$f":"IN!F1818*60","v":0},0,"-"]
[0,{"$error":"#VALUE!"},{"$error":"#VALUE!"},{"$f":"SUBSTITUTE(IN!G1819,\"-\",\"\")","v":""},"",{"$f":"IN!F1819*60","v":0},0,"-"]
[0,{"$error":"#VALUE!"},{"$error":"#VALUE!"},{"$f":"SUBSTITUTE(IN!G1820,\"-\",\"\")","v":""},"",{"$f":"IN!F1820*60","v":0},0,"-"]
[0,{"$error":"#VALUE!"},{"$error":"#VALUE!"},{"$f":"SUBSTITUTE(IN!G1821,\"-\",\"\")","v":""},"",{"$f":"IN!F1821*60","v":0},0,"-"]
[0,{"$error":"#VALUE!"},{"$error":"#VALUE!"},{"$f":"SUBSTITUTE(IN!G1822,\"-\",\"\")","v":""},"",{"$f":"IN!F1822*60","v":0},0,"-"]
[0,{"$error":"#VALUE!"},{"$error":"#VALUE!"},{"$f":"SUBSTITUTE(IN!G1823,\"-\",\"\")","v":""},"",{"$f":"IN!F1823*60","v":0},0,"-"]
[0,{"$error":"#VALUE!"},{"$error":"#VALUE!"},{"$f":"SUBSTITUTE(IN!G1824,\"-\",\"\")","v":""},"",{"$f":"IN!F1824*60","v":0},0,"-"]
[0,{"$error":"#VALUE!"},{"$error":"#VALUE!"},{"$f":"SUBSTITUTE(IN!G1825,\"-\",\"\")","v":""},"",{"$f":"IN!F1825*60","v":0},0,"-"]
[0,{"$error":"#VALUE!"},{"$error":"#VALUE!"},{"$f":"SUBSTITUTE(IN!G1826,\"-\",\"\")","v":""},"",{"$f":"IN!F1826*60","v":0},0,"-"]
[0,{"$error":"#VALUE!"},{"$error":"#VALUE!"},{"$f":"SUBSTITUTE(IN!G1827,\"-\",\"\")","v":""},"",{"$f":"IN!F1827*60","v":0},0,"-"]
[0,{"$error":"#VALUE!"},{"$error":"#VALUE!"},{"$f":"SUBSTITUTE(IN!G1828,\"-\",\"\")","v":""},"",{"$f":"IN!F1828*60","v":0},0,"-"]
[0,{"$error":"#VALUE!"},{"$error":"#VALUE!"},{"$f":"SUBSTITUTE(IN!G1829,\"-\",\"\")","v":""},"",{"$f":"IN!F1829*60","v":0},0,"-"]
[0,{"$error":"#VALUE!"},{"$error":"#VALUE!"},{"$f":"SUBSTITUTE(IN!G1830,\"-\",\"\")","v":""},"",{"$f":"IN!F1830*60","v":0},0,"-"]
[0,{"$error":"#VALUE!"},{"$error":"#VALUE!"},{"$f":"SUBSTITUTE(IN!G1831,\"-\",\"\")","v":""},"",{"$f":"IN!F1831*60","v":0},0,"-"]
[0,{"$error":"#VALUE!"},{"$error":"#VALUE!"},{"$f":"SUBSTITUTE(IN!G1832,\"-\",\"\")","v":""},"",{"$f":"IN!F1832*60","v":0},0,"-"]
[0,{"$error":"#VALUE!"},{"$error":"#VALUE!"},{"$f":"SUBSTITUTE(IN!G1833,\"-\",\"\")","v":""},"",{"$f":"IN!F1833*60","v":0},0,"-"]
[0,{"$error":"#VALUE!"},{"$error":"#VALUE!"},{"$f":"SUBSTITUTE(IN!G1834,\"-\",\"\")","v":""},"",{"$f":"IN!F1834*60","v":0},0,"-"]
[0,{"$error":"#VALUE!"},{"$error":"#VALUE!"},{"$f":"SUBSTITUTE(IN!G1835,\"-\",\"\")","v":""},"",{"$f":"IN!F1835*60","v":0},0,"-"]
[0,{"$error":"#VALUE!"},{"$error":"#VALUE!"},{"$f":"SUBSTITUTE(IN!G1836,\"-\",\"\")","v":""},"",{"$f":"IN!F1836*60","v":0},0,"-"]
[0,{"$error":"#VALUE!"},{"$error":"#VALUE!"},{"$f":"SUBSTITUTE(IN!G1837,\"-\",\"\")","v":""},"",{"$f":"IN!F1837*60","v":0},0,"-"]
[0,{"$error":"#VALUE!"},{"$error":"#VALUE!"},{"$f":"SUBSTITUTE(IN!G1838,\"-\",\"\")","v":""},"",{"$f":"IN!F1838*60","v":0},0,"-"]
[0,{"$error":"#VALUE!"},{"$error":"#VALUE!"},{"$f":"SUBSTITUTE(IN!G1839,\"-\",\"\")","v":""},"",{"$f":"IN!F1839*60","v":0},0,"-"]
[0,{"$error":"#VALUE!"},{"$error":"#VALUE!"},{"$f":"SUBSTITUTE(IN!G1840,\"-\",\"\")","v":""},"",{"$f":"IN!F1840*60","v":0},0,"-"]
[0,{"$error":"#VALUE!"},{"$error":"#VALUE!"},{"$f":"SUBSTITUTE(IN!G1841,\"-\",\"\")","v":""},"",{"$f":"IN!F1841*60","v":0},0,"-"]
[0,{"$error":"#VALUE!"},{"$error":"#VALUE!"},{"$f":"SUBSTITUTE(IN!G1842,\"-\",\"\")","v":""},"",{"$f":"IN!F1842*60","v":0},0,"-"]
[0,{"$error":"#VALUE!"},{"$error":"#VALUE!"},{"$f":"SUBSTITUTE(IN!G1843,\"-\",\"\")","v":""},"",{"$f":"IN!F1843*60","v":0},0,"-"]
[0,{"$error":"#VALUE!"},{"$error":"#VALUE!"},{"$f":"SUBSTITUTE(IN!G1844,\"-\",\"\")","v":""},"",{"$f":"IN!F1844*60","v":0},0,"-"]
[0,{"$error":"#VALUE!"},{"$error":"#VALUE!"},{"$f":"SUBSTITUTE(IN!G1845,\"-\",\"\")","v":""},"",{"$f":"IN!F1845*60","v":0},0,"-"]
[0,{"$error":"#VALUE!"},{"$error":"#VALUE!"},{"$f":"SUBSTITUTE(IN!G1846,\"-\",\"\")","v":""},"",{"$f":"IN!F1846*60","v":0},0,"-"]
[0,{"$error":"#VALUE!"},{"$error":"#VALUE!"},{"$f":"SUBSTITUTE(IN!G1847,\"-\",\"\")","v":""},"",{"$f":"IN!F1847*60","v":0},0,"-"]
[0,{"$error":"#VALUE!"},{"$error":"#VALUE!"},{"$f":"SUBSTITUTE(IN!G1848,\"-\",\"\")","v":""},"",{"$f":"IN!F1848*60","v":0},0,"-"]
[0,{"$error":"#VALUE!"},{"$error":"#VALUE!"},{"$f":"SUBSTITUTE(IN!G1849,\"-\",\"\")","v":""},"",{"$f":"IN!F1849*60","v":0},0,"-"]
[0,{"$error":"#VALUE!"},{"$error":"#VALUE!"},{"$f":"SUBSTITUTE(IN!G1850,\"-\",\"\")","v":""},"",{"$f":"IN!F1850*60","v":0},0,"-"]
[0,{"$error":"#VALUE!"},{"$error":"#VALUE!"},{"$f":"SUBSTITUTE(IN!G1851,\"-\",\"\")","v":""},"",{"$f":"IN!F1851*60","v":0},0,"-"]
[0,{"$error":"#VALUE!"},{"$error":"#VALUE!"},{"$f":"SUBSTITUTE(IN!G1852,\"-\",\"\")","v":""},"",{"$f":"IN!F1852*60","v":0},0,"-"]
[0,{"$error":"#VALUE!"},{"$error":"#VALUE!"},{"$f":"SUBSTITUTE(IN!G1853,\"-\",\"\")","v":""},"",{"$f":"IN!F1853*60","v":0},0,"-"]
[0,{"$error":"#VALUE!"},{"$error":"#VALUE!"},{"$f":"SUBSTITUTE(IN!G1854,\"-\",\"\")","v":""},"",{"$f":"IN!F1854*60","v":0},0,"-"]
[0,{"$error":"#VALUE!"},{"$error":"#VALUE!"},{"$f":"SUBSTITUTE(IN!G1855,\"-\",\"\")","v":""},"",{"$f":"IN!F1855*60","v":0},0,"-"]
[0,{"$error":"#VALUE!"},{"$error":"#VALUE!"},{"$f":"SUBSTITUTE(IN!G1856,\"-\",\"\")","v":""},"",{"$f":"IN!F1856*60","v":0},0,"-"]
[0,{"$error":"#VALUE!"},{"$error":"#VALUE!"},{"$f":"SUBSTITUTE(IN!G1857,\"-\",\"\")","v":""},"",{"$f":"IN!F1857*60","v":0},0,"-"]
[0,{"$error":"#VALUE!"},{"$error":"#VALUE!"},{"$f":"SUBSTITUTE(IN!G1858,\"-\",\"\")","v":""},"",{"$f":"IN!F1858*60","v":0},0,"-"]
[0,{"$error":"#VALUE!"},{"$error":"#VALUE!"},{"$f":"SUBSTITUTE(IN!G1859,\"-\",\"\")","v":""},"",{"$f":"IN!F1859*60","v":0},0,"-"]
[0,{"$error":"#VALUE!"},{"$error":"#VALUE!"},{"$f":"SUBSTITUTE(IN!G1860,\"-\",\"\")","v":""},"",{"$f":"IN!F1860*60","v":0},0,"-"]
[{"$f":"LEN(D1861)","v":0},{"$f":"VALUE(LEFT(D1861,1))","v":{"$error":"#VALUE!"}},{"$f":"IF(B1861<2,20,19)","v":{"$error":"#VALUE!"}},{"$f":"SUBSTITUTE(IN!G1861,\"-\",\"\")","v":""},{"$f":"IF(A1861=10,CONCATENATE(C1861,D1861),D1861)","v":""},{"$f":"IN!F1861*60","v":0},{"$f":"ROUND(F1861,0)","v":0},{"$f":"CONCATENATE(MID(E1861,3,6),\"-\",MID(E1861,9,4))","v":"-"}]
[0,{"$error":"#VALUE!"},{"$error":"#VALUE!"},{"$f":"SUBSTITUTE(IN!G1862,\"-\",\"\")","v":""},"",{"$f":"IN!F1862*60","v":0},0,"-"]
[0,{"$error":"#VALUE!"},{"$error":"#VALUE!"},{"$f":"SUBSTITUTE(IN!G1863,\"-\",\"\")","v":""},"",{"$f":"IN!F1863*60","v":0},0,"-"]
[0,{"$error":"#VALUE!"},{"$error":"#VALUE!"},{"$f":"SUBSTITUTE(IN!G1864,\"-\",\"\")","v":""},"",{"$f":"IN!F1864*60","v":0},0,"-"]
[0,{"$error":"#VALUE!"},{"$error":"#VALUE!"},{"$f":"SUBSTITUTE(IN!G1865,\"-\",\"\")","v":""},"",{"$f":"IN!F1865*60","v":0},0,"-"]
[0,{"$error":"#VALUE!"},{"$error":"#VALUE!"},{"$f":"SUBSTITUTE(IN!G1866,\"-\",\"\")","v":""},"",{"$f":"IN!F1866*60","v":0},0,"-"]
[0,{"$error":"#VALUE!"},{"$error":"#VALUE!"},{"$f":"SUBSTITUTE(IN!G1867,\"-\",\"\")","v":""},"",{"$f":"IN!F1867*60","v":0},0,"-"]
[0,{"$error":"#VALUE!"},{"$error":"#VALUE!"},{"$f":"SUBSTITUTE(IN!G1868,\"-\",\"\")","v":""},"",{"$f":"IN!F1868*60","v":0},0,"-"]
[0,{"$error":"#VALUE!"},{"$error":"#VALUE!"},{"$f":"SUBSTITUTE(IN!G1869,\"-\",\"\")","v":""},"",{"$f":"IN!F1869*60","v":0},0,"-"]
[0,{"$error":"#VALUE!"},{"$error":"#VALUE!"},{"$f":"SUBSTITUTE(IN!G1870,\"-\",\"\")","v":""},"",{"$f":"IN!F1870*60","v":0},0,"-"]
[0,{"$error":"#VALUE!"},{"$error":"#VALUE!"},{"$f":"SUBSTITUTE(IN!G1871,\"-\",\"\")","v":""},"",{"$f":"IN!F1871*60","v":0},0,"-"]
[0,{"$error":"#VALUE!"},{"$error":"#VALUE!"},{"$f":"SUBSTITUTE(IN!G1872,\"-\",\"\")","v":""},"",{"$f":"IN!F1872*60","v":0},0,"-"]
[0,{"$error":"#VALUE!"},{"$error":"#VALUE!"},{"$f":"SUBSTITUTE(IN!G1873,\"-\",\"\")","v":""},"",{"$f":"IN!F1873*60","v":0},0,"-"]
[0,{"$error":"#VALUE!"},{"$error":"#VALUE!"},{"$f":"SUBSTITUTE(IN!G1874,\"-\",\"\")","v":""},"",{"$f":"IN!F1874*60","v":0},0,"-"]
[0,{"$error":"#VALUE!"},{"$error":"#VALUE!"},{"$f":"SUBSTITUTE(IN!G1875,\"-\",\"\")","v":""},"",{"$f":"IN!F1875*60","v":0},0,"-"]
[0,{"$error":"#VALUE!"},{"$error":"#VALUE!"},{"$f":"SUBSTITUTE(IN!G1876,\"-\",\"\")","v":""},"",{"$f":"IN!F1876*60","v":0},0,"-"]
[0,{"$error":"#VALUE!"},{"$error":"#VALUE!"},{"$f":"SUBSTITUTE(IN!G1877,\"-\",\"\")","v":""},"",{"$f":"IN!F1877*60","v":0},0,"-"]
[0,{"$error":"#VALUE!"},{"$error":"#VALUE!"},{"$f":"SUBSTITUTE(IN!G1878,\"-\",\"\")","v":""},"",{"$f":"IN!F1878*60","v":0},0,"-"]
[0,{"$error":"#VALUE!"},{"$error":"#VALUE!"},{"$f":"SUBSTITUTE(IN!G1879,\"-\",\"\")","v":""},"",{"$f":"IN!F1879*60","v":0},0,"-"]
[0,{"$error":"#VALUE!"},{"$error":"#VALUE!"},{"$f":"SUBSTITUTE(IN!G1880,\"-\",\"\")","v":""},"",{"$f":"IN!F1880*60","v":0},0,"-"]
[0,{"$error":"#VALUE!"},{"$error":"#VALUE!"},{"$f":"SUBSTITUTE(IN!G1881,\"-\",\"\")","v":""},"",{"$f":"IN!F1881*60","v":0},0,"-"]
[0,{"$error":"#VALUE!"},{"$error":"#VALUE!"},{"$f":"SUBSTITUTE(IN!G1882,\"-\",\"\")","v":""},"",{"$f":"IN!F1882*60","v":0},0,"-"]
[0,{"$error":"#VALUE!"},{"$error":"#VALUE!"},{"$f":"SUBSTITUTE(IN!G1883,\"-\",\"\")","v":""},"",{"$f":"IN!F1883*60","v":0},0,"-"]
[0,{"$error":"#VALUE!"},{"$error":"#VALUE!"},{"$f":"SUBSTITUTE(IN!G1884,\"-\",\"\")","v":""},"",{"$f":"IN!F1884*60","v":0},0,"-"]
[0,{"$error":"#VALUE!"},{"$error":"#VALUE!"},{"$f":"SUBSTITUTE(IN!G1885,\"-\",\"\")","v":""},"",{"$f":"IN!F1885*60","v":0},0,"-"]
[0,{"$error":"#VALUE!"},{"$error":"#VALUE!"},{"$f":"SUBSTITUTE(IN!G1886,\"-\",\"\")","v":""},"",{"$f":"IN!F1886*60","v":0},0,"-"]
[0,{"$error":"#VALUE!"},{"$error":"#VALUE!"},{"$f":"SUBSTITUTE(IN!G1887,\"-\",\"\")","v":""},"",{"$f":"IN!F1887*60","v":0},0,"-"]
[0,{"$error":"#VALUE!"},{"$error":"#VALUE!"},{"$f":"SUBSTITUTE(IN!G1888,\"-\",\"\")","v":""},"",{"$f":"IN!F1888*60","v":0},0,"-"]
[0,{"$error":"#VALUE!"},{"$error":"#VALUE!"},{"$f":"SUBSTITUTE(IN!G1889,\"-\",\"\")","v":""},"",{"$f":"IN!F1889*60","v":0},0,"-"]
[0,{"$error":"#VALUE!"},{"$error":"#VALUE!"},{"$f":"SUBSTITUTE(IN!G1890,\"-\",\"\")","v":""},"",{"$f":"IN!F1890*60","v":0},0,"-"]
[0,{"$error":"#VALUE!"},{"$error":"#VALUE!"},{"$f":"SUBSTITUTE(IN!G1891,\"-\",\"\")","v":""},"",{"$f":"IN!F1891*60","v":0},0,"-"]
[0,{"$error":"#VALUE!"},{"$error":"#VALUE!"},{"$f":"SUBSTITUTE(IN!G1892,\"-\",\"\")","v":""},"",{"$f":"IN!F1892*60","v":0},0,"-"]
[0,{"$error":"#VALUE!"},{"$error":"#VALUE!"},{"$f":"SUBSTITUTE(IN!G1893,\"-\",\"\")","v":""},"",{"$f":"IN!F1893*60","v":0},0,"-"]
[0,{"$error":"#VALUE!"},{"$error":"#VALUE!"},{"$f":"SUBSTITUTE(IN!G1894,\"-\",\"\")","v":""},"",{"$f":"IN!F1894*60","v":0},0,"-"]
[0,{"$error":"#VALUE!"},{"$error":"#VALUE!"},{"$f":"SUBSTITUTE(IN!G1895,\"-\",\"\")","v":""},"",{"$f":"IN!F1895*60","v":0},0,"-"]
[0,{"$error":"#VALUE!"},{"$error":"#VALUE!"},{"$f":"SUBSTITUTE(IN!G1896,\"-\",\"\")","v":""},"",{"$f":"IN!F1896*60","v":0},0,"-"]
[0,{"$error":"#VALUE!"},{"$error":"#VALUE!"},{"$f":"SUBSTITUTE(IN!G1897,\"-\",\"\")","v":""},"",{"$f":"IN!F1897*60","v":0},0,"-"]
[0,{"$error":"#VALUE!"},{"$error":"#VALUE!"},{"$f":"SUBSTITUTE(IN!G1898,\"-\",\"\")","v":""},"",{"$f":"IN!F1898*60","v":0},0,"-"]
[0,{"$error":"#VALUE!"},{"$error":"#VALUE!"},{"$f":"SUBSTITUTE(IN!G1899,\"-\",\"\")","v":""},"",{"$f":"IN!F1899*60","v":0},0,"-"]
[0,{"$error":"#VALUE!"},{"$error":"#VALUE!"},{"$f":"SUBSTITUTE(IN!G1900,\"-\",\"\")","v":""},"",{"$f":"IN!F1900*60","v":0},0,"-"]
[0,{"$error":"#VALUE!"},{"$error":"#VALUE!"},{"$f":"SUBSTITUTE(IN!G1901,\"-\",\"\")","v":""},"",{"$f":"IN!F1901*60","v":0},0,"-"]
[0,{"$error":"#VALUE!"},{"$error":"#VALUE!"},{"$f":"SUBSTITUTE(IN!G1902,\"-\",\"\")","v":""},"",{"$f":"IN!F1902*60","v":0},0,"-"]
[0,{"$error":"#VALUE!"},{"$error":"#VALUE!"},{"$f":"SUBSTITUTE(IN!G1903,\"-\",\"\")","v":""},"",{"$f":"IN!F1903*60","v":0},0,"-"]
[0,{"$error":"#VALUE!"},{"$error":"#VALUE!"},{"$f":"SUBSTITUTE(IN!G1904,\"-\",\"\")","v":""},"",{"$f":"IN!F1904*60","v":0},0,"-"]
[0,{"$error":"#VALUE!"},{"$error":"#VALUE!"},{"$f":"SUBSTITUTE(IN!G1905,\"-\",\"\")","v":""},"",{"$f":"IN!F1905*60","v":0},0,"-"]
[0,{"$error":"#VALUE!"},{"$error":"#VALUE!"},{"$f":"SUBSTITUTE(IN!G1906,\"-\",\"\")","v":""},"",{"$f":"IN!F1906*60","v":0},0,"-"]
[0,{"$error":"#VALUE!"},{"$error":"#VALUE!"},{"$f":"SUBSTITUTE(IN!G1907,\"-\",\"\")","v":""},"",{"$f":"IN!F1907*60","v":0},0,"-"]
[0,{"$error":"#VALUE!"},{"$error":"#VALUE!"},{"$f":"SUBSTITUTE(IN!G1908,\"-\",\"\")","v":""},"",{"$f":"IN!F1908*60","v":0},0,"-"]
[0,{"$error":"#VALUE!"},{"$error":"#VALUE!"},{"$f":"SUBSTITUTE(IN!G1909,\"-\",\"\")","v":""},"",{"$f":"IN!F1909*60","v":0},0,"-"]
[0,{"$error":"#VALUE!"},{"$error":"#VALUE!"},{"$f":"SUBSTITUTE(IN!G1910,\"-\",\"\")","v":""},"",{"$f":"IN!F1910*60","v":0},0,"-"]
[0,{"$error":"#VALUE!"},{"$error":"#VALUE!"},{"$f":"SUBSTITUTE(IN!G1911,\"-\",\"\")","v":""},"",{"$f":"IN!F1911*60","v":0},0,"-"]
[0,{"$error":"#VALUE!"},{"$error":"#VALUE!"},{"$f":"SUBSTITUTE(IN!G1912,\"-\",\"\")","v":""},"",{"$f":"IN!F1912*60","v":0},0,"-"]
[0,{"$error":"#VALUE!"},{"$error":"#VALUE!"},{"$f":"SUBSTITUTE(IN!G1913,\"-\",\"\")","v":""},"",{"$f":"IN!F1913*60","v":0},0,"-"]
[0,{"$error":"#VALUE!"},{"$error":"#VALUE!"},{"$f":"SUBSTITUTE(IN!G1914,\"-\",\"\")","v":""},"",{"$f":"IN!F1914*60","v":0},0,"-"]
[0,{"$error":"#VALUE!"},{"$error":"#VALUE!"},{"$f":"SUBSTITUTE(IN!G1915,\"-\",\"\")","v":""},"",{"$f":"IN!F1915*60","v":0},0,"-"]
[0,{"$error":"#VALUE!"},{"$error":"#VALUE!"},{"$f":"SUBSTITUTE(IN!G1916,\"-\",\"\")","v":""},"",{"$f":"IN!F1916*60","v":0},0,"-"]
[0,{"$error":"#VALUE!"},{"$error":"#VALUE!"},{"$f":"SUBSTITUTE(IN!G1917,\"-\",\"\")","v":""},"",{"$f":"IN!F1917*60","v":0},0,"-"]
[0,{"$error":"#VALUE!"},{"$error":"#VALUE!"},{"$f":"SUBSTITUTE(IN!G1918,\"-\",\"\")","v":""},"",{"$f":"IN!F1918*60","v":0},0,"-"]
[0,{"$error":"#VALUE!"},{"$error":"#VALUE!"},{"$f":"SUBSTITUTE(IN!G1919,\"-\",\"\")","v":""},"",{"$f":"IN!F1919*60","v":0},0,"-"]
[0,{"$error":"#VALUE!"},{"$error":"#VALUE!"},{"$f":"SUBSTITUTE(IN!G1920,\"-\",\"\")","v":""},"",{"$f":"IN!F1920*60","v":0},0,"-"]
[0,{"$error":"#VALUE!"},{"$error":"#VALUE!"},{"$f":"SUBSTITUTE(IN!G1921,\"-\",\"\")","v":""},"",{"$f":"IN!F1921*60","v":0},0,"-"]
[0,{"$error":"#VALUE!"},{"$error":"#VALUE!"},{"$f":"SUBSTITUTE(IN!G1922,\"-\",\"\")","v":""},"",{"$f":"IN!F1922*60","v":0},0,"-"]
[0,{"$error":"#VALUE!"},{"$error":"#VALUE!"},{"$f":"SUBSTITUTE(IN!G1923,\"-\",\"\")","v":""},"",{"$f":"IN!F1923*60","v":0},0,"-"]
[0,{"$error":"#VALUE!"},{"$error":"#VALUE!"},{"$f":"SUBSTITUTE(IN!G1924,\"-\",\"\")","v":""},"",{"$f":"IN!F1924*60","v":0},0,"-"]
[{"$f":"LEN(D1925)","v":0},{"$f":"VALUE(LEFT(D1925,1))","v":{"$error":"#VALUE!"}},{"$f":"IF(B1925<2,20,19)","v":{"$error":"#VALUE!"}},{"$f":"SUBSTITUTE(IN!G1925,\"-\",\"\")","v":""},{"$f":"IF(A1925=10,CONCATENATE(C1925,D1925),D1925)","v":""},{"$f":"IN!F1925*60","v":0},{"$f":"ROUND(F1925,0)","v":0},{"$f":"CONCATENATE(MID(E1925,3,6),\"-\",MID(E1925,9,4))","v":"-"}]
[0,{"$error":"#VALUE!"},{"$error":"#VALUE!"},{"$f":"SUBSTITUTE(IN!G1926,\"-\",\"\")","v":""},"",{"$f":"IN!F1926*60","v":0},0,"-"]
[0,{"$error":"#VALUE!"},{"$error":"#VALUE!"},{"$f":"SUBSTITUTE(IN!G1927,\"-\",\"\")","v":""},"",{"$f":"IN!F1927*60","v":0},0,"-"]
[0,{"$error":"#VALUE!"},{"$error":"#VALUE!"},{"$f":"SUBSTITUTE(IN!G1928,\"-\",\"\")","v":""},"",{"$f":"IN!F1928*60","v":0},0,"-"]
[0,{"$error":"#VALUE!"},{"$error":"#VALUE!"},{"$f":"SUBSTITUTE(IN!G1929,\"-\",\"\")","v":""},"",{"$f":"IN!F1929*60","v":0},0,"-"]
[0,{"$error":"#VALUE!"},{"$error":"#VALUE!"},{"$f":"SUBSTITUTE(IN!G1930,\"-\",\"\")","v":""},"",{"$f":"IN!F1930*60","v":0},0,"-"]
[0,{"$error":"#VALUE!"},{"$error":"#VALUE!"},{"$f":"SUBSTITUTE(IN!G1931,\"-\",\"\")","v":""},"",{"$f":"IN!F1931*60","v":0},0,"-"]
[0,{"$error":"#VALUE!"},{"$error":"#VALUE!"},{"$f":"SUBSTITUTE(IN!G1932,\"-\",\"\")","v":""},"",{"$f":"IN!F1932*60","v":0},0,"-"]
[0,{"$error":"#VALUE!"},{"$error":"#VALUE!"},{"$f":"SUBSTITUTE(IN!G1933,\"-\",\"\")","v":""},"",{"$f":"IN!F1933*60","v":0},0,"-"]
[0,{"$error":"#VALUE!"},{"$error":"#VALUE!"},{"$f":"SUBSTITUTE(IN!G1934,\"-\",\"\")","v":""},"",{"$f":"IN!F1934*60","v":0},0,"-"]
[0,{"$error":"#VALUE!"},{"$error":"#VALUE!"},{"$f":"SUBSTITUTE(IN!G1935,\"-\",\"\")","v":""},"",{"$f":"IN!F1935*60","v":0},0,"-"]
[0,{"$error":"#VALUE!"},{"$error":"#VALUE!"},{"$f":"SUBSTITUTE(IN!G1936,\"-\",\"\")","v":""},"",{"$f":"IN!F1936*60","v":0},0,"-"]
[0,{"$error":"#VALUE!"},{"$error":"#VALUE!"},{"$f":"SUBSTITUTE(IN!G1937,\"-\",\"\")","v":""},"",{"$f":"IN!F1937*60","v":0},0,"-"]
[0,{"$error":"#VALUE!"},{"$error":"#VALUE!"},{"$f":"SUBSTITUTE(IN!G1938,\"-\",\"\")","v":""},"",{"$f":"IN!F1938*60","v":0},0,"-"]
[0,{"$error":"#VALUE!"},{"$error":"#VALUE!"},{"$f":"SUBSTITUTE(IN!G1939,\"-\",\"\")","v":""},"",{"$f":"IN!F1939*60","v":0},0,"-"]
[0,{"$error":"#VALUE!"},{"$error":"#VALUE!"},{"$f":"SUBSTITUTE(IN!G1940,\"-\",\"\")","v":""},"",{"$f":"IN!F1940*60","v":0},0,"-"]
[0,{"$error":"#VALUE!"},{"$error":"#VALUE!"},{"$f":"SUBSTITUTE(IN!G1941,\"-\",\"\")","v":""},"",{"$f":"IN!F1941*60","v":0},0,"-"]
[0,{"$error":"#VALUE!"},{"$error":"#VALUE!"},{"$f":"SUBSTITUTE(IN!G1942,\"-\",\"\")","v":""},"",{"$f":"IN!F1942*60","v":0},0,"-"]
[0,{"$error":"#VALUE!"},{"$error":"#VALUE!"},{"$f":"SUBSTITUTE(IN!G1943,\"-\",\"\")","v":""},"",{"$f":"IN!F1943*60","v":0},0,"-"]
[0,{"$error":"#VALUE!"},{"$error":"#VALUE!"},{"$f":"SUBSTITUTE(IN!G1944,\"-\",\"\")","v":""},"",{"$f":"IN!F1944*60","v":0},0,"-"]
[0,{"$error":"#VALUE!"},{"$error":"#VALUE!"},{"$f":"SUBSTITUTE(IN!G1945,\"-\",\"\")","v":""},"",{"$f":"IN!F1945*60","v":0},0,"-"]
[0,{"$error":"#VALUE!"},{"$error":"#VALUE!"},{"$f":"SUBSTITUTE(IN!G1946,\"-\",\"\")","v":""},"",{"$f":"IN!F1946*60","v":0},0,"-"]
[0,{"$error":"#VALUE!"},{"$error":"#VALUE!"},{"$f":"SUBSTITUTE(IN!G1947,\"-\",\"\")","v":""},"",{"$f":"IN!F1947*60","v":0},0,"-"]
[0,{"$error":"#VALUE!"},{"$error":"#VALUE!"},{"$f":"SUBSTITUTE(IN!G1948,\"-\",\"\")","v":""},"",{"$f":"IN!F1948*60","v":0},0,"-"]
[0,{"$error":"#VALUE!"},{"$error":"#VALUE!"},{"$f":"SUBSTITUTE(IN!G1949,\"-\",\"\")","v":""},"",{"$f":"IN!F1949*60","v":0},0,"-"]
[0,{"$error":"#VALUE!"},{"$error":"#VALUE!"},{"$f":"SUBSTITUTE(IN!G1950,\"-\",\"\")","v":""},"",{"$f":"IN!F1950*60","v":0},0,"-"]
[0,{"$error":"#VALUE!"},{"$error":"#VALUE!"},{"$f":"SUBSTITUTE(IN!G1951,\"-\",\"\")","v":""},"",{"$f":"IN!F1951*60","v":0},0,"-"]
[0,{"$error":"#VALUE!"},{"$error":"#VALUE!"},{"$f":"SUBSTITUTE(IN!G1952,\"-\",\"\")","v":""},"",{"$f":"IN!F1952*60","v":0},0,"-"]
[0,{"$error":"#VALUE!"},{"$error":"#VALUE!"},{"$f":"SUBSTITUTE(IN!G1953,\"-\",\"\")","v":""},"",{"$f":"IN!F1953*60","v":0},0,"-"]
[0,{"$error":"#VALUE!"},{"$error":"#VALUE!"},{"$f":"SUBSTITUTE(IN!G1954,\"-\",\"\")","v":""},"",{"$f":"IN!F1954*60","v":0},0,"-"]
[0,{"$error":"#VALUE!"},{"$error":"#VALUE!"},{"$f":"SUBSTITUTE(IN!G1955,\"-\",\"\")","v":""},"",{"$f":"IN!F1955*60","v":0},0,"-"]
[0,{"$error":"#VALUE!"},{"$error":"#VALUE!"},{"$f":"SUBSTITUTE(IN!G1956,\"-\",\"\")","v":""},"",{"$f":"IN!F1956*60","v":0},0,"-"]
[0,{"$error":"#VALUE!"},{"$error":"#VALUE!"},{"$f":"SUBSTITUTE(IN!G1957,\"-\",\"\")","v":""},"",{"$f":"IN!F1957*60","v":0},0,"-"]
[0,{"$error":"#VALUE!"},{"$error":"#VALUE!"},{"$f":"SUBSTITUTE(IN!G1958,\"-\",\"\")","v":""},"",{"$f":"IN!F1958*60","v":0},0,"-"]
[0,{"$error":"#VALUE!"},{"$error":"#VALUE!"},{"$f":"SUBSTITUTE(IN!G1959,\"-\",\"\")","v":""},"",{"$f":"IN!F1959*60","v":0},0,"-"]
[0,{"$error":"#VALUE!"},{"$error":"#VALUE!"},{"$f":"SUBSTITUTE(IN!G1960,\"-\",\"\")","v":""},"",{"$f":"IN!F1960*60","v":0},0,"-"]
[0,{"$error":"#VALUE!"},{"$error":"#VALUE!"},{"$f":"SUBSTITUTE(IN!G1961,\"-\",\"\")","v":""},"",{"$f":"IN!F1961*60","v":0},0,"-"]
[0,{"$error":"#VALUE!"},{"$error":"#VALUE!"},{"$f":"SUBSTITUTE(IN!G1962,\"-\",\"\")","v":""},"",{"$f":"IN!F1962*60","v":0},0,"-"]
[0,{"$error":"#VALUE!"},{"$error":"#VALUE!"},{"$f":"SUBSTITUTE(IN!G1963,\"-\",\"\")","v":""},"",{"$f":"IN!F1963*60","v":0},0,"-"]
[0,{"$error":"#VALUE!"},{"$error":"#VALUE!"},{"$f":"SUBSTITUTE(IN!G1964,\"-\",\"\")","v":""},"",{"$f":"IN!F1964*60","v":0},0,"-"]
[0,{"$error":"#VALUE!"},{"$error":"#VALUE!"},{"$f":"SUBSTITUTE(IN!G1965,\"-\",\"\")","v":""},"",{"$f":"IN!F1965*60","v":0},0,"-"]
[0,{"$error":"#VALUE!"},{"$error":"#VALUE!"},{"$f":"SUBSTITUTE(IN!G1966,\"-\",\"\")","v":""},"",{"$f":"IN!F1966*60","v":0},0,"-"]
[0,{"$error":"#VALUE!"},{"$error":"#VALUE!"},{"$f":"SUBSTITUTE(IN!G1967,\"-\",\"\")","v":""},"",{"$f":"IN!F1967*60","v":0},0,"-"]
[0,{"$error":"#VALUE!"},{"$error":"#VALUE!"},{"$f":"SUBSTITUTE(IN!G1968,\"-\",\"\")","v":""},"",{"$f":"IN!F1968*60","v":0},0,"-"]
[0,{"$error":"#VALUE!"},{"$error":"#VALUE!"},{"$f":"SUBSTITUTE(IN!G1969,\"-\",\"\")","v":""},"",{"$f":"IN!F1969*60","v":0},0,"-"]
[0,{"$error":"#VALUE!"},{"$error":"#VALUE!"},{"$f":"SUBSTITUTE(IN!G1970,\"-\",\"\")","v":""},"",{"$f":"IN!F1970*60","v":0},0,"-"]
[0,{"$error":"#VALUE!"},{"$error":"#VALUE!"},{"$f":"SUBSTITUTE(IN!G1971,\"-\",\"\")","v":""},"",{"$f":"IN!F1971*60","v":0},0,"-"]
[0,{"$error":"#VALUE!"},{"$error":"#VALUE!"},{"$f":"SUBSTITUTE(IN!G1972,\"-\",\"\")","v":""},"",{"$f":"IN!F1972*60","v":0},0,"-"]
[0,{"$error":"#VALUE!"},{"$error":"#VALUE!"},{"$f":"SUBSTITUTE(IN!G1973,\"-\",\"\")","v":""},"",{"$f":"IN!F1973*60","v":0},0,"-"]
[0,{"$error":"#VALUE!"},{"$error":"#VALUE!"},{"$f":"SUBSTITUTE(IN!G1974,\"-\",\"\")","v":""},"",{"$f":"IN!F1974*60","v":0},0,"-"]
[0,{"$error":"#VALUE!"},{"$error":"#VALUE!"},{"$f":"SUBSTITUTE(IN!G1975,\"-\",\"\")","v":""},"",{"$f":"IN!F1975*60","v":0},0,"-"]
[0,{"$error":"#VALUE!"},{"$error":"#VALUE!"},{"$f":"SUBSTITUTE(IN!G1976,\"-\",\"\")","v":""},"",{"$f":"IN!F1976*60","v":0},0,"-"]
[0,{"$error":"#VALUE!"},{"$error":"#VALUE!"},{"$f":"SUBSTITUTE(IN!G1977,\"-\",\"\")","v":""},"",{"$f":"IN!F1977*60","v":0},0,"-"]
[0,{"$error":"#VALUE!"},{"$error":"#VALUE!"},{"$f":"SUBSTITUTE(IN!G1978,\"-\",\"\")","v":""},"",{"$f":"IN!F1978*60","v":0},0,"-"]
[0,{"$error":"#VALUE!"},{"$error":"#VALUE!"},{"$f":"SUBSTITUTE(IN!G1979,\"-\",\"\")","v":""},"",{"$f":"IN!F1979*60","v":0},0,"-"]
[0,{"$error":"#VALUE!"},{"$error":"#VALUE!"},{"$f":"SUBSTITUTE(IN!G1980,\"-\",\"\")","v":""},"",{"$f":"IN!F1980*60","v":0},0,"-"]
[0,{"$error":"#VALUE!"},{"$error":"#VALUE!"},{"$f":"SUBSTITUTE(IN!G1981,\"-\",\"\")","v":""},"",{"$f":"IN!F1981*60","v":0},0,"-"]
[0,{"$error":"#VALUE!"},{"$error":"#VALUE!"},{"$f":"SUBSTITUTE(IN!G1982,\"-\",\"\")","v":""},"",{"$f":"IN!F1982*60","v":0},0,"-"]
[0,{"$error":"#VALUE!"},{"$error":"#VALUE!"},{"$f":"SUBSTITUTE(IN!G1983,\"-\",\"\")","v":""},"",{"$f":"IN!F1983*60","v":0},0,"-"]
[0,{"$error":"#VALUE!"},{"$error":"#VALUE!"},{"$f":"SUBSTITUTE(IN!G1984,\"-\",\"\")","v":""},"",{"$f":"IN!F1984*60","v":0},0,"-"]
[0,{"$error":"#VALUE!"},{"$error":"#VALUE!"},{"$f":"SUBSTITUTE(IN!G1985,\"-\",\"\")","v":""},"",{"$f":"IN!F1985*60","v":0},0,"-"]
[0,{"$error":"#VALUE!"},{"$error":"#VALUE!"},{"$f":"SUBSTITUTE(IN!G1986,\"-\",\"\")","v":""},"",{"$f":"IN!F1986*60","v":0},0,"-"]
[0,{"$error":"#VALUE!"},{"$error":"#VALUE!"},{"$f":"SUBSTITUTE(IN!G1987,\"-\",\"\")","v":""},"",{"$f":"IN!F1987*60","v":0},0,"-"]
[0,{"$error":"#VALUE!"},{"$error":"#VALUE!"},{"$f":"SUBSTITUTE(IN!G1988,\"-\",\"\")","v":""},"",{"$f":"IN!F1988*60","v":0},0,"-"]
[{"$f":"LEN(D1989)","v":0},{"$f":"VALUE(LEFT(D1989,1))","v":{"$error":"#VALUE!"}},{"$f":"IF(B1989<2,20,19)","v":{"$error":"#VALUE!"}},{"$f":"SUBSTITUTE(IN!G1989,\"-\",\"\")","v":""},{"$f":"IF(A1989=10,CONCATENATE(C1989,D1989),D1989)","v":""},{"$f":"IN!F1989*60","v":0},{"$f":"ROUND(F1989,0)","v":0},{"$f":"CONCATENATE(MID(E1989,3,6),\"-\",MID(E1989,9,4))","v":"-"}]
[0,{"$error":"#VALUE!"},{"$error":"#VALUE!"},{"$f":"SUBSTITUTE(IN!G1990,\"-\",\"\")","v":""},"",{"$f":"IN!F1990*60","v":0},0,"-"]
[0,{"$error":"#VALUE!"},{"$error":"#VALUE!"},{"$f":"SUBSTITUTE(IN!G1991,\"-\",\"\")","v":""},"",{"$f":"IN!F1991*60","v":0},0,"-"]
[0,{"$error":"#VALUE!"},{"$error":"#VALUE!"},{"$f":"SUBSTITUTE(IN!G1992,\"-\",\"\")","v":""},"",{"$f":"IN!F1992*60","v":0},0,"-"]
[0,{"$error":"#VALUE!"},{"$error":"#VALUE!"},{"$f":"SUBSTITUTE(IN!G1993,\"-\",\"\")","v":""},"",{"$f":"IN!F1993*60","v":0},0,"-"]
[0,{"$error":"#VALUE!"},{"$error":"#VALUE!"},{"$f":"SUBSTITUTE(IN!G1994,\"-\",\"\")","v":""},"",{"$f":"IN!F1994*60","v":0},0,"-"]
[0,{"$error":"#VALUE!"},{"$error":"#VALUE!"},{"$f":"SUBSTITUTE(IN!G1995,\"-\",\"\")","v":""},"",{"$f":"IN!F1995*60","v":0},0,"-"]
[0,{"$error":"#VALUE!"},{"$error":"#VALUE!"},{"$f":"SUBSTITUTE(IN!G1996,\"-\",\"\")","v":""},"",{"$f":"IN!F1996*60","v":0},0,"-"]
[0,{"$error":"#VALUE!"},{"$error":"#VALUE!"},{"$f":"SUBSTITUTE(IN!G1997,\"-\",\"\")","v":""},"",{"$f":"IN!F1997*60","v":0},0,"-"]
[0,{"$error":"#VALUE!"},{"$error":"#VALUE!"},{"$f":"SUBSTITUTE(IN!G1998,\"-\",\"\")","v":""},"",{"$f":"IN!F1998*60","v":0},0,"-"]
[0,{"$error":"#VALUE!"},{"$error":"#VALUE!"},{"$f":"SUBSTITUTE(IN!G1999,\"-\",\"\")","v":""},"",{"$f":"IN!F1999*60","v":0},0,"-"]
[0,{"$error":"#VALUE!"},{"$error":"#VALUE!"},{"$f":"SUBSTITUTE(IN!G2000,\"-\",\"\")","v":""},"",{"$f":"IN!F2000*60","v":0},0,"-"]
[0,{"$error":"#VALUE!"},{"$error":"#VALUE!"},{"$f":"SUBSTITUTE(IN!G2001,\"-\",\"\")","v":""},"",{"$f":"IN!F2001*60","v":0},0,"-"]
[0,{"$error":"#VALUE!"},{"$error":"#VALUE!"},{"$f":"SUBSTITUTE(IN!G2002,\"-\",\"\")","v":""},"",{"$f":"IN!F2002*60","v":0},0,"-"]
[0,{"$error":"#VALUE!"},{"$error":"#VALUE!"},{"$f":"SUBSTITUTE(IN!G2003,\"-\",\"\")","v":""},"",{"$f":"IN!F2003*60","v":0},0,"-"]
[0,{"$error":"#VALUE!"},{"$error":"#VALUE!"},{"$f":"SUBSTITUTE(IN!G2004,\"-\",\"\")","v":""},"",{"$f":"IN!F2004*60","v":0},0,"-"]
[0,{"$error":"#VALUE!"},{"$error":"#VALUE!"},{"$f":"SUBSTITUTE(IN!G2005,\"-\",\"\")","v":""},"",{"$f":"IN!F2005*60","v":0},0,"-"]
[0,{"$error":"#VALUE!"},{"$error":"#VALUE!"},{"$f":"SUBSTITUTE(IN!G2006,\"-\",\"\")","v":""},"",{"$f":"IN!F2006*60","v":0},0,"-"]
[0,{"$error":"#VALUE!"},{"$error":"#VALUE!"},{"$f":"SUBSTITUTE(IN!G2007,\"-\",\"\")","v":""},"",{"$f":"IN!F2007*60","v":0},0,"-"]
[0,{"$error":"#VALUE!"},{"$error":"#VALUE!"},{"$f":"SUBSTITUTE(IN!G2008,\"-\",\"\")","v":""},"",{"$f":"IN!F2008*60","v":0},0,"-"]
[0,{"$error":"#VALUE!"},{"$error":"#VALUE!"},{"$f":"SUBSTITUTE(IN!G2009,\"-\",\"\")","v":""},"",{"$f":"IN!F2009*60","v":0},0,"-"]
[0,{"$error":"#VALUE!"},{"$error":"#VALUE!"},{"$f":"SUBSTITUTE(IN!G2010,\"-\",\"\")","v":""},"",{"$f":"IN!F2010*60","v":0},0,"-"]
[0,{"$error":"#VALUE!"},{"$error":"#VALUE!"},{"$f":"SUBSTITUTE(IN!G2011,\"-\",\"\")","v":""},"",{"$f":"IN!F2011*60","v":0},0,"-"]
[0,{"$error":"#VALUE!"},{"$error":"#VALUE!"},{"$f":"SUBSTITUTE(IN!G2012,\"-\",\"\")","v":""},"",{"$f":"IN!F2012*60","v":0},0,"-"]
[0,{"$error":"#VALUE!"},{"$error":"#VALUE!"},{"$f":"SUBSTITUTE(IN!G2013,\"-\",\"\")","v":""},"",{"$f":"IN!F2013*60","v":0},0,"-"]
[0,{"$error":"#VALUE!"},{"$error":"#VALUE!"},{"$f":"SUBSTITUTE(IN!G2014,\"-\",\"\")","v":""},"",{"$f":"IN!F2014*60","v":0},0,"-"]
[0,{"$error":"#VALUE!"},{"$error":"#VALUE!"},{"$f":"SUBSTITUTE(IN!G2015,\"-\",\"\")","v":""},"",{"$f":"IN!F2015*60","v":0},0,"-"]
[0,{"$error":"#VALUE!"},{"$error":"#VALUE!"},{"$f":"SUBSTITUTE(IN!G2016,\"-\",\"\")","v":""},"",{"$f":"IN!F2016*60","v":0},0,"-"]
[0,{"$error":"#VALUE!"},{"$error":"#VALUE!"},{"$f":"SUBSTITUTE(IN!G2017,\"-\",\"\")","v":""},"",{"$f":"IN!F2017*60","v":0},0,"-"]
[0,{"$error":"#VALUE!"},{"$error":"#VALUE!"},{"$f":"SUBSTITUTE(IN!G2018,\"-\",\"\")","v":""},"",{"$f":"IN!F2018*60","v":0},0,"-"]
[0,{"$error":"#VALUE!"},{"$error":"#VALUE!"},{"$f":"SUBSTITUTE(IN!G2019,\"-\",\"\")","v":""},"",{"$f":"IN!F2019*60","v":0},0,"-"]
[0,{"$error":"#VALUE!"},{"$error":"#VALUE!"},{"$f":"SUBSTITUTE(IN!G2020,\"-\",\"\")","v":""},"",{"$f":"IN!F2020*60","v":0},0,"-"]
[0,{"$error":"#VALUE!"},{"$error":"#VALUE!"},{"$f":"SUBSTITUTE(IN!G2021,\"-\",\"\")","v":""},"",{"$f":"IN!F2021*60","v":0},0,"-"]
[0,{"$error":"#VALUE!"},{"$error":"#VALUE!"},{"$f":"SUBSTITUTE(IN!G2022,\"-\",\"\")","v":""},"",{"$f":"IN!F2022*60","v":0},0,"-"]
[0,{"$error":"#VALUE!"},{"$error":"#VALUE!"},{"$f":"SUBSTITUTE(IN!G2023,\"-\",\"\")","v":""},"",{"$f":"IN!F2023*60","v":0},0,"-"]
[0,{"$error":"#VALUE!"},{"$error":"#VALUE!"},{"$f":"SUBSTITUTE(IN!G2024,\"-\",\"\")","v":""},"",{"$f":"IN!F2024*60","v":0},0,"-"]
[0,{"$error":"#VALUE!"},{"$error":"#VALUE!"},{"$f":"SUBSTITUTE(IN!G2025,\"-\",\"\")","v":""},"",{"$f":"IN!F2025*60","v":0},0,"-"]
[0,{"$error":"#VALUE!"},{"$error":"#VALUE!"},{"$f":"SUBSTITUTE(IN!G2026,\"-\",\"\")","v":""},"",{"$f":"IN!F2026*60","v":0},0,"-"]
[0,{"$error":"#VALUE!"},{"$error":"#VALUE!"},{"$f":"SUBSTITUTE(IN!G2027,\"-\",\"\")","v":""},"",{"$f":"IN!F2027*60","v":0},0,"-"]
[0,{"$error":"#VALUE!"},{"$error":"#VALUE!"},{"$f":"SUBSTITUTE(IN!G2028,\"-\",\"\")","v":""},"",{"$f":"IN!F2028*60","v":0},0,"-"]
[0,{"$error":"#VALUE!"},{"$error":"#VALUE!"},{"$f":"SUBSTITUTE(IN!G2029,\"-\",\"\")","v":""},"",{"$f":"IN!F2029*60","v":0},0,"-"]
[0,{"$error":"#VALUE!"},{"$error":"#VALUE!"},{"$f":"SUBSTITUTE(IN!G2030,\"-\",\"\")","v":""},"",{"$f":"IN!F2030*60","v":0},0,"-"]
[0,{"$error":"#VALUE!"},{"$error":"#VALUE!"},{"$f":"SUBSTITUTE(IN!G2031,\"-\",\"\")","v":""},"",{"$f":"IN!F2031*60","v":0},0,"-"]
[0,{"$error":"#VALUE!"},{"$error":"#VALUE!"},{"$f":"SUBSTITUTE(IN!G2032,\"-\",\"\")","v":""},"",{"$f":"IN!F2032*60","v":0},0,"-"]
[0,{"$error":"#VALUE!"},{"$error":"#VALUE!"},{"$f":"SUBSTITUTE(IN!G2033,\"-\",\"\")","v":""},"",{"$f":"IN!F2033*60","v":0},0,"-"]
[0,{"$error":"#VALUE!"},{"$error":"#VALUE!"},{"$f":"SUBSTITUTE(IN!G2034,\"-\",\"\")","v":""},"",{"$f":"IN!F2034*60","v":0},0,"-"]
[0,{"$error":"#VALUE!"},{"$error":"#VALUE!"},{"$f":"SUBSTITUTE(IN!G2035,\"-\",\"\")","v":""},"",{"$f":"IN!F2035*60","v":0},0,"-"]
[0,{"$error":"#VALUE!"},{"$error":"#VALUE!"},{"$f":"SUBSTITUTE(IN!G2036,\"-\",\"\")","v":""},"",{"$f":"IN!F2036*60","v":0},0,"-"]
[0,{"$error":"#VALUE!"},{"$error":"#VALUE!"},{"$f":"SUBSTITUTE(IN!G2037,\"-\",\"\")","v":""},"",{"$f":"IN!F2037*60","v":0},0,"-"]
[0,{"$error":"#VALUE!"},{"$error":"#VALUE!"},{"$f":"SUBSTITUTE(IN!G2038,\"-\",\"\")","v":""},"",{"$f":"IN!F2038*60","v":0},0,"-"]
[0,{"$error":"#VALUE!"},{"$error":"#VALUE!"},{"$f":"SUBSTITUTE(IN!G2039,\"-\",\"\")","v":""},"",{"$f":"IN!F2039*60","v":0},0,"-"]
[0,{"$error":"#VALUE!"},{"$error":"#VALUE!"},{"$f":"SUBSTITUTE(IN!G2040,\"-\",\"\")","v":""},"",{"$f":"IN!F2040*60","v":0},0,"-"]
[0,{"$error":"#VALUE!"},{"$error":"#VALUE!"},{"$f":"SUBSTITUTE(IN!G2041,\"-\",\"\")","v":""},"",{"$f":"IN!F2041*60","v":0},0,"-"]
[0,{"$error":"#VALUE!"},{"$error":"#VALUE!"},{"$f":"SUBSTITUTE(IN!G2042,\"-\",\"\")","v":""},"",{"$f":"IN!F2042*60","v":0},0,"-"]
[0,{"$error":"#VALUE!"},{"$error":"#VALUE!"},{"$f":"SUBSTITUTE(IN!G2043,\"-\",\"\")","v":""},"",{"$f":"IN!F2043*60","v":0},0,"-"]
[0,{"$error":"#VALUE!"},{"$error":"#VALUE!"},{"$f":"SUBSTITUTE(IN!G2044,\"-\",\"\")","v":""},"",{"$f":"IN!F2044*60","v":0},0,"-"]
[0,{"$error":"#VALUE!"},{"$error":"#VALUE!"},{"$f":"SUBSTITUTE(IN!G2045,\"-\",\"\")","v":""},"",{"$f":"IN!F2045*60","v":0},0,"-"]
[0,{"$error":"#VALUE!"},{"$error":"#VALUE!"},{"$f":"SUBSTITUTE(IN!G2046,\"-\",\"\")","v":""},"",{"$f":"IN!F2046*60","v":0},0,"-"]
[0,{"$error":"#VALUE!"},{"$error":"#VALUE!"},{"$f":"SUBSTITUTE(IN!G2047,\"-\",\"\")","v":""},"",{"$f":"IN!F2047*60","v":0},0,"-"]
[0,{"$error":"#VALUE!"},{"$error":"#VALUE!"},{"$f":"SUBSTITUTE(IN!G2048,\"-\",\"\")","v":""},"",{"$f":"IN!F2048*60","v":0},0,"-"]
[0,{"$error":"#VALUE!"},{"$error":"#VALUE!"},{"$f":"SUBSTITUTE(IN!G2049,\"-\",\"\")","v":""},"",{"$f":"IN!F2049*60","v":0},0,"-"]
[0,{"$error":"#VALUE!"},{"$error":"#VALUE!"},{"$f":"SUBSTITUTE(IN!G2050,\"-\",\"\")","v":""},"",{"$f":"IN!F2050*60","v":0},0,"-"]
[0,{"$error":"#VALUE!"},{"$error":"#VALUE!"},{"$f":"SUBSTITUTE(IN!G2051,\"-\",\"\")","v":""},"",{"$f":"IN!F2051*60","v":0},0,"-"]
[0,{"$error":"#VALUE!"},{"$error":"#VALUE!"},{"$f":"SUBSTITUTE(IN!G2052,\"-\",\"\")","v":""},"",{"$f":"IN!F2052*60","v":0},0,"-"]
[{"$f":"LEN(D2053)","v":0},{"$f":"VALUE(LEFT(D2053,1))","v":{"$error":"#VALUE!"}},{"$f":"IF(B2053<2,20,19)","v":{"$error":"#VALUE!"}},{"$f":"SUBSTITUTE(IN!G2053,\"-\",\"\")","v":""},{"$f":"IF(A2053=10,CONCATENATE(C2053,D2053),D2053)","v":""},{"$f":"IN!F2053*60","v":0},{"$f":"ROUND(F2053,0)","v":0},{"$f":"CONCATENATE(MID(E2053,3,6),\"-\",MID(E2053,9,4))","v":"-"}]
[0,{"$error":"#VALUE!"},{"$error":"#VALUE!"},{"$f":"SUBSTITUTE(IN!G2054,\"-\",\"\")","v":""},"",{"$f":"IN!F2054*60","v":0},0,"-"]
[0,{"$error":"#VALUE!"},{"$error":"#VALUE!"},{"$f":"SUBSTITUTE(IN!G2055,\"-\",\"\")","v":""},"",{"$f":"IN!F2055*60","v":0},0,"-"]
[0,{"$error":"#VALUE!"},{"$error":"#VALUE!"},{"$f":"SUBSTITUTE(IN!G2056,\"-\",\"\")","v":""},"",{"$f":"IN!F2056*60","v":0},0,"-"]
[0,{"$error":"#VALUE!"},{"$error":"#VALUE!"},{"$f":"SUBSTITUTE(IN!G2057,\"-\",\"\")","v":""},"",{"$f":"IN!F2057*60","v":0},0,"-"]
[0,{"$error":"#VALUE!"},{"$error":"#VALUE!"},{"$f":"SUBSTITUTE(IN!G2058,\"-\",\"\")","v":""},"",{"$f":"IN!F2058*60","v":0},0,"-"]
[0,{"$error":"#VALUE!"},{"$error":"#VALUE!"},{"$f":"SUBSTITUTE(IN!G2059,\"-\",\"\")","v":""},"",{"$f":"IN!F2059*60","v":0},0,"-"]
[0,{"$error":"#VALUE!"},{"$error":"#VALUE!"},{"$f":"SUBSTITUTE(IN!G2060,\"-\",\"\")","v":""},"",{"$f":"IN!F2060*60","v":0},0,"-"]
[0,{"$error":"#VALUE!"},{"$error":"#VALUE!"},{"$f":"SUBSTITUTE(IN!G2061,\"-\",\"\")","v":""},"",{"$f":"IN!F2061*60","v":0},0,"-"]
[0,{"$error":"#VALUE!"},{"$error":"#VALUE!"},{"$f":"SUBSTITUTE(IN!G2062,\"-\",\"\")","v":""},"",{"$f":"IN!F2062*60","v":0},0,"-"]
[0,{"$error":"#VALUE!"},{"$error":"#VALUE!"},{"$f":"SUBSTITUTE(IN!G2063,\"-\",\"\")","v":""},"",{"$f":"IN!F2063*60","v":0},0,"-"]
[0,{"$error":"#VALUE!"},{"$error":"#VALUE!"},{"$f":"SUBSTITUTE(IN!G2064,\"-\",\"\")","v":""},"",{"$f":"IN!F2064*60","v":0},0,"-"]
[0,{"$error":"#VALUE!"},{"$error":"#VALUE!"},{"$f":"SUBSTITUTE(IN!G2065,\"-\",\"\")","v":""},"",{"$f":"IN!F2065*60","v":0},0,"-"]
[0,{"$error":"#VALUE!"},{"$error":"#VALUE!"},{"$f":"SUBSTITUTE(IN!G2066,\"-\",\"\")","v":""},"",{"$f":"IN!F2066*60","v":0},0,"-"]
[0,{"$error":"#VALUE!"},{"$error":"#VALUE!"},{"$f":"SUBSTITUTE(IN!G2067,\"-\",\"\")","v":""},"",{"$f":"IN!F2067*60","v":0},0,"-"]
[0,{"$error":"#VALUE!"},{"$error":"#VALUE!"},{"$f":"SUBSTITUTE(IN!G2068,\"-\",\"\")","v":""},"",{"$f":"IN!F2068*60","v":0},0,"-"]
[0,{"$error":"#VALUE!"},{"$error":"#VALUE!"},{"$f":"SUBSTITUTE(IN!G2069,\"-\",\"\")","v":""},"",{"$f":"IN!F2069*60","v":0},0,"-"]
[0,{"$error":"#VALUE!"},{"$error":"#VALUE!"},{"$f":"SUBSTITUTE(IN!G2070,\"-\",\"\")","v":""},"",{"$f":"IN!F2070*60","v":0},0,"-"]
[0,{"$error":"#VALUE!"},{"$error":"#VALUE!"},{"$f":"SUBSTITUTE(IN!G2071,\"-\",\"\")","v":""},"",{"$f":"IN!F2071*60","v":0},0,"-"]
[0,{"$error":"#VALUE!"},{"$error":"#VALUE!"},{"$f":"SUBSTITUTE(IN!G2072,\"-\",\"\")","v":""},"",{"$f":"IN!F2072*60","v":0},0,"-"]
[0,{"$error":"#VALUE!"},{"$error":"#VALUE!"},{"$f":"SUBSTITUTE(IN!G2073,\"-\",\"\")","v":""},"",{"$f":"IN!F2073*60","v":0},0,"-"]
[0,{"$error":"#VALUE!"},{"$error":"#VALUE!"},{"$f":"SUBSTITUTE(IN!G2074,\"-\",\"\")","v":""},"",{"$f":"IN!F2074*60","v":0},0,"-"]
[0,{"$error":"#VALUE!"},{"$error":"#VALUE!"},{"$f":"SUBSTITUTE(IN!G2075,\"-\",\"\")","v":""},"",{"$f":"IN!F2075*60","v":0},0,"-"]
[0,{"$error":"#VALUE!"},{"$error":"#VALUE!"},{"$f":"SUBSTITUTE(IN!G2076,\"-\",\"\")","v":""},"",{"$f":"IN!F2076*60","v":0},0,"-"]
[0,{"$error":"#VALUE!"},{"$error":"#VALUE!"},{"$f":"SUBSTITUTE(IN!G2077,\"-\",\"\")","v":""},"",{"$f":"IN!F2077*60","v":0},0,"-"]
[0,{"$error":"#VALUE!"},{"$error":"#VALUE!"},{"$f":"SUBSTITUTE(IN!G2078,\"-\",\"\")","v":""},"",{"$f":"IN!F2078*60","v":0},0,"-"]
[0,{"$error":"#VALUE!"},{"$error":"#VALUE!"},{"$f":"SUBSTITUTE(IN!G2079,\"-\",\"\")","v":""},"",{"$f":"IN!F2079*60","v":0},0,"-"]
[0,{"$error":"#VALUE!"},{"$error":"#VALUE!"},{"$f":"SUBSTITUTE(IN!G2080,\"-\",\"\")","v":""},"",{"$f":"IN!F2080*60","v":0},0,"-"]
[0,{"$error":"#VALUE!"},{"$error":"#VALUE!"},{"$f":"SUBSTITUTE(IN!G2081,\"-\",\"\")","v":""},"",{"$f":"IN!F2081*60","v":0},0,"-"]
[0,{"$error":"#VALUE!"},{"$error":"#VALUE!"},{"$f":"SUBSTITUTE(IN!G2082,\"-\",\"\")","v":""},"",{"$f":"IN!F2082*60","v":0},0,"-"]
[0,{"$error":"#VALUE!"},{"$error":"#VALUE!"},{"$f":"SUBSTITUTE(IN!G2083,\"-\",\"\")","v":""},"",{"$f":"IN!F2083*60","v":0},0,"-"]
[0,{"$error":"#VALUE!"},{"$error":"#VALUE!"},{"$f":"SUBSTITUTE(IN!G2084,\"-\",\"\")","v":""},"",{"$f":"IN!F2084*60","v":0},0,"-"]
[0,{"$error":"#VALUE!"},{"$error":"#VALUE!"},{"$f":"SUBSTITUTE(IN!G2085,\"-\",\"\")","v":""},"",{"$f":"IN!F2085*60","v":0},0,"-"]
[0,{"$error":"#VALUE!"},{"$error":"#VALUE!"},{"$f":"SUBSTITUTE(IN!G2086,\"-\",\"\")","v":""},"",{"$f":"IN!F2086*60","v":0},0,"-"]
[0,{"$error":"#VALUE!"},{"$error":"#VALUE!"},{"$f":"SUBSTITUTE(IN!G2087,\"-\",\"\")","v":""},"",{"$f":"IN!F2087*60","v":0},0,"-"]
[0,{"$error":"#VALUE!"},{"$error":"#VALUE!"},{"$f":"SUBSTITUTE(IN!G2088,\"-\",\"\")","v":""},"",{"$f":"IN!F2088*60","v":0},0,"-"]
[0,{"$error":"#VALUE!"},{"$error":"#VALUE!"},{"$f":"SUBSTITUTE(IN!G2089,\"-\",\"\")","v":""},"",{"$f":"IN!F2089*60","v":0},0,"-"]
[0,{"$error":"#VALUE!"},{"$error":"#VALUE!"},{"$f":"SUBSTITUTE(IN!G2090,\"-\",\"\")","v":""},"",{"$f":"IN!F2090*60","v":0},0,"-"]
[0,{"$error":"#VALUE!"},{"$error":"#VALUE!"},{"$f":"SUBSTITUTE(IN!G2091,\"-\",\"\")","v":""},"",{"$f":"IN!F2091*60","v":0},0,"-"]
[0,{"$error":"#VALUE!"},{"$error":"#VALUE!"},{"$f":"SUBSTITUTE(IN!G2092,\"-\",\"\")","v":""},"",{"$f":"IN!F2092*60","v":0},0,"-"]
[0,{"$error":"#VALUE!"},{"$error":"#VALUE!"},{"$f":"SUBSTITUTE(IN!G2093,\"-\",\"\")","v":""},"",{"$f":"IN!F2093*60","v":0},0,"-"]
[0,{"$error":"#VALUE!"},{"$error":"#VALUE!"},{"$f":"SUBSTITUTE(IN!G2094,\"-\",\"\")","v":""},"",{"$f":"IN!F2094*60","v":0},0,"-"]
[0,{"$error":"#VALUE!"},{"$error":"#VALUE!"},{"$f":"SUBSTITUTE(IN!G2095,\"-\",\"\")","v":""},"",{"$f":"IN!F2095*60","v":0},0,"-"]
[0,{"$error":"#VALUE!"},{"$error":"#VALUE!"},{"$f":"SUBSTITUTE(IN!G2096,\"-\",\"\")","v":""},"",{"$f":"IN!F2096*60","v":0},0,"-"]
[0,{"$error":"#VALUE!"},{"$error":"#VALUE!"},{"$f":"SUBSTITUTE(IN!G2097,\"-\",\"\")","v":""},"",{"$f":"IN!F2097*60","v":0},0,"-"]
[0,{"$error":"#VALUE!"},{"$error":"#VALUE!"},{"$f":"SUBSTITUTE(IN!G2098,\"-\",\"\")","v":""},"",{"$f":"IN!F2098*60","v":0},0,"-"]
[0,{"$error":"#VALUE!"},{"$error":"#VALUE!"},{"$f":"SUBSTITUTE(IN!G2099,\"-\",\"\")","v":""},"",{"$f":"IN!F2099*60","v":0},0,"-"]
[0,{"$error":"#VALUE!"},{"$error":"#VALUE!"},{"$f":"SUBSTITUTE(IN!G2100,\"-\",\"\")","v":""},"",{"$f":"IN!F2100*60","v":0},0,"-"]
[0,{"$error":"#VALUE!"},{"$error":"#VALUE!"},{"$f":"SUBSTITUTE(IN!G2101,\"-\",\"\")","v":""},"",{"$f":"IN!F2101*60","v":0},0,"-"]
[0,{"$error":"#VALUE!"},{"$error":"#VALUE!"},{"$f":"SUBSTITUTE(IN!G2102,\"-\",\"\")","v":""},"",{"$f":"IN!F2102*60","v":0},0,"-"]
[0,{"$error":"#VALUE!"},{"$error":"#VALUE!"},{"$f":"SUBSTITUTE(IN!G2103,\"-\",\"\")","v":""},"",{"$f":"IN!F2103*60","v":0},0,"-"]
[0,{"$error":"#VALUE!"},{"$error":"#VALUE!"},{"$f":"SUBSTITUTE(IN!G2104,\"-\",\"\")","v":""},"",{"$f":"IN!F2104*60","v":0},0,"-"]
[0,{"$error":"#VALUE!"},{"$error":"#VALUE!"},{"$f":"SUBSTITUTE(IN!G2105,\"-\",\"\")","v":""},"",{"$f":"IN!F2105*60","v":0},0,"-"]
[0,{"$error":"#VALUE!"},{"$error":"#VALUE!"},{"$f":"SUBSTITUTE(IN!G2106,\"-\",\"\")","v":""},"",{"$f":"IN!F2106*60","v":0},0,"-"]
[0,{"$error":"#VALUE!"},{"$error":"#VALUE!"},{"$f":"SUBSTITUTE(IN!G2107,\"-\",\"\")","v":""},"",{"$f":"IN!F2107*60","v":0},0,"-"]
[0,{"$error":"#VALUE!"},{"$error":"#VALUE!"},{"$f":"SUBSTITUTE(IN!G2108,\"-\",\"\")","v":""},"",{"$f":"IN!F2108*60","v":0},0,"-"]
[0,{"$error":"#VALUE!"},{"$error":"#VALUE!"},{"$f":"SUBSTITUTE(IN!G2109,\"-\",\"\")","v":""},"",{"$f":"IN!F2109*60","v":0},0,"-"]
[0,{"$error":"#VALUE!"},{"$error":"#VALUE!"},{"$f":"SUBSTITUTE(IN!G2110,\"-\",\"\")","v":""},"",{"$f":"IN!F2110*60","v":0},0,"-"]
[0,{"$error":"#VALUE!"},{"$error":"#VALUE!"},{"$f":"SUBSTITUTE(IN!G2111,\"-\",\"\")","v":""},"",{"$f":"IN!F2111*60","v":0},0,"-"]
[0,{"$error":"#VALUE!"},{"$error":"#VALUE!"},{"$f":"SUBSTITUTE(IN!G2112,\"-\",\"\")","v":""},"",{"$f":"IN!F2112*60","v":0},0,"-"]
[0,{"$error":"#VALUE!"},{"$error":"#VALUE!"},{"$f":"SUBSTITUTE(IN!G2113,\"-\",\"\")","v":""},"",{"$f":"IN!F2113*60","v":0},0,"-"]
[0,{"$error":"#VALUE!"},{"$error":"#VALUE!"},{"$f":"SUBSTITUTE(IN!G2114,\"-\",\"\")","v":""},"",{"$f":"IN!F2114*60","v":0},0,"-"]
[0,{"$error":"#VALUE!"},{"$error":"#VALUE!"},{"$f":"SUBSTITUTE(IN!G2115,\"-\",\"\")","v":""},"",{"$f":"IN!F2115*60","v":0},0,"-"]
[0,{"$error":"#VALUE!"},{"$error":"#VALUE!"},{"$f":"SUBSTITUTE(IN!G2116,\"-\",\"\")","v":""},"",{"$f":"IN!F2116*60","v":0},0,"-"]
[{"$f":"LEN(D2117)","v":0},{"$f":"VALUE(LEFT(D2117,1))","v":{"$error":"#VALUE!"}},{"$f":"IF(B2117<2,20,19)","v":{"$error":"#VALUE!"}},{"$f":"SUBSTITUTE(IN!G2117,\"-\",\"\")","v":""},{"$f":"IF(A2117=10,CONCATENATE(C2117,D2117),D2117)","v":""},{"$f":"IN!F2117*60","v":0},{"$f":"ROUND(F2117,0)","v":0},{"$f":"CONCATENATE(MID(E2117,3,6),\"-\",MID(E2117,9,4))","v":"-"}]
[0,{"$error":"#VALUE!"},{"$error":"#VALUE!"},{"$f":"SUBSTITUTE(IN!G2118,\"-\",\"\")","v":""},"",{"$f":"IN!F2118*60","v":0},0,"-"]
[0,{"$error":"#VALUE!"},{"$error":"#VALUE!"},{"$f":"SUBSTITUTE(IN!G2119,\"-\",\"\")","v":""},"",{"$f":"IN!F2119*60","v":0},0,"-"]
[0,{"$error":"#VALUE!"},{"$error":"#VALUE!"},{"$f":"SUBSTITUTE(IN!G2120,\"-\",\"\")","v":""},"",{"$f":"IN!F2120*60","v":0},0,"-"]
[0,{"$error":"#VALUE!"},{"$error":"#VALUE!"},{"$f":"SUBSTITUTE(IN!G2121,\"-\",\"\")","v":""},"",{"$f":"IN!F2121*60","v":0},0,"-"]
[0,{"$error":"#VALUE!"},{"$error":"#VALUE!"},{"$f":"SUBSTITUTE(IN!G2122,\"-\",\"\")","v":""},"",{"$f":"IN!F2122*60","v":0},0,"-"]
[0,{"$error":"#VALUE!"},{"$error":"#VALUE!"},{"$f":"SUBSTITUTE(IN!G2123,\"-\",\"\")","v":""},"",{"$f":"IN!F2123*60","v":0},0,"-"]
[0,{"$error":"#VALUE!"},{"$error":"#VALUE!"},{"$f":"SUBSTITUTE(IN!G2124,\"-\",\"\")","v":""},"",{"$f":"IN!F2124*60","v":0},0,"-"]
[0,{"$error":"#VALUE!"},{"$error":"#VALUE!"},{"$f":"SUBSTITUTE(IN!G2125,\"-\",\"\")","v":""},"",{"$f":"IN!F2125*60","v":0},0,"-"]
[0,{"$error":"#VALUE!"},{"$error":"#VALUE!"},{"$f":"SUBSTITUTE(IN!G2126,\"-\",\"\")","v":""},"",{"$f":"IN!F2126*60","v":0},0,"-"]
[0,{"$error":"#VALUE!"},{"$error":"#VALUE!"},{"$f":"SUBSTITUTE(IN!G2127,\"-\",\"\")","v":""},"",{"$f":"IN!F2127*60","v":0},0,"-"]
[0,{"$error":"#VALUE!"},{"$error":"#VALUE!"},{"$f":"SUBSTITUTE(IN!G2128,\"-\",\"\")","v":""},"",{"$f":"IN!F2128*60","v":0},0,"-"]
[0,{"$error":"#VALUE!"},{"$error":"#VALUE!"},{"$f":"SUBSTITUTE(IN!G2129,\"-\",\"\")","v":""},"",{"$f":"IN!F2129*60","v":0},0,"-"]
[0,{"$error":"#VALUE!"},{"$error":"#VALUE!"},{"$f":"SUBSTITUTE(IN!G2130,\"-\",\"\")","v":""},"",{"$f":"IN!F2130*60","v":0},0,"-"]
[0,{"$error":"#VALUE!"},{"$error":"#VALUE!"},{"$f":"SUBSTITUTE(IN!G2131,\"-\",\"\")","v":""},"",{"$f":"IN!F2131*60","v":0},0,"-"]
[0,{"$error":"#VALUE!"},{"$error":"#VALUE!"},{"$f":"SUBSTITUTE(IN!G2132,\"-\",\"\")","v":""},"",{"$f":"IN!F2132*60","v":0},0,"-"]
[0,{"$error":"#VALUE!"},{"$error":"#VALUE!"},{"$f":"SUBSTITUTE(IN!G2133,\"-\",\"\")","v":""},"",{"$f":"IN!F2133*60","v":0},0,"-"]
[0,{"$error":"#VALUE!"},{"$error":"#VALUE!"},{"$f":"SUBSTITUTE(IN!G2134,\"-\",\"\")","v":""},"",{"$f":"IN!F2134*60","v":0},0,"-"]
[0,{"$error":"#VALUE!"},{"$error":"#VALUE!"},{"$f":"SUBSTITUTE(IN!G2135,\"-\",\"\")","v":""},"",{"$f":"IN!F2135*60","v":0},0,"-"]
[0,{"$error":"#VALUE!"},{"$error":"#VALUE!"},{"$f":"SUBSTITUTE(IN!G2136,\"-\",\"\")","v":""},"",{"$f":"IN!F2136*60","v":0},0,"-"]
[0,{"$error":"#VALUE!"},{"$error":"#VALUE!"},{"$f":"SUBSTITUTE(IN!G2137,\"-\",\"\")","v":""},"",{"$f":"IN!F2137*60","v":0},0,"-"]
[0,{"$error":"#VALUE!"},{"$error":"#VALUE!"},{"$f":"SUBSTITUTE(IN!G2138,\"-\",\"\")","v":""},"",{"$f":"IN!F2138*60","v":0},0,"-"]
[0,{"$error":"#VALUE!"},{"$error":"#VALUE!"},{"$f":"SUBSTITUTE(IN!G2139,\"-\",\"\")","v":""},"",{"$f":"IN!F2139*60","v":0},0,"-"]
[0,{"$error":"#VALUE!"},{"$error":"#VALUE!"},{"$f":"SUBSTITUTE(IN!G2140,\"-\",\"\")","v":""},"",{"$f":"IN!F2140*60","v":0},0,"-"]
[0,{"$error":"#VALUE!"},{"$error":"#VALUE!"},{"$f":"SUBSTITUTE(IN!G2141,\"-\",\"\")","v":""},"",{"$f":"IN!F2141*60","v":0},0,"-"]
[0,{"$error":"#VALUE!"},{"$error":"#VALUE!"},{"$f":"SUBSTITUTE(IN!G2142,\"-\",\"\")","v":""},"",{"$f":"IN!F2142*60","v":0},0,"-"]
[0,{"$error":"#VALUE!"},{"$error":"#VALUE!"},{"$f":"SUBSTITUTE(IN!G2143,\"-\",\"\")","v":""},"",{"$f":"IN!F2143*60","v":0},0,"-"]
[0,{"$error":"#VALUE!"},{"$error":"#VALUE!"},{"$f":"SUBSTITUTE(IN!G2144,\"-\",\"\")","v":""},"",{"$f":"IN!F2144*60","v":0},0,"-"]
[0,{"$error":"#VALUE!"},{"$error":"#VALUE!"},{"$f":"SUBSTITUTE(IN!G2145,\"-\",\"\")","v":""},"",{"$f":"IN!F2145*60","v":0},0,"-"]
[0,{"$error":"#VALUE!"},{"$error":"#VALUE!"},{"$f":"SUBSTITUTE(IN!G2146,\"-\",\"\")","v":""},"",{"$f":"IN!F2146*60","v":0},0,"-"]
[0,{"$error":"#VALUE!"},{"$error":"#VALUE!"},{"$f":"SUBSTITUTE(IN!G2147,\"-\",\"\")","v":""},"",{"$f":"IN!F2147*60","v":0},0,"-"]
[0,{"$error":"#VALUE!"},{"$error":"#VALUE!"},{"$f":"SUBSTITUTE(IN!G2148,\"-\",\"\")","v":""},"",{"$f":"IN!F2148*60","v":0},0,"-"]
[0,{"$error":"#VALUE!"},{"$error":"#VALUE!"},{"$f":"SUBSTITUTE(IN!G2149,\"-\",\"\")","v":""},"",{"$f":"IN!F2149*60","v":0},0,"-"]
[0,{"$error":"#VALUE!"},{"$error":"#VALUE!"},{"$f":"SUBSTITUTE(IN!G2150,\"-\",\"\")","v":""},"",{"$f":"IN!F2150*60","v":0},0,"-"]
[0,{"$error":"#VALUE!"},{"$error":"#VALUE!"},{"$f":"SUBSTITUTE(IN!G2151,\"-\",\"\")","v":""},"",{"$f":"IN!F2151*60","v":0},0,"-"]
[0,{"$error":"#VALUE!"},{"$error":"#VALUE!"},{"$f":"SUBSTITUTE(IN!G2152,\"-\",\"\")","v":""},"",{"$f":"IN!F2152*60","v":0},0,"-"]
[0,{"$error":"#VALUE!"},{"$error":"#VALUE!"},{"$f":"SUBSTITUTE(IN!G2153,\"-\",\"\")","v":""},"",{"$f":"IN!F2153*60","v":0},0,"-"]
[0,{"$error":"#VALUE!"},{"$error":"#VALUE!"},{"$f":"SUBSTITUTE(IN!G2154,\"-\",\"\")","v":""},"",{"$f":"IN!F2154*60","v":0},0,"-"]
[0,{"$error":"#VALUE!"},{"$error":"#VALUE!"},{"$f":"SUBSTITUTE(IN!G2155,\"-\",\"\")","v":""},"",{"$f":"IN!F2155*60","v":0},0,"-"]
[0,{"$error":"#VALUE!"},{"$error":"#VALUE!"},{"$f":"SUBSTITUTE(IN!G2156,\"-\",\"\")","v":""},"",{"$f":"IN!F2156*60","v":0},0,"-"]
[0,{"$error":"#VALUE!"},{"$error":"#VALUE!"},{"$f":"SUBSTITUTE(IN!G2157,\"-\",\"\")","v":""},"",{"$f":"IN!F2157*60","v":0},0,"-"]
[0,{"$error":"#VALUE!"},{"$error":"#VALUE!"},{"$f":"SUBSTITUTE(IN!G2158,\"-\",\"\")","v":""},"",{"$f":"IN!F2158*60","v":0},0,"-"]
[0,{"$error":"#VALUE!"},{"$error":"#VALUE!"},{"$f":"SUBSTITUTE(IN!G2159,\"-\",\"\")","v":""},"",{"$f":"IN!F2159*60","v":0},0,"-"]
[0,{"$error":"#VALUE!"},{"$error":"#VALUE!"},{"$f":"SUBSTITUTE(IN!G2160,\"-\",\"\")","v":""},"",{"$f":"IN!F2160*60","v":0},0,"-"]
[0,{"$error":"#VALUE!"},{"$error":"#VALUE!"},{"$f":"SUBSTITUTE(IN!G2161,\"-\",\"\")","v":""},"",{"$f":"IN!F2161*60","v":0},0,"-"]
[0,{"$error":"#VALUE!"},{"$error":"#VALUE!"},{"$f":"SUBSTITUTE(IN!G2162,\"-\",\"\")","v":""},"",{"$f":"IN!F2162*60","v":0},0,"-"]
[0,{"$error":"#VALUE!"},{"$error":"#VALUE!"},{"$f":"SUBSTITUTE(IN!G2163,\"-\",\"\")","v":""},"",{"$f":"IN!F2163*60","v":0},0,"-"]
[0,{"$error":"#VALUE!"},{"$error":"#VALUE!"},{"$f":"SUBSTITUTE(IN!G2164,\"-\",\"\")","v":""},"",{"$f":"IN!F2164*60","v":0},0,"-"]
[0,{"$error":"#VALUE!"},{"$error":"#VALUE!"},{"$f":"SUBSTITUTE(IN!G2165,\"-\",\"\")","v":""},"",{"$f":"IN!F2165*60","v":0},0,"-"]
[0,{"$error":"#VALUE!"},{"$error":"#VALUE!"},{"$f":"SUBSTITUTE(IN!G2166,\"-\",\"\")","v":""},"",{"$f":"IN!F2166*60","v":0},0,"-"]
[0,{"$error":"#VALUE!"},{"$error":"#VALUE!"},{"$f":"SUBSTITUTE(IN!G2167,\"-\",\"\")","v":""},"",{"$f":"IN!F2167*60","v":0},0,"-"]
[0,{"$error":"#VALUE!"},{"$error":"#VALUE!"},{"$f":"SUBSTITUTE(IN!G2168,\"-\",\"\")","v":""},"",{"$f":"IN!F2168*60","v":0},0,"-"]
[0,{"$error":"#VALUE!"},{"$error":"#VALUE!"},{"$f":"SUBSTITUTE(IN!G2169,\"-\",\"\")","v":""},"",{"$f":"IN!F2169*60","v":0},0,"-"]
[0,{"$error":"#VALUE!"},{"$error":"#VALUE!"},{"$f":"SUBSTITUTE(IN!G2170,\"-\",\"\")","v":""},"",{"$f":"IN!F2170*60","v":0},0,"-"]
[0,{"$error":"#VALUE!"},{"$error":"#VALUE!"},{"$f":"SUBSTITUTE(IN!G2171,\"-\",\"\")","v":""},"",{"$f":"IN!F2171*60","v":0},0,"-"]
[0,{"$error":"#VALUE!"},{"$error":"#VALUE!"},{"$f":"SUBSTITUTE(IN!G2172,\"-\",\"\")","v":""},"",{"$f":"IN!F2172*60","v":0},0,"-"]
[0,{"$error":"#VALUE!"},{"$error":"#VALUE!"},{"$f":"SUBSTITUTE(IN!G2173,\"-\",\"\")","v":""},"",{"$f":"IN!F2173*60","v":0},0,"-"]
[0,{"$error":"#VALUE!"},{"$error":"#VALUE!"},{"$f":"SUBSTITUTE(IN!G2174,\"-\",\"\")","v":""},"",{"$f":"IN!F2174*60","v":0},0,"-"]
[0,{"$error":"#VALUE!"},{"$error":"#VALUE!"},{"$f":"SUBSTITUTE(IN!G2175,\"-\",\"\")","v":""},"",{"$f":"IN!F2175*60","v":0},0,"-"]
[0,{"$error":"#VALUE!"},{"$error":"#VALUE!"},{"$f":"SUBSTITUTE(IN!G2176,\"-\",\"\")","v":""},"",{"$f":"IN!F2176*60","v":0},0,"-"]
[0,{"$error":"#VALUE!"},{"$error":"#VALUE!"},{"$f":"SUBSTITUTE(IN!G2177,\"-\",\"\")","v":""},"",{"$f":"IN!F2177*60","v":0},0,"-"]
[0,{"$error":"#VALUE!"},{"$error":"#VALUE!"},{"$f":"SUBSTITUTE(IN!G2178,\"-\",\"\")","v":""},"",{"$f":"IN!F2178*60","v":0},0,"-"]
[0,{"$error":"#VALUE!"},{"$error":"#VALUE!"},{"$f":"SUBSTITUTE(IN!G2179,\"-\",\"\")","v":""},"",{"$f":"IN!F2179*60","v":0},0,"-"]
[0,{"$error":"#VALUE!"},{"$error":"#VALUE!"},{"$f":"SUBSTITUTE(IN!G2180,\"-\",\"\")","v":""},"",{"$f":"IN!F2180*60","v":0},0,"-"]
[{"$f":"LEN(D2181)","v":0},{"$f":"VALUE(LEFT(D2181,1))","v":{"$error":"#VALUE!"}},{"$f":"IF(B2181<2,20,19)","v":{"$error":"#VALUE!"}},{"$f":"SUBSTITUTE(IN!G2181,\"-\",\"\")","v":""},{"$f":"IF(A2181=10,CONCATENATE(C2181,D2181),D2181)","v":""},{"$f":"IN!F2181*60","v":0},{"$f":"ROUND(F2181,0)","v":0},{"$f":"CONCATENATE(MID(E2181,3,6),\"-\",MID(E2181,9,4))","v":"-"}]
[0,{"$error":"#VALUE!"},{"$error":"#VALUE!"},{"$f":"SUBSTITUTE(IN!G2182,\"-\",\"\")","v":""},"",{"$f":"IN!F2182*60","v":0},0,"-"]
[0,{"$error":"#VALUE!"},{"$error":"#VALUE!"},{"$f":"SUBSTITUTE(IN!G2183,\"-\",\"\")","v":""},"",{"$f":"IN!F2183*60","v":0},0,"-"]
[0,{"$error":"#VALUE!"},{"$error":"#VALUE!"},{"$f":"SUBSTITUTE(IN!G2184,\"-\",\"\")","v":""},"",{"$f":"IN!F2184*60","v":0},0,"-"]
[0,{"$error":"#VALUE!"},{"$error":"#VALUE!"},{"$f":"SUBSTITUTE(IN!G2185,\"-\",\"\")","v":""},"",{"$f":"IN!F2185*60","v":0},0,"-"]
[0,{"$error":"#VALUE!"},{"$error":"#VALUE!"},{"$f":"SUBSTITUTE(IN!G2186,\"-\",\"\")","v":""},"",{"$f":"IN!F2186*60","v":0},0,"-"]
[0,{"$error":"#VALUE!"},{"$error":"#VALUE!"},{"$f":"SUBSTITUTE(IN!G2187,\"-\",\"\")","v":""},"",{"$f":"IN!F2187*60","v":0},0,"-"]
[0,{"$error":"#VALUE!"},{"$error":"#VALUE!"},{"$f":"SUBSTITUTE(IN!G2188,\"-\",\"\")","v":""},"",{"$f":"IN!F2188*60","v":0},0,"-"]
[0,{"$error":"#VALUE!"},{"$error":"#VALUE!"},{"$f":"SUBSTITUTE(IN!G2189,\"-\",\"\")","v":""},"",{"$f":"IN!F2189*60","v":0},0,"-"]
[0,{"$error":"#VALUE!"},{"$error":"#VALUE!"},{"$f":"SUBSTITUTE(IN!G2190,\"-\",\"\")","v":""},"",{"$f":"IN!F2190*60","v":0},0,"-"]
[0,{"$error":"#VALUE!"},{"$error":"#VALUE!"},{"$f":"SUBSTITUTE(IN!G2191,\"-\",\"\")","v":""},"",{"$f":"IN!F2191*60","v":0},0,"-"]
[0,{"$error":"#VALUE!"},{"$error":"#VALUE!"},{"$f":"SUBSTITUTE(IN!G2192,\"-\",\"\")","v":""},"",{"$f":"IN!F2192*60","v":0},0,"-"]
[0,{"$error":"#VALUE!"},{"$error":"#VALUE!"},{"$f":"SUBSTITUTE(IN!G2193,\"-\",\"\")","v":""},"",{"$f":"IN!F2193*60","v":0},0,"-"]
[0,{"$error":"#VALUE!"},{"$error":"#VALUE!"},{"$f":"SUBSTITUTE(IN!G2194,\"-\",\"\")","v":""},"",{"$f":"IN!F2194*60","v":0},0,"-"]
[0,{"$error":"#VALUE!"},{"$error":"#VALUE!"},{"$f":"SUBSTITUTE(IN!G2195,\"-\",\"\")","v":""},"",{"$f":"IN!F2195*60","v":0},0,"-"]
[0,{"$error":"#VALUE!"},{"$error":"#VALUE!"},{"$f":"SUBSTITUTE(IN!G2196,\"-\",\"\")","v":""},"",{"$f":"IN!F2196*60","v":0},0,"-"]
[0,{"$error":"#VALUE!"},{"$error":"#VALUE!"},{"$f":"SUBSTITUTE(IN!G2197,\"-\",\"\")","v":""},"",{"$f":"IN!F2197*60","v":0},0,"-"]
[0,{"$error":"#VALUE!"},{"$error":"#VALUE!"},{"$f":"SUBSTITUTE(IN!G2198,\"-\",\"\")","v":""},"",{"$f":"IN!F2198*60","v":0},0,"-"]
[0,{"$error":"#VALUE!"},{"$error":"#VALUE!"},{"$f":"SUBSTITUTE(IN!G2199,\"-\",\"\")","v":""},"",{"$f":"IN!F2199*60","v":0},0,"-"]
[0,{"$error":"#VALUE!"},{"$error":"#VALUE!"},{"$f":"SUBSTITUTE(IN!G2200,\"-\",\"\")","v":""},"",{"$f":"IN!F2200*60","v":0},0,"-"]
[0,{"$error":"#VALUE!"},{"$error":"#VALUE!"},{"$f":"SUBSTITUTE(IN!G2201,\"-\",\"\")","v":""},"",{"$f":"IN!F2201*60","v":0},0,"-"]
[0,{"$error":"#VALUE!"},{"$error":"#VALUE!"},{"$f":"SUBSTITUTE(IN!G2202,\"-\",\"\")","v":""},"",{"$f":"IN!F2202*60","v":0},0,"-"]
[0,{"$error":"#VALUE!"},{"$error":"#VALUE!"},{"$f":"SUBSTITUTE(IN!G2203,\"-\",\"\")","v":""},"",{"$f":"IN!F2203*60","v":0},0,"-"]
[0,{"$error":"#VALUE!"},{"$error":"#VALUE!"},{"$f":"SUBSTITUTE(IN!G2204,\"-\",\"\")","v":""},"",{"$f":"IN!F2204*60","v":0},0,"-"]
[0,{"$error":"#VALUE!"},{"$error":"#VALUE!"},{"$f":"SUBSTITUTE(IN!G2205,\"-\",\"\")","v":""},"",{"$f":"IN!F2205*60","v":0},0,"-"]
[0,{"$error":"#VALUE!"},{"$error":"#VALUE!"},{"$f":"SUBSTITUTE(IN!G2206,\"-\",\"\")","v":""},"",{"$f":"IN!F2206*60","v":0},0,"-"]
[0,{"$error":"#VALUE!"},{"$error":"#VALUE!"},{"$f":"SUBSTITUTE(IN!G2207,\"-\",\"\")","v":""},"",{"$f":"IN!F2207*60","v":0},0,"-"]
[0,{"$error":"#VALUE!"},{"$error":"#VALUE!"},{"$f":"SUBSTITUTE(IN!G2208,\"-\",\"\")","v":""},"",{"$f":"IN!F2208*60","v":0},0,"-"]
[0,{"$error":"#VALUE!"},{"$error":"#VALUE!"},{"$f":"SUBSTITUTE(IN!G2209,\"-\",\"\")","v":""},"",{"$f":"IN!F2209*60","v":0},0,"-"]
[0,{"$error":"#VALUE!"},{"$error":"#VALUE!"},{"$f":"SUBSTITUTE(IN!G2210,\"-\",\"\")","v":""},"",{"$f":"IN!F2210*60","v":0},0,"-"]
[0,{"$error":"#VALUE!"},{"$error":"#VALUE!"},{"$f":"SUBSTITUTE(IN!G2211,\"-\",\"\")","v":""},"",{"$f":"IN!F2211*60","v":0},0,"-"]
[0,{"$error":"#VALUE!"},{"$error":"#VALUE!"},{"$f":"SUBSTITUTE(IN!G2212,\"-\",\"\")","v":""},"",{"$f":"IN!F2212*60","v":0},0,"-"]
[0,{"$error":"#VALUE!"},{"$error":"#VALUE!"},{"$f":"SUBSTITUTE(IN!G2213,\"-\",\"\")","v":""},"",{"$f":"IN!F2213*60","v":0},0,"-"]
[0,{"$error":"#VALUE!"},{"$error":"#VALUE!"},{"$f":"SUBSTITUTE(IN!G2214,\"-\",\"\")","v":""},"",{"$f":"IN!F2214*60","v":0},0,"-"]
[0,{"$error":"#VALUE!"},{"$error":"#VALUE!"},{"$f":"SUBSTITUTE(IN!G2215,\"-\",\"\")","v":""},"",{"$f":"IN!F2215*60","v":0},0,"-"]
[0,{"$error":"#VALUE!"},{"$error":"#VALUE!"},{"$f":"SUBSTITUTE(IN!G2216,\"-\",\"\")","v":""},"",{"$f":"IN!F2216*60","v":0},0,"-"]
[0,{"$error":"#VALUE!"},{"$error":"#VALUE!"},{"$f":"SUBSTITUTE(IN!G2217,\"-\",\"\")","v":""},"",{"$f":"IN!F2217*60","v":0},0,"-"]
[0,{"$error":"#VALUE!"},{"$error":"#VALUE!"},{"$f":"SUBSTITUTE(IN!G2218,\"-\",\"\")","v":""},"",{"$f":"IN!F2218*60","v":0},0,"-"]
[0,{"$error":"#VALUE!"},{"$error":"#VALUE!"},{"$f":"SUBSTITUTE(IN!G2219,\"-\",\"\")","v":""},"",{"$f":"IN!F2219*60","v":0},0,"-"]
[0,{"$error":"#VALUE!"},{"$error":"#VALUE!"},{"$f":"SUBSTITUTE(IN!G2220,\"-\",\"\")","v":""},"",{"$f":"IN!F2220*60","v":0},0,"-"]
[0,{"$error":"#VALUE!"},{"$error":"#VALUE!"},{"$f":"SUBSTITUTE(IN!G2221,\"-\",\"\")","v":""},"",{"$f":"IN!F2221*60","v":0},0,"-"]
[0,{"$error":"#VALUE!"},{"$error":"#VALUE!"},{"$f":"SUBSTITUTE(IN!G2222,\"-\",\"\")","v":""},"",{"$f":"IN!F2222*60","v":0},0,"-"]
[0,{"$error":"#VALUE!"},{"$error":"#VALUE!"},{"$f":"SUBSTITUTE(IN!G2223,\"-\",\"\")","v":""},"",{"$f":"IN!F2223*60","v":0},0,"-"]
[0,{"$error":"#VALUE!"},{"$error":"#VALUE!"},{"$f":"SUBSTITUTE(IN!G2224,\"-\",\"\")","v":""},"",{"$f":"IN!F2224*60","v":0},0,"-"]
[0,{"$error":"#VALUE!"},{"$error":"#VALUE!"},{"$f":"SUBSTITUTE(IN!G2225,\"-\",\"\")","v":""},"",{"$f":"IN!F2225*60","v":0},0,"-"]
[0,{"$error":"#VALUE!"},{"$error":"#VALUE!"},{"$f":"SUBSTITUTE(IN!G2226,\"-\",\"\")","v":""},"",{"$f":"IN!F2226*60","v":0},0,"-"]
[0,{"$error":"#VALUE!"},{"$error":"#VALUE!"},{"$f":"SUBSTITUTE(IN!G2227,\"-\",\"\")","v":""},"",{"$f":"IN!F2227*60","v":0},0,"-"]
[0,{"$error":"#VALUE!"},{"$error":"#VALUE!"},{"$f":"SUBSTITUTE(IN!G2228,\"-\",\"\")","v":""},"",{"$f":"IN!F2228*60","v":0},0,"-"]
[0,{"$error":"#VALUE!"},{"$error":"#VALUE!"},{"$f":"SUBSTITUTE(IN!G2229,\"-\",\"\")","v":""},"",{"$f":"IN!F2229*60","v":0},0,"-"]
[0,{"$error":"#VALUE!"},{"$error":"#VALUE!"},{"$f":"SUBSTITUTE(IN!G2230,\"-\",\"\")","v":""},"",{"$f":"IN!F2230*60","v":0},0,"-"]
[0,{"$error":"#VALUE!"},{"$error":"#VALUE!"},{"$f":"SUBSTITUTE(IN!G2231,\"-\",\"\")","v":""},"",{"$f":"IN!F2231*60","v":0},0,"-"]
[0,{"$error":"#VALUE!"},{"$error":"#VALUE!"},{"$f":"SUBSTITUTE(IN!G2232,\"-\",\"\")","v":""},"",{"$f":"IN!F2232*60","v":0},0,"-"]
[0,{"$error":"#VALUE!"},{"$error":"#VALUE!"},{"$f":"SUBSTITUTE(IN!G2233,\"-\",\"\")","v":""},"",{"$f":"IN!F2233*60","v":0},0,"-"]
[0,{"$error":"#VALUE!"},{"$error":"#VALUE!"},{"$f":"SUBSTITUTE(IN!G2234,\"-\",\"\")","v":""},"",{"$f":"IN!F2234*60","v":0},0,"-"]
[0,{"$error":"#VALUE!"},{"$error":"#VALUE!"},{"$f":"SUBSTITUTE(IN!G2235,\"-\",\"\")","v":""},"",{"$f":"IN!F2235*60","v":0},0,"-"]
[0,{"$error":"#VALUE!"},{"$error":"#VALUE!"},{"$f":"SUBSTITUTE(IN!G2236,\"-\",\"\")","v":""},"",{"$f":"IN!F2236*60","v":0},0,"-"]
[0,{"$error":"#VALUE!"},{"$error":"#VALUE!"},{"$f":"SUBSTITUTE(IN!G2237,\"-\",\"\")","v":""},"",{"$f":"IN!F2237*60","v":0},0,"-"]
[0,{"$error":"#VALUE!"},{"$error":"#VALUE!"},{"$f":"SUBSTITUTE(IN!G2238,\"-\",\"\")","v":""},"",{"$f":"IN!F2238*60","v":0},0,"-"]
[0,{"$error":"#VALUE!"},{"$error":"#VALUE!"},{"$f":"SUBSTITUTE(IN!G2239,\"-\",\"\")","v":""},"",{"$f":"IN!F2239*60","v":0},0,"-"]
[0,{"$error":"#VALUE!"},{"$error":"#VALUE!"},{"$f":"SUBSTITUTE(IN!G2240,\"-\",\"\")","v":""},"",{"$f":"IN!F2240*60","v":0},0,"-"]
[0,{"$error":"#VALUE!"},{"$error":"#VALUE!"},{"$f":"SUBSTITUTE(IN!G2241,\"-\",\"\")","v":""},"",{"$f":"IN!F2241*60","v":0},0,"-"]
[0,{"$error":"#VALUE!"},{"$error":"#VALUE!"},{"$f":"SUBSTITUTE(IN!G2242,\"-\",\"\")","v":""},"",{"$f":"IN!F2242*60","v":0},0,"-"]
[0,{"$error":"#VALUE!"},{"$error":"#VALUE!"},{"$f":"SUBSTITUTE(IN!G2243,\"-\",\"\")","v":""},"",{"$f":"IN!F2243*60","v":0},0,"-"]
[0,{"$error":"#VALUE!"},{"$error":"#VALUE!"},{"$f":"SUBSTITUTE(IN!G2244,\"-\",\"\")","v":""},"",{"$f":"IN!F2244*60","v":0},0,"-"]
[{"$f":"LEN(D2245)","v":0},{"$f":"VALUE(LEFT(D2245,1))","v":{"$error":"#VALUE!"}},{"$f":"IF(B2245<2,20,19)","v":{"$error":"#VALUE!"}},{"$f":"SUBSTITUTE(IN!G2245,\"-\",\"\")","v":""},{"$f":"IF(A2245=10,CONCATENATE(C2245,D2245),D2245)","v":""},{"$f":"IN!F2245*60","v":0},{"$f":"ROUND(F2245,0)","v":0},{"$f":"CONCATENATE(MID(E2245,3,6),\"-\",MID(E2245,9,4))","v":"-"}]
[0,{"$error":"#VALUE!"},{"$error":"#VALUE!"},{"$f":"SUBSTITUTE(IN!G2246,\"-\",\"\")","v":""},"",{"$f":"IN!F2246*60","v":0},0,"-"]
[0,{"$error":"#VALUE!"},{"$error":"#VALUE!"},{"$f":"SUBSTITUTE(IN!G2247,\"-\",\"\")","v":""},"",{"$f":"IN!F2247*60","v":0},0,"-"]
[0,{"$error":"#VALUE!"},{"$error":"#VALUE!"},{"$f":"SUBSTITUTE(IN!G2248,\"-\",\"\")","v":""},"",{"$f":"IN!F2248*60","v":0},0,"-"]
[0,{"$error":"#VALUE!"},{"$error":"#VALUE!"},{"$f":"SUBSTITUTE(IN!G2249,\"-\",\"\")","v":""},"",{"$f":"IN!F2249*60","v":0},0,"-"]
[0,{"$error":"#VALUE!"},{"$error":"#VALUE!"},{"$f":"SUBSTITUTE(IN!G2250,\"-\",\"\")","v":""},"",{"$f":"IN!F2250*60","v":0},0,"-"]
[0,{"$error":"#VALUE!"},{"$error":"#VALUE!"},{"$f":"SUBSTITUTE(IN!G2251,\"-\",\"\")","v":""},"",{"$f":"IN!F2251*60","v":0},0,"-"]
[0,{"$error":"#VALUE!"},{"$error":"#VALUE!"},{"$f":"SUBSTITUTE(IN!G2252,\"-\",\"\")","v":""},"",{"$f":"IN!F2252*60","v":0},0,"-"]
[0,{"$error":"#VALUE!"},{"$error":"#VALUE!"},{"$f":"SUBSTITUTE(IN!G2253,\"-\",\"\")","v":""},"",{"$f":"IN!F2253*60","v":0},0,"-"]
[0,{"$error":"#VALUE!"},{"$error":"#VALUE!"},{"$f":"SUBSTITUTE(IN!G2254,\"-\",\"\")","v":""},"",{"$f":"IN!F2254*60","v":0},0,"-"]
[0,{"$error":"#VALUE!"},{"$error":"#VALUE!"},{"$f":"SUBSTITUTE(IN!G2255,\"-\",\"\")","v":""},"",{"$f":"IN!F2255*60","v":0},0,"-"]
[0,{"$error":"#VALUE!"},{"$error":"#VALUE!"},{"$f":"SUBSTITUTE(IN!G2256,\"-\",\"\")","v":""},"",{"$f":"IN!F2256*60","v":0},0,"-"]
[0,{"$error":"#VALUE!"},{"$error":"#VALUE!"},{"$f":"SUBSTITUTE(IN!G2257,\"-\",\"\")","v":""},"",{"$f":"IN!F2257*60","v":0},0,"-"]
[0,{"$error":"#VALUE!"},{"$error":"#VALUE!"},{"$f":"SUBSTITUTE(IN!G2258,\"-\",\"\")","v":""},"",{"$f":"IN!F2258*60","v":0},0,"-"]
[0,{"$error":"#VALUE!"},{"$error":"#VALUE!"},{"$f":"SUBSTITUTE(IN!G2259,\"-\",\"\")","v":""},"",{"$f":"IN!F2259*60","v":0},0,"-"]
[0,{"$error":"#VALUE!"},{"$error":"#VALUE!"},{"$f":"SUBSTITUTE(IN!G2260,\"-\",\"\")","v":""},"",{"$f":"IN!F2260*60","v":0},0,"-"]
[0,{"$error":"#VALUE!"},{"$error":"#VALUE!"},{"$f":"SUBSTITUTE(IN!G2261,\"-\",\"\")","v":""},"",{"$f":"IN!F2261*60","v":0},0,"-"]
[0,{"$error":"#VALUE!"},{"$error":"#VALUE!"},{"$f":"SUBSTITUTE(IN!G2262,\"-\",\"\")","v":""},"",{"$f":"IN!F2262*60","v":0},0,"-"]
[0,{"$error":"#VALUE!"},{"$error":"#VALUE!"},{"$f":"SUBSTITUTE(IN!G2263,\"-\",\"\")","v":""},"",{"$f":"IN!F2263*60","v":0},0,"-"]
[0,{"$error":"#VALUE!"},{"$error":"#VALUE!"},{"$f":"SUBSTITUTE(IN!G2264,\"-\",\"\")","v":""},"",{"$f":"IN!F2264*60","v":0},0,"-"]
[0,{"$error":"#VALUE!"},{"$error":"#VALUE!"},{"$f":"SUBSTITUTE(IN!G2265,\"-\",\"\")","v":""},"",{"$f":"IN!F2265*60","v":0},0,"-"]
[0,{"$error":"#VALUE!"},{"$error":"#VALUE!"},{"$f":"SUBSTITUTE(IN!G2266,\"-\",\"\")","v":""},"",{"$f":"IN!F2266*60","v":0},0,"-"]
[0,{"$error":"#VALUE!"},{"$error":"#VALUE!"},{"$f":"SUBSTITUTE(IN!G2267,\"-\",\"\")","v":""},"",{"$f":"IN!F2267*60","v":0},0,"-"]
[0,{"$error":"#VALUE!"},{"$error":"#VALUE!"},{"$f":"SUBSTITUTE(IN!G2268,\"-\",\"\")","v":""},"",{"$f":"IN!F2268*60","v":0},0,"-"]
[0,{"$error":"#VALUE!"},{"$error":"#VALUE!"},{"$f":"SUBSTITUTE(IN!G2269,\"-\",\"\")","v":""},"",{"$f":"IN!F2269*60","v":0},0,"-"]
[0,{"$error":"#VALUE!"},{"$error":"#VALUE!"},{"$f":"SUBSTITUTE(IN!G2270,\"-\",\"\")","v":""},"",{"$f":"IN!F2270*60","v":0},0,"-"]
[0,{"$error":"#VALUE!"},{"$error":"#VALUE!"},{"$f":"SUBSTITUTE(IN!G2271,\"-\",\"\")","v":""},"",{"$f":"IN!F2271*60","v":0},0,"-"]
[0,{"$error":"#VALUE!"},{"$error":"#VALUE!"},{"$f":"SUBSTITUTE(IN!G2272,\"-\",\"\")","v":""},"",{"$f":"IN!F2272*60","v":0},0,"-"]
[0,{"$error":"#VALUE!"},{"$error":"#VALUE!"},{"$f":"SUBSTITUTE(IN!G2273,\"-\",\"\")","v":""},"",{"$f":"IN!F2273*60","v":0},0,"-"]
[0,{"$error":"#VALUE!"},{"$error":"#VALUE!"},{"$f":"SUBSTITUTE(IN!G2274,\"-\",\"\")","v":""},"",{"$f":"IN!F2274*60","v":0},0,"-"]
[0,{"$error":"#VALUE!"},{"$error":"#VALUE!"},{"$f":"SUBSTITUTE(IN!G2275,\"-\",\"\")","v":""},"",{"$f":"IN!F2275*60","v":0},0,"-"]
[0,{"$error":"#VALUE!"},{"$error":"#VALUE!"},{"$f":"SUBSTITUTE(IN!G2276,\"-\",\"\")","v":""},"",{"$f":"IN!F2276*60","v":0},0,"-"]
[0,{"$error":"#VALUE!"},{"$error":"#VALUE!"},{"$f":"SUBSTITUTE(IN!G2277,\"-\",\"\")","v":""},"",{"$f":"IN!F2277*60","v":0},0,"-"]
[0,{"$error":"#VALUE!"},{"$error":"#VALUE!"},{"$f":"SUBSTITUTE(IN!G2278,\"-\",\"\")","v":""},"",{"$f":"IN!F2278*60","v":0},0,"-"]
[0,{"$error":"#VALUE!"},{"$error":"#VALUE!"},{"$f":"SUBSTITUTE(IN!G2279,\"-\",\"\")","v":""},"",{"$f":"IN!F2279*60","v":0},0,"-"]
[0,{"$error":"#VALUE!"},{"$error":"#VALUE!"},{"$f":"SUBSTITUTE(IN!G2280,\"-\",\"\")","v":""},"",{"$f":"IN!F2280*60","v":0},0,"-"]
[0,{"$error":"#VALUE!"},{"$error":"#VALUE!"},{"$f":"SUBSTITUTE(IN!G2281,\"-\",\"\")","v":""},"",{"$f":"IN!F2281*60","v":0},0,"-"]
[0,{"$error":"#VALUE!"},{"$error":"#VALUE!"},{"$f":"SUBSTITUTE(IN!G2282,\"-\",\"\")","v":""},"",{"$f":"IN!F2282*60","v":0},0,"-"]
[0,{"$error":"#VALUE!"},{"$error":"#VALUE!"},{"$f":"SUBSTITUTE(IN!G2283,\"-\",\"\")","v":""},"",{"$f":"IN!F2283*60","v":0},0,"-"]
[0,{"$error":"#VALUE!"},{"$error":"#VALUE!"},{"$f":"SUBSTITUTE(IN!G2284,\"-\",\"\")","v":""},"",{"$f":"IN!F2284*60","v":0},0,"-"]
[0,{"$error":"#VALUE!"},{"$error":"#VALUE!"},{"$f":"SUBSTITUTE(IN!G2285,\"-\",\"\")","v":""},"",{"$f":"IN!F2285*60","v":0},0,"-"]
[0,{"$error":"#VALUE!"},{"$error":"#VALUE!"},{"$f":"SUBSTITUTE(IN!G2286,\"-\",\"\")","v":""},"",{"$f":"IN!F2286*60","v":0},0,"-"]
[0,{"$error":"#VALUE!"},{"$error":"#VALUE!"},{"$f":"SUBSTITUTE(IN!G2287,\"-\",\"\")","v":""},"",{"$f":"IN!F2287*60","v":0},0,"-"]
[0,{"$error":"#VALUE!"},{"$error":"#VALUE!"},{"$f":"SUBSTITUTE(IN!G2288,\"-\",\"\")","v":""},"",{"$f":"IN!F2288*60","v":0},0,"-"]
[0,{"$error":"#VALUE!"},{"$error":"#VALUE!"},{"$f":"SUBSTITUTE(IN!G2289,\"-\",\"\")","v":""},"",{"$f":"IN!F2289*60","v":0},0,"-"]
[0,{"$error":"#VALUE!"},{"$error":"#VALUE!"},{"$f":"SUBSTITUTE(IN!G2290,\"-\",\"\")","v":""},"",{"$f":"IN!F2290*60","v":0},0,"-"]
[0,{"$error":"#VALUE!"},{"$error":"#VALUE!"},{"$f":"SUBSTITUTE(IN!G2291,\"-\",\"\")","v":""},"",{"$f":"IN!F2291*60","v":0},0,"-"]
[0,{"$error":"#VALUE!"},{"$error":"#VALUE!"},{"$f":"SUBSTITUTE(IN!G2292,\"-\",\"\")","v":""},"",{"$f":"IN!F2292*60","v":0},0,"-"]
[0,{"$error":"#VALUE!"},{"$error":"#VALUE!"},{"$f":"SUBSTITUTE(IN!G2293,\"-\",\"\")","v":""},"",{"$f":"IN!F2293*60","v":0},0,"-"]
[0,{"$error":"#VALUE!"},{"$error":"#VALUE!"},{"$f":"SUBSTITUTE(IN!G2294,\"-\",\"\")","v":""},"",{"$f":"IN!F2294*60","v":0},0,"-"]
[0,{"$error":"#VALUE!"},{"$error":"#VALUE!"},{"$f":"SUBSTITUTE(IN!G2295,\"-\",\"\")","v":""},"",{"$f":"IN!F2295*60","v":0},0,"-"]
[0,{"$error":"#VALUE!"},{"$error":"#VALUE!"},{"$f":"SUBSTITUTE(IN!G2296,\"-\",\"\")","v":""},"",{"$f":"IN!F2296*60","v":0},0,"-"]
[0,{"$error":"#VALUE!"},{"$error":"#VALUE!"},{"$f":"SUBSTITUTE(IN!G2297,\"-\",\"\")","v":""},"",{"$f":"IN!F2297*60","v":0},0,"-"]
[0,{"$error":"#VALUE!"},{"$error":"#VALUE!"},{"$f":"SUBSTITUTE(IN!G2298,\"-\",\"\")","v":""},"",{"$f":"IN!F2298*60","v":0},0,"-"]
[0,{"$error":"#VALUE!"},{"$error":"#VALUE!"},{"$f":"SUBSTITUTE(IN!G2299,\"-\",\"\")","v":""},"",{"$f":"IN!F2299*60","v":0},0,"-"]
[0,{"$error":"#VALUE!"},{"$error":"#VALUE!"},{"$f":"SUBSTITUTE(IN!G2300,\"-\",\"\")","v":""},"",{"$f":"IN!F2300*60","v":0},0,"-"]
[0,{"$error":"#VALUE!"},{"$error":"#VALUE!"},{"$f":"SUBSTITUTE(IN!G2301,\"-\",\"\")","v":""},"",{"$f":"IN!F2301*60","v":0},0,"-"]
[0,{"$error":"#VALUE!"},{"$error":"#VALUE!"},{"$f":"SUBSTITUTE(IN!G2302,\"-\",\"\")","v":""},"",{"$f":"IN!F2302*60","v":0},0,"-"]
[0,{"$error":"#VALUE!"},{"$error":"#VALUE!"},{"$f":"SUBSTITUTE(IN!G2303,\"-\",\"\")","v":""},"",{"$f":"IN!F2303*60","v":0},0,"-"]
[0,{"$error":"#VALUE!"},{"$error":"#VALUE!"},{"$f":"SUBSTITUTE(IN!G2304,\"-\",\"\")","v":""},"",{"$f":"IN!F2304*60","v":0},0,"-"]
[0,{"$error":"#VALUE!"},{"$error":"#VALUE!"},{"$f":"SUBSTITUTE(IN!G2305,\"-\",\"\")","v":""},"",{"$f":"IN!F2305*60","v":0},0,"-"]
[0,{"$error":"#VALUE!"},{"$error":"#VALUE!"},{"$f":"SUBSTITUTE(IN!G2306,\"-\",\"\")","v":""},"",{"$f":"IN!F2306*60","v":0},0,"-"]
[0,{"$error":"#VALUE!"},{"$error":"#VALUE!"},{"$f":"SUBSTITUTE(IN!G2307,\"-\",\"\")","v":""},"",{"$f":"IN!F2307*60","v":0},0,"-"]
[0,{"$error":"#VALUE!"},{"$error":"#VALUE!"},{"$f":"SUBSTITUTE(IN!G2308,\"-\",\"\")","v":""},"",{"$f":"IN!F2308*60","v":0},0,"-"]
[{"$f":"LEN(D2309)","v":0},{"$f":"VALUE(LEFT(D2309,1))","v":{"$error":"#VALUE!"}},{"$f":"IF(B2309<2,20,19)","v":{"$error":"#VALUE!"}},{"$f":"SUBSTITUTE(IN!G2309,\"-\",\"\")","v":""},{"$f":"IF(A2309=10,CONCATENATE(C2309,D2309),D2309)","v":""},{"$f":"IN!F2309*60","v":0},{"$f":"ROUND(F2309,0)","v":0},{"$f":"CONCATENATE(MID(E2309,3,6),\"-\",MID(E2309,9,4))","v":"-"}]
[0,{"$error":"#VALUE!"},{"$error":"#VALUE!"},{"$f":"SUBSTITUTE(IN!G2310,\"-\",\"\")","v":""},"",{"$f":"IN!F2310*60","v":0},0,"-"]
[0,{"$error":"#VALUE!"},{"$error":"#VALUE!"},{"$f":"SUBSTITUTE(IN!G2311,\"-\",\"\")","v":""},"",{"$f":"IN!F2311*60","v":0},0,"-"]
[0,{"$error":"#VALUE!"},{"$error":"#VALUE!"},{"$f":"SUBSTITUTE(IN!G2312,\"-\",\"\")","v":""},"",{"$f":"IN!F2312*60","v":0},0,"-"]
[0,{"$error":"#VALUE!"},{"$error":"#VALUE!"},{"$f":"SUBSTITUTE(IN!G2313,\"-\",\"\")","v":""},"",{"$f":"IN!F2313*60","v":0},0,"-"]
[0,{"$error":"#VALUE!"},{"$error":"#VALUE!"},{"$f":"SUBSTITUTE(IN!G2314,\"-\",\"\")","v":""},"",{"$f":"IN!F2314*60","v":0},0,"-"]
[0,{"$error":"#VALUE!"},{"$error":"#VALUE!"},{"$f":"SUBSTITUTE(IN!G2315,\"-\",\"\")","v":""},"",{"$f":"IN!F2315*60","v":0},0,"-"]
[0,{"$error":"#VALUE!"},{"$error":"#VALUE!"},{"$f":"SUBSTITUTE(IN!G2316,\"-\",\"\")","v":""},"",{"$f":"IN!F2316*60","v":0},0,"-"]
[0,{"$error":"#VALUE!"},{"$error":"#VALUE!"},{"$f":"SUBSTITUTE(IN!G2317,\"-\",\"\")","v":""},"",{"$f":"IN!F2317*60","v":0},0,"-"]
[0,{"$error":"#VALUE!"},{"$error":"#VALUE!"},{"$f":"SUBSTITUTE(IN!G2318,\"-\",\"\")","v":""},"",{"$f":"IN!F2318*60","v":0},0,"-"]
[0,{"$error":"#VALUE!"},{"$error":"#VALUE!"},{"$f":"SUBSTITUTE(IN!G2319,\"-\",\"\")","v":""},"",{"$f":"IN!F2319*60","v":0},0,"-"]
[0,{"$error":"#VALUE!"},{"$error":"#VALUE!"},{"$f":"SUBSTITUTE(IN!G2320,\"-\",\"\")","v":""},"",{"$f":"IN!F2320*60","v":0},0,"-"]
[0,{"$error":"#VALUE!"},{"$error":"#VALUE!"},{"$f":"SUBSTITUTE(IN!G2321,\"-\",\"\")","v":""},"",{"$f":"IN!F2321*60","v":0},0,"-"]
[0,{"$error":"#VALUE!"},{"$error":"#VALUE!"},{"$f":"SUBSTITUTE(IN!G2322,\"-\",\"\")","v":""},"",{"$f":"IN!F2322*60","v":0},0,"-"]
[0,{"$error":"#VALUE!"},{"$error":"#VALUE!"},{"$f":"SUBSTITUTE(IN!G2323,\"-\",\"\")","v":""},"",{"$f":"IN!F2323*60","v":0},0,"-"]
[0,{"$error":"#VALUE!"},{"$error":"#VALUE!"},{"$f":"SUBSTITUTE(IN!G2324,\"-\",\"\")","v":""},"",{"$f":"IN!F2324*60","v":0},0,"-"]
[0,{"$error":"#VALUE!"},{"$error":"#VALUE!"},{"$f":"SUBSTITUTE(IN!G2325,\"-\",\"\")","v":""},"",{"$f":"IN!F2325*60","v":0},0,"-"]
[0,{"$error":"#VALUE!"},{"$error":"#VALUE!"},{"$f":"SUBSTITUTE(IN!G2326,\"-\",\"\")","v":""},"",{"$f":"IN!F2326*60","v":0},0,"-"]
[0,{"$error":"#VALUE!"},{"$error":"#VALUE!"},{"$f":"SUBSTITUTE(IN!G2327,\"-\",\"\")","v":""},"",{"$f":"IN!F2327*60","v":0},0,"-"]
[0,{"$error":"#VALUE!"},{"$error":"#VALUE!"},{"$f":"SUBSTITUTE(IN!G2328,\"-\",\"\")","v":""},"",{"$f":"IN!F2328*60","v":0},0,"-"]
[0,{"$error":"#VALUE!"},{"$error":"#VALUE!"},{"$f":"SUBSTITUTE(IN!G2329,\"-\",\"\")","v":""},"",{"$f":"IN!F2329*60","v":0},0,"-"]
[0,{"$error":"#VALUE!"},{"$error":"#VALUE!"},{"$f":"SUBSTITUTE(IN!G2330,\"-\",\"\")","v":""},"",{"$f":"IN!F2330*60","v":0},0,"-"]
[0,{"$error":"#VALUE!"},{"$error":"#VALUE!"},{"$f":"SUBSTITUTE(IN!G2331,\"-\",\"\")","v":""},"",{"$f":"IN!F2331*60","v":0},0,"-"]
[0,{"$error":"#VALUE!"},{"$error":"#VALUE!"},{"$f":"SUBSTITUTE(IN!G2332,\"-\",\"\")","v":""},"",{"$f":"IN!F2332*60","v":0},0,"-"]
[0,{"$error":"#VALUE!"},{"$error":"#VALUE!"},{"$f":"SUBSTITUTE(IN!G2333,\"-\",\"\")","v":""},"",{"$f":"IN!F2333*60","v":0},0,"-"]
[0,{"$error":"#VALUE!"},{"$error":"#VALUE!"},{"$f":"SUBSTITUTE(IN!G2334,\"-\",\"\")","v":""},"",{"$f":"IN!F2334*60","v":0},0,"-"]
[0,{"$error":"#VALUE!"},{"$error":"#VALUE!"},{"$f":"SUBSTITUTE(IN!G2335,\"-\",\"\")","v":""},"",{"$f":"IN!F2335*60","v":0},0,"-"]
[0,{"$error":"#VALUE!"},{"$error":"#VALUE!"},{"$f":"SUBSTITUTE(IN!G2336,\"-\",\"\")","v":""},"",{"$f":"IN!F2336*60","v":0},0,"-"]
[0,{"$error":"#VALUE!"},{"$error":"#VALUE!"},{"$f":"SUBSTITUTE(IN!G2337,\"-\",\"\")","v":""},"",{"$f":"IN!F2337*60","v":0},0,"-"]
[0,{"$error":"#VALUE!"},{"$error":"#VALUE!"},{"$f":"SUBSTITUTE(IN!G2338,\"-\",\"\")","v":""},"",{"$f":"IN!F2338*60","v":0},0,"-"]
[0,{"$error":"#VALUE!"},{"$error":"#VALUE!"},{"$f":"SUBSTITUTE(IN!G2339,\"-\",\"\")","v":""},"",{"$f":"IN!F2339*60","v":0},0,"-"]
[0,{"$error":"#VALUE!"},{"$error":"#VALUE!"},{"$f":"SUBSTITUTE(IN!G2340,\"-\",\"\")","v":""},"",{"$f":"IN!F2340*60","v":0},0,"-"]
[0,{"$error":"#VALUE!"},{"$error":"#VALUE!"},{"$f":"SUBSTITUTE(IN!G2341,\"-\",\"\")","v":""},"",{"$f":"IN!F2341*60","v":0},0,"-"]
[0,{"$error":"#VALUE!"},{"$error":"#VALUE!"},{"$f":"SUBSTITUTE(IN!G2342,\"-\",\"\")","v":""},"",{"$f":"IN!F2342*60","v":0},0,"-"]
[0,{"$error":"#VALUE!"},{"$error":"#VALUE!"},{"$f":"SUBSTITUTE(IN!G2343,\"-\",\"\")","v":""},"",{"$f":"IN!F2343*60","v":0},0,"-"]
[0,{"$error":"#VALUE!"},{"$error":"#VALUE!"},{"$f":"SUBSTITUTE(IN!G2344,\"-\",\"\")","v":""},"",{"$f":"IN!F2344*60","v":0},0,"-"]
[0,{"$error":"#VALUE!"},{"$error":"#VALUE!"},{"$f":"SUBSTITUTE(IN!G2345,\"-\",\"\")","v":""},"",{"$f":"IN!F2345*60","v":0},0,"-"]
[0,{"$error":"#VALUE!"},{"$error":"#VALUE!"},{"$f":"SUBSTITUTE(IN!G2346,\"-\",\"\")","v":""},"",{"$f":"IN!F2346*60","v":0},0,"-"]
[0,{"$error":"#VALUE!"},{"$error":"#VALUE!"},{"$f":"SUBSTITUTE(IN!G2347,\"-\",\"\")","v":""},"",{"$f":"IN!F2347*60","v":0},0,"-"]
[0,{"$error":"#VALUE!"},{"$error":"#VALUE!"},{"$f":"SUBSTITUTE(IN!G2348,\"-\",\"\")","v":""},"",{"$f":"IN!F2348*60","v":0},0,"-"]
[0,{"$error":"#VALUE!"},{"$error":"#VALUE!"},{"$f":"SUBSTITUTE(IN!G2349,\"-\",\"\")","v":""},"",{"$f":"IN!F2349*60","v":0},0,"-"]
[0,{"$error":"#VALUE!"},{"$error":"#VALUE!"},{"$f":"SUBSTITUTE(IN!G2350,\"-\",\"\")","v":""},"",{"$f":"IN!F2350*60","v":0},0,"-"]
[0,{"$error":"#VALUE!"},{"$error":"#VALUE!"},{"$f":"SUBSTITUTE(IN!G2351,\"-\",\"\")","v":""},"",{"$f":"IN!F2351*60","v":0},0,"-"]
[0,{"$error":"#VALUE!"},{"$error":"#VALUE!"},{"$f":"SUBSTITUTE(IN!G2352,\"-\",\"\")","v":""},"",{"$f":"IN!F2352*60","v":0},0,"-"]
[0,{"$error":"#VALUE!"},{"$error":"#VALUE!"},{"$f":"SUBSTITUTE(IN!G2353,\"-\",\"\")","v":""},"",{"$f":"IN!F2353*60","v":0},0,"-"]
[0,{"$error":"#VALUE!"},{"$error":"#VALUE!"},{"$f":"SUBSTITUTE(IN!G2354,\"-\",\"\")","v":""},"",{"$f":"IN!F2354*60","v":0},0,"-"]
[0,{"$error":"#VALUE!"},{"$error":"#VALUE!"},{"$f":"SUBSTITUTE(IN!G2355,\"-\",\"\")","v":""},"",{"$f":"IN!F2355*60","v":0},0,"-"]
[0,{"$error":"#VALUE!"},{"$error":"#VALUE!"},{"$f":"SUBSTITUTE(IN!G2356,\"-\",\"\")","v":""},"",{"$f":"IN!F2356*60","v":0},0,"-"]
[0,{"$error":"#VALUE!"},{"$error":"#VALUE!"},{"$f":"SUBSTITUTE(IN!G2357,\"-\",\"\")","v":""},"",{"$f":"IN!F2357*60","v":0},0,"-"]
[0,{"$error":"#VALUE!"},{"$error":"#VALUE!"},{"$f":"SUBSTITUTE(IN!G2358,\"-\",\"\")","v":""},"",{"$f":"IN!F2358*60","v":0},0,"-"]
[0,{"$error":"#VALUE!"},{"$error":"#VALUE!"},{"$f":"SUBSTITUTE(IN!G2359,\"-\",\"\")","v":""},"",{"$f":"IN!F2359*60","v":0},0,"-"]
[0,{"$error":"#VALUE!"},{"$error":"#VALUE!"},{"$f":"SUBSTITUTE(IN!G2360,\"-\",\"\")","v":""},"",{"$f":"IN!F2360*60","v":0},0,"-"]
[0,{"$error":"#VALUE!"},{"$error":"#VALUE!"},{"$f":"SUBSTITUTE(IN!G2361,\"-\",\"\")","v":""},"",{"$f":"IN!F2361*60","v":0},0,"-"]
[0,{"$error":"#VALUE!"},{"$error":"#VALUE!"},{"$f":"SUBSTITUTE(IN!G2362,\"-\",\"\")","v":""},"",{"$f":"IN!F2362*60","v":0},0,"-"]
[0,{"$error":"#VALUE!"},{"$error":"#VALUE!"},{"$f":"SUBSTITUTE(IN!G2363,\"-\",\"\")","v":""},"",{"$f":"IN!F2363*60","v":0},0,"-"]
[0,{"$error":"#VALUE!"},{"$error":"#VALUE!"},{"$f":"SUBSTITUTE(IN!G2364,\"-\",\"\")","v":""},"",{"$f":"IN!F2364*60","v":0},0,"-"]
[0,{"$error":"#VALUE!"},{"$error":"#VALUE!"},{"$f":"SUBSTITUTE(IN!G2365,\"-\",\"\")","v":""},"",{"$f":"IN!F2365*60","v":0},0,"-"]
[0,{"$error":"#VALUE!"},{"$error":"#VALUE!"},{"$f":"SUBSTITUTE(IN!G2366,\"-\",\"\")","v":""},"",{"$f":"IN!F2366*60","v":0},0,"-"]
[0,{"$error":"#VALUE!"},{"$error":"#VALUE!"},{"$f":"SUBSTITUTE(IN!G2367,\"-\",\"\")","v":""},"",{"$f":"IN!F2367*60","v":0},0,"-"]
[0,{"$error":"#VALUE!"},{"$error":"#VALUE!"},{"$f":"SUBSTITUTE(IN!G2368,\"-\",\"\")","v":""},"",{"$f":"IN!F2368*60","v":0},0,"-"]
[0,{"$error":"#VALUE!"},{"$error":"#VALUE!"},{"$f":"SUBSTITUTE(IN!G2369,\"-\",\"\")","v":""},"",{"$f":"IN!F2369*60","v":0},0,"-"]
[0,{"$error":"#VALUE!"},{"$error":"#VALUE!"},{"$f":"SUBSTITUTE(IN!G2370,\"-\",\"\")","v":""},"",{"$f":"IN!F2370*60","v":0},0,"-"]
[0,{"$error":"#VALUE!"},{"$error":"#VALUE!"},{"$f":"SUBSTITUTE(IN!G2371,\"-\",\"\")","v":""},"",{"$f":"IN!F2371*60","v":0},0,"-"]
[0,{"$error":"#VALUE!"},{"$error":"#VALUE!"},{"$f":"SUBSTITUTE(IN!G2372,\"-\",\"\")","v":""},"",{"$f":"IN!F2372*60","v":0},0,"-"]
[{"$f":"LEN(D2373)","v":0},{"$f":"VALUE(LEFT(D2373,1))","v":{"$error":"#VALUE!"}},{"$f":"IF(B2373<2,20,19)","v":{"$error":"#VALUE!"}},{"$f":"SUBSTITUTE(IN!G2373,\"-\",\"\")","v":""},{"$f":"IF(A2373=10,CONCATENATE(C2373,D2373),D2373)","v":""},{"$f":"IN!F2373*60","v":0},{"$f":"ROUND(F2373,0)","v":0},{"$f":"CONCATENATE(MID(E2373,3,6),\"-\",MID(E2373,9,4))","v":"-"}]
[0,{"$error":"#VALUE!"},{"$error":"#VALUE!"},{"$f":"SUBSTITUTE(IN!G2374,\"-\",\"\")","v":""},"",{"$f":"IN!F2374*60","v":0},0,"-"]
[0,{"$error":"#VALUE!"},{"$error":"#VALUE!"},{"$f":"SUBSTITUTE(IN!G2375,\"-\",\"\")","v":""},"",{"$f":"IN!F2375*60","v":0},0,"-"]
[0,{"$error":"#VALUE!"},{"$error":"#VALUE!"},{"$f":"SUBSTITUTE(IN!G2376,\"-\",\"\")","v":""},"",{"$f":"IN!F2376*60","v":0},0,"-"]
[0,{"$error":"#VALUE!"},{"$error":"#VALUE!"},{"$f":"SUBSTITUTE(IN!G2377,\"-\",\"\")","v":""},"",{"$f":"IN!F2377*60","v":0},0,"-"]
[0,{"$error":"#VALUE!"},{"$error":"#VALUE!"},{"$f":"SUBSTITUTE(IN!G2378,\"-\",\"\")","v":""},"",{"$f":"IN!F2378*60","v":0},0,"-"]
[0,{"$error":"#VALUE!"},{"$error":"#VALUE!"},{"$f":"SUBSTITUTE(IN!G2379,\"-\",\"\")","v":""},"",{"$f":"IN!F2379*60","v":0},0,"-"]
[0,{"$error":"#VALUE!"},{"$error":"#VALUE!"},{"$f":"SUBSTITUTE(IN!G2380,\"-\",\"\")","v":""},"",{"$f":"IN!F2380*60","v":0},0,"-"]
[0,{"$error":"#VALUE!"},{"$error":"#VALUE!"},{"$f":"SUBSTITUTE(IN!G2381,\"-\",\"\")","v":""},"",{"$f":"IN!F2381*60","v":0},0,"-"]
[0,{"$error":"#VALUE!"},{"$error":"#VALUE!"},{"$f":"SUBSTITUTE(IN!G2382,\"-\",\"\")","v":""},"",{"$f":"IN!F2382*60","v":0},0,"-"]
[0,{"$error":"#VALUE!"},{"$error":"#VALUE!"},{"$f":"SUBSTITUTE(IN!G2383,\"-\",\"\")","v":""},"",{"$f":"IN!F2383*60","v":0},0,"-"]
[0,{"$error":"#VALUE!"},{"$error":"#VALUE!"},{"$f":"SUBSTITUTE(IN!G2384,\"-\",\"\")","v":""},"",{"$f":"IN!F2384*60","v":0},0,"-"]
[0,{"$error":"#VALUE!"},{"$error":"#VALUE!"},{"$f":"SUBSTITUTE(IN!G2385,\"-\",\"\")","v":""},"",{"$f":"IN!F2385*60","v":0},0,"-"]
[0,{"$error":"#VALUE!"},{"$error":"#VALUE!"},{"$f":"SUBSTITUTE(IN!G2386,\"-\",\"\")","v":""},"",{"$f":"IN!F2386*60","v":0},0,"-"]
[0,{"$error":"#VALUE!"},{"$error":"#VALUE!"},{"$f":"SUBSTITUTE(IN!G2387,\"-\",\"\")","v":""},"",{"$f":"IN!F2387*60","v":0},0,"-"]
[0,{"$error":"#VALUE!"},{"$error":"#VALUE!"},{"$f":"SUBSTITUTE(IN!G2388,\"-\",\"\")","v":""},"",{"$f":"IN!F2388*60","v":0},0,"-"]
[0,{"$error":"#VALUE!"},{"$error":"#VALUE!"},{"$f":"SUBSTITUTE(IN!G2389,\"-\",\"\")","v":""},"",{"$f":"IN!F2389*60","v":0},0,"-"]
[0,{"$error":"#VALUE!"},{"$error":"#VALUE!"},{"$f":"SUBSTITUTE(IN!G2390,\"-\",\"\")","v":""},"",{"$f":"IN!F2390*60","v":0},0,"-"]
[0,{"$error":"#VALUE!"},{"$error":"#VALUE!"},{"$f":"SUBSTITUTE(IN!G2391,\"-\",\"\")","v":""},"",{"$f":"IN!F2391*60","v":0},0,"-"]
[0,{"$error":"#VALUE!"},{"$error":"#VALUE!"},{"$f":"SUBSTITUTE(IN!G2392,\"-\",\"\")","v":""},"",{"$f":"IN!F2392*60","v":0},0,"-"]
[0,{"$error":"#VALUE!"},{"$error":"#VALUE!"},{"$f":"SUBSTITUTE(IN!G2393,\"-\",\"\")","v":""},"",{"$f":"IN!F2393*60","v":0},0,"-"]
[0,{"$error":"#VALUE!"},{"$error":"#VALUE!"},{"$f":"SUBSTITUTE(IN!G2394,\"-\",\"\")","v":""},"",{"$f":"IN!F2394*60","v":0},0,"-"]
[0,{"$error":"#VALUE!"},{"$error":"#VALUE!"},{"$f":"SUBSTITUTE(IN!G2395,\"-\",\"\")","v":""},"",{"$f":"IN!F2395*60","v":0},0,"-"]
[0,{"$error":"#VALUE!"},{"$error":"#VALUE!"},{"$f":"SUBSTITUTE(IN!G2396,\"-\",\"\")","v":""},"",{"$f":"IN!F2396*60","v":0},0,"-"]
[0,{"$error":"#VALUE!"},{"$error":"#VALUE!"},{"$f":"SUBSTITUTE(IN!G2397,\"-\",\"\")","v":""},"",{"$f":"IN!F2397*60","v":0},0,"-"]
[0,{"$error":"#VALUE!"},{"$error":"#VALUE!"},{"$f":"SUBSTITUTE(IN!G2398,\"-\",\"\")","v":""},"",{"$f":"IN!F2398*60","v":0},0,"-"]
[0,{"$error":"#VALUE!"},{"$error":"#VALUE!"},{"$f":"SUBSTITUTE(IN!G2399,\"-\",\"\")","v":""},"",{"$f":"IN!F2399*60","v":0},0,"-"]
[0,{"$error":"#VALUE!"},{"$error":"#VALUE!"},{"$f":"SUBSTITUTE(IN!G2400,\"-\",\"\")","v":""},"",{"$f":"IN!F2400*60","v":0},0,"-"]
[0,{"$error":"#VALUE!"},{"$error":"#VALUE!"},{"$f":"SUBSTITUTE(IN!G2401,\"-\",\"\")","v":""},"",{"$f":"IN!F2401*60","v":0},0,"-"]
[0,{"$error":"#VALUE!"},{"$error":"#VALUE!"},{"$f":"SUBSTITUTE(IN!G2402,\"-\",\"\")","v":""},"",{"$f":"IN!F2402*60","v":0},0,"-"]
[0,{"$error":"#VALUE!"},{"$error":"#VALUE!"},{"$f":"SUBSTITUTE(IN!G2403,\"-\",\"\")","v":""},"",{"$f":"IN!F2403*60","v":0},0,"-"]
[0,{"$error":"#VALUE!"},{"$error":"#VALUE!"},{"$f":"SUBSTITUTE(IN!G2404,\"-\",\"\")","v":""},"",{"$f":"IN!F2404*60","v":0},0,"-"]
[0,{"$error":"#VALUE!"},{"$error":"#VALUE!"},{"$f":"SUBSTITUTE(IN!G2405,\"-\",\"\")","v":""},"",{"$f":"IN!F2405*60","v":0},0,"-"]
[0,{"$error":"#VALUE!"},{"$error":"#VALUE!"},{"$f":"SUBSTITUTE(IN!G2406,\"-\",\"\")","v":""},"",{"$f":"IN!F2406*60","v":0},0,"-"]
[0,{"$error":"#VALUE!"},{"$error":"#VALUE!"},{"$f":"SUBSTITUTE(IN!G2407,\"-\",\"\")","v":""},"",{"$f":"IN!F2407*60","v":0},0,"-"]
[0,{"$error":"#VALUE!"},{"$error":"#VALUE!"},{"$f":"SUBSTITUTE(IN!G2408,\"-\",\"\")","v":""},"",{"$f":"IN!F2408*60","v":0},0,"-"]
[0,{"$error":"#VALUE!"},{"$error":"#VALUE!"},{"$f":"SUBSTITUTE(IN!G2409,\"-\",\"\")","v":""},"",{"$f":"IN!F2409*60","v":0},0,"-"]
[0,{"$error":"#VALUE!"},{"$error":"#VALUE!"},{"$f":"SUBSTITUTE(IN!G2410,\"-\",\"\")","v":""},"",{"$f":"IN!F2410*60","v":0},0,"-"]
[0,{"$error":"#VALUE!"},{"$error":"#VALUE!"},{"$f":"SUBSTITUTE(IN!G2411,\"-\",\"\")","v":""},"",{"$f":"IN!F2411*60","v":0},0,"-"]
[0,{"$error":"#VALUE!"},{"$error":"#VALUE!"},{"$f":"SUBSTITUTE(IN!G2412,\"-\",\"\")","v":""},"",{"$f":"IN!F2412*60","v":0},0,"-"]
[0,{"$error":"#VALUE!"},{"$error":"#VALUE!"},{"$f":"SUBSTITUTE(IN!G2413,\"-\",\"\")","v":""},"",{"$f":"IN!F2413*60","v":0},0,"-"]
[0,{"$error":"#VALUE!"},{"$error":"#VALUE!"},{"$f":"SUBSTITUTE(IN!G2414,\"-\",\"\")","v":""},"",{"$f":"IN!F2414*60","v":0},0,"-"]
[0,{"$error":"#VALUE!"},{"$error":"#VALUE!"},{"$f":"SUBSTITUTE(IN!G2415,\"-\",\"\")","v":""},"",{"$f":"IN!F2415*60","v":0},0,"-"]
[0,{"$error":"#VALUE!"},{"$error":"#VALUE!"},{"$f":"SUBSTITUTE(IN!G2416,\"-\",\"\")","v":""},"",{"$f":"IN!F2416*60","v":0},0,"-"]
[0,{"$error":"#VALUE!"},{"$error":"#VALUE!"},{"$f":"SUBSTITUTE(IN!G2417,\"-\",\"\")","v":""},"",{"$f":"IN!F2417*60","v":0},0,"-"]
[0,{"$error":"#VALUE!"},{"$error":"#VALUE!"},{"$f":"SUBSTITUTE(IN!G2418,\"-\",\"\")","v":""},"",{"$f":"IN!F2418*60","v":0},0,"-"]
[0,{"$error":"#VALUE!"},{"$error":"#VALUE!"},{"$f":"SUBSTITUTE(IN!G2419,\"-\",\"\")","v":""},"",{"$f":"IN!F2419*60","v":0},0,"-"]
[0,{"$error":"#VALUE!"},{"$error":"#VALUE!"},{"$f":"SUBSTITUTE(IN!G2420,\"-\",\"\")","v":""},"",{"$f":"IN!F2420*60","v":0},0,"-"]
[0,{"$error":"#VALUE!"},{"$error":"#VALUE!"},{"$f":"SUBSTITUTE(IN!G2421,\"-\",\"\")","v":""},"",{"$f":"IN!F2421*60","v":0},0,"-"]
[0,{"$error":"#VALUE!"},{"$error":"#VALUE!"},{"$f":"SUBSTITUTE(IN!G2422,\"-\",\"\")","v":""},"",{"$f":"IN!F2422*60","v":0},0,"-"]
[0,{"$error":"#VALUE!"},{"$error":"#VALUE!"},{"$f":"SUBSTITUTE(IN!G2423,\"-\",\"\")","v":""},"",{"$f":"IN!F2423*60","v":0},0,"-"]
[0,{"$error":"#VALUE!"},{"$error":"#VALUE!"},{"$f":"SUBSTITUTE(IN!G2424,\"-\",\"\")","v":""},"",{"$f":"IN!F2424*60","v":0},0,"-"]
[0,{"$error":"#VALUE!"},{"$error":"#VALUE!"},{"$f":"SUBSTITUTE(IN!G2425,\"-\",\"\")","v":""},"",{"$f":"IN!F2425*60","v":0},0,"-"]
[0,{"$error":"#VALUE!"},{"$error":"#VALUE!"},{"$f":"SUBSTITUTE(IN!G2426,\"-\",\"\")","v":""},"",{"$f":"IN!F2426*60","v":0},0,"-"]
[0,{"$error":"#VALUE!"},{"$error":"#VALUE!"},{"$f":"SUBSTITUTE(IN!G2427,\"-\",\"\")","v":""},"",{"$f":"IN!F2427*60","v":0},0,"-"]
[0,{"$error":"#VALUE!"},{"$error":"#VALUE!"},{"$f":"SUBSTITUTE(IN!G2428,\"-\",\"\")","v":""},"",{"$f":"IN!F2428*60","v":0},0,"-"]
[0,{"$error":"#VALUE!"},{"$error":"#VALUE!"},{"$f":"SUBSTITUTE(IN!G2429,\"-\",\"\")","v":""},"",{"$f":"IN!F2429*60","v":0},0,"-"]
[0,{"$error":"#VALUE!"},{"$error":"#VALUE!"},{"$f":"SUBSTITUTE(IN!G2430,\"-\",\"\")","v":""},"",{"$f":"IN!F2430*60","v":0},0,"-"]
[0,{"$error":"#VALUE!"},{"$error":"#VALUE!"},{"$f":"SUBSTITUTE(IN!G2431,\"-\",\"\")","v":""},"",{"$f":"IN!F2431*60","v":0},0,"-"]
[0,{"$error":"#VALUE!"},{"$error":"#VALUE!"},{"$f":"SUBSTITUTE(IN!G2432,\"-\",\"\")","v":""},"",{"$f":"IN!F2432*60","v":0},0,"-"]
[0,{"$error":"#VALUE!"},{"$error":"#VALUE!"},{"$f":"SUBSTITUTE(IN!G2433,\"-\",\"\")","v":""},"",{"$f":"IN!F2433*60","v":0},0,"-"]
[0,{"$error":"#VALUE!"},{"$error":"#VALUE!"},{"$f":"SUBSTITUTE(IN!G2434,\"-\",\"\")","v":""},"",{"$f":"IN!F2434*60","v":0},0,"-"]
[0,{"$error":"#VALUE!"},{"$error":"#VALUE!"},{"$f":"SUBSTITUTE(IN!G2435,\"-\",\"\")","v":""},"",{"$f":"IN!F2435*60","v":0},0,"-"]
[0,{"$error":"#VALUE!"},{"$error":"#VALUE!"},{"$f":"SUBSTITUTE(IN!G2436,\"-\",\"\")","v":""},"",{"$f":"IN!F2436*60","v":0},0,"-"]
[{"$f":"LEN(D2437)","v":0},{"$f":"VALUE(LEFT(D2437,1))","v":{"$error":"#VALUE!"}},{"$f":"IF(B2437<2,20,19)","v":{"$error":"#VALUE!"}},{"$f":"SUBSTITUTE(IN!G2437,\"-\",\"\")","v":""},{"$f":"IF(A2437=10,CONCATENATE(C2437,D2437),D2437)","v":""},{"$f":"IN!F2437*60","v":0},{"$f":"ROUND(F2437,0)","v":0},{"$f":"CONCATENATE(MID(E2437,3,6),\"-\",MID(E2437,9,4))","v":"-"}]
[0,{"$error":"#VALUE!"},{"$error":"#VALUE!"},{"$f":"SUBSTITUTE(IN!G2438,\"-\",\"\")","v":""},"",{"$f":"IN!F2438*60","v":0},0,"-"]
[0,{"$error":"#VALUE!"},{"$error":"#VALUE!"},{"$f":"SUBSTITUTE(IN!G2439,\"-\",\"\")","v":""},"",{"$f":"IN!F2439*60","v":0},0,"-"]
[0,{"$error":"#VALUE!"},{"$error":"#VALUE!"},{"$f":"SUBSTITUTE(IN!G2440,\"-\",\"\")","v":""},"",{"$f":"IN!F2440*60","v":0},0,"-"]
[0,{"$error":"#VALUE!"},{"$error":"#VALUE!"},{"$f":"SUBSTITUTE(IN!G2441,\"-\",\"\")","v":""},"",{"$f":"IN!F2441*60","v":0},0,"-"]
[0,{"$error":"#VALUE!"},{"$error":"#VALUE!"},{"$f":"SUBSTITUTE(IN!G2442,\"-\",\"\")","v":""},"",{"$f":"IN!F2442*60","v":0},0,"-"]
[0,{"$error":"#VALUE!"},{"$error":"#VALUE!"},{"$f":"SUBSTITUTE(IN!G2443,\"-\",\"\")","v":""},"",{"$f":"IN!F2443*60","v":0},0,"-"]
[0,{"$error":"#VALUE!"},{"$error":"#VALUE!"},{"$f":"SUBSTITUTE(IN!G2444,\"-\",\"\")","v":""},"",{"$f":"IN!F2444*60","v":0},0,"-"]
[0,{"$error":"#VALUE!"},{"$error":"#VALUE!"},{"$f":"SUBSTITUTE(IN!G2445,\"-\",\"\")","v":""},"",{"$f":"IN!F2445*60","v":0},0,"-"]
[0,{"$error":"#VALUE!"},{"$error":"#VALUE!"},{"$f":"SUBSTITUTE(IN!G2446,\"-\",\"\")","v":""},"",{"$f":"IN!F2446*60","v":0},0,"-"]
[0,{"$error":"#VALUE!"},{"$error":"#VALUE!"},{"$f":"SUBSTITUTE(IN!G2447,\"-\",\"\")","v":""},"",{"$f":"IN!F2447*60","v":0},0,"-"]
[0,{"$error":"#VALUE!"},{"$error":"#VALUE!"},{"$f":"SUBSTITUTE(IN!G2448,\"-\",\"\")","v":""},"",{"$f":"IN!F2448*60","v":0},0,"-"]
[0,{"$error":"#VALUE!"},{"$error":"#VALUE!"},{"$f":"SUBSTITUTE(IN!G2449,\"-\",\"\")","v":""},"",{"$f":"IN!F2449*60","v":0},0,"-"]
[0,{"$error":"#VALUE!"},{"$error":"#VALUE!"},{"$f":"SUBSTITUTE(IN!G2450,\"-\",\"\")","v":""},"",{"$f":"IN!F2450*60","v":0},0,"-"]
[0,{"$error":"#VALUE!"},{"$error":"#VALUE!"},{"$f":"SUBSTITUTE(IN!G2451,\"-\",\"\")","v":""},"",{"$f":"IN!F2451*60","v":0},0,"-"]
[0,{"$error":"#VALUE!"},{"$error":"#VALUE!"},{"$f":"SUBSTITUTE(IN!G2452,\"-\",\"\")","v":""},"",{"$f":"IN!F2452*60","v":0},0,"-"]
[0,{"$error":"#VALUE!"},{"$error":"#VALUE!"},{"$f":"SUBSTITUTE(IN!G2453,\"-\",\"\")","v":""},"",{"$f":"IN!F2453*60","v":0},0,"-"]
[0,{"$error":"#VALUE!"},{"$error":"#VALUE!"},{"$f":"SUBSTITUTE(IN!G2454,\"-\",\"\")","v":""},"",{"$f":"IN!F2454*60","v":0},0,"-"]
[0,{"$error":"#VALUE!"},{"$error":"#VALUE!"},{"$f":"SUBSTITUTE(IN!G2455,\"-\",\"\")","v":""},"",{"$f":"IN!F2455*60","v":0},0,"-"]
[0,{"$error":"#VALUE!"},{"$error":"#VALUE!"},{"$f":"SUBSTITUTE(IN!G2456,\"-\",\"\")","v":""},"",{"$f":"IN!F2456*60","v":0},0,"-"]
[0,{"$error":"#VALUE!"},{"$error":"#VALUE!"},{"$f":"SUBSTITUTE(IN!G2457,\"-\",\"\")","v":""},"",{"$f":"IN!F2457*60","v":0},0,"-"]
[0,{"$error":"#VALUE!"},{"$error":"#VALUE!"},{"$f":"SUBSTITUTE(IN!G2458,\"-\",\"\")","v":""},"",{"$f":"IN!F2458*60","v":0},0,"-"]
[0,{"$error":"#VALUE!"},{"$error":"#VALUE!"},{"$f":"SUBSTITUTE(IN!G2459,\"-\",\"\")","v":""},"",{"$f":"IN!F2459*60","v":0},0,"-"]
[0,{"$error":"#VALUE!"},{"$error":"#VALUE!"},{"$f":"SUBSTITUTE(IN!G2460,\"-\",\"\")","v":""},"",{"$f":"IN!F2460*60","v":0},0,"-"]
[0,{"$error":"#VALUE!"},{"$error":"#VALUE!"},{"$f":"SUBSTITUTE(IN!G2461,\"-\",\"\")","v":""},"",{"$f":"IN!F2461*60","v":0},0,"-"]
[0,{"$error":"#VALUE!"},{"$error":"#VALUE!"},{"$f":"SUBSTITUTE(IN!G2462,\"-\",\"\")","v":""},"",{"$f":"IN!F2462*60","v":0},0,"-"]
[0,{"$error":"#VALUE!"},{"$error":"#VALUE!"},{"$f":"SUBSTITUTE(IN!G2463,\"-\",\"\")","v":""},"",{"$f":"IN!F2463*60","v":0},0,"-"]
[0,{"$error":"#VALUE!"},{"$error":"#VALUE!"},{"$f":"SUBSTITUTE(IN!G2464,\"-\",\"\")","v":""},"",{"$f":"IN!F2464*60","v":0},0,"-"]
[0,{"$error":"#VALUE!"},{"$error":"#VALUE!"},{"$f":"SUBSTITUTE(IN!G2465,\"-\",\"\")","v":""},"",{"$f":"IN!F2465*60","v":0},0,"-"]
[0,{"$error":"#VALUE!"},{"$error":"#VALUE!"},{"$f":"SUBSTITUTE(IN!G2466,\"-\",\"\")","v":""},"",{"$f":"IN!F2466*60","v":0},0,"-"]
[0,{"$error":"#VALUE!"},{"$error":"#VALUE!"},{"$f":"SUBSTITUTE(IN!G2467,\"-\",\"\")","v":""},"",{"$f":"IN!F2467*60","v":0},0,"-"]
[0,{"$error":"#VALUE!"},{"$error":"#VALUE!"},{"$f":"SUBSTITUTE(IN!G2468,\"-\",\"\")","v":""},"",{"$f":"IN!F2468*60","v":0},0,"-"]
[0,{"$error":"#VALUE!"},{"$error":"#VALUE!"},{"$f":"SUBSTITUTE(IN!G2469,\"-\",\"\")","v":""},"",{"$f":"IN!F2469*60","v":0},0,"-"]
[0,{"$error":"#VALUE!"},{"$error":"#VALUE!"},{"$f":"SUBSTITUTE(IN!G2470,\"-\",\"\")","v":""},"",{"$f":"IN!F2470*60","v":0},0,"-"]
[0,{"$error":"#VALUE!"},{"$error":"#VALUE!"},{"$f":"SUBSTITUTE(IN!G2471,\"-\",\"\")","v":""},"",{"$f":"IN!F2471*60","v":0},0,"-"]
[0,{"$error":"#VALUE!"},{"$error":"#VALUE!"},{"$f":"SUBSTITUTE(IN!G2472,\"-\",\"\")","v":""},"",{"$f":"IN!F2472*60","v":0},0,"-"]
[0,{"$error":"#VALUE!"},{"$error":"#VALUE!"},{"$f":"SUBSTITUTE(IN!G2473,\"-\",\"\")","v":""},"",{"$f":"IN!F2473*60","v":0},0,"-"]
[0,{"$error":"#VALUE!"},{"$error":"#VALUE!"},{"$f":"SUBSTITUTE(IN!G2474,\"-\",\"\")","v":""},"",{"$f":"IN!F2474*60","v":0},0,"-"]
[0,{"$error":"#VALUE!"},{"$error":"#VALUE!"},{"$f":"SUBSTITUTE(IN!G2475,\"-\",\"\")","v":""},"",{"$f":"IN!F2475*60","v":0},0,"-"]
[0,{"$error":"#VALUE!"},{"$error":"#VALUE!"},{"$f":"SUBSTITUTE(IN!G2476,\"-\",\"\")","v":""},"",{"$f":"IN!F2476*60","v":0},0,"-"]
[0,{"$error":"#VALUE!"},{"$error":"#VALUE!"},{"$f":"SUBSTITUTE(IN!G2477,\"-\",\"\")","v":""},"",{"$f":"IN!F2477*60","v":0},0,"-"]
[0,{"$error":"#VALUE!"},{"$error":"#VALUE!"},{"$f":"SUBSTITUTE(IN!G2478,\"-\",\"\")","v":""},"",{"$f":"IN!F2478*60","v":0},0,"-"]
[0,{"$error":"#VALUE!"},{"$error":"#VALUE!"},{"$f":"SUBSTITUTE(IN!G2479,\"-\",\"\")","v":""},"",{"$f":"IN!F2479*60","v":0},0,"-"]
[0,{"$error":"#VALUE!"},{"$error":"#VALUE!"},{"$f":"SUBSTITUTE(IN!G2480,\"-\",\"\")","v":""},"",{"$f":"IN!F2480*60","v":0},0,"-"]
[0,{"$error":"#VALUE!"},{"$error":"#VALUE!"},{"$f":"SUBSTITUTE(IN!G2481,\"-\",\"\")","v":""},"",{"$f":"IN!F2481*60","v":0},0,"-"]
[0,{"$error":"#VALUE!"},{"$error":"#VALUE!"},{"$f":"SUBSTITUTE(IN!G2482,\"-\",\"\")","v":""},"",{"$f":"IN!F2482*60","v":0},0,"-"]
[0,{"$error":"#VALUE!"},{"$error":"#VALUE!"},{"$f":"SUBSTITUTE(IN!G2483,\"-\",\"\")","v":""},"",{"$f":"IN!F2483*60","v":0},0,"-"]
[0,{"$error":"#VALUE!"},{"$error":"#VALUE!"},{"$f":"SUBSTITUTE(IN!G2484,\"-\",\"\")","v":""},"",{"$f":"IN!F2484*60","v":0},0,"-"]
[0,{"$error":"#VALUE!"},{"$error":"#VALUE!"},{"$f":"SUBSTITUTE(IN!G2485,\"-\",\"\")","v":""},"",{"$f":"IN!F2485*60","v":0},0,"-"]
[0,{"$error":"#VALUE!"},{"$error":"#VALUE!"},{"$f":"SUBSTITUTE(IN!G2486,\"-\",\"\")","v":""},"",{"$f":"IN!F2486*60","v":0},0,"-"]
[0,{"$error":"#VALUE!"},{"$error":"#VALUE!"},{"$f":"SUBSTITUTE(IN!G2487,\"-\",\"\")","v":""},"",{"$f":"IN!F2487*60","v":0},0,"-"]
[0,{"$error":"#VALUE!"},{"$error":"#VALUE!"},{"$f":"SUBSTITUTE(IN!G2488,\"-\",\"\")","v":""},"",{"$f":"IN!F2488*60","v":0},0,"-"]
[0,{"$error":"#VALUE!"},{"$error":"#VALUE!"},{"$f":"SUBSTITUTE(IN!G2489,\"-\",\"\")","v":""},"",{"$f":"IN!F2489*60","v":0},0,"-"]
[0,{"$error":"#VALUE!"},{"$error":"#VALUE!"},{"$f":"SUBSTITUTE(IN!G2490,\"-\",\"\")","v":""},"",{"$f":"IN!F2490*60","v":0},0,"-"]
[0,{"$error":"#VALUE!"},{"$error":"#VALUE!"},{"$f":"SUBSTITUTE(IN!G2491,\"-\",\"\")","v":""},"",{"$f":"IN!F2491*60","v":0},0,"-"]
[0,{"$error":"#VALUE!"},{"$error":"#VALUE!"},{"$f":"SUBSTITUTE(IN!G2492,\"-\",\"\")","v":""},"",{"$f":"IN!F2492*60","v":0},0,"-"]
[0,{"$error":"#VALUE!"},{"$error":"#VALUE!"},{"$f":"SUBSTITUTE(IN!G2493,\"-\",\"\")","v":""},"",{"$f":"IN!F2493*60","v":0},0,"-"]
[0,{"$error":"#VALUE!"},{"$error":"#VALUE!"},{"$f":"SUBSTITUTE(IN!G2494,\"-\",\"\")","v":""},"",{"$f":"IN!F2494*60","v":0},0,"-"]
[0,{"$error":"#VALUE!"},{"$error":"#VALUE!"},{"$f":"SUBSTITUTE(IN!G2495,\"-\",\"\")","v":""},"",{"$f":"IN!F2495*60","v":0},0,"-"]
[0,{"$error":"#VALUE!"},{"$error":"#VALUE!"},{"$f":"SUBSTITUTE(IN!G2496,\"-\",\"\")","v":""},"",{"$f":"IN!F2496*60","v":0},0,"-"]
[0,{"$error":"#VALUE!"},{"$error":"#VALUE!"},{"$f":"SUBSTITUTE(IN!G2497,\"-\",\"\")","v":""},"",{"$f":"IN!F2497*60","v":0},0,"-"]
[0,{"$error":"#VALUE!"},{"$error":"#VALUE!"},{"$f":"SUBSTITUTE(IN!G2498,\"-\",\"\")","v":""},"",{"$f":"IN!F2498*60","v":0},0,"-"]
[0,{"$error":"#VALUE!"},{"$error":"#VALUE!"},{"$f":"SUBSTITUTE(IN!G2499,\"-\",\"\")","v":""},"",{"$f":"IN!F2499*60","v":0},0,"-"]
[0,{"$error":"#VALUE!"},{"$error":"#VALUE!"},{"$f":"SUBSTITUTE(IN!G2500,\"-\",\"\")","v":""},"",{"$f":"IN!F2500*60","v":0},0,"-"]
[{"$f":"LEN(D2501)","v":0},{"$f":"VALUE(LEFT(D2501,1))","v":{"$error":"#VALUE!"}},{"$f":"IF(B2501<2,20,19)","v":{"$error":"#VALUE!"}},{"$f":"SUBSTITUTE(IN!G2501,\"-\",\"\")","v":""},{"$f":"IF(A2501=10,CONCATENATE(C2501,D2501),D2501)","v":""},{"$f":"IN!F2501*60","v":0},{"$f":"ROUND(F2501,0)","v":0},{"$f":"CONCATENATE(MID(E2501,3,6),\"-\",MID(E2501,9,4))","v":"-"}]
[0,{"$error":"#VALUE!"},{"$error":"#VALUE!"},{"$f":"SUBSTITUTE(IN!G2502,\"-\",\"\")","v":""},"",{"$f":"IN!F2502*60","v":0},0,"-"]
[0,{"$error":"#VALUE!"},{"$error":"#VALUE!"},{"$f":"SUBSTITUTE(IN!G2503,\"-\",\"\")","v":""},"",{"$f":"IN!F2503*60","v":0},0,"-"]
[0,{"$error":"#VALUE!"},{"$error":"#VALUE!"},{"$f":"SUBSTITUTE(IN!G2504,\"-\",\"\")","v":""},"",{"$f":"IN!F2504*60","v":0},0,"-"]
[0,{"$error":"#VALUE!"},{"$error":"#VALUE!"},{"$f":"SUBSTITUTE(IN!G2505,\"-\",\"\")","v":""},"",{"$f":"IN!F2505*60","v":0},0,"-"]
[0,{"$error":"#VALUE!"},{"$error":"#VALUE!"},{"$f":"SUBSTITUTE(IN!G2506,\"-\",\"\")","v":""},"",{"$f":"IN!F2506*60","v":0},0,"-"]
[0,{"$error":"#VALUE!"},{"$error":"#VALUE!"},{"$f":"SUBSTITUTE(IN!G2507,\"-\",\"\")","v":""},"",{"$f":"IN!F2507*60","v":0},0,"-"]
[0,{"$error":"#VALUE!"},{"$error":"#VALUE!"},{"$f":"SUBSTITUTE(IN!G2508,\"-\",\"\")","v":""},"",{"$f":"IN!F2508*60","v":0},0,"-"]
[0,{"$error":"#VALUE!"},{"$error":"#VALUE!"},{"$f":"SUBSTITUTE(IN!G2509,\"-\",\"\")","v":""},"",{"$f":"IN!F2509*60","v":0},0,"-"]
[0,{"$error":"#VALUE!"},{"$error":"#VALUE!"},{"$f":"SUBSTITUTE(IN!G2510,\"-\",\"\")","v":""},"",{"$f":"IN!F2510*60","v":0},0,"-"]
[0,{"$error":"#VALUE!"},{"$error":"#VALUE!"},{"$f":"SUBSTITUTE(IN!G2511,\"-\",\"\")","v":""},"",{"$f":"IN!F2511*60","v":0},0,"-"]
[0,{"$error":"#VALUE!"},{"$error":"#VALUE!"},{"$f":"SUBSTITUTE(IN!G2512,\"-\",\"\")","v":""},"",{"$f":"IN!F2512*60","v":0},0,"-"]
[0,{"$error":"#VALUE!"},{"$error":"#VALUE!"},{"$f":"SUBSTITUTE(IN!G2513,\"-\",\"\")","v":""},"",{"$f":"IN!F2513*60","v":0},0,"-"]
[0,{"$error":"#VALUE!"},{"$error":"#VALUE!"},{"$f":"SUBSTITUTE(IN!G2514,\"-\",\"\")","v":""},"",{"$f":"IN!F2514*60","v":0},0,"-"]
[0,{"$error":"#VALUE!"},{"$error":"#VALUE!"},{"$f":"SUBSTITUTE(IN!G2515,\"-\",\"\")","v":""},"",{"$f":"IN!F2515*60","v":0},0,"-"]
[0,{"$error":"#VALUE!"},{"$error":"#VALUE!"},{"$f":"SUBSTITUTE(IN!G2516,\"-\",\"\")","v":""},"",{"$f":"IN!F2516*60","v":0},0,"-"]
[0,{"$error":"#VALUE!"},{"$error":"#VALUE!"},{"$f":"SUBSTITUTE(IN!G2517,\"-\",\"\")","v":""},"",{"$f":"IN!F2517*60","v":0},0,"-"]
[0,{"$error":"#VALUE!"},{"$error":"#VALUE!"},{"$f":"SUBSTITUTE(IN!G2518,\"-\",\"\")","v":""},"",{"$f":"IN!F2518*60","v":0},0,"-"]
[0,{"$error":"#VALUE!"},{"$error":"#VALUE!"},{"$f":"SUBSTITUTE(IN!G2519,\"-\",\"\")","v":""},"",{"$f":"IN!F2519*60","v":0},0,"-"]
[0,{"$error":"#VALUE!"},{"$error":"#VALUE!"},{"$f":"SUBSTITUTE(IN!G2520,\"-\",\"\")","v":""},"",{"$f":"IN!F2520*60","v":0},0,"-"]
[0,{"$error":"#VALUE!"},{"$error":"#VALUE!"},{"$f":"SUBSTITUTE(IN!G2521,\"-\",\"\")","v":""},"",{"$f":"IN!F2521*60","v":0},0,"-"]
[0,{"$error":"#VALUE!"},{"$error":"#VALUE!"},{"$f":"SUBSTITUTE(IN!G2522,\"-\",\"\")","v":""},"",{"$f":"IN!F2522*60","v":0},0,"-"]
[0,{"$error":"#VALUE!"},{"$error":"#VALUE!"},{"$f":"SUBSTITUTE(IN!G2523,\"-\",\"\")","v":""},"",{"$f":"IN!F2523*60","v":0},0,"-"]
[0,{"$error":"#VALUE!"},{"$error":"#VALUE!"},{"$f":"SUBSTITUTE(IN!G2524,\"-\",\"\")","v":""},"",{"$f":"IN!F2524*60","v":0},0,"-"]
[0,{"$error":"#VALUE!"},{"$error":"#VALUE!"},{"$f":"SUBSTITUTE(IN!G2525,\"-\",\"\")","v":""},"",{"$f":"IN!F2525*60","v":0},0,"-"]
[0,{"$error":"#VALUE!"},{"$error":"#VALUE!"},{"$f":"SUBSTITUTE(IN!G2526,\"-\",\"\")","v":""},"",{"$f":"IN!F2526*60","v":0},0,"-"]
[0,{"$error":"#VALUE!"},{"$error":"#VALUE!"},{"$f":"SUBSTITUTE(IN!G2527,\"-\",\"\")","v":""},"",{"$f":"IN!F2527*60","v":0},0,"-"]
[0,{"$error":"#VALUE!"},{"$error":"#VALUE!"},{"$f":"SUBSTITUTE(IN!G2528,\"-\",\"\")","v":""},"",{"$f":"IN!F2528*60","v":0},0,"-"]
[0,{"$error":"#VALUE!"},{"$error":"#VALUE!"},{"$f":"SUBSTITUTE(IN!G2529,\"-\",\"\")","v":""},"",{"$f":"IN!F2529*60","v":0},0,"-"]
[0,{"$error":"#VALUE!"},{"$error":"#VALUE!"},{"$f":"SUBSTITUTE(IN!G2530,\"-\",\"\")","v":""},"",{"$f":"IN!F2530*60","v":0},0,"-"]
[0,{"$error":"#VALUE!"},{"$error":"#VALUE!"},{"$f":"SUBSTITUTE(IN!G2531,\"-\",\"\")","v":""},"",{"$f":"IN!F2531*60","v":0},0,"-"]
[0,{"$error":"#VALUE!"},{"$error":"#VALUE!"},{"$f":"SUBSTITUTE(IN!G2532,\"-\",\"\")","v":""},"",{"$f":"IN!F2532*60","v":0},0,"-"]
[0,{"$error":"#VALUE!"},{"$error":"#VALUE!"},{"$f":"SUBSTITUTE(IN!G2533,\"-\",\"\")","v":""},"",{"$f":"IN!F2533*60","v":0},0,"-"]
[0,{"$error":"#VALUE!"},{"$error":"#VALUE!"},{"$f":"SUBSTITUTE(IN!G2534,\"-\",\"\")","v":""},"",{"$f":"IN!F2534*60","v":0},0,"-"]
[0,{"$error":"#VALUE!"},{"$error":"#VALUE!"},{"$f":"SUBSTITUTE(IN!G2535,\"-\",\"\")","v":""},"",{"$f":"IN!F2535*60","v":0},0,"-"]
[0,{"$error":"#VALUE!"},{"$error":"#VALUE!"},{"$f":"SUBSTITUTE(IN!G2536,\"-\",\"\")","v":""},"",{"$f":"IN!F2536*60","v":0},0,"-"]
[0,{"$error":"#VALUE!"},{"$error":"#VALUE!"},{"$f":"SUBSTITUTE(IN!G2537,\"-\",\"\")","v":""},"",{"$f":"IN!F2537*60","v":0},0,"-"]
[0,{"$error":"#VALUE!"},{"$error":"#VALUE!"},{"$f":"SUBSTITUTE(IN!G2538,\"-\",\"\")","v":""},"",{"$f":"IN!F2538*60","v":0},0,"-"]
[0,{"$error":"#VALUE!"},{"$error":"#VALUE!"},{"$f":"SUBSTITUTE(IN!G2539,\"-\",\"\")","v":""},"",{"$f":"IN!F2539*60","v":0},0,"-"]
[0,{"$error":"#VALUE!"},{"$error":"#VALUE!"},{"$f":"SUBSTITUTE(IN!G2540,\"-\",\"\")","v":""},"",{"$f":"IN!F2540*60","v":0},0,"-"]
[0,{"$error":"#VALUE!"},{"$error":"#VALUE!"},{"$f":"SUBSTITUTE(IN!G2541,\"-\",\"\")","v":""},"",{"$f":"IN!F2541*60","v":0},0,"-"]
[0,{"$error":"#VALUE!"},{"$error":"#VALUE!"},{"$f":"SUBSTITUTE(IN!G2542,\"-\",\"\")","v":""},"",{"$f":"IN!F2542*60","v":0},0,"-"]
[0,{"$error":"#VALUE!"},{"$error":"#VALUE!"},{"$f":"SUBSTITUTE(IN!G2543,\"-\",\"\")","v":""},"",{"$f":"IN!F2543*60","v":0},0,"-"]
[0,{"$error":"#VALUE!"},{"$error":"#VALUE!"},{"$f":"SUBSTITUTE(IN!G2544,\"-\",\"\")","v":""},"",{"$f":"IN!F2544*60","v":0},0,"-"]
[0,{"$error":"#VALUE!"},{"$error":"#VALUE!"},{"$f":"SUBSTITUTE(IN!G2545,\"-\",\"\")","v":""},"",{"$f":"IN!F2545*60","v":0},0,"-"]
[0,{"$error":"#VALUE!"},{"$error":"#VALUE!"},{"$f":"SUBSTITUTE(IN!G2546,\"-\",\"\")","v":""},"",{"$f":"IN!F2546*60","v":0},0,"-"]
[0,{"$error":"#VALUE!"},{"$error":"#VALUE!"},{"$f":"SUBSTITUTE(IN!G2547,\"-\",\"\")","v":""},"",{"$f":"IN!F2547*60","v":0},0,"-"]
[0,{"$error":"#VALUE!"},{"$error":"#VALUE!"},{"$f":"SUBSTITUTE(IN!G2548,\"-\",\"\")","v":""},"",{"$f":"IN!F2548*60","v":0},0,"-"]
[0,{"$error":"#VALUE!"},{"$error":"#VALUE!"},{"$f":"SUBSTITUTE(IN!G2549,\"-\",\"\")","v":""},"",{"$f":"IN!F2549*60","v":0},0,"-"]
[0,{"$error":"#VALUE!"},{"$error":"#VALUE!"},{"$f":"SUBSTITUTE(IN!G2550,\"-\",\"\")","v":""},"",{"$f":"IN!F2550*60","v":0},0,"-"]
[0,{"$error":"#VALUE!"},{"$error":"#VALUE!"},{"$f":"SUBSTITUTE(IN!G2551,\"-\",\"\")","v":""},"",{"$f":"IN!F2551*60","v":0},0,"-"]
[0,{"$error":"#VALUE!"},{"$error":"#VALUE!"},{"$f":"SUBSTITUTE(IN!G2552,\"-\",\"\")","v":""},"",{"$f":"IN!F2552*60","v":0},0,"-"]
[0,{"$error":"#VALUE!"},{"$error":"#VALUE!"},{"$f":"SUBSTITUTE(IN!G2553,\"-\",\"\")","v":""},"",{"$f":"IN!F2553*60","v":0},0,"-"]
[0,{"$error":"#VALUE!"},{"$error":"#VALUE!"},{"$f":"SUBSTITUTE(IN!G2554,\"-\",\"\")","v":""},"",{"$f":"IN!F2554*60","v":0},0,"-"]
[0,{"$error":"#VALUE!"},{"$error":"#VALUE!"},{"$f":"SUBSTITUTE(IN!G2555,\"-\",\"\")","v":""},"",{"$f":"IN!F2555*60","v":0},0,"-"]
[0,{"$error":"#VALUE!"},{"$error":"#VALUE!"},{"$f":"SUBSTITUTE(IN!G2556,\"-\",\"\")","v":""},"",{"$f":"IN!F2556*60","v":0},0,"-"]
[0,{"$error":"#VALUE!"},{"$error":"#VALUE!"},{"$f":"SUBSTITUTE(IN!G2557,\"-\",\"\")","v":""},"",{"$f":"IN!F2557*60","v":0},0,"-"]
[0,{"$error":"#VALUE!"},{"$error":"#VALUE!"},{"$f":"SUBSTITUTE(IN!G2558,\"-\",\"\")","v":""},"",{"$f":"IN!F2558*60","v":0},0,"-"]
[0,{"$error":"#VALUE!"},{"$error":"#VALUE!"},{"$f":"SUBSTITUTE(IN!G2559,\"-\",\"\")","v":""},"",{"$f":"IN!F2559*60","v":0},0,"-"]
[0,{"$error":"#VALUE!"},{"$error":"#VALUE!"},{"$f":"SUBSTITUTE(IN!G2560,\"-\",\"\")","v":""},"",{"$f":"IN!F2560*60","v":0},0,"-"]
[0,{"$error":"#VALUE!"},{"$error":"#VALUE!"},{"$f":"SUBSTITUTE(IN!G2561,\"-\",\"\")","v":""},"",{"$f":"IN!F2561*60","v":0},0,"-"]
[0,{"$error":"#VALUE!"},{"$error":"#VALUE!"},{"$f":"SUBSTITUTE(IN!G2562,\"-\",\"\")","v":""},"",{"$f":"IN!F2562*60","v":0},0,"-"]
[0,{"$error":"#VALUE!"},{"$error":"#VALUE!"},{"$f":"SUBSTITUTE(IN!G2563,\"-\",\"\")","v":""},"",{"$f":"IN!F2563*60","v":0},0,"-"]
[0,{"$error":"#VALUE!"},{"$error":"#VALUE!"},{"$f":"SUBSTITUTE(IN!G2564,\"-\",\"\")","v":""},"",{"$f":"IN!F2564*60","v":0},0,"-"]
[{"$f":"LEN(D2565)","v":0},{"$f":"VALUE(LEFT(D2565,1))","v":{"$error":"#VALUE!"}},{"$f":"IF(B2565<2,20,19)","v":{"$error":"#VALUE!"}},{"$f":"SUBSTITUTE(IN!G2565,\"-\",\"\")","v":""},{"$f":"IF(A2565=10,CONCATENATE(C2565,D2565),D2565)","v":""},{"$f":"IN!F2565*60","v":0},{"$f":"ROUND(F2565,0)","v":0},{"$f":"CONCATENATE(MID(E2565,3,6),\"-\",MID(E2565,9,4))","v":"-"}]
[0,{"$error":"#VALUE!"},{"$error":"#VALUE!"},{"$f":"SUBSTITUTE(IN!G2566,\"-\",\"\")","v":""},"",{"$f":"IN!F2566*60","v":0},0,"-"]
[0,{"$error":"#VALUE!"},{"$error":"#VALUE!"},{"$f":"SUBSTITUTE(IN!G2567,\"-\",\"\")","v":""},"",{"$f":"IN!F2567*60","v":0},0,"-"]
[0,{"$error":"#VALUE!"},{"$error":"#VALUE!"},{"$f":"SUBSTITUTE(IN!G2568,\"-\",\"\")","v":""},"",{"$f":"IN!F2568*60","v":0},0,"-"]
[0,{"$error":"#VALUE!"},{"$error":"#VALUE!"},{"$f":"SUBSTITUTE(IN!G2569,\"-\",\"\")","v":""},"",{"$f":"IN!F2569*60","v":0},0,"-"]
[0,{"$error":"#VALUE!"},{"$error":"#VALUE!"},{"$f":"SUBSTITUTE(IN!G2570,\"-\",\"\")","v":""},"",{"$f":"IN!F2570*60","v":0},0,"-"]
[0,{"$error":"#VALUE!"},{"$error":"#VALUE!"},{"$f":"SUBSTITUTE(IN!G2571,\"-\",\"\")","v":""},"",{"$f":"IN!F2571*60","v":0},0,"-"]
[0,{"$error":"#VALUE!"},{"$error":"#VALUE!"},{"$f":"SUBSTITUTE(IN!G2572,\"-\",\"\")","v":""},"",{"$f":"IN!F2572*60","v":0},0,"-"]
[0,{"$error":"#VALUE!"},{"$error":"#VALUE!"},{"$f":"SUBSTITUTE(IN!G2573,\"-\",\"\")","v":""},"",{"$f":"IN!F2573*60","v":0},0,"-"]
[0,{"$error":"#VALUE!"},{"$error":"#VALUE!"},{"$f":"SUBSTITUTE(IN!G2574,\"-\",\"\")","v":""},"",{"$f":"IN!F2574*60","v":0},0,"-"]
[0,{"$error":"#VALUE!"},{"$error":"#VALUE!"},{"$f":"SUBSTITUTE(IN!G2575,\"-\",\"\")","v":""},"",{"$f":"IN!F2575*60","v":0},0,"-"]
[0,{"$error":"#VALUE!"},{"$error":"#VALUE!"},{"$f":"SUBSTITUTE(IN!G2576,\"-\",\"\")","v":""},"",{"$f":"IN!F2576*60","v":0},0,"-"]
[0,{"$error":"#VALUE!"},{"$error":"#VALUE!"},{"$f":"SUBSTITUTE(IN!G2577,\"-\",\"\")","v":""},"",{"$f":"IN!F2577*60","v":0},0,"-"]
[0,{"$error":"#VALUE!"},{"$error":"#VALUE!"},{"$f":"SUBSTITUTE(IN!G2578,\"-\",\"\")","v":""},"",{"$f":"IN!F2578*60","v":0},0,"-"]
[0,{"$error":"#VALUE!"},{"$error":"#VALUE!"},{"$f":"SUBSTITUTE(IN!G2579,\"-\",\"\")","v":""},"",{"$f":"IN!F2579*60","v":0},0,"-"]
[0,{"$error":"#VALUE!"},{"$error":"#VALUE!"},{"$f":"SUBSTITUTE(IN!G2580,\"-\",\"\")","v":""},"",{"$f":"IN!F2580*60","v":0},0,"-"]
[0,{"$error":"#VALUE!"},{"$error":"#VALUE!"},{"$f":"SUBSTITUTE(IN!G2581,\"-\",\"\")","v":""},"",{"$f":"IN!F2581*60","v":0},0,"-"]
[0,{"$error":"#VALUE!"},{"$error":"#VALUE!"},{"$f":"SUBSTITUTE(IN!G2582,\"-\",\"\")","v":""},"",{"$f":"IN!F2582*60","v":0},0,"-"]
[0,{"$error":"#VALUE!"},{"$error":"#VALUE!"},{"$f":"SUBSTITUTE(IN!G2583,\"-\",\"\")","v":""},"",{"$f":"IN!F2583*60","v":0},0,"-"]
[0,{"$error":"#VALUE!"},{"$error":"#VALUE!"},{"$f":"SUBSTITUTE(IN!G2584,\"-\",\"\")","v":""},"",{"$f":"IN!F2584*60","v":0},0,"-"]
[0,{"$error":"#VALUE!"},{"$error":"#VALUE!"},{"$f":"SUBSTITUTE(IN!G2585,\"-\",\"\")","v":""},"",{"$f":"IN!F2585*60","v":0},0,"-"]
[0,{"$error":"#VALUE!"},{"$error":"#VALUE!"},{"$f":"SUBSTITUTE(IN!G2586,\"-\",\"\")","v":""},"",{"$f":"IN!F2586*60","v":0},0,"-"]
[0,{"$error":"#VALUE!"},{"$error":"#VALUE!"},{"$f":"SUBSTITUTE(IN!G2587,\"-\",\"\")","v":""},"",{"$f":"IN!F2587*60","v":0},0,"-"]
[0,{"$error":"#VALUE!"},{"$error":"#VALUE!"},{"$f":"SUBSTITUTE(IN!G2588,\"-\",\"\")","v":""},"",{"$f":"IN!F2588*60","v":0},0,"-"]
[0,{"$error":"#VALUE!"},{"$error":"#VALUE!"},{"$f":"SUBSTITUTE(IN!G2589,\"-\",\"\")","v":""},"",{"$f":"IN!F2589*60","v":0},0,"-"]
[0,{"$error":"#VALUE!"},{"$error":"#VALUE!"},{"$f":"SUBSTITUTE(IN!G2590,\"-\",\"\")","v":""},"",{"$f":"IN!F2590*60","v":0},0,"-"]
[0,{"$error":"#VALUE!"},{"$error":"#VALUE!"},{"$f":"SUBSTITUTE(IN!G2591,\"-\",\"\")","v":""},"",{"$f":"IN!F2591*60","v":0},0,"-"]
[0,{"$error":"#VALUE!"},{"$error":"#VALUE!"},{"$f":"SUBSTITUTE(IN!G2592,\"-\",\"\")","v":""},"",{"$f":"IN!F2592*60","v":0},0,"-"]
[0,{"$error":"#VALUE!"},{"$error":"#VALUE!"},{"$f":"SUBSTITUTE(IN!G2593,\"-\",\"\")","v":""},"",{"$f":"IN!F2593*60","v":0},0,"-"]
[0,{"$error":"#VALUE!"},{"$error":"#VALUE!"},{"$f":"SUBSTITUTE(IN!G2594,\"-\",\"\")","v":""},"",{"$f":"IN!F2594*60","v":0},0,"-"]
[0,{"$error":"#VALUE!"},{"$error":"#VALUE!"},{"$f":"SUBSTITUTE(IN!G2595,\"-\",\"\")","v":""},"",{"$f":"IN!F2595*60","v":0},0,"-"]
[0,{"$error":"#VALUE!"},{"$error":"#VALUE!"},{"$f":"SUBSTITUTE(IN!G2596,\"-\",\"\")","v":""},"",{"$f":"IN!F2596*60","v":0},0,"-"]
[0,{"$error":"#VALUE!"},{"$error":"#VALUE!"},{"$f":"SUBSTITUTE(IN!G2597,\"-\",\"\")","v":""},"",{"$f":"IN!F2597*60","v":0},0,"-"]
[0,{"$error":"#VALUE!"},{"$error":"#VALUE!"},{"$f":"SUBSTITUTE(IN!G2598,\"-\",\"\")","v":""},"",{"$f":"IN!F2598*60","v":0},0,"-"]
[0,{"$error":"#VALUE!"},{"$error":"#VALUE!"},{"$f":"SUBSTITUTE(IN!G2599,\"-\",\"\")","v":""},"",{"$f":"IN!F2599*60","v":0},0,"-"]
[0,{"$error":"#VALUE!"},{"$error":"#VALUE!"},{"$f":"SUBSTITUTE(IN!G2600,\"-\",\"\")","v":""},"",{"$f":"IN!F2600*60","v":0},0,"-"]
[0,{"$error":"#VALUE!"},{"$error":"#VALUE!"},{"$f":"SUBSTITUTE(IN!G2601,\"-\",\"\")","v":""},"",{"$f":"IN!F2601*60","v":0},0,"-"]
[0,{"$error":"#VALUE!"},{"$error":"#VALUE!"},{"$f":"SUBSTITUTE(IN!G2602,\"-\",\"\")","v":""},"",{"$f":"IN!F2602*60","v":0},0,"-"]
[0,{"$error":"#VALUE!"},{"$error":"#VALUE!"},{"$f":"SUBSTITUTE(IN!G2603,\"-\",\"\")","v":""},"",{"$f":"IN!F2603*60","v":0},0,"-"]
[0,{"$error":"#VALUE!"},{"$error":"#VALUE!"},{"$f":"SUBSTITUTE(IN!G2604,\"-\",\"\")","v":""},"",{"$f":"IN!F2604*60","v":0},0,"-"]
[0,{"$error":"#VALUE!"},{"$error":"#VALUE!"},{"$f":"SUBSTITUTE(IN!G2605,\"-\",\"\")","v":""},"",{"$f":"IN!F2605*60","v":0},0,"-"]
[0,{"$error":"#VALUE!"},{"$error":"#VALUE!"},{"$f":"SUBSTITUTE(IN!G2606,\"-\",\"\")","v":""},"",{"$f":"IN!F2606*60","v":0},0,"-"]
[0,{"$error":"#VALUE!"},{"$error":"#VALUE!"},{"$f":"SUBSTITUTE(IN!G2607,\"-\",\"\")","v":""},"",{"$f":"IN!F2607*60","v":0},0,"-"]
[0,{"$error":"#VALUE!"},{"$error":"#VALUE!"},{"$f":"SUBSTITUTE(IN!G2608,\"-\",\"\")","v":""},"",{"$f":"IN!F2608*60","v":0},0,"-"]
[0,{"$error":"#VALUE!"},{"$error":"#VALUE!"},{"$f":"SUBSTITUTE(IN!G2609,\"-\",\"\")","v":""},"",{"$f":"IN!F2609*60","v":0},0,"-"]
[0,{"$error":"#VALUE!"},{"$error":"#VALUE!"},{"$f":"SUBSTITUTE(IN!G2610,\"-\",\"\")","v":""},"",{"$f":"IN!F2610*60","v":0},0,"-"]
[0,{"$error":"#VALUE!"},{"$error":"#VALUE!"},{"$f":"SUBSTITUTE(IN!G2611,\"-\",\"\")","v":""},"",{"$f":"IN!F2611*60","v":0},0,"-"]
[0,{"$error":"#VALUE!"},{"$error":"#VALUE!"},{"$f":"SUBSTITUTE(IN!G2612,\"-\",\"\")","v":""},"",{"$f":"IN!F2612*60","v":0},0,"-"]
[0,{"$error":"#VALUE!"},{"$error":"#VALUE!"},{"$f":"SUBSTITUTE(IN!G2613,\"-\",\"\")","v":""},"",{"$f":"IN!F2613*60","v":0},0,"-"]
[0,{"$error":"#VALUE!"},{"$error":"#VALUE!"},{"$f":"SUBSTITUTE(IN!G2614,\"-\",\"\")","v":""},"",{"$f":"IN!F2614*60","v":0},0,"-"]
[0,{"$error":"#VALUE!"},{"$error":"#VALUE!"},{"$f":"SUBSTITUTE(IN!G2615,\"-\",\"\")","v":""},"",{"$f":"IN!F2615*60","v":0},0,"-"]
[0,{"$error":"#VALUE!"},{"$error":"#VALUE!"},{"$f":"SUBSTITUTE(IN!G2616,\"-\",\"\")","v":""},"",{"$f":"IN!F2616*60","v":0},0,"-"]
[0,{"$error":"#VALUE!"},{"$error":"#VALUE!"},{"$f":"SUBSTITUTE(IN!G2617,\"-\",\"\")","v":""},"",{"$f":"IN!F2617*60","v":0},0,"-"]
[0,{"$error":"#VALUE!"},{"$error":"#VALUE!"},{"$f":"SUBSTITUTE(IN!G2618,\"-\",\"\")","v":""},"",{"$f":"IN!F2618*60","v":0},0,"-"]
[0,{"$error":"#VALUE!"},{"$error":"#VALUE!"},{"$f":"SUBSTITUTE(IN!G2619,\"-\",\"\")","v":""},"",{"$f":"IN!F2619*60","v":0},0,"-"]
[0,{"$error":"#VALUE!"},{"$error":"#VALUE!"},{"$f":"SUBSTITUTE(IN!G2620,\"-\",\"\")","v":""},"",{"$f":"IN!F2620*60","v":0},0,"-"]
[0,{"$error":"#VALUE!"},{"$error":"#VALUE!"},{"$f":"SUBSTITUTE(IN!G2621,\"-\",\"\")","v":""},"",{"$f":"IN!F2621*60","v":0},0,"-"]
[0,{"$error":"#VALUE!"},{"$error":"#VALUE!"},{"$f":"SUBSTITUTE(IN!G2622,\"-\",\"\")","v":""},"",{"$f":"IN!F2622*60","v":0},0,"-"]
[0,{"$error":"#VALUE!"},{"$error":"#VALUE!"},{"$f":"SUBSTITUTE(IN!G2623,\"-\",\"\")","v":""},"",{"$f":"IN!F2623*60","v":0},0,"-"]
[0,{"$error":"#VALUE!"},{"$error":"#VALUE!"},{"$f":"SUBSTITUTE(IN!G2624,\"-\",\"\")","v":""},"",{"$f":"IN!F2624*60","v":0},0,"-"]
[0,{"$error":"#VALUE!"},{"$error":"#VALUE!"},{"$f":"SUBSTITUTE(IN!G2625,\"-\",\"\")","v":""},"",{"$f":"IN!F2625*60","v":0},0,"-"]
[0,{"$error":"#VALUE!"},{"$error":"#VALUE!"},{"$f":"SUBSTITUTE(IN!G2626,\"-\",\"\")","v":""},"",{"$f":"IN!F2626*60","v":0},0,"-"]
[0,{"$error":"#VALUE!"},{"$error":"#VALUE!"},{"$f":"SUBSTITUTE(IN!G2627,\"-\",\"\")","v":""},"",{"$f":"IN!F2627*60","v":0},0,"-"]
[0,{"$error":"#VALUE!"},{"$error":"#VALUE!"},{"$f":"SUBSTITUTE(IN!G2628,\"-\",\"\")","v":""},"",{"$f":"IN!F2628*60","v":0},0,"-"]
[{"$f":"LEN(D2629)","v":0},{"$f":"VALUE(LEFT(D2629,1))","v":{"$error":"#VALUE!"}},{"$f":"IF(B2629<2,20,19)","v":{"$error":"#VALUE!"}},{"$f":"SUBSTITUTE(IN!G2629,\"-\",\"\")","v":""},{"$f":"IF(A2629=10,CONCATENATE(C2629,D2629),D2629)","v":""},{"$f":"IN!F2629*60","v":0},{"$f":"ROUND(F2629,0)","v":0},{"$f":"CONCATENATE(MID(E2629,3,6),\"-\",MID(E2629,9,4))","v":"-"}]
[0,{"$error":"#VALUE!"},{"$error":"#VALUE!"},{"$f":"SUBSTITUTE(IN!G2630,\"-\",\"\")","v":""},"",{"$f":"IN!F2630*60","v":0},0,"-"]
[0,{"$error":"#VALUE!"},{"$error":"#VALUE!"},{"$f":"SUBSTITUTE(IN!G2631,\"-\",\"\")","v":""},"",{"$f":"IN!F2631*60","v":0},0,"-"]
[0,{"$error":"#VALUE!"},{"$error":"#VALUE!"},{"$f":"SUBSTITUTE(IN!G2632,\"-\",\"\")","v":""},"",{"$f":"IN!F2632*60","v":0},0,"-"]
[0,{"$error":"#VALUE!"},{"$error":"#VALUE!"},{"$f":"SUBSTITUTE(IN!G2633,\"-\",\"\")","v":""},"",{"$f":"IN!F2633*60","v":0},0,"-"]
[0,{"$error":"#VALUE!"},{"$error":"#VALUE!"},{"$f":"SUBSTITUTE(IN!G2634,\"-\",\"\")","v":""},"",{"$f":"IN!F2634*60","v":0},0,"-"]
[0,{"$error":"#VALUE!"},{"$error":"#VALUE!"},{"$f":"SUBSTITUTE(IN!G2635,\"-\",\"\")","v":""},"",{"$f":"IN!F2635*60","v":0},0,"-"]
[0,{"$error":"#VALUE!"},{"$error":"#VALUE!"},{"$f":"SUBSTITUTE(IN!G2636,\"-\",\"\")","v":""},"",{"$f":"IN!F2636*60","v":0},0,"-"]
[0,{"$error":"#VALUE!"},{"$error":"#VALUE!"},{"$f":"SUBSTITUTE(IN!G2637,\"-\",\"\")","v":""},"",{"$f":"IN!F2637*60","v":0},0,"-"]
[0,{"$error":"#VALUE!"},{"$error":"#VALUE!"},{"$f":"SUBSTITUTE(IN!G2638,\"-\",\"\")","v":""},"",{"$f":"IN!F2638*60","v":0},0,"-"]
[0,{"$error":"#VALUE!"},{"$error":"#VALUE!"},{"$f":"SUBSTITUTE(IN!G2639,\"-\",\"\")","v":""},"",{"$f":"IN!F2639*60","v":0},0,"-"]
[0,{"$error":"#VALUE!"},{"$error":"#VALUE!"},{"$f":"SUBSTITUTE(IN!G2640,\"-\",\"\")","v":""},"",{"$f":"IN!F2640*60","v":0},0,"-"]
[0,{"$error":"#VALUE!"},{"$error":"#VALUE!"},{"$f":"SUBSTITUTE(IN!G2641,\"-\",\"\")","v":""},"",{"$f":"IN!F2641*60","v":0},0,"-"]
[0,{"$error":"#VALUE!"},{"$error":"#VALUE!"},{"$f":"SUBSTITUTE(IN!G2642,\"-\",\"\")","v":""},"",{"$f":"IN!F2642*60","v":0},0,"-"]
[0,{"$error":"#VALUE!"},{"$error":"#VALUE!"},{"$f":"SUBSTITUTE(IN!G2643,\"-\",\"\")","v":""},"",{"$f":"IN!F2643*60","v":0},0,"-"]
[0,{"$error":"#VALUE!"},{"$error":"#VALUE!"},{"$f":"SUBSTITUTE(IN!G2644,\"-\",\"\")","v":""},"",{"$f":"IN!F2644*60","v":0},0,"-"]
[0,{"$error":"#VALUE!"},{"$error":"#VALUE!"},{"$f":"SUBSTITUTE(IN!G2645,\"-\",\"\")","v":""},"",{"$f":"IN!F2645*60","v":0},0,"-"]
[0,{"$error":"#VALUE!"},{"$error":"#VALUE!"},{"$f":"SUBSTITUTE(IN!G2646,\"-\",\"\")","v":""},"",{"$f":"IN!F2646*60","v":0},0,"-"]
[0,{"$error":"#VALUE!"},{"$error":"#VALUE!"},{"$f":"SUBSTITUTE(IN!G2647,\"-\",\"\")","v":""},"",{"$f":"IN!F2647*60","v":0},0,"-"]
[0,{"$error":"#VALUE!"},{"$error":"#VALUE!"},{"$f":"SUBSTITUTE(IN!G2648,\"-\",\"\")","v":""},"",{"$f":"IN!F2648*60","v":0},0,"-"]
[0,{"$error":"#VALUE!"},{"$error":"#VALUE!"},{"$f":"SUBSTITUTE(IN!G2649,\"-\",\"\")","v":""},"",{"$f":"IN!F2649*60","v":0},0,"-"]
[0,{"$error":"#VALUE!"},{"$error":"#VALUE!"},{"$f":"SUBSTITUTE(IN!G2650,\"-\",\"\")","v":""},"",{"$f":"IN!F2650*60","v":0},0,"-"]
[0,{"$error":"#VALUE!"},{"$error":"#VALUE!"},{"$f":"SUBSTITUTE(IN!G2651,\"-\",\"\")","v":""},"",{"$f":"IN!F2651*60","v":0},0,"-"]
[0,{"$error":"#VALUE!"},{"$error":"#VALUE!"},{"$f":"SUBSTITUTE(IN!G2652,\"-\",\"\")","v":""},"",{"$f":"IN!F2652*60","v":0},0,"-"]
[0,{"$error":"#VALUE!"},{"$error":"#VALUE!"},{"$f":"SUBSTITUTE(IN!G2653,\"-\",\"\")","v":""},"",{"$f":"IN!F2653*60","v":0},0,"-"]
[0,{"$error":"#VALUE!"},{"$error":"#VALUE!"},{"$f":"SUBSTITUTE(IN!G2654,\"-\",\"\")","v":""},"",{"$f":"IN!F2654*60","v":0},0,"-"]
[0,{"$error":"#VALUE!"},{"$error":"#VALUE!"},{"$f":"SUBSTITUTE(IN!G2655,\"-\",\"\")","v":""},"",{"$f":"IN!F2655*60","v":0},0,"-"]
[0,{"$error":"#VALUE!"},{"$error":"#VALUE!"},{"$f":"SUBSTITUTE(IN!G2656,\"-\",\"\")","v":""},"",{"$f":"IN!F2656*60","v":0},0,"-"]
[0,{"$error":"#VALUE!"},{"$error":"#VALUE!"},{"$f":"SUBSTITUTE(IN!G2657,\"-\",\"\")","v":""},"",{"$f":"IN!F2657*60","v":0},0,"-"]
[0,{"$error":"#VALUE!"},{"$error":"#VALUE!"},{"$f":"SUBSTITUTE(IN!G2658,\"-\",\"\")","v":""},"",{"$f":"IN!F2658*60","v":0},0,"-"]
[0,{"$error":"#VALUE!"},{"$error":"#VALUE!"},{"$f":"SUBSTITUTE(IN!G2659,\"-\",\"\")","v":""},"",{"$f":"IN!F2659*60","v":0},0,"-"]
[0,{"$error":"#VALUE!"},{"$error":"#VALUE!"},{"$f":"SUBSTITUTE(IN!G2660,\"-\",\"\")","v":""},"",{"$f":"IN!F2660*60","v":0},0,"-"]
[0,{"$error":"#VALUE!"},{"$error":"#VALUE!"},{"$f":"SUBSTITUTE(IN!G2661,\"-\",\"\")","v":""},"",{"$f":"IN!F2661*60","v":0},0,"-"]
[0,{"$error":"#VALUE!"},{"$error":"#VALUE!"},{"$f":"SUBSTITUTE(IN!G2662,\"-\",\"\")","v":""},"",{"$f":"IN!F2662*60","v":0},0,"-"]
[0,{"$error":"#VALUE!"},{"$error":"#VALUE!"},{"$f":"SUBSTITUTE(IN!G2663,\"-\",\"\")","v":""},"",{"$f":"IN!F2663*60","v":0},0,"-"]
[0,{"$error":"#VALUE!"},{"$error":"#VALUE!"},{"$f":"SUBSTITUTE(IN!G2664,\"-\",\"\")","v":""},"",{"$f":"IN!F2664*60","v":0},0,"-"]
[0,{"$error":"#VALUE!"},{"$error":"#VALUE!"},{"$f":"SUBSTITUTE(IN!G2665,\"-\",\"\")","v":""},"",{"$f":"IN!F2665*60","v":0},0,"-"]
[0,{"$error":"#VALUE!"},{"$error":"#VALUE!"},{"$f":"SUBSTITUTE(IN!G2666,\"-\",\"\")","v":""},"",{"$f":"IN!F2666*60","v":0},0,"-"]
[0,{"$error":"#VALUE!"},{"$error":"#VALUE!"},{"$f":"SUBSTITUTE(IN!G2667,\"-\",\"\")","v":""},"",{"$f":"IN!F2667*60","v":0},0,"-"]
[0,{"$error":"#VALUE!"},{"$error":"#VALUE!"},{"$f":"SUBSTITUTE(IN!G2668,\"-\",\"\")","v":""},"",{"$f":"IN!F2668*60","v":0},0,"-"]
[0,{"$error":"#VALUE!"},{"$error":"#VALUE!"},{"$f":"SUBSTITUTE(IN!G2669,\"-\",\"\")","v":""},"",{"$f":"IN!F2669*60","v":0},0,"-"]
[0,{"$error":"#VALUE!"},{"$error":"#VALUE!"},{"$f":"SUBSTITUTE(IN!G2670,\"-\",\"\")","v":""},"",{"$f":"IN!F2670*60","v":0},0,"-"]
[0,{"$error":"#VALUE!"},{"$error":"#VALUE!"},{"$f":"SUBSTITUTE(IN!G2671,\"-\",\"\")","v":""},"",{"$f":"IN!F2671*60","v":0},0,"-"]
[0,{"$error":"#VALUE!"},{"$error":"#VALUE!"},{"$f":"SUBSTITUTE(IN!G2672,\"-\",\"\")","v":""},"",{"$f":"IN!F2672*60","v":0},0,"-"]
[0,{"$error":"#VALUE!"},{"$error":"#VALUE!"},{"$f":"SUBSTITUTE(IN!G2673,\"-\",\"\")","v":""},"",{"$f":"IN!F2673*60","v":0},0,"-"]
[0,{"$error":"#VALUE!"},{"$error":"#VALUE!"},{"$f":"SUBSTITUTE(IN!G2674,\"-\",\"\")","v":""},"",{"$f":"IN!F2674*60","v":0},0,"-"]
[0,{"$error":"#VALUE!"},{"$error":"#VALUE!"},{"$f":"SUBSTITUTE(IN!G2675,\"-\",\"\")","v":""},"",{"$f":"IN!F2675*60","v":0},0,"-"]
[0,{"$error":"#VALUE!"},{"$error":"#VALUE!"},{"$f":"SUBSTITUTE(IN!G2676,\"-\",\"\")","v":""},"",{"$f":"IN!F2676*60","v":0},0,"-"]
[0,{"$error":"#VALUE!"},{"$error":"#VALUE!"},{"$f":"SUBSTITUTE(IN!G2677,\"-\",\"\")","v":""},"",{"$f":"IN!F2677*60","v":0},0,"-"]
[0,{"$error":"#VALUE!"},{"$error":"#VALUE!"},{"$f":"SUBSTITUTE(IN!G2678,\"-\",\"\")","v":""},"",{"$f":"IN!F2678*60","v":0},0,"-"]
[0,{"$error":"#VALUE!"},{"$error":"#VALUE!"},{"$f":"SUBSTITUTE(IN!G2679,\"-\",\"\")","v":""},"",{"$f":"IN!F2679*60","v":0},0,"-"]
[0,{"$error":"#VALUE!"},{"$error":"#VALUE!"},{"$f":"SUBSTITUTE(IN!G2680,\"-\",\"\")","v":""},"",{"$f":"IN!F2680*60","v":0},0,"-"]
[0,{"$error":"#VALUE!"},{"$error":"#VALUE!"},{"$f":"SUBSTITUTE(IN!G2681,\"-\",\"\")","v":""},"",{"$f":"IN!F2681*60","v":0},0,"-"]
[0,{"$error":"#VALUE!"},{"$error":"#VALUE!"},{"$f":"SUBSTITUTE(IN!G2682,\"-\",\"\")","v":""},"",{"$f":"IN!F2682*60","v":0},0,"-"]
[0,{"$error":"#VALUE!"},{"$error":"#VALUE!"},{"$f":"SUBSTITUTE(IN!G2683,\"-\",\"\")","v":""},"",{"$f":"IN!F2683*60","v":0},0,"-"]
[0,{"$error":"#VALUE!"},{"$error":"#VALUE!"},{"$f":"SUBSTITUTE(IN!G2684,\"-\",\"\")","v":""},"",{"$f":"IN!F2684*60","v":0},0,"-"]
[0,{"$error":"#VALUE!"},{"$error":"#VALUE!"},{"$f":"SUBSTITUTE(IN!G2685,\"-\",\"\")","v":""},"",{"$f":"IN!F2685*60","v":0},0,"-"]
[0,{"$error":"#VALUE!"},{"$error":"#VALUE!"},{"$f":"SUBSTITUTE(IN!G2686,\"-\",\"\")","v":""},"",{"$f":"IN!F2686*60","v":0},0,"-"]
[0,{"$error":"#VALUE!"},{"$error":"#VALUE!"},{"$f":"SUBSTITUTE(IN!G2687,\"-\",\"\")","v":""},"",{"$f":"IN!F2687*60","v":0},0,"-"]
[0,{"$error":"#VALUE!"},{"$error":"#VALUE!"},{"$f":"SUBSTITUTE(IN!G2688,\"-\",\"\")","v":""},"",{"$f":"IN!F2688*60","v":0},0,"-"]
[0,{"$error":"#VALUE!"},{"$error":"#VALUE!"},{"$f":"SUBSTITUTE(IN!G2689,\"-\",\"\")","v":""},"",{"$f":"IN!F2689*60","v":0},0,"-"]
[0,{"$error":"#VALUE!"},{"$error":"#VALUE!"},{"$f":"SUBSTITUTE(IN!G2690,\"-\",\"\")","v":""},"",{"$f":"IN!F2690*60","v":0},0,"-"]
[0,{"$error":"#VALUE!"},{"$error":"#VALUE!"},{"$f":"SUBSTITUTE(IN!G2691,\"-\",\"\")","v":""},"",{"$f":"IN!F2691*60","v":0},0,"-"]
[0,{"$error":"#VALUE!"},{"$error":"#VALUE!"},{"$f":"SUBSTITUTE(IN!G2692,\"-\",\"\")","v":""},"",{"$f":"IN!F2692*60","v":0},0,"-"]
[{"$f":"LEN(D2693)","v":0},{"$f":"VALUE(LEFT(D2693,1))","v":{"$error":"#VALUE!"}},{"$f":"IF(B2693<2,20,19)","v":{"$error":"#VALUE!"}},{"$f":"SUBSTITUTE(IN!G2693,\"-\",\"\")","v":""},{"$f":"IF(A2693=10,CONCATENATE(C2693,D2693),D2693)","v":""},{"$f":"IN!F2693*60","v":0},{"$f":"ROUND(F2693,0)","v":0},{"$f":"CONCATENATE(MID(E2693,3,6),\"-\",MID(E2693,9,4))","v":"-"}]
[0,{"$error":"#VALUE!"},{"$error":"#VALUE!"},{"$f":"SUBSTITUTE(IN!G2694,\"-\",\"\")","v":""},"",{"$f":"IN!F2694*60","v":0},0,"-"]
[0,{"$error":"#VALUE!"},{"$error":"#VALUE!"},{"$f":"SUBSTITUTE(IN!G2695,\"-\",\"\")","v":""},"",{"$f":"IN!F2695*60","v":0},0,"-"]
[0,{"$error":"#VALUE!"},{"$error":"#VALUE!"},{"$f":"SUBSTITUTE(IN!G2696,\"-\",\"\")","v":""},"",{"$f":"IN!F2696*60","v":0},0,"-"]
[0,{"$error":"#VALUE!"},{"$error":"#VALUE!"},{"$f":"SUBSTITUTE(IN!G2697,\"-\",\"\")","v":""},"",{"$f":"IN!F2697*60","v":0},0,"-"]
[0,{"$error":"#VALUE!"},{"$error":"#VALUE!"},{"$f":"SUBSTITUTE(IN!G2698,\"-\",\"\")","v":""},"",{"$f":"IN!F2698*60","v":0},0,"-"]
[0,{"$error":"#VALUE!"},{"$error":"#VALUE!"},{"$f":"SUBSTITUTE(IN!G2699,\"-\",\"\")","v":""},"",{"$f":"IN!F2699*60","v":0},0,"-"]
[0,{"$error":"#VALUE!"},{"$error":"#VALUE!"},{"$f":"SUBSTITUTE(IN!G2700,\"-\",\"\")","v":""},"",{"$f":"IN!F2700*60","v":0},0,"-"]
[0,{"$error":"#VALUE!"},{"$error":"#VALUE!"},{"$f":"SUBSTITUTE(IN!G2701,\"-\",\"\")","v":""},"",{"$f":"IN!F2701*60","v":0},0,"-"]
[0,{"$error":"#VALUE!"},{"$error":"#VALUE!"},{"$f":"SUBSTITUTE(IN!G2702,\"-\",\"\")","v":""},"",{"$f":"IN!F2702*60","v":0},0,"-"]
[0,{"$error":"#VALUE!"},{"$error":"#VALUE!"},{"$f":"SUBSTITUTE(IN!G2703,\"-\",\"\")","v":""},"",{"$f":"IN!F2703*60","v":0},0,"-"]
[0,{"$error":"#VALUE!"},{"$error":"#VALUE!"},{"$f":"SUBSTITUTE(IN!G2704,\"-\",\"\")","v":""},"",{"$f":"IN!F2704*60","v":0},0,"-"]
[0,{"$error":"#VALUE!"},{"$error":"#VALUE!"},{"$f":"SUBSTITUTE(IN!G2705,\"-\",\"\")","v":""},"",{"$f":"IN!F2705*60","v":0},0,"-"]
[0,{"$error":"#VALUE!"},{"$error":"#VALUE!"},{"$f":"SUBSTITUTE(IN!G2706,\"-\",\"\")","v":""},"",{"$f":"IN!F2706*60","v":0},0,"-"]
[0,{"$error":"#VALUE!"},{"$error":"#VALUE!"},{"$f":"SUBSTITUTE(IN!G2707,\"-\",\"\")","v":""},"",{"$f":"IN!F2707*60","v":0},0,"-"]
[0,{"$error":"#VALUE!"},{"$error":"#VALUE!"},{"$f":"SUBSTITUTE(IN!G2708,\"-\",\"\")","v":""},"",{"$f":"IN!F2708*60","v":0},0,"-"]
[0,{"$error":"#VALUE!"},{"$error":"#VALUE!"},{"$f":"SUBSTITUTE(IN!G2709,\"-\",\"\")","v":""},"",{"$f":"IN!F2709*60","v":0},0,"-"]
[0,{"$error":"#VALUE!"},{"$error":"#VALUE!"},{"$f":"SUBSTITUTE(IN!G2710,\"-\",\"\")","v":""},"",{"$f":"IN!F2710*60","v":0},0,"-"]
[{"$f":"LEN(D2711)","v":0},{"$f":"VALUE(LEFT(D2711,1))","v":{"$error":"#VALUE!"}},{"$f":"IF(B2711<2,20,19)","v":{"$error":"#VALUE!"}},{"$f":"SUBSTITUTE(IN!G2711,\"-\",\"\")","v":""},{"$f":"IF(A2711=10,CONCATENATE(C2711,D2711),D2711)","v":""},{"$f":"IN!F2711*60","v":0},{"$f":"ROUND(F2711,0)","v":0},{"$f":"CONCATENATE(MID(E2711,3,6),\"-\",MID(E2711,9,4))","v":"-"}]
[0,{"$error":"#VALUE!"},{"$error":"#VALUE!"},{"$f":"SUBSTITUTE(IN!G2712,\"-\",\"\")","v":""},"",{"$f":"IN!F2712*60","v":0},0,"-"]
[0,{"$error":"#VALUE!"},{"$error":"#VALUE!"},{"$f":"SUBSTITUTE(IN!G2713,\"-\",\"\")","v":""},"",{"$f":"IN!F2713*60","v":0},0,"-"]
[0,{"$error":"#VALUE!"},{"$error":"#VALUE!"},{"$f":"SUBSTITUTE(IN!G2714,\"-\",\"\")","v":""},"",{"$f":"IN!F2714*60","v":0},0,"-"]
[0,{"$error":"#VALUE!"},{"$error":"#VALUE!"},{"$f":"SUBSTITUTE(IN!G2715,\"-\",\"\")","v":""},"",{"$f":"IN!F2715*60","v":0},0,"-"]
[0,{"$error":"#VALUE!"},{"$error":"#VALUE!"},{"$f":"SUBSTITUTE(IN!G2716,\"-\",\"\")","v":""},"",{"$f":"IN!F2716*60","v":0},0,"-"]
[0,{"$error":"#VALUE!"},{"$error":"#VALUE!"},{"$f":"SUBSTITUTE(IN!G2717,\"-\",\"\")","v":""},"",{"$f":"IN!F2717*60","v":0},0,"-"]
[0,{"$error":"#VALUE!"},{"$error":"#VALUE!"},{"$f":"SUBSTITUTE(IN!G2718,\"-\",\"\")","v":""},"",{"$f":"IN!F2718*60","v":0},0,"-"]
[0,{"$error":"#VALUE!"},{"$error":"#VALUE!"},{"$f":"SUBSTITUTE(IN!G2719,\"-\",\"\")","v":""},"",{"$f":"IN!F2719*60","v":0},0,"-"]
[0,{"$error":"#VALUE!"},{"$error":"#VALUE!"},{"$f":"SUBSTITUTE(IN!G2720,\"-\",\"\")","v":""},"",{"$f":"IN!F2720*60","v":0},0,"-"]
[0,{"$error":"#VALUE!"},{"$error":"#VALUE!"},{"$f":"SUBSTITUTE(IN!G2721,\"-\",\"\")","v":""},"",{"$f":"IN!F2721*60","v":0},0,"-"]
[0,{"$error":"#VALUE!"},{"$error":"#VALUE!"},{"$f":"SUBSTITUTE(IN!G2722,\"-\",\"\")","v":""},"",{"$f":"IN!F2722*60","v":0},0,"-"]
[0,{"$error":"#VALUE!"},{"$error":"#VALUE!"},{"$f":"SUBSTITUTE(IN!G2723,\"-\",\"\")","v":""},"",{"$f":"IN!F2723*60","v":0},0,"-"]
[0,{"$error":"#VALUE!"},{"$error":"#VALUE!"},{"$f":"SUBSTITUTE(IN!G2724,\"-\",\"\")","v":""},"",{"$f":"IN!F2724*60","v":0},0,"-"]
[0,{"$error":"#VALUE!"},{"$error":"#VALUE!"},{"$f":"SUBSTITUTE(IN!G2725,\"-\",\"\")","v":""},"",{"$f":"IN!F2725*60","v":0},0,"-"]
[0,{"$error":"#VALUE!"},{"$error":"#VALUE!"},{"$f":"SUBSTITUTE(IN!G2726,\"-\",\"\")","v":""},"",{"$f":"IN!F2726*60","v":0},0,"-"]
[0,{"$error":"#VALUE!"},{"$error":"#VALUE!"},{"$f":"SUBSTITUTE(IN!G2727,\"-\",\"\")","v":""},"",{"$f":"IN!F2727*60","v":0},0,"-"]
[0,{"$error":"#VALUE!"},{"$error":"#VALUE!"},{"$f":"SUBSTITUTE(IN!G2728,\"-\",\"\")","v":""},"",{"$f":"IN!F2728*60","v":0},0,"-"]
[0,{"$error":"#VALUE!"},{"$error":"#VALUE!"},{"$f":"SUBSTITUTE(IN!G2729,\"-\",\"\")","v":""},"",{"$f":"IN!F2729*60","v":0},0,"-"]
[0,{"$error":"#VALUE!"},{"$error":"#VALUE!"},{"$f":"SUBSTITUTE(IN!G2730,\"-\",\"\")","v":""},"",{"$f":"IN!F2730*60","v":0},0,"-"]
[0,{"$error":"#VALUE!"},{"$error":"#VALUE!"},{"$f":"SUBSTITUTE(IN!G2731,\"-\",\"\")","v":""},"",{"$f":"IN!F2731*60","v":0},0,"-"]
[0,{"$error":"#VALUE!"},{"$error":"#VALUE!"},{"$f":"SUBSTITUTE(IN!G2732,\"-\",\"\")","v":""},"",{"$f":"IN!F2732*60","v":0},0,"-"]
[0,{"$error":"#VALUE!"},{"$error":"#VALUE!"},{"$f":"SUBSTITUTE(IN!G2733,\"-\",\"\")","v":""},"",{"$f":"IN!F2733*60","v":0},0,"-"]
[0,{"$error":"#VALUE!"},{"$error":"#VALUE!"},{"$f":"SUBSTITUTE(IN!G2734,\"-\",\"\")","v":""},"",{"$f":"IN!F2734*60","v":0},0,"-"]
[0,{"$error":"#VALUE!"},{"$error":"#VALUE!"},{"$f":"SUBSTITUTE(IN!G2735,\"-\",\"\")","v":""},"",{"$f":"IN!F2735*60","v":0},0,"-"]
[0,{"$error":"#VALUE!"},{"$error":"#VALUE!"},{"$f":"SUBSTITUTE(IN!G2736,\"-\",\"\")","v":""},"",{"$f":"IN!F2736*60","v":0},0,"-"]
[0,{"$error":"#VALUE!"},{"$error":"#VALUE!"},{"$f":"SUBSTITUTE(IN!G2737,\"-\",\"\")","v":""},"",{"$f":"IN!F2737*60","v":0},0,"-"]
[0,{"$error":"#VALUE!"},{"$error":"#VALUE!"},{"$f":"SUBSTITUTE(IN!G2738,\"-\",\"\")","v":""},"",{"$f":"IN!F2738*60","v":0},0,"-"]
[0,{"$error":"#VALUE!"},{"$error":"#VALUE!"},{"$f":"SUBSTITUTE(IN!G2739,\"-\",\"\")","v":""},"",{"$f":"IN!F2739*60","v":0},0,"-"]
[0,{"$error":"#VALUE!"},{"$error":"#VALUE!"},{"$f":"SUBSTITUTE(IN!G2740,\"-\",\"\")","v":""},"",{"$f":"IN!F2740*60","v":0},0,"-"]
[0,{"$error":"#VALUE!"},{"$error":"#VALUE!"},{"$f":"SUBSTITUTE(IN!G2741,\"-\",\"\")","v":""},"",{"$f":"IN!F2741*60","v":0},0,"-"]
[0,{"$error":"#VALUE!"},{"$error":"#VALUE!"},{"$f":"SUBSTITUTE(IN!G2742,\"-\",\"\")","v":""},"",{"$f":"IN!F2742*60","v":0},0,"-"]
[0,{"$error":"#VALUE!"},{"$error":"#VALUE!"},{"$f":"SUBSTITUTE(IN!G2743,\"-\",\"\")","v":""},"",{"$f":"IN!F2743*60","v":0},0,"-"]
[0,{"$error":"#VALUE!"},{"$error":"#VALUE!"},{"$f":"SUBSTITUTE(IN!G2744,\"-\",\"\")","v":""},"",{"$f":"IN!F2744*60","v":0},0,"-"]
[0,{"$error":"#VALUE!"},{"$error":"#VALUE!"},{"$f":"SUBSTITUTE(IN!G2745,\"-\",\"\")","v":""},"",{"$f":"IN!F2745*60","v":0},0,"-"]
[0,{"$error":"#VALUE!"},{"$error":"#VALUE!"},{"$f":"SUBSTITUTE(IN!G2746,\"-\",\"\")","v":""},"",{"$f":"IN!F2746*60","v":0},0,"-"]
[0,{"$error":"#VALUE!"},{"$error":"#VALUE!"},{"$f":"SUBSTITUTE(IN!G2747,\"-\",\"\")","v":""},"",{"$f":"IN!F2747*60","v":0},0,"-"]
[0,{"$error":"#VALUE!"},{"$error":"#VALUE!"},{"$f":"SUBSTITUTE(IN!G2748,\"-\",\"\")","v":""},"",{"$f":"IN!F2748*60","v":0},0,"-"]
[0,{"$error":"#VALUE!"},{"$error":"#VALUE!"},{"$f":"SUBSTITUTE(IN!G2749,\"-\",\"\")","v":""},"",{"$f":"IN!F2749*60","v":0},0,"-"]
[0,{"$error":"#VALUE!"},{"$error":"#VALUE!"},{"$f":"SUBSTITUTE(IN!G2750,\"-\",\"\")","v":""},"",{"$f":"IN!F2750*60","v":0},0,"-"]
[0,{"$error":"#VALUE!"},{"$error":"#VALUE!"},{"$f":"SUBSTITUTE(IN!G2751,\"-\",\"\")","v":""},"",{"$f":"IN!F2751*60","v":0},0,"-"]
[0,{"$error":"#VALUE!"},{"$error":"#VALUE!"},{"$f":"SUBSTITUTE(IN!G2752,\"-\",\"\")","v":""},"",{"$f":"IN!F2752*60","v":0},0,"-"]
[0,{"$error":"#VALUE!"},{"$error":"#VALUE!"},{"$f":"SUBSTITUTE(IN!G2753,\"-\",\"\")","v":""},"",{"$f":"IN!F2753*60","v":0},0,"-"]
[0,{"$error":"#VALUE!"},{"$error":"#VALUE!"},{"$f":"SUBSTITUTE(IN!G2754,\"-\",\"\")","v":""},"",{"$f":"IN!F2754*60","v":0},0,"-"]
[0,{"$error":"#VALUE!"},{"$error":"#VALUE!"},{"$f":"SUBSTITUTE(IN!G2755,\"-\",\"\")","v":""},"",{"$f":"IN!F2755*60","v":0},0,"-"]
[0,{"$error":"#VALUE!"},{"$error":"#VALUE!"},{"$f":"SUBSTITUTE(IN!G2756,\"-\",\"\")","v":""},"",{"$f":"IN!F2756*60","v":0},0,"-"]
[0,{"$error":"#VALUE!"},{"$error":"#VALUE!"},{"$f":"SUBSTITUTE(IN!G2757,\"-\",\"\")","v":""},"",{"$f":"IN!F2757*60","v":0},0,"-"]
[0,{"$error":"#VALUE!"},{"$error":"#VALUE!"},{"$f":"SUBSTITUTE(IN!G2758,\"-\",\"\")","v":""},"",{"$f":"IN!F2758*60","v":0},0,"-"]
[0,{"$error":"#VALUE!"},{"$error":"#VALUE!"},{"$f":"SUBSTITUTE(IN!G2759,\"-\",\"\")","v":""},"",{"$f":"IN!F2759*60","v":0},0,"-"]
[0,{"$error":"#VALUE!"},{"$error":"#VALUE!"},{"$f":"SUBSTITUTE(IN!G2760,\"-\",\"\")","v":""},"",{"$f":"IN!F2760*60","v":0},0,"-"]
[0,{"$error":"#VALUE!"},{"$error":"#VALUE!"},{"$f":"SUBSTITUTE(IN!G2761,\"-\",\"\")","v":""},"",{"$f":"IN!F2761*60","v":0},0,"-"]
[0,{"$error":"#VALUE!"},{"$error":"#VALUE!"},{"$f":"SUBSTITUTE(IN!G2762,\"-\",\"\")","v":""},"",{"$f":"IN!F2762*60","v":0},0,"-"]
[0,{"$error":"#VALUE!"},{"$error":"#VALUE!"},{"$f":"SUBSTITUTE(IN!G2763,\"-\",\"\")","v":""},"",{"$f":"IN!F2763*60","v":0},0,"-"]
[0,{"$error":"#VALUE!"},{"$error":"#VALUE!"},{"$f":"SUBSTITUTE(IN!G2764,\"-\",\"\")","v":""},"",{"$f":"IN!F2764*60","v":0},0,"-"]
[0,{"$error":"#VALUE!"},{"$error":"#VALUE!"},{"$f":"SUBSTITUTE(IN!G2765,\"-\",\"\")","v":""},"",{"$f":"IN!F2765*60","v":0},0,"-"]
[0,{"$error":"#VALUE!"},{"$error":"#VALUE!"},{"$f":"SUBSTITUTE(IN!G2766,\"-\",\"\")","v":""},"",{"$f":"IN!F2766*60","v":0},0,"-"]
[0,{"$error":"#VALUE!"},{"$error":"#VALUE!"},{"$f":"SUBSTITUTE(IN!G2767,\"-\",\"\")","v":""},"",{"$f":"IN!F2767*60","v":0},0,"-"]
[0,{"$error":"#VALUE!"},{"$error":"#VALUE!"},{"$f":"SUBSTITUTE(IN!G2768,\"-\",\"\")","v":""},"",{"$f":"IN!F2768*60","v":0},0,"-"]
[0,{"$error":"#VALUE!"},{"$error":"#VALUE!"},{"$f":"SUBSTITUTE(IN!G2769,\"-\",\"\")","v":""},"",{"$f":"IN!F2769*60","v":0},0,"-"]
[0,{"$error":"#VALUE!"},{"$error":"#VALUE!"},{"$f":"SUBSTITUTE(IN!G2770,\"-\",\"\")","v":""},"",{"$f":"IN!F2770*60","v":0},0,"-"]
[0,{"$error":"#VALUE!"},{"$error":"#VALUE!"},{"$f":"SUBSTITUTE(IN!G2771,\"-\",\"\")","v":""},"",{"$f":"IN!F2771*60","v":0},0,"-"]
[0,{"$error":"#VALUE!"},{"$error":"#VALUE!"},{"$f":"SUBSTITUTE(IN!G2772,\"-\",\"\")","v":""},"",{"$f":"IN!F2772*60","v":0},0,"-"]
[0,{"$error":"#VALUE!"},{"$error":"#VALUE!"},{"$f":"SUBSTITUTE(IN!G2773,\"-\",\"\")","v":""},"",{"$f":"IN!F2773*60","v":0},0,"-"]
[0,{"$error":"#VALUE!"},{"$error":"#VALUE!"},{"$f":"SUBSTITUTE(IN!G2774,\"-\",\"\")","v":""},"",{"$f":"IN!F2774*60","v":0},0,"-"]
[{"$f":"LEN(D2775)","v":0},{"$f":"VALUE(LEFT(D2775,1))","v":{"$error":"#VALUE!"}},{"$f":"IF(B2775<2,20,19)","v":{"$error":"#VALUE!"}},{"$f":"SUBSTITUTE(IN!G2775,\"-\",\"\")","v":""},{"$f":"IF(A2775=10,CONCATENATE(C2775,D2775),D2775)","v":""},{"$f":"IN!F2775*60","v":0},{"$f":"ROUND(F2775,0)","v":0},{"$f":"CONCATENATE(MID(E2775,3,6),\"-\",MID(E2775,9,4))","v":"-"}]
[0,{"$error":"#VALUE!"},{"$error":"#VALUE!"},{"$f":"SUBSTITUTE(IN!G2776,\"-\",\"\")","v":""},"",{"$f":"IN!F2776*60","v":0},0,"-"]
[0,{"$error":"#VALUE!"},{"$error":"#VALUE!"},{"$f":"SUBSTITUTE(IN!G2777,\"-\",\"\")","v":""},"",{"$f":"IN!F2777*60","v":0},0,"-"]
[0,{"$error":"#VALUE!"},{"$error":"#VALUE!"},{"$f":"SUBSTITUTE(IN!G2778,\"-\",\"\")","v":""},"",{"$f":"IN!F2778*60","v":0},0,"-"]
[0,{"$error":"#VALUE!"},{"$error":"#VALUE!"},{"$f":"SUBSTITUTE(IN!G2779,\"-\",\"\")","v":""},"",{"$f":"IN!F2779*60","v":0},0,"-"]
[0,{"$error":"#VALUE!"},{"$error":"#VALUE!"},{"$f":"SUBSTITUTE(IN!G2780,\"-\",\"\")","v":""},"",{"$f":"IN!F2780*60","v":0},0,"-"]
[0,{"$error":"#VALUE!"},{"$error":"#VALUE!"},{"$f":"SUBSTITUTE(IN!G2781,\"-\",\"\")","v":""},"",{"$f":"IN!F2781*60","v":0},0,"-"]
[0,{"$error":"#VALUE!"},{"$error":"#VALUE!"},{"$f":"SUBSTITUTE(IN!G2782,\"-\",\"\")","v":""},"",{"$f":"IN!F2782*60","v":0},0,"-"]
[0,{"$error":"#VALUE!"},{"$error":"#VALUE!"},{"$f":"SUBSTITUTE(IN!G2783,\"-\",\"\")","v":""},"",{"$f":"IN!F2783*60","v":0},0,"-"]
[0,{"$error":"#VALUE!"},{"$error":"#VALUE!"},{"$f":"SUBSTITUTE(IN!G2784,\"-\",\"\")","v":""},"",{"$f":"IN!F2784*60","v":0},0,"-"]
[0,{"$error":"#VALUE!"},{"$error":"#VALUE!"},{"$f":"SUBSTITUTE(IN!G2785,\"-\",\"\")","v":""},"",{"$f":"IN!F2785*60","v":0},0,"-"]
[0,{"$error":"#VALUE!"},{"$error":"#VALUE!"},{"$f":"SUBSTITUTE(IN!G2786,\"-\",\"\")","v":""},"",{"$f":"IN!F2786*60","v":0},0,"-"]
[0,{"$error":"#VALUE!"},{"$error":"#VALUE!"},{"$f":"SUBSTITUTE(IN!G2787,\"-\",\"\")","v":""},"",{"$f":"IN!F2787*60","v":0},0,"-"]
[0,{"$error":"#VALUE!"},{"$error":"#VALUE!"},{"$f":"SUBSTITUTE(IN!G2788,\"-\",\"\")","v":""},"",{"$f":"IN!F2788*60","v":0},0,"-"]
[0,{"$error":"#VALUE!"},{"$error":"#VALUE!"},{"$f":"SUBSTITUTE(IN!G2789,\"-\",\"\")","v":""},"",{"$f":"IN!F2789*60","v":0},0,"-"]
[0,{"$error":"#VALUE!"},{"$error":"#VALUE!"},{"$f":"SUBSTITUTE(IN!G2790,\"-\",\"\")","v":""},"",{"$f":"IN!F2790*60","v":0},0,"-"]
[0,{"$error":"#VALUE!"},{"$error":"#VALUE!"},{"$f":"SUBSTITUTE(IN!G2791,\"-\",\"\")","v":""},"",{"$f":"IN!F2791*60","v":0},0,"-"]
[0,{"$error":"#VALUE!"},{"$error":"#VALUE!"},{"$f":"SUBSTITUTE(IN!G2792,\"-\",\"\")","v":""},"",{"$f":"IN!F2792*60","v":0},0,"-"]
[0,{"$error":"#VALUE!"},{"$error":"#VALUE!"},{"$f":"SUBSTITUTE(IN!G2793,\"-\",\"\")","v":""},"",{"$f":"IN!F2793*60","v":0},0,"-"]
[0,{"$error":"#VALUE!"},{"$error":"#VALUE!"},{"$f":"SUBSTITUTE(IN!G2794,\"-\",\"\")","v":""},"",{"$f":"IN!F2794*60","v":0},0,"-"]
[0,{"$error":"#VALUE!"},{"$error":"#VALUE!"},{"$f":"SUBSTITUTE(IN!G2795,\"-\",\"\")","v":""},"",{"$f":"IN!F2795*60","v":0},0,"-"]
[0,{"$error":"#VALUE!"},{"$error":"#VALUE!"},{"$f":"SUBSTITUTE(IN!G2796,\"-\",\"\")","v":""},"",{"$f":"IN!F2796*60","v":0},0,"-"]
[0,{"$error":"#VALUE!"},{"$error":"#VALUE!"},{"$f":"SUBSTITUTE(IN!G2797,\"-\",\"\")","v":""},"",{"$f":"IN!F2797*60","v":0},0,"-"]
[0,{"$error":"#VALUE!"},{"$error":"#VALUE!"},{"$f":"SUBSTITUTE(IN!G2798,\"-\",\"\")","v":""},"",{"$f":"IN!F2798*60","v":0},0,"-"]
[0,{"$error":"#VALUE!"},{"$error":"#VALUE!"},{"$f":"SUBSTITUTE(IN!G2799,\"-\",\"\")","v":""},"",{"$f":"IN!F2799*60","v":0},0,"-"]
[0,{"$error":"#VALUE!"},{"$error":"#VALUE!"},{"$f":"SUBSTITUTE(IN!G2800,\"-\",\"\")","v":""},"",{"$f":"IN!F2800*60","v":0},0,"-"]
[0,{"$error":"#VALUE!"},{"$error":"#VALUE!"},{"$f":"SUBSTITUTE(IN!G2801,\"-\",\"\")","v":""},"",{"$f":"IN!F2801*60","v":0},0,"-"]
[0,{"$error":"#VALUE!"},{"$error":"#VALUE!"},{"$f":"SUBSTITUTE(IN!G2802,\"-\",\"\")","v":""},"",{"$f":"IN!F2802*60","v":0},0,"-"]
[0,{"$error":"#VALUE!"},{"$error":"#VALUE!"},{"$f":"SUBSTITUTE(IN!G2803,\"-\",\"\")","v":""},"",{"$f":"IN!F2803*60","v":0},0,"-"]
[0,{"$error":"#VALUE!"},{"$error":"#VALUE!"},{"$f":"SUBSTITUTE(IN!G2804,\"-\",\"\")","v":""},"",{"$f":"IN!F2804*60","v":0},0,"-"]
[0,{"$error":"#VALUE!"},{"$error":"#VALUE!"},{"$f":"SUBSTITUTE(IN!G2805,\"-\",\"\")","v":""},"",{"$f":"IN!F2805*60","v":0},0,"-"]
[0,{"$error":"#VALUE!"},{"$error":"#VALUE!"},{"$f":"SUBSTITUTE(IN!G2806,\"-\",\"\")","v":""},"",{"$f":"IN!F2806*60","v":0},0,"-"]
[0,{"$error":"#VALUE!"},{"$error":"#VALUE!"},{"$f":"SUBSTITUTE(IN!G2807,\"-\",\"\")","v":""},"",{"$f":"IN!F2807*60","v":0},0,"-"]
[0,{"$error":"#VALUE!"},{"$error":"#VALUE!"},{"$f":"SUBSTITUTE(IN!G2808,\"-\",\"\")","v":""},"",{"$f":"IN!F2808*60","v":0},0,"-"]
[0,{"$error":"#VALUE!"},{"$error":"#VALUE!"},{"$f":"SUBSTITUTE(IN!G2809,\"-\",\"\")","v":""},"",{"$f":"IN!F2809*60","v":0},0,"-"]
[0,{"$error":"#VALUE!"},{"$error":"#VALUE!"},{"$f":"SUBSTITUTE(IN!G2810,\"-\",\"\")","v":""},"",{"$f":"IN!F2810*60","v":0},0,"-"]
[0,{"$error":"#VALUE!"},{"$error":"#VALUE!"},{"$f":"SUBSTITUTE(IN!G2811,\"-\",\"\")","v":""},"",{"$f":"IN!F2811*60","v":0},0,"-"]
[0,{"$error":"#VALUE!"},{"$error":"#VALUE!"},{"$f":"SUBSTITUTE(IN!G2812,\"-\",\"\")","v":""},"",{"$f":"IN!F2812*60","v":0},0,"-"]
[0,{"$error":"#VALUE!"},{"$error":"#VALUE!"},{"$f":"SUBSTITUTE(IN!G2813,\"-\",\"\")","v":""},"",{"$f":"IN!F2813*60","v":0},0,"-"]
[0,{"$error":"#VALUE!"},{"$error":"#VALUE!"},{"$f":"SUBSTITUTE(IN!G2814,\"-\",\"\")","v":""},"",{"$f":"IN!F2814*60","v":0},0,"-"]
[0,{"$error":"#VALUE!"},{"$error":"#VALUE!"},{"$f":"SUBSTITUTE(IN!G2815,\"-\",\"\")","v":""},"",{"$f":"IN!F2815*60","v":0},0,"-"]
[0,{"$error":"#VALUE!"},{"$error":"#VALUE!"},{"$f":"SUBSTITUTE(IN!G2816,\"-\",\"\")","v":""},"",{"$f":"IN!F2816*60","v":0},0,"-"]
[0,{"$error":"#VALUE!"},{"$error":"#VALUE!"},{"$f":"SUBSTITUTE(IN!G2817,\"-\",\"\")","v":""},"",{"$f":"IN!F2817*60","v":0},0,"-"]
[0,{"$error":"#VALUE!"},{"$error":"#VALUE!"},{"$f":"SUBSTITUTE(IN!G2818,\"-\",\"\")","v":""},"",{"$f":"IN!F2818*60","v":0},0,"-"]
[0,{"$error":"#VALUE!"},{"$error":"#VALUE!"},{"$f":"SUBSTITUTE(IN!G2819,\"-\",\"\")","v":""},"",{"$f":"IN!F2819*60","v":0},0,"-"]
[0,{"$error":"#VALUE!"},{"$error":"#VALUE!"},{"$f":"SUBSTITUTE(IN!G2820,\"-\",\"\")","v":""},"",{"$f":"IN!F2820*60","v":0},0,"-"]
[0,{"$error":"#VALUE!"},{"$error":"#VALUE!"},{"$f":"SUBSTITUTE(IN!G2821,\"-\",\"\")","v":""},"",{"$f":"IN!F2821*60","v":0},0,"-"]
[0,{"$error":"#VALUE!"},{"$error":"#VALUE!"},{"$f":"SUBSTITUTE(IN!G2822,\"-\",\"\")","v":""},"",{"$f":"IN!F2822*60","v":0},0,"-"]
[0,{"$error":"#VALUE!"},{"$error":"#VALUE!"},{"$f":"SUBSTITUTE(IN!G2823,\"-\",\"\")","v":""},"",{"$f":"IN!F2823*60","v":0},0,"-"]
[0,{"$error":"#VALUE!"},{"$error":"#VALUE!"},{"$f":"SUBSTITUTE(IN!G2824,\"-\",\"\")","v":""},"",{"$f":"IN!F2824*60","v":0},0,"-"]
[0,{"$error":"#VALUE!"},{"$error":"#VALUE!"},{"$f":"SUBSTITUTE(IN!G2825,\"-\",\"\")","v":""},"",{"$f":"IN!F2825*60","v":0},0,"-"]
[0,{"$error":"#VALUE!"},{"$error":"#VALUE!"},{"$f":"SUBSTITUTE(IN!G2826,\"-\",\"\")","v":""},"",{"$f":"IN!F2826*60","v":0},0,"-"]
[0,{"$error":"#VALUE!"},{"$error":"#VALUE!"},{"$f":"SUBSTITUTE(IN!G2827,\"-\",\"\")","v":""},"",{"$f":"IN!F2827*60","v":0},0,"-"]
[0,{"$error":"#VALUE!"},{"$error":"#VALUE!"},{"$f":"SUBSTITUTE(IN!G2828,\"-\",\"\")","v":""},"",{"$f":"IN!F2828*60","v":0},0,"-"]
[0,{"$error":"#VALUE!"},{"$error":"#VALUE!"},{"$f":"SUBSTITUTE(IN!G2829,\"-\",\"\")","v":""},"",{"$f":"IN!F2829*60","v":0},0,"-"]
[0,{"$error":"#VALUE!"},{"$error":"#VALUE!"},{"$f":"SUBSTITUTE(IN!G2830,\"-\",\"\")","v":""},"",{"$f":"IN!F2830*60","v":0},0,"-"]
[0,{"$error":"#VALUE!"},{"$error":"#VALUE!"},{"$f":"SUBSTITUTE(IN!G2831,\"-\",\"\")","v":""},"",{"$f":"IN!F2831*60","v":0},0,"-"]
[0,{"$error":"#VALUE!"},{"$error":"#VALUE!"},{"$f":"SUBSTITUTE(IN!G2832,\"-\",\"\")","v":""},"",{"$f":"IN!F2832*60","v":0},0,"-"]
[0,{"$error":"#VALUE!"},{"$error":"#VALUE!"},{"$f":"SUBSTITUTE(IN!G2833,\"-\",\"\")","v":""},"",{"$f":"IN!F2833*60","v":0},0,"-"]
[0,{"$error":"#VALUE!"},{"$error":"#VALUE!"},{"$f":"SUBSTITUTE(IN!G2834,\"-\",\"\")","v":""},"",{"$f":"IN!F2834*60","v":0},0,"-"]
[0,{"$error":"#VALUE!"},{"$error":"#VALUE!"},{"$f":"SUBSTITUTE(IN!G2835,\"-\",\"\")","v":""},"",{"$f":"IN!F2835*60","v":0},0,"-"]
[0,{"$error":"#VALUE!"},{"$error":"#VALUE!"},{"$f":"SUBSTITUTE(IN!G2836,\"-\",\"\")","v":""},"",{"$f":"IN!F2836*60","v":0},0,"-"]
[0,{"$error":"#VALUE!"},{"$error":"#VALUE!"},{"$f":"SUBSTITUTE(IN!G2837,\"-\",\"\")","v":""},"",{"$f":"IN!F2837*60","v":0},0,"-"]
[0,{"$error":"#VALUE!"},{"$error":"#VALUE!"},{"$f":"SUBSTITUTE(IN!G2838,\"-\",\"\")","v":""},"",{"$f":"IN!F2838*60","v":0},0,"-"]
[{"$f":"LEN(D2839)","v":0},{"$f":"VALUE(LEFT(D2839,1))","v":{"$error":"#VALUE!"}},{"$f":"IF(B2839<2,20,19)","v":{"$error":"#VALUE!"}},{"$f":"SUBSTITUTE(IN!G2839,\"-\",\"\")","v":""},{"$f":"IF(A2839=10,CONCATENATE(C2839,D2839),D2839)","v":""},{"$f":"IN!F2839*60","v":0},{"$f":"ROUND(F2839,0)","v":0},{"$f":"CONCATENATE(MID(E2839,3,6),\"-\",MID(E2839,9,4))","v":"-"}]
[0,{"$error":"#VALUE!"},{"$error":"#VALUE!"},{"$f":"SUBSTITUTE(IN!G2840,\"-\",\"\")","v":""},"",{"$f":"IN!F2840*60","v":0},0,"-"]
[0,{"$error":"#VALUE!"},{"$error":"#VALUE!"},{"$f":"SUBSTITUTE(IN!G2841,\"-\",\"\")","v":""},"",{"$f":"IN!F2841*60","v":0},0,"-"]
[0,{"$error":"#VALUE!"},{"$error":"#VALUE!"},{"$f":"SUBSTITUTE(IN!G2842,\"-\",\"\")","v":""},"",{"$f":"IN!F2842*60","v":0},0,"-"]
[0,{"$error":"#VALUE!"},{"$error":"#VALUE!"},{"$f":"SUBSTITUTE(IN!G2843,\"-\",\"\")","v":""},"",{"$f":"IN!F2843*60","v":0},0,"-"]
[0,{"$error":"#VALUE!"},{"$error":"#VALUE!"},{"$f":"SUBSTITUTE(IN!G2844,\"-\",\"\")","v":""},"",{"$f":"IN!F2844*60","v":0},0,"-"]
[0,{"$error":"#VALUE!"},{"$error":"#VALUE!"},{"$f":"SUBSTITUTE(IN!G2845,\"-\",\"\")","v":""},"",{"$f":"IN!F2845*60","v":0},0,"-"]
[0,{"$error":"#VALUE!"},{"$error":"#VALUE!"},{"$f":"SUBSTITUTE(IN!G2846,\"-\",\"\")","v":""},"",{"$f":"IN!F2846*60","v":0},0,"-"]
[0,{"$error":"#VALUE!"},{"$error":"#VALUE!"},{"$f":"SUBSTITUTE(IN!G2847,\"-\",\"\")","v":""},"",{"$f":"IN!F2847*60","v":0},0,"-"]
[0,{"$error":"#VALUE!"},{"$error":"#VALUE!"},{"$f":"SUBSTITUTE(IN!G2848,\"-\",\"\")","v":""},"",{"$f":"IN!F2848*60","v":0},0,"-"]
[0,{"$error":"#VALUE!"},{"$error":"#VALUE!"},{"$f":"SUBSTITUTE(IN!G2849,\"-\",\"\")","v":""},"",{"$f":"IN!F2849*60","v":0},0,"-"]
[0,{"$error":"#VALUE!"},{"$error":"#VALUE!"},{"$f":"SUBSTITUTE(IN!G2850,\"-\",\"\")","v":""},"",{"$f":"IN!F2850*60","v":0},0,"-"]
[0,{"$error":"#VALUE!"},{"$error":"#VALUE!"},{"$f":"SUBSTITUTE(IN!G2851,\"-\",\"\")","v":""},"",{"$f":"IN!F2851*60","v":0},0,"-"]
[0,{"$error":"#VALUE!"},{"$error":"#VALUE!"},{"$f":"SUBSTITUTE(IN!G2852,\"-\",\"\")","v":""},"",{"$f":"IN!F2852*60","v":0},0,"-"]
[0,{"$error":"#VALUE!"},{"$error":"#VALUE!"},{"$f":"SUBSTITUTE(IN!G2853,\"-\",\"\")","v":""},"",{"$f":"IN!F2853*60","v":0},0,"-"]
[0,{"$error":"#VALUE!"},{"$error":"#VALUE!"},{"$f":"SUBSTITUTE(IN!G2854,\"-\",\"\")","v":""},"",{"$f":"IN!F2854*60","v":0},0,"-"]
[0,{"$error":"#VALUE!"},{"$error":"#VALUE!"},{"$f":"SUBSTITUTE(IN!G2855,\"-\",\"\")","v":""},"",{"$f":"IN!F2855*60","v":0},0,"-"]
[0,{"$error":"#VALUE!"},{"$error":"#VALUE!"},{"$f":"SUBSTITUTE(IN!G2856,\"-\",\"\")","v":""},"",{"$f":"IN!F2856*60","v":0},0,"-"]
[0,{"$error":"#VALUE!"},{"$error":"#VALUE!"},{"$f":"SUBSTITUTE(IN!G2857,\"-\",\"\")","v":""},"",{"$f":"IN!F2857*60","v":0},0,"-"]
[0,{"$error":"#VALUE!"},{"$error":"#VALUE!"},{"$f":"SUBSTITUTE(IN!G2858,\"-\",\"\")","v":""},"",{"$f":"IN!F2858*60","v":0},0,"-"]
[0,{"$error":"#VALUE!"},{"$error":"#VALUE!"},{"$f":"SUBSTITUTE(IN!G2859,\"-\",\"\")","v":""},"",{"$f":"IN!F2859*60","v":0},0,"-"]
[0,{"$error":"#VALUE!"},{"$error":"#VALUE!"},{"$f":"SUBSTITUTE(IN!G2860,\"-\",\"\")","v":""},"",{"$f":"IN!F2860*60","v":0},0,"-"]
[0,{"$error":"#VALUE!"},{"$error":"#VALUE!"},{"$f":"SUBSTITUTE(IN!G2861,\"-\",\"\")","v":""},"",{"$f":"IN!F2861*60","v":0},0,"-"]
[0,{"$error":"#VALUE!"},{"$error":"#VALUE!"},{"$f":"SUBSTITUTE(IN!G2862,\"-\",\"\")","v":""},"",{"$f":"IN!F2862*60","v":0},0,"-"]
[0,{"$error":"#VALUE!"},{"$error":"#VALUE!"},{"$f":"SUBSTITUTE(IN!G2863,\"-\",\"\")","v":""},"",{"$f":"IN!F2863*60","v":0},0,"-"]
[0,{"$error":"#VALUE!"},{"$error":"#VALUE!"},{"$f":"SUBSTITUTE(IN!G2864,\"-\",\"\")","v":""},"",{"$f":"IN!F2864*60","v":0},0,"-"]
[0,{"$error":"#VALUE!"},{"$error":"#VALUE!"},{"$f":"SUBSTITUTE(IN!G2865,\"-\",\"\")","v":""},"",{"$f":"IN!F2865*60","v":0},0,"-"]
[0,{"$error":"#VALUE!"},{"$error":"#VALUE!"},{"$f":"SUBSTITUTE(IN!G2866,\"-\",\"\")","v":""},"",{"$f":"IN!F2866*60","v":0},0,"-"]
[0,{"$error":"#VALUE!"},{"$error":"#VALUE!"},{"$f":"SUBSTITUTE(IN!G2867,\"-\",\"\")","v":""},"",{"$f":"IN!F2867*60","v":0},0,"-"]
[0,{"$error":"#VALUE!"},{"$error":"#VALUE!"},{"$f":"SUBSTITUTE(IN!G2868,\"-\",\"\")","v":""},"",{"$f":"IN!F2868*60","v":0},0,"-"]
[0,{"$error":"#VALUE!"},{"$error":"#VALUE!"},{"$f":"SUBSTITUTE(IN!G2869,\"-\",\"\")","v":""},"",{"$f":"IN!F2869*60","v":0},0,"-"]
[0,{"$error":"#VALUE!"},{"$error":"#VALUE!"},{"$f":"SUBSTITUTE(IN!G2870,\"-\",\"\")","v":""},"",{"$f":"IN!F2870*60","v":0},0,"-"]
[0,{"$error":"#VALUE!"},{"$error":"#VALUE!"},{"$f":"SUBSTITUTE(IN!G2871,\"-\",\"\")","v":""},"",{"$f":"IN!F2871*60","v":0},0,"-"]
[0,{"$error":"#VALUE!"},{"$error":"#VALUE!"},{"$f":"SUBSTITUTE(IN!G2872,\"-\",\"\")","v":""},"",{"$f":"IN!F2872*60","v":0},0,"-"]
[0,{"$error":"#VALUE!"},{"$error":"#VALUE!"},{"$f":"SUBSTITUTE(IN!G2873,\"-\",\"\")","v":""},"",{"$f":"IN!F2873*60","v":0},0,"-"]
[0,{"$error":"#VALUE!"},{"$error":"#VALUE!"},{"$f":"SUBSTITUTE(IN!G2874,\"-\",\"\")","v":""},"",{"$f":"IN!F2874*60","v":0},0,"-"]
[0,{"$error":"#VALUE!"},{"$error":"#VALUE!"},{"$f":"SUBSTITUTE(IN!G2875,\"-\",\"\")","v":""},"",{"$f":"IN!F2875*60","v":0},0,"-"]
[0,{"$error":"#VALUE!"},{"$error":"#VALUE!"},{"$f":"SUBSTITUTE(IN!G2876,\"-\",\"\")","v":""},"",{"$f":"IN!F2876*60","v":0},0,"-"]
[0,{"$error":"#VALUE!"},{"$error":"#VALUE!"},{"$f":"SUBSTITUTE(IN!G2877,\"-\",\"\")","v":""},"",{"$f":"IN!F2877*60","v":0},0,"-"]
[0,{"$error":"#VALUE!"},{"$error":"#VALUE!"},{"$f":"SUBSTITUTE(IN!G2878,\"-\",\"\")","v":""},"",{"$f":"IN!F2878*60","v":0},0,"-"]
[0,{"$error":"#VALUE!"},{"$error":"#VALUE!"},{"$f":"SUBSTITUTE(IN!G2879,\"-\",\"\")","v":""},"",{"$f":"IN!F2879*60","v":0},0,"-"]
[0,{"$error":"#VALUE!"},{"$error":"#VALUE!"},{"$f":"SUBSTITUTE(IN!G2880,\"-\",\"\")","v":""},"",{"$f":"IN!F2880*60","v":0},0,"-"]
[0,{"$error":"#VALUE!"},{"$error":"#VALUE!"},{"$f":"SUBSTITUTE(IN!G2881,\"-\",\"\")","v":""},"",{"$f":"IN!F2881*60","v":0},0,"-"]
[0,{"$error":"#VALUE!"},{"$error":"#VALUE!"},{"$f":"SUBSTITUTE(IN!G2882,\"-\",\"\")","v":""},"",{"$f":"IN!F2882*60","v":0},0,"-"]
[0,{"$error":"#VALUE!"},{"$error":"#VALUE!"},{"$f":"SUBSTITUTE(IN!G2883,\"-\",\"\")","v":""},"",{"$f":"IN!F2883*60","v":0},0,"-"]
[0,{"$error":"#VALUE!"},{"$error":"#VALUE!"},{"$f":"SUBSTITUTE(IN!G2884,\"-\",\"\")","v":""},"",{"$f":"IN!F2884*60","v":0},0,"-"]
[0,{"$error":"#VALUE!"},{"$error":"#VALUE!"},{"$f":"SUBSTITUTE(IN!G2885,\"-\",\"\")","v":""},"",{"$f":"IN!F2885*60","v":0},0,"-"]
[0,{"$error":"#VALUE!"},{"$error":"#VALUE!"},{"$f":"SUBSTITUTE(IN!G2886,\"-\",\"\")","v":""},"",{"$f":"IN!F2886*60","v":0},0,"-"]
[0,{"$error":"#VALUE!"},{"$error":"#VALUE!"},{"$f":"SUBSTITUTE(IN!G2887,\"-\",\"\")","v":""},"",{"$f":"IN!F2887*60","v":0},0,"-"]
[0,{"$error":"#VALUE!"},{"$error":"#VALUE!"},{"$f":"SUBSTITUTE(IN!G2888,\"-\",\"\")","v":""},"",{"$f":"IN!F2888*60","v":0},0,"-"]
[0,{"$error":"#VALUE!"},{"$error":"#VALUE!"},{"$f":"SUBSTITUTE(IN!G2889,\"-\",\"\")","v":""},"",{"$f":"IN!F2889*60","v":0},0,"-"]
[0,{"$error":"#VALUE!"},{"$error":"#VALUE!"},{"$f":"SUBSTITUTE(IN!G2890,\"-\",\"\")","v":""},"",{"$f":"IN!F2890*60","v":0},0,"-"]
[0,{"$error":"#VALUE!"},{"$error":"#VALUE!"},{"$f":"SUBSTITUTE(IN!G2891,\"-\",\"\")","v":""},"",{"$f":"IN!F2891*60","v":0},0,"-"]
[0,{"$error":"#VALUE!"},{"$error":"#VALUE!"},{"$f":"SUBSTITUTE(IN!G2892,\"-\",\"\")","v":""},"",{"$f":"IN!F2892*60","v":0},0,"-"]
[0,{"$error":"#VALUE!"},{"$error":"#VALUE!"},{"$f":"SUBSTITUTE(IN!G2893,\"-\",\"\")","v":""},"",{"$f":"IN!F2893*60","v":0},0,"-"]
[0,{"$error":"#VALUE!"},{"$error":"#VALUE!"},{"$f":"SUBSTITUTE(IN!G2894,\"-\",\"\")","v":""},"",{"$f":"IN!F2894*60","v":0},0,"-"]
[0,{"$error":"#VALUE!"},{"$error":"#VALUE!"},{"$f":"SUBSTITUTE(IN!G2895,\"-\",\"\")","v":""},"",{"$f":"IN!F2895*60","v":0},0,"-"]
[0,{"$error":"#VALUE!"},{"$error":"#VALUE!"},{"$f":"SUBSTITUTE(IN!G2896,\"-\",\"\")","v":""},"",{"$f":"IN!F2896*60","v":0},0,"-"]
[0,{"$error":"#VALUE!"},{"$error":"#VALUE!"},{"$f":"SUBSTITUTE(IN!G2897,\"-\",\"\")","v":""},"",{"$f":"IN!F2897*60","v":0},0,"-"]
[0,{"$error":"#VALUE!"},{"$error":"#VALUE!"},{"$f":"SUBSTITUTE(IN!G2898,\"-\",\"\")","v":""},"",{"$f":"IN!F2898*60","v":0},0,"-"]
[0,{"$error":"#VALUE!"},{"$error":"#VALUE!"},{"$f":"SUBSTITUTE(IN!G2899,\"-\",\"\")","v":""},"",{"$f":"IN!F2899*60","v":0},0,"-"]
[0,{"$error":"#VALUE!"},{"$error":"#VALUE!"},{"$f":"SUBSTITUTE(IN!G2900,\"-\",\"\")","v":""},"",{"$f":"IN!F2900*60","v":0},0,"-"]
[0,{"$error":"#VALUE!"},{"$error":"#VALUE!"},{"$f":"SUBSTITUTE(IN!G2901,\"-\",\"\")","v":""},"",{"$f":"IN!F2901*60","v":0},0,"-"]
[0,{"$error":"#VALUE!"},{"$error":"#VALUE!"},{"$f":"SUBSTITUTE(IN!G2902,\"-\",\"\")","v":""},"",{"$f":"IN!F2902*60","v":0},0,"-"]
[{"$f":"LEN(D2903)","v":0},{"$f":"VALUE(LEFT(D2903,1))","v":{"$error":"#VALUE!"}},{"$f":"IF(B2903<2,20,19)","v":{"$error":"#VALUE!"}},{"$f":"SUBSTITUTE(IN!G2903,\"-\",\"\")","v":""},{"$f":"IF(A2903=10,CONCATENATE(C2903,D2903),D2903)","v":""},{"$f":"IN!F2903*60","v":0},{"$f":"ROUND(F2903,0)","v":0},{"$f":"CONCATENATE(MID(E2903,3,6),\"-\",MID(E2903,9,4))","v":"-"}]
[0,{"$error":"#VALUE!"},{"$error":"#VALUE!"},{"$f":"SUBSTITUTE(IN!G2904,\"-\",\"\")","v":""},"",{"$f":"IN!F2904*60","v":0},0,"-"]
[0,{"$error":"#VALUE!"},{"$error":"#VALUE!"},{"$f":"SUBSTITUTE(IN!G2905,\"-\",\"\")","v":""},"",{"$f":"IN!F2905*60","v":0},0,"-"]
[0,{"$error":"#VALUE!"},{"$error":"#VALUE!"},{"$f":"SUBSTITUTE(IN!G2906,\"-\",\"\")","v":""},"",{"$f":"IN!F2906*60","v":0},0,"-"]
[0,{"$error":"#VALUE!"},{"$error":"#VALUE!"},{"$f":"SUBSTITUTE(IN!G2907,\"-\",\"\")","v":""},"",{"$f":"IN!F2907*60","v":0},0,"-"]
[0,{"$error":"#VALUE!"},{"$error":"#VALUE!"},{"$f":"SUBSTITUTE(IN!G2908,\"-\",\"\")","v":""},"",{"$f":"IN!F2908*60","v":0},0,"-"]
[0,{"$error":"#VALUE!"},{"$error":"#VALUE!"},{"$f":"SUBSTITUTE(IN!G2909,\"-\",\"\")","v":""},"",{"$f":"IN!F2909*60","v":0},0,"-"]
[0,{"$error":"#VALUE!"},{"$error":"#VALUE!"},{"$f":"SUBSTITUTE(IN!G2910,\"-\",\"\")","v":""},"",{"$f":"IN!F2910*60","v":0},0,"-"]
[0,{"$error":"#VALUE!"},{"$error":"#VALUE!"},{"$f":"SUBSTITUTE(IN!G2911,\"-\",\"\")","v":""},"",{"$f":"IN!F2911*60","v":0},0,"-"]
[0,{"$error":"#VALUE!"},{"$error":"#VALUE!"},{"$f":"SUBSTITUTE(IN!G2912,\"-\",\"\")","v":""},"",{"$f":"IN!F2912*60","v":0},0,"-"]
[0,{"$error":"#VALUE!"},{"$error":"#VALUE!"},{"$f":"SUBSTITUTE(IN!G2913,\"-\",\"\")","v":""},"",{"$f":"IN!F2913*60","v":0},0,"-"]
[0,{"$error":"#VALUE!"},{"$error":"#VALUE!"},{"$f":"SUBSTITUTE(IN!G2914,\"-\",\"\")","v":""},"",{"$f":"IN!F2914*60","v":0},0,"-"]
[0,{"$error":"#VALUE!"},{"$error":"#VALUE!"},{"$f":"SUBSTITUTE(IN!G2915,\"-\",\"\")","v":""},"",{"$f":"IN!F2915*60","v":0},0,"-"]
[0,{"$error":"#VALUE!"},{"$error":"#VALUE!"},{"$f":"SUBSTITUTE(IN!G2916,\"-\",\"\")","v":""},"",{"$f":"IN!F2916*60","v":0},0,"-"]
[0,{"$error":"#VALUE!"},{"$error":"#VALUE!"},{"$f":"SUBSTITUTE(IN!G2917,\"-\",\"\")","v":""},"",{"$f":"IN!F2917*60","v":0},0,"-"]
[0,{"$error":"#VALUE!"},{"$error":"#VALUE!"},{"$f":"SUBSTITUTE(IN!G2918,\"-\",\"\")","v":""},"",{"$f":"IN!F2918*60","v":0},0,"-"]
[0,{"$error":"#VALUE!"},{"$error":"#VALUE!"},{"$f":"SUBSTITUTE(IN!G2919,\"-\",\"\")","v":""},"",{"$f":"IN!F2919*60","v":0},0,"-"]
[0,{"$error":"#VALUE!"},{"$error":"#VALUE!"},{"$f":"SUBSTITUTE(IN!G2920,\"-\",\"\")","v":""},"",{"$f":"IN!F2920*60","v":0},0,"-"]
[0,{"$error":"#VALUE!"},{"$error":"#VALUE!"},{"$f":"SUBSTITUTE(IN!G2921,\"-\",\"\")","v":""},"",{"$f":"IN!F2921*60","v":0},0,"-"]
[0,{"$error":"#VALUE!"},{"$error":"#VALUE!"},{"$f":"SUBSTITUTE(IN!G2922,\"-\",\"\")","v":""},"",{"$f":"IN!F2922*60","v":0},0,"-"]
[0,{"$error":"#VALUE!"},{"$error":"#VALUE!"},{"$f":"SUBSTITUTE(IN!G2923,\"-\",\"\")","v":""},"",{"$f":"IN!F2923*60","v":0},0,"-"]
[0,{"$error":"#VALUE!"},{"$error":"#VALUE!"},{"$f":"SUBSTITUTE(IN!G2924,\"-\",\"\")","v":""},"",{"$f":"IN!F2924*60","v":0},0,"-"]
[0,{"$error":"#VALUE!"},{"$error":"#VALUE!"},{"$f":"SUBSTITUTE(IN!G2925,\"-\",\"\")","v":""},"",{"$f":"IN!F2925*60","v":0},0,"-"]
[0,{"$error":"#VALUE!"},{"$error":"#VALUE!"},{"$f":"SUBSTITUTE(IN!G2926,\"-\",\"\")","v":""},"",{"$f":"IN!F2926*60","v":0},0,"-"]
[0,{"$error":"#VALUE!"},{"$error":"#VALUE!"},{"$f":"SUBSTITUTE(IN!G2927,\"-\",\"\")","v":""},"",{"$f":"IN!F2927*60","v":0},0,"-"]
[0,{"$error":"#VALUE!"},{"$error":"#VALUE!"},{"$f":"SUBSTITUTE(IN!G2928,\"-\",\"\")","v":""},"",{"$f":"IN!F2928*60","v":0},0,"-"]
[0,{"$error":"#VALUE!"},{"$error":"#VALUE!"},{"$f":"SUBSTITUTE(IN!G2929,\"-\",\"\")","v":""},"",{"$f":"IN!F2929*60","v":0},0,"-"]
[0,{"$error":"#VALUE!"},{"$error":"#VALUE!"},{"$f":"SUBSTITUTE(IN!G2930,\"-\",\"\")","v":""},"",{"$f":"IN!F2930*60","v":0},0,"-"]
[0,{"$error":"#VALUE!"},{"$error":"#VALUE!"},{"$f":"SUBSTITUTE(IN!G2931,\"-\",\"\")","v":""},"",{"$f":"IN!F2931*60","v":0},0,"-"]
[0,{"$error":"#VALUE!"},{"$error":"#VALUE!"},{"$f":"SUBSTITUTE(IN!G2932,\"-\",\"\")","v":""},"",{"$f":"IN!F2932*60","v":0},0,"-"]
[0,{"$error":"#VALUE!"},{"$error":"#VALUE!"},{"$f":"SUBSTITUTE(IN!G2933,\"-\",\"\")","v":""},"",{"$f":"IN!F2933*60","v":0},0,"-"]
[0,{"$error":"#VALUE!"},{"$error":"#VALUE!"},{"$f":"SUBSTITUTE(IN!G2934,\"-\",\"\")","v":""},"",{"$f":"IN!F2934*60","v":0},0,"-"]
[0,{"$error":"#VALUE!"},{"$error":"#VALUE!"},{"$f":"SUBSTITUTE(IN!G2935,\"-\",\"\")","v":""},"",{"$f":"IN!F2935*60","v":0},0,"-"]
[0,{"$error":"#VALUE!"},{"$error":"#VALUE!"},{"$f":"SUBSTITUTE(IN!G2936,\"-\",\"\")","v":""},"",{"$f":"IN!F2936*60","v":0},0,"-"]
[0,{"$error":"#VALUE!"},{"$error":"#VALUE!"},{"$f":"SUBSTITUTE(IN!G2937,\"-\",\"\")","v":""},"",{"$f":"IN!F2937*60","v":0},0,"-"]
[0,{"$error":"#VALUE!"},{"$error":"#VALUE!"},{"$f":"SUBSTITUTE(IN!G2938,\"-\",\"\")","v":""},"",{"$f":"IN!F2938*60","v":0},0,"-"]
[0,{"$error":"#VALUE!"},{"$error":"#VALUE!"},{"$f":"SUBSTITUTE(IN!G2939,\"-\",\"\")","v":""},"",{"$f":"IN!F2939*60","v":0},0,"-"]
[0,{"$error":"#VALUE!"},{"$error":"#VALUE!"},{"$f":"SUBSTITUTE(IN!G2940,\"-\",\"\")","v":""},"",{"$f":"IN!F2940*60","v":0},0,"-"]
[0,{"$error":"#VALUE!"},{"$error":"#VALUE!"},{"$f":"SUBSTITUTE(IN!G2941,\"-\",\"\")","v":""},"",{"$f":"IN!F2941*60","v":0},0,"-"]
[0,{"$error":"#VALUE!"},{"$error":"#VALUE!"},{"$f":"SUBSTITUTE(IN!G2942,\"-\",\"\")","v":""},"",{"$f":"IN!F2942*60","v":0},0,"-"]
[0,{"$error":"#VALUE!"},{"$error":"#VALUE!"},{"$f":"SUBSTITUTE(IN!G2943,\"-\",\"\")","v":""},"",{"$f":"IN!F2943*60","v":0},0,"-"]
[0,{"$error":"#VALUE!"},{"$error":"#VALUE!"},{"$f":"SUBSTITUTE(IN!G2944,\"-\",\"\")","v":""},"",{"$f":"IN!F2944*60","v":0},0,"-"]
[0,{"$error":"#VALUE!"},{"$error":"#VALUE!"},{"$f":"SUBSTITUTE(IN!G2945,\"-\",\"\")","v":""},"",{"$f":"IN!F2945*60","v":0},0,"-"]
[0,{"$error":"#VALUE!"},{"$error":"#VALUE!"},{"$f":"SUBSTITUTE(IN!G2946,\"-\",\"\")","v":""},"",{"$f":"IN!F2946*60","v":0},0,"-"]
[0,{"$error":"#VALUE!"},{"$error":"#VALUE!"},{"$f":"SUBSTITUTE(IN!G2947,\"-\",\"\")","v":""},"",{"$f":"IN!F2947*60","v":0},0,"-"]
[0,{"$error":"#VALUE!"},{"$error":"#VALUE!"},{"$f":"SUBSTITUTE(IN!G2948,\"-\",\"\")","v":""},"",{"$f":"IN!F2948*60","v":0},0,"-"]
[0,{"$error":"#VALUE!"},{"$error":"#VALUE!"},{"$f":"SUBSTITUTE(IN!G2949,\"-\",\"\")","v":""},"",{"$f":"IN!F2949*60","v":0},0,"-"]
[0,{"$error":"#VALUE!"},{"$error":"#VALUE!"},{"$f":"SUBSTITUTE(IN!G2950,\"-\",\"\")","v":""},"",{"$f":"IN!F2950*60","v":0},0,"-"]
[0,{"$error":"#VALUE!"},{"$error":"#VALUE!"},{"$f":"SUBSTITUTE(IN!G2951,\"-\",\"\")","v":""},"",{"$f":"IN!F2951*60","v":0},0,"-"]
[0,{"$error":"#VALUE!"},{"$error":"#VALUE!"},{"$f":"SUBSTITUTE(IN!G2952,\"-\",\"\")","v":""},"",{"$f":"IN!F2952*60","v":0},0,"-"]
[0,{"$error":"#VALUE!"},{"$error":"#VALUE!"},{"$f":"SUBSTITUTE(IN!G2953,\"-\",\"\")","v":""},"",{"$f":"IN!F2953*60","v":0},0,"-"]
[0,{"$error":"#VALUE!"},{"$error":"#VALUE!"},{"$f":"SUBSTITUTE(IN!G2954,\"-\",\"\")","v":""},"",{"$f":"IN!F2954*60","v":0},0,"-"]
[0,{"$error":"#VALUE!"},{"$error":"#VALUE!"},{"$f":"SUBSTITUTE(IN!G2955,\"-\",\"\")","v":""},"",{"$f":"IN!F2955*60","v":0},0,"-"]
[0,{"$error":"#VALUE!"},{"$error":"#VALUE!"},{"$f":"SUBSTITUTE(IN!G2956,\"-\",\"\")","v":""},"",{"$f":"IN!F2956*60","v":0},0,"-"]
[0,{"$error":"#VALUE!"},{"$error":"#VALUE!"},{"$f":"SUBSTITUTE(IN!G2957,\"-\",\"\")","v":""},"",{"$f":"IN!F2957*60","v":0},0,"-"]
[0,{"$error":"#VALUE!"},{"$error":"#VALUE!"},{"$f":"SUBSTITUTE(IN!G2958,\"-\",\"\")","v":""},"",{"$f":"IN!F2958*60","v":0},0,"-"]
[0,{"$error":"#VALUE!"},{"$error":"#VALUE!"},{"$f":"SUBSTITUTE(IN!G2959,\"-\",\"\")","v":""},"",{"$f":"IN!F2959*60","v":0},0,"-"]
[0,{"$error":"#VALUE!"},{"$error":"#VALUE!"},{"$f":"SUBSTITUTE(IN!G2960,\"-\",\"\")","v":""},"",{"$f":"IN!F2960*60","v":0},0,"-"]
[0,{"$error":"#VALUE!"},{"$error":"#VALUE!"},{"$f":"SUBSTITUTE(IN!G2961,\"-\",\"\")","v":""},"",{"$f":"IN!F2961*60","v":0},0,"-"]
[0,{"$error":"#VALUE!"},{"$error":"#VALUE!"},{"$f":"SUBSTITUTE(IN!G2962,\"-\",\"\")","v":""},"",{"$f":"IN!F2962*60","v":0},0,"-"]
[0,{"$error":"#VALUE!"},{"$error":"#VALUE!"},{"$f":"SUBSTITUTE(IN!G2963,\"-\",\"\")","v":""},"",{"$f":"IN!F2963*60","v":0},0,"-"]
[0,{"$error":"#VALUE!"},{"$error":"#VALUE!"},{"$f":"SUBSTITUTE(IN!G2964,\"-\",\"\")","v":""},"",{"$f":"IN!F2964*60","v":0},0,"-"]
[0,{"$error":"#VALUE!"},{"$error":"#VALUE!"},{"$f":"SUBSTITUTE(IN!G2965,\"-\",\"\")","v":""},"",{"$f":"IN!F2965*60","v":0},0,"-"]
[0,{"$error":"#VALUE!"},{"$error":"#VALUE!"},{"$f":"SUBSTITUTE(IN!G2966,\"-\",\"\")","v":""},"",{"$f":"IN!F2966*60","v":0},0,"-"]
[{"$f":"LEN(D2967)","v":0},{"$f":"VALUE(LEFT(D2967,1))","v":{"$error":"#VALUE!"}},{"$f":"IF(B2967<2,20,19)","v":{"$error":"#VALUE!"}},{"$f":"SUBSTITUTE(IN!G2967,\"-\",\"\")","v":""},{"$f":"IF(A2967=10,CONCATENATE(C2967,D2967),D2967)","v":""},{"$f":"IN!F2967*60","v":0},{"$f":"ROUND(F2967,0)","v":0},{"$f":"CONCATENATE(MID(E2967,3,6),\"-\",MID(E2967,9,4))","v":"-"}]
[0,{"$error":"#VALUE!"},{"$error":"#VALUE!"},{"$f":"SUBSTITUTE(IN!G2968,\"-\",\"\")","v":""},"",{"$f":"IN!F2968*60","v":0},0,"-"]
[0,{"$error":"#VALUE!"},{"$error":"#VALUE!"},{"$f":"SUBSTITUTE(IN!G2969,\"-\",\"\")","v":""},"",{"$f":"IN!F2969*60","v":0},0,"-"]
[0,{"$error":"#VALUE!"},{"$error":"#VALUE!"},{"$f":"SUBSTITUTE(IN!G2970,\"-\",\"\")","v":""},"",{"$f":"IN!F2970*60","v":0},0,"-"]
[0,{"$error":"#VALUE!"},{"$error":"#VALUE!"},{"$f":"SUBSTITUTE(IN!G2971,\"-\",\"\")","v":""},"",{"$f":"IN!F2971*60","v":0},0,"-"]
[0,{"$error":"#VALUE!"},{"$error":"#VALUE!"},{"$f":"SUBSTITUTE(IN!G2972,\"-\",\"\")","v":""},"",{"$f":"IN!F2972*60","v":0},0,"-"]
[0,{"$error":"#VALUE!"},{"$error":"#VALUE!"},{"$f":"SUBSTITUTE(IN!G2973,\"-\",\"\")","v":""},"",{"$f":"IN!F2973*60","v":0},0,"-"]
[0,{"$error":"#VALUE!"},{"$error":"#VALUE!"},{"$f":"SUBSTITUTE(IN!G2974,\"-\",\"\")","v":""},"",{"$f":"IN!F2974*60","v":0},0,"-"]
[0,{"$error":"#VALUE!"},{"$error":"#VALUE!"},{"$f":"SUBSTITUTE(IN!G2975,\"-\",\"\")","v":""},"",{"$f":"IN!F2975*60","v":0},0,"-"]
[0,{"$error":"#VALUE!"},{"$error":"#VALUE!"},{"$f":"SUBSTITUTE(IN!G2976,\"-\",\"\")","v":""},"",{"$f":"IN!F2976*60","v":0},0,"-"]
[0,{"$error":"#VALUE!"},{"$error":"#VALUE!"},{"$f":"SUBSTITUTE(IN!G2977,\"-\",\"\")","v":""},"",{"$f":"IN!F2977*60","v":0},0,"-"]
[0,{"$error":"#VALUE!"},{"$error":"#VALUE!"},{"$f":"SUBSTITUTE(IN!G2978,\"-\",\"\")","v":""},"",{"$f":"IN!F2978*60","v":0},0,"-"]
[0,{"$error":"#VALUE!"},{"$error":"#VALUE!"},{"$f":"SUBSTITUTE(IN!G2979,\"-\",\"\")","v":""},"",{"$f":"IN!F2979*60","v":0},0,"-"]
[0,{"$error":"#VALUE!"},{"$error":"#VALUE!"},{"$f":"SUBSTITUTE(IN!G2980,\"-\",\"\")","v":""},"",{"$f":"IN!F2980*60","v":0},0,"-"]
[0,{"$error":"#VALUE!"},{"$error":"#VALUE!"},{"$f":"SUBSTITUTE(IN!G2981,\"-\",\"\")","v":""},"",{"$f":"IN!F2981*60","v":0},0,"-"]
[0,{"$error":"#VALUE!"},{"$error":"#VALUE!"},{"$f":"SUBSTITUTE(IN!G2982,\"-\",\"\")","v":""},"",{"$f":"IN!F2982*60","v":0},0,"-"]
[0,{"$error":"#VALUE!"},{"$error":"#VALUE!"},{"$f":"SUBSTITUTE(IN!G2983,\"-\",\"\")","v":""},"",{"$f":"IN!F2983*60","v":0},0,"-"]
[0,{"$error":"#VALUE!"},{"$error":"#VALUE!"},{"$f":"SUBSTITUTE(IN!G2984,\"-\",\"\")","v":""},"",{"$f":"IN!F2984*60","v":0},0,"-"]
[0,{"$error":"#VALUE!"},{"$error":"#VALUE!"},{"$f":"SUBSTITUTE(IN!G2985,\"-\",\"\")","v":""},"",{"$f":"IN!F2985*60","v":0},0,"-"]
[0,{"$error":"#VALUE!"},{"$error":"#VALUE!"},{"$f":"SUBSTITUTE(IN!G2986,\"-\",\"\")","v":""},"",{"$f":"IN!F2986*60","v":0},0,"-"]
[0,{"$error":"#VALUE!"},{"$error":"#VALUE!"},{"$f":"SUBSTITUTE(IN!G2987,\"-\",\"\")","v":""},"",{"$f":"IN!F2987*60","v":0},0,"-"]
[0,{"$error":"#VALUE!"},{"$error":"#VALUE!"},{"$f":"SUBSTITUTE(IN!G2988,\"-\",\"\")","v":""},"",{"$f":"IN!F2988*60","v":0},0,"-"]
[0,{"$error":"#VALUE!"},{"$error":"#VALUE!"},{"$f":"SUBSTITUTE(IN!G2989,\"-\",\"\")","v":""},"",{"$f":"IN!F2989*60","v":0},0,"-"]
[0,{"$error":"#VALUE!"},{"$error":"#VALUE!"},{"$f":"SUBSTITUTE(IN!G2990,\"-\",\"\")","v":""},"",{"$f":"IN!F2990*60","v":0},0,"-"]
[0,{"$error":"#VALUE!"},{"$error":"#VALUE!"},{"$f":"SUBSTITUTE(IN!G2991,\"-\",\"\")","v":""},"",{"$f":"IN!F2991*60","v":0},0,"-"]
[0,{"$error":"#VALUE!"},{"$error":"#VALUE!"},{"$f":"SUBSTITUTE(IN!G2992,\"-\",\"\")","v":""},"",{"$f":"IN!F2992*60","v":0},0,"-"]
[0,{"$error":"#VALUE!"},{"$error":"#VALUE!"},{"$f":"SUBSTITUTE(IN!G2993,\"-\",\"\")","v":""},"",{"$f":"IN!F2993*60","v":0},0,"-"]
[0,{"$error":"#VALUE!"},{"$error":"#VALUE!"},{"$f":"SUBSTITUTE(IN!G2994,\"-\",\"\")","v":""},"",{"$f":"IN!F2994*60","v":0},0,"-"]
[0,{"$error":"#VALUE!"},{"$error":"#VALUE!"},{"$f":"SUBSTITUTE(IN!G2995,\"-\",\"\")","v":""},"",{"$f":"IN!F2995*60","v":0},0,"-"]
[0,{"$error":"#VALUE!"},{"$error":"#VALUE!"},{"$f":"SUBSTITUTE(IN!G2996,\"-\",\"\")","v":""},"",{"$f":"IN!F2996*60","v":0},0,"-"]
[0,{"$error":"#VALUE!"},{"$error":"#VALUE!"},{"$f":"SUBSTITUTE(IN!G2997,\"-\",\"\")","v":""},"",{"$f":"IN!F2997*60","v":0},0,"-"]
[0,{"$error":"#VALUE!"},{"$error":"#VALUE!"},{"$f":"SUBSTITUTE(IN!G2998,\"-\",\"\")","v":""},"",{"$f":"IN!F2998*60","v":0},0,"-"]
[0,{"$error":"#VALUE!"},{"$error":"#VALUE!"},{"$f":"SUBSTITUTE(IN!G2999,\"-\",\"\")","v":""},"",{"$f":"IN!F2999*60","v":0},0,"-"]
[0,{"$error":"#VALUE!"},{"$error":"#VALUE!"},{"$f":"SUBSTITUTE(IN!G3000,\"-\",\"\")","v":""},"",{"$f":"IN!F3000*60","v":0},0,"-"]
[0,{"$error":"#VALUE!"},{"$error":"#VALUE!"},{"$f":"SUBSTITUTE(IN!G3001,\"-\",\"\")","v":""},"",{"$f":"IN!F3001*60","v":0},0,"-"]
[0,{"$error":"#VALUE!"},{"$error":"#VALUE!"},{"$f":"SUBSTITUTE(IN!G3002,\"-\",\"\")","v":""},"",{"$f":"IN!F3002*60","v":0},0,"-"]
[0,{"$error":"#VALUE!"},{"$error":"#VALUE!"},{"$f":"SUBSTITUTE(IN!G3003,\"-\",\"\")","v":""},"",{"$f":"IN!F3003*60","v":0},0,"-"]
[0,{"$error":"#VALUE!"},{"$error":"#VALUE!"},{"$f":"SUBSTITUTE(IN!G3004,\"-\",\"\")","v":""},"",{"$f":"IN!F3004*60","v":0},0,"-"]
[0,{"$error":"#VALUE!"},{"$error":"#VALUE!"},{"$f":"SUBSTITUTE(IN!G3005,\"-\",\"\")","v":""},"",{"$f":"IN!F3005*60","v":0},0,"-"]
[0,{"$error":"#VALUE!"},{"$error":"#VALUE!"},{"$f":"SUBSTITUTE(IN!G3006,\"-\",\"\")","v":""},"",{"$f":"IN!F3006*60","v":0},0,"-"]
[0,{"$error":"#VALUE!"},{"$error":"#VALUE!"},{"$f":"SUBSTITUTE(IN!G3007,\"-\",\"\")","v":""},"",{"$f":"IN!F3007*60","v":0},0,"-"]
[0,{"$error":"#VALUE!"},{"$error":"#VALUE!"},{"$f":"SUBSTITUTE(IN!G3008,\"-\",\"\")","v":""},"",{"$f":"IN!F3008*60","v":0},0,"-"]
[0,{"$error":"#VALUE!"},{"$error":"#VALUE!"},{"$f":"SUBSTITUTE(IN!G3009,\"-\",\"\")","v":""},"",{"$f":"IN!F3009*60","v":0},0,"-"]
[0,{"$error":"#VALUE!"},{"$error":"#VALUE!"},{"$f":"SUBSTITUTE(IN!G3010,\"-\",\"\")","v":""},"",{"$f":"IN!F3010*60","v":0},0,"-"]
[0,{"$error":"#VALUE!"},{"$error":"#VALUE!"},{"$f":"SUBSTITUTE(IN!G3011,\"-\",\"\")","v":""},"",{"$f":"IN!F3011*60","v":0},0,"-"]
[0,{"$error":"#VALUE!"},{"$error":"#VALUE!"},{"$f":"SUBSTITUTE(IN!G3012,\"-\",\"\")","v":""},"",{"$f":"IN!F3012*60","v":0},0,"-"]
[0,{"$error":"#VALUE!"},{"$error":"#VALUE!"},{"$f":"SUBSTITUTE(IN!G3013,\"-\",\"\")","v":""},"",{"$f":"IN!F3013*60","v":0},0,"-"]
[0,{"$error":"#VALUE!"},{"$error":"#VALUE!"},{"$f":"SUBSTITUTE(IN!G3014,\"-\",\"\")","v":""},"",{"$f":"IN!F3014*60","v":0},0,"-"]
[0,{"$error":"#VALUE!"},{"$error":"#VALUE!"},{"$f":"SUBSTITUTE(IN!G3015,\"-\",\"\")","v":""},"",{"$f":"IN!F3015*60","v":0},0,"-"]
[0,{"$error":"#VALUE!"},{"$error":"#VALUE!"},{"$f":"SUBSTITUTE(IN!G3016,\"-\",\"\")","v":""},"",{"$f":"IN!F3016*60","v":0},0,"-"]
[0,{"$error":"#VALUE!"},{"$error":"#VALUE!"},{"$f":"SUBSTITUTE(IN!G3017,\"-\",\"\")","v":""},"",{"$f":"IN!F3017*60","v":0},0,"-"]
[0,{"$error":"#VALUE!"},{"$error":"#VALUE!"},{"$f":"SUBSTITUTE(IN!G3018,\"-\",\"\")","v":""},"",{"$f":"IN!F3018*60","v":0},0,"-"]
[0,{"$error":"#VALUE!"},{"$error":"#VALUE!"},{"$f":"SUBSTITUTE(IN!G3019,\"-\",\"\")","v":""},"",{"$f":"IN!F3019*60","v":0},0,"-"]
[0,{"$error":"#VALUE!"},{"$error":"#VALUE!"},{"$f":"SUBSTITUTE(IN!G3020,\"-\",\"\")","v":""},"",{"$f":"IN!F3020*60","v":0},0,"-"]
[0,{"$error":"#VALUE!"},{"$error":"#VALUE!"},{"$f":"SUBSTITUTE(IN!G3021,\"-\",\"\")","v":""},"",{"$f":"IN!F3021*60","v":0},0,"-"]
[0,{"$error":"#VALUE!"},{"$error":"#VALUE!"},{"$f":"SUBSTITUTE(IN!G3022,\"-\",\"\")","v":""},"",{"$f":"IN!F3022*60","v":0},0,"-"]
[0,{"$error":"#VALUE!"},{"$error":"#VALUE!"},{"$f":"SUBSTITUTE(IN!G3023,\"-\",\"\")","v":""},"",{"$f":"IN!F3023*60","v":0},0,"-"]
[0,{"$error":"#VALUE!"},{"$error":"#VALUE!"},{"$f":"SUBSTITUTE(IN!G3024,\"-\",\"\")","v":""},"",{"$f":"IN!F3024*60","v":0},0,"-"]
[0,{"$error":"#VALUE!"},{"$error":"#VALUE!"},{"$f":"SUBSTITUTE(IN!G3025,\"-\",\"\")","v":""},"",{"$f":"IN!F3025*60","v":0},0,"-"]
[0,{"$error":"#VALUE!"},{"$error":"#VALUE!"},{"$f":"SUBSTITUTE(IN!G3026,\"-\",\"\")","v":""},"",{"$f":"IN!F3026*60","v":0},0,"-"]
[0,{"$error":"#VALUE!"},{"$error":"#VALUE!"},{"$f":"SUBSTITUTE(IN!G3027,\"-\",\"\")","v":""},"",{"$f":"IN!F3027*60","v":0},0,"-"]
[0,{"$error":"#VALUE!"},{"$error":"#VALUE!"},{"$f":"SUBSTITUTE(IN!G3028,\"-\",\"\")","v":""},"",{"$f":"IN!F3028*60","v":0},0,"-"]
[0,{"$error":"#VALUE!"},{"$error":"#VALUE!"},{"$f":"SUBSTITUTE(IN!G3029,\"-\",\"\")","v":""},"",{"$f":"IN!F3029*60","v":0},0,"-"]
[0,{"$error":"#VALUE!"},{"$error":"#VALUE!"},{"$f":"SUBSTITUTE(IN!G3030,\"-\",\"\")","v":""},"",{"$f":"IN!F3030*60","v":0},0,"-"]
[{"$f":"LEN(D3031)","v":0},{"$f":"VALUE(LEFT(D3031,1))","v":{"$error":"#VALUE!"}},{"$f":"IF(B3031<2,20,19)","v":{"$error":"#VALUE!"}},{"$f":"SUBSTITUTE(IN!G3031,\"-\",\"\")","v":""},{"$f":"IF(A3031=10,CONCATENATE(C3031,D3031),D3031)","v":""},{"$f":"IN!F3031*60","v":0},{"$f":"ROUND(F3031,0)","v":0},{"$f":"CONCATENATE(MID(E3031,3,6),\"-\",MID(E3031,9,4))","v":"-"}]
[0,{"$error":"#VALUE!"},{"$error":"#VALUE!"},{"$f":"SUBSTITUTE(IN!G3032,\"-\",\"\")","v":""},"",{"$f":"IN!F3032*60","v":0},0,"-"]
[0,{"$error":"#VALUE!"},{"$error":"#VALUE!"},{"$f":"SUBSTITUTE(IN!G3033,\"-\",\"\")","v":""},"",{"$f":"IN!F3033*60","v":0},0,"-"]
[0,{"$error":"#VALUE!"},{"$error":"#VALUE!"},{"$f":"SUBSTITUTE(IN!G3034,\"-\",\"\")","v":""},"",{"$f":"IN!F3034*60","v":0},0,"-"]
[0,{"$error":"#VALUE!"},{"$error":"#VALUE!"},{"$f":"SUBSTITUTE(IN!G3035,\"-\",\"\")","v":""},"",{"$f":"IN!F3035*60","v":0},0,"-"]
[0,{"$error":"#VALUE!"},{"$error":"#VALUE!"},{"$f":"SUBSTITUTE(IN!G3036,\"-\",\"\")","v":""},"",{"$f":"IN!F3036*60","v":0},0,"-"]
[0,{"$error":"#VALUE!"},{"$error":"#VALUE!"},{"$f":"SUBSTITUTE(IN!G3037,\"-\",\"\")","v":""},"",{"$f":"IN!F3037*60","v":0},0,"-"]
[0,{"$error":"#VALUE!"},{"$error":"#VALUE!"},{"$f":"SUBSTITUTE(IN!G3038,\"-\",\"\")","v":""},"",{"$f":"IN!F3038*60","v":0},0,"-"]
[0,{"$error":"#VALUE!"},{"$error":"#VALUE!"},{"$f":"SUBSTITUTE(IN!G3039,\"-\",\"\")","v":""},"",{"$f":"IN!F3039*60","v":0},0,"-"]
[0,{"$error":"#VALUE!"},{"$error":"#VALUE!"},{"$f":"SUBSTITUTE(IN!G3040,\"-\",\"\")","v":""},"",{"$f":"IN!F3040*60","v":0},0,"-"]
[0,{"$error":"#VALUE!"},{"$error":"#VALUE!"},{"$f":"SUBSTITUTE(IN!G3041,\"-\",\"\")","v":""},"",{"$f":"IN!F3041*60","v":0},0,"-"]
[0,{"$error":"#VALUE!"},{"$error":"#VALUE!"},{"$f":"SUBSTITUTE(IN!G3042,\"-\",\"\")","v":""},"",{"$f":"IN!F3042*60","v":0},0,"-"]
[0,{"$error":"#VALUE!"},{"$error":"#VALUE!"},{"$f":"SUBSTITUTE(IN!G3043,\"-\",\"\")","v":""},"",{"$f":"IN!F3043*60","v":0},0,"-"]
[0,{"$error":"#VALUE!"},{"$error":"#VALUE!"},{"$f":"SUBSTITUTE(IN!G3044,\"-\",\"\")","v":""},"",{"$f":"IN!F3044*60","v":0},0,"-"]
[0,{"$error":"#VALUE!"},{"$error":"#VALUE!"},{"$f":"SUBSTITUTE(IN!G3045,\"-\",\"\")","v":""},"",{"$f":"IN!F3045*60","v":0},0,"-"]
[0,{"$error":"#VALUE!"},{"$error":"#VALUE!"},{"$f":"SUBSTITUTE(IN!G3046,\"-\",\"\")","v":""},"",{"$f":"IN!F3046*60","v":0},0,"-"]
[0,{"$error":"#VALUE!"},{"$error":"#VALUE!"},{"$f":"SUBSTITUTE(IN!G3047,\"-\",\"\")","v":""},"",{"$f":"IN!F3047*60","v":0},0,"-"]
[0,{"$error":"#VALUE!"},{"$error":"#VALUE!"},{"$f":"SUBSTITUTE(IN!G3048,\"-\",\"\")","v":""},"",{"$f":"IN!F3048*60","v":0},0,"-"]
[0,{"$error":"#VALUE!"},{"$error":"#VALUE!"},{"$f":"SUBSTITUTE(IN!G3049,\"-\",\"\")","v":""},"",{"$f":"IN!F3049*60","v":0},0,"-"]
[0,{"$error":"#VALUE!"},{"$error":"#VALUE!"},{"$f":"SUBSTITUTE(IN!G3050,\"-\",\"\")","v":""},"",{"$f":"IN!F3050*60","v":0},0,"-"]
[0,{"$error":"#VALUE!"},{"$error":"#VALUE!"},{"$f":"SUBSTITUTE(IN!G3051,\"-\",\"\")","v":""},"",{"$f":"IN!F3051*60","v":0},0,"-"]
[0,{"$error":"#VALUE!"},{"$error":"#VALUE!"},{"$f":"SUBSTITUTE(IN!G3052,\"-\",\"\")","v":""},"",{"$f":"IN!F3052*60","v":0},0,"-"]
[0,{"$error":"#VALUE!"},{"$error":"#VALUE!"},{"$f":"SUBSTITUTE(IN!G3053,\"-\",\"\")","v":""},"",{"$f":"IN!F3053*60","v":0},0,"-"]
[0,{"$error":"#VALUE!"},{"$error":"#VALUE!"},{"$f":"SUBSTITUTE(IN!G3054,\"-\",\"\")","v":""},"",{"$f":"IN!F3054*60","v":0},0,"-"]
[0,{"$error":"#VALUE!"},{"$error":"#VALUE!"},{"$f":"SUBSTITUTE(IN!G3055,\"-\",\"\")","v":""},"",{"$f":"IN!F3055*60","v":0},0,"-"]
[0,{"$error":"#VALUE!"},{"$error":"#VALUE!"},{"$f":"SUBSTITUTE(IN!G3056,\"-\",\"\")","v":""},"",{"$f":"IN!F3056*60","v":0},0,"-"]
[0,{"$error":"#VALUE!"},{"$error":"#VALUE!"},{"$f":"SUBSTITUTE(IN!G3057,\"-\",\"\")","v":""},"",{"$f":"IN!F3057*60","v":0},0,"-"]
[0,{"$error":"#VALUE!"},{"$error":"#VALUE!"},{"$f":"SUBSTITUTE(IN!G3058,\"-\",\"\")","v":""},"",{"$f":"IN!F3058*60","v":0},0,"-"]
[0,{"$error":"#VALUE!"},{"$error":"#VALUE!"},{"$f":"SUBSTITUTE(IN!G3059,\"-\",\"\")","v":""},"",{"$f":"IN!F3059*60","v":0},0,"-"]
[0,{"$error":"#VALUE!"},{"$error":"#VALUE!"},{"$f":"SUBSTITUTE(IN!G3060,\"-\",\"\")","v":""},"",{"$f":"IN!F3060*60","v":0},0,"-"]
[0,{"$error":"#VALUE!"},{"$error":"#VALUE!"},{"$f":"SUBSTITUTE(IN!G3061,\"-\",\"\")","v":""},"",{"$f":"IN!F3061*60","v":0},0,"-"]
[0,{"$error":"#VALUE!"},{"$error":"#VALUE!"},{"$f":"SUBSTITUTE(IN!G3062,\"-\",\"\")","v":""},"",{"$f":"IN!F3062*60","v":0},0,"-"]
[0,{"$error":"#VALUE!"},{"$error":"#VALUE!"},{"$f":"SUBSTITUTE(IN!G3063,\"-\",\"\")","v":""},"",{"$f":"IN!F3063*60","v":0},0,"-"]
[0,{"$error":"#VALUE!"},{"$error":"#VALUE!"},{"$f":"SUBSTITUTE(IN!G3064,\"-\",\"\")","v":""},"",{"$f":"IN!F3064*60","v":0},0,"-"]
[0,{"$error":"#VALUE!"},{"$error":"#VALUE!"},{"$f":"SUBSTITUTE(IN!G3065,\"-\",\"\")","v":""},"",{"$f":"IN!F3065*60","v":0},0,"-"]
[0,{"$error":"#VALUE!"},{"$error":"#VALUE!"},{"$f":"SUBSTITUTE(IN!G3066,\"-\",\"\")","v":""},"",{"$f":"IN!F3066*60","v":0},0,"-"]
[0,{"$error":"#VALUE!"},{"$error":"#VALUE!"},{"$f":"SUBSTITUTE(IN!G3067,\"-\",\"\")","v":""},"",{"$f":"IN!F3067*60","v":0},0,"-"]
[0,{"$error":"#VALUE!"},{"$error":"#VALUE!"},{"$f":"SUBSTITUTE(IN!G3068,\"-\",\"\")","v":""},"",{"$f":"IN!F3068*60","v":0},0,"-"]
[0,{"$error":"#VALUE!"},{"$error":"#VALUE!"},{"$f":"SUBSTITUTE(IN!G3069,\"-\",\"\")","v":""},"",{"$f":"IN!F3069*60","v":0},0,"-"]
[0,{"$error":"#VALUE!"},{"$error":"#VALUE!"},{"$f":"SUBSTITUTE(IN!G3070,\"-\",\"\")","v":""},"",{"$f":"IN!F3070*60","v":0},0,"-"]
[0,{"$error":"#VALUE!"},{"$error":"#VALUE!"},{"$f":"SUBSTITUTE(IN!G3071,\"-\",\"\")","v":""},"",{"$f":"IN!F3071*60","v":0},0,"-"]
[0,{"$error":"#VALUE!"},{"$error":"#VALUE!"},{"$f":"SUBSTITUTE(IN!G3072,\"-\",\"\")","v":""},"",{"$f":"IN!F3072*60","v":0},0,"-"]
[0,{"$error":"#VALUE!"},{"$error":"#VALUE!"},{"$f":"SUBSTITUTE(IN!G3073,\"-\",\"\")","v":""},"",{"$f":"IN!F3073*60","v":0},0,"-"]
[0,{"$error":"#VALUE!"},{"$error":"#VALUE!"},{"$f":"SUBSTITUTE(IN!G3074,\"-\",\"\")","v":""},"",{"$f":"IN!F3074*60","v":0},0,"-"]
[0,{"$error":"#VALUE!"},{"$error":"#VALUE!"},{"$f":"SUBSTITUTE(IN!G3075,\"-\",\"\")","v":""},"",{"$f":"IN!F3075*60","v":0},0,"-"]
[0,{"$error":"#VALUE!"},{"$error":"#VALUE!"},{"$f":"SUBSTITUTE(IN!G3076,\"-\",\"\")","v":""},"",{"$f":"IN!F3076*60","v":0},0,"-"]
[0,{"$error":"#VALUE!"},{"$error":"#VALUE!"},{"$f":"SUBSTITUTE(IN!G3077,\"-\",\"\")","v":""},"",{"$f":"IN!F3077*60","v":0},0,"-"]
[0,{"$error":"#VALUE!"},{"$error":"#VALUE!"},{"$f":"SUBSTITUTE(IN!G3078,\"-\",\"\")","v":""},"",{"$f":"IN!F3078*60","v":0},0,"-"]
[0,{"$error":"#VALUE!"},{"$error":"#VALUE!"},{"$f":"SUBSTITUTE(IN!G3079,\"-\",\"\")","v":""},"",{"$f":"IN!F3079*60","v":0},0,"-"]
[0,{"$error":"#VALUE!"},{"$error":"#VALUE!"},{"$f":"SUBSTITUTE(IN!G3080,\"-\",\"\")","v":""},"",{"$f":"IN!F3080*60","v":0},0,"-"]
[0,{"$error":"#VALUE!"},{"$error":"#VALUE!"},{"$f":"SUBSTITUTE(IN!G3081,\"-\",\"\")","v":""},"",{"$f":"IN!F3081*60","v":0},0,"-"]
[0,{"$error":"#VALUE!"},{"$error":"#VALUE!"},{"$f":"SUBSTITUTE(IN!G3082,\"-\",\"\")","v":""},"",{"$f":"IN!F3082*60","v":0},0,"-"]
[0,{"$error":"#VALUE!"},{"$error":"#VALUE!"},{"$f":"SUBSTITUTE(IN!G3083,\"-\",\"\")","v":""},"",{"$f":"IN!F3083*60","v":0},0,"-"]
[0,{"$error":"#VALUE!"},{"$error":"#VALUE!"},{"$f":"SUBSTITUTE(IN!G3084,\"-\",\"\")","v":""},"",{"$f":"IN!F3084*60","v":0},0,"-"]
[0,{"$error":"#VALUE!"},{"$error":"#VALUE!"},{"$f":"SUBSTITUTE(IN!G3085,\"-\",\"\")","v":""},"",{"$f":"IN!F3085*60","v":0},0,"-"]
[0,{"$error":"#VALUE!"},{"$error":"#VALUE!"},{"$f":"SUBSTITUTE(IN!G3086,\"-\",\"\")","v":""},"",{"$f":"IN!F3086*60","v":0},0,"-"]
[0,{"$error":"#VALUE!"},{"$error":"#VALUE!"},{"$f":"SUBSTITUTE(IN!G3087,\"-\",\"\")","v":""},"",{"$f":"IN!F3087*60","v":0},0,"-"]
[0,{"$error":"#VALUE!"},{"$error":"#VALUE!"},{"$f":"SUBSTITUTE(IN!G3088,\"-\",\"\")","v":""},"",{"$f":"IN!F3088*60","v":0},0,"-"]
[0,{"$error":"#VALUE!"},{"$error":"#VALUE!"},{"$f":"SUBSTITUTE(IN!G3089,\"-\",\"\")","v":""},"",{"$f":"IN!F3089*60","v":0},0,"-"]
[0,{"$error":"#VALUE!"},{"$error":"#VALUE!"},{"$f":"SUBSTITUTE(IN!G3090,\"-\",\"\")","v":""},"",{"$f":"IN!F3090*60","v":0},0,"-"]
[0,{"$error":"#VALUE!"},{"$error":"#VALUE!"},{"$f":"SUBSTITUTE(IN!G3091,\"-\",\"\")","v":""},"",{"$f":"IN!F3091*60","v":0},0,"-"]
[0,{"$error":"#VALUE!"},{"$error":"#VALUE!"},{"$f":"SUBSTITUTE(IN!G3092,\"-\",\"\")","v":""},"",{"$f":"IN!F3092*60","v":0},0,"-"]
[0,{"$error":"#VALUE!"},{"$error":"#VALUE!"},{"$f":"SUBSTITUTE(IN!G3093,\"-\",\"\")","v":""},"",{"$f":"IN!F3093*60","v":0},0,"-"]
[0,{"$error":"#VALUE!"},{"$error":"#VALUE!"},{"$f":"SUBSTITUTE(IN!G3094,\"-\",\"\")","v":""},"",{"$f":"IN!F3094*60","v":0},0,"-"]
[{"$f":"LEN(D3095)","v":0},{"$f":"VALUE(LEFT(D3095,1))","v":{"$error":"#VALUE!"}},{"$f":"IF(B3095<2,20,19)","v":{"$error":"#VALUE!"}},{"$f":"SUBSTITUTE(IN!G3095,\"-\",\"\")","v":""},{"$f":"IF(A3095=10,CONCATENATE(C3095,D3095),D3095)","v":""},{"$f":"IN!F3095*60","v":0},{"$f":"ROUND(F3095,0)","v":0},{"$f":"CONCATENATE(MID(E3095,3,6),\"-\",MID(E3095,9,4))","v":"-"}]
[0,{"$error":"#VALUE!"},{"$error":"#VALUE!"},{"$f":"SUBSTITUTE(IN!G3096,\"-\",\"\")","v":""},"",{"$f":"IN!F3096*60","v":0},0,"-"]
[0,{"$error":"#VALUE!"},{"$error":"#VALUE!"},{"$f":"SUBSTITUTE(IN!G3097,\"-\",\"\")","v":""},"",{"$f":"IN!F3097*60","v":0},0,"-"]
[0,{"$error":"#VALUE!"},{"$error":"#VALUE!"},{"$f":"SUBSTITUTE(IN!G3098,\"-\",\"\")","v":""},"",{"$f":"IN!F3098*60","v":0},0,"-"]
[0,{"$error":"#VALUE!"},{"$error":"#VALUE!"},{"$f":"SUBSTITUTE(IN!G3099,\"-\",\"\")","v":""},"",{"$f":"IN!F3099*60","v":0},0,"-"]
[0,{"$error":"#VALUE!"},{"$error":"#VALUE!"},{"$f":"SUBSTITUTE(IN!G3100,\"-\",\"\")","v":""},"",{"$f":"IN!F3100*60","v":0},0,"-"]
[0,{"$error":"#VALUE!"},{"$error":"#VALUE!"},{"$f":"SUBSTITUTE(IN!G3101,\"-\",\"\")","v":""},"",{"$f":"IN!F3101*60","v":0},0,"-"]
[0,{"$error":"#VALUE!"},{"$error":"#VALUE!"},{"$f":"SUBSTITUTE(IN!G3102,\"-\",\"\")","v":""},"",{"$f":"IN!F3102*60","v":0},0,"-"]
[0,{"$error":"#VALUE!"},{"$error":"#VALUE!"},{"$f":"SUBSTITUTE(IN!G3103,\"-\",\"\")","v":""},"",{"$f":"IN!F3103*60","v":0},0,"-"]
[0,{"$error":"#VALUE!"},{"$error":"#VALUE!"},{"$f":"SUBSTITUTE(IN!G3104,\"-\",\"\")","v":""},"",{"$f":"IN!F3104*60","v":0},0,"-"]
[0,{"$error":"#VALUE!"},{"$error":"#VALUE!"},{"$f":"SUBSTITUTE(IN!G3105,\"-\",\"\")","v":""},"",{"$f":"IN!F3105*60","v":0},0,"-"]
[0,{"$error":"#VALUE!"},{"$error":"#VALUE!"},{"$f":"SUBSTITUTE(IN!G3106,\"-\",\"\")","v":""},"",{"$f":"IN!F3106*60","v":0},0,"-"]
[0,{"$error":"#VALUE!"},{"$error":"#VALUE!"},{"$f":"SUBSTITUTE(IN!G3107,\"-\",\"\")","v":""},"",{"$f":"IN!F3107*60","v":0},0,"-"]
[0,{"$error":"#VALUE!"},{"$error":"#VALUE!"},{"$f":"SUBSTITUTE(IN!G3108,\"-\",\"\")","v":""},"",{"$f":"IN!F3108*60","v":0},0,"-"]
[0,{"$error":"#VALUE!"},{"$error":"#VALUE!"},{"$f":"SUBSTITUTE(IN!G3109,\"-\",\"\")","v":""},"",{"$f":"IN!F3109*60","v":0},0,"-"]
[0,{"$error":"#VALUE!"},{"$error":"#VALUE!"},{"$f":"SUBSTITUTE(IN!G3110,\"-\",\"\")","v":""},"",{"$f":"IN!F3110*60","v":0},0,"-"]
[0,{"$error":"#VALUE!"},{"$error":"#VALUE!"},{"$f":"SUBSTITUTE(IN!G3111,\"-\",\"\")","v":""},"",{"$f":"IN!F3111*60","v":0},0,"-"]
[0,{"$error":"#VALUE!"},{"$error":"#VALUE!"},{"$f":"SUBSTITUTE(IN!G3112,\"-\",\"\")","v":""},"",{"$f":"IN!F3112*60","v":0},0,"-"]
[0,{"$error":"#VALUE!"},{"$error":"#VALUE!"},{"$f":"SUBSTITUTE(IN!G3113,\"-\",\"\")","v":""},"",{"$f":"IN!F3113*60","v":0},0,"-"]
[0,{"$error":"#VALUE!"},{"$error":"#VALUE!"},{"$f":"SUBSTITUTE(IN!G3114,\"-\",\"\")","v":""},"",{"$f":"IN!F3114*60","v":0},0,"-"]
[0,{"$error":"#VALUE!"},{"$error":"#VALUE!"},{"$f":"SUBSTITUTE(IN!G3115,\"-\",\"\")","v":""},"",{"$f":"IN!F3115*60","v":0},0,"-"]
[0,{"$error":"#VALUE!"},{"$error":"#VALUE!"},{"$f":"SUBSTITUTE(IN!G3116,\"-\",\"\")","v":""},"",{"$f":"IN!F3116*60","v":0},0,"-"]
[0,{"$error":"#VALUE!"},{"$error":"#VALUE!"},{"$f":"SUBSTITUTE(IN!G3117,\"-\",\"\")","v":""},"",{"$f":"IN!F3117*60","v":0},0,"-"]
[0,{"$error":"#VALUE!"},{"$error":"#VALUE!"},{"$f":"SUBSTITUTE(IN!G3118,\"-\",\"\")","v":""},"",{"$f":"IN!F3118*60","v":0},0,"-"]
[0,{"$error":"#VALUE!"},{"$error":"#VALUE!"},{"$f":"SUBSTITUTE(IN!G3119,\"-\",\"\")","v":""},"",{"$f":"IN!F3119*60","v":0},0,"-"]
[0,{"$error":"#VALUE!"},{"$error":"#VALUE!"},{"$f":"SUBSTITUTE(IN!G3120,\"-\",\"\")","v":""},"",{"$f":"IN!F3120*60","v":0},0,"-"]
[0,{"$error":"#VALUE!"},{"$error":"#VALUE!"},{"$f":"SUBSTITUTE(IN!G3121,\"-\",\"\")","v":""},"",{"$f":"IN!F3121*60","v":0},0,"-"]
[0,{"$error":"#VALUE!"},{"$error":"#VALUE!"},{"$f":"SUBSTITUTE(IN!G3122,\"-\",\"\")","v":""},"",{"$f":"IN!F3122*60","v":0},0,"-"]
[0,{"$error":"#VALUE!"},{"$error":"#VALUE!"},{"$f":"SUBSTITUTE(IN!G3123,\"-\",\"\")","v":""},"",{"$f":"IN!F3123*60","v":0},0,"-"]
[0,{"$error":"#VALUE!"},{"$error":"#VALUE!"},{"$f":"SUBSTITUTE(IN!G3124,\"-\",\"\")","v":""},"",{"$f":"IN!F3124*60","v":0},0,"-"]
[0,{"$error":"#VALUE!"},{"$error":"#VALUE!"},{"$f":"SUBSTITUTE(IN!G3125,\"-\",\"\")","v":""},"",{"$f":"IN!F3125*60","v":0},0,"-"]
[0,{"$error":"#VALUE!"},{"$error":"#VALUE!"},{"$f":"SUBSTITUTE(IN!G3126,\"-\",\"\")","v":""},"",{"$f":"IN!F3126*60","v":0},0,"-"]
[0,{"$error":"#VALUE!"},{"$error":"#VALUE!"},{"$f":"SUBSTITUTE(IN!G3127,\"-\",\"\")","v":""},"",{"$f":"IN!F3127*60","v":0},0,"-"]
[0,{"$error":"#VALUE!"},{"$error":"#VALUE!"},{"$f":"SUBSTITUTE(IN!G3128,\"-\",\"\")","v":""},"",{"$f":"IN!F3128*60","v":0},0,"-"]
[0,{"$error":"#VALUE!"},{"$error":"#VALUE!"},{"$f":"SUBSTITUTE(IN!G3129,\"-\",\"\")","v":""},"",{"$f":"IN!F3129*60","v":0},0,"-"]
[0,{"$error":"#VALUE!"},{"$error":"#VALUE!"},{"$f":"SUBSTITUTE(IN!G3130,\"-\",\"\")","v":""},"",{"$f":"IN!F3130*60","v":0},0,"-"]
[0,{"$error":"#VALUE!"},{"$error":"#VALUE!"},{"$f":"SUBSTITUTE(IN!G3131,\"-\",\"\")","v":""},"",{"$f":"IN!F3131*60","v":0},0,"-"]
[0,{"$error":"#VALUE!"},{"$error":"#VALUE!"},{"$f":"SUBSTITUTE(IN!G3132,\"-\",\"\")","v":""},"",{"$f":"IN!F3132*60","v":0},0,"-"]
[0,{"$error":"#VALUE!"},{"$error":"#VALUE!"},{"$f":"SUBSTITUTE(IN!G3133,\"-\",\"\")","v":""},"",{"$f":"IN!F3133*60","v":0},0,"-"]
[0,{"$error":"#VALUE!"},{"$error":"#VALUE!"},{"$f":"SUBSTITUTE(IN!G3134,\"-\",\"\")","v":""},"",{"$f":"IN!F3134*60","v":0},0,"-"]
[0,{"$error":"#VALUE!"},{"$error":"#VALUE!"},{"$f":"SUBSTITUTE(IN!G3135,\"-\",\"\")","v":""},"",{"$f":"IN!F3135*60","v":0},0,"-"]
[0,{"$error":"#VALUE!"},{"$error":"#VALUE!"},{"$f":"SUBSTITUTE(IN!G3136,\"-\",\"\")","v":""},"",{"$f":"IN!F3136*60","v":0},0,"-"]
[0,{"$error":"#VALUE!"},{"$error":"#VALUE!"},{"$f":"SUBSTITUTE(IN!G3137,\"-\",\"\")","v":""},"",{"$f":"IN!F3137*60","v":0},0,"-"]
[0,{"$error":"#VALUE!"},{"$error":"#VALUE!"},{"$f":"SUBSTITUTE(IN!G3138,\"-\",\"\")","v":""},"",{"$f":"IN!F3138*60","v":0},0,"-"]
[0,{"$error":"#VALUE!"},{"$error":"#VALUE!"},{"$f":"SUBSTITUTE(IN!G3139,\"-\",\"\")","v":""},"",{"$f":"IN!F3139*60","v":0},0,"-"]
[0,{"$error":"#VALUE!"},{"$error":"#VALUE!"},{"$f":"SUBSTITUTE(IN!G3140,\"-\",\"\")","v":""},"",{"$f":"IN!F3140*60","v":0},0,"-"]
[0,{"$error":"#VALUE!"},{"$error":"#VALUE!"},{"$f":"SUBSTITUTE(IN!G3141,\"-\",\"\")","v":""},"",{"$f":"IN!F3141*60","v":0},0,"-"]
[0,{"$error":"#VALUE!"},{"$error":"#VALUE!"},{"$f":"SUBSTITUTE(IN!G3142,\"-\",\"\")","v":""},"",{"$f":"IN!F3142*60","v":0},0,"-"]
[0,{"$error":"#VALUE!"},{"$error":"#VALUE!"},{"$f":"SUBSTITUTE(IN!G3143,\"-\",\"\")","v":""},"",{"$f":"IN!F3143*60","v":0},0,"-"]
[0,{"$error":"#VALUE!"},{"$error":"#VALUE!"},{"$f":"SUBSTITUTE(IN!G3144,\"-\",\"\")","v":""},"",{"$f":"IN!F3144*60","v":0},0,"-"]
[0,{"$error":"#VALUE!"},{"$error":"#VALUE!"},{"$f":"SUBSTITUTE(IN!G3145,\"-\",\"\")","v":""},"",{"$f":"IN!F3145*60","v":0},0,"-"]
[0,{"$error":"#VALUE!"},{"$error":"#VALUE!"},{"$f":"SUBSTITUTE(IN!G3146,\"-\",\"\")","v":""},"",{"$f":"IN!F3146*60","v":0},0,"-"]
[0,{"$error":"#VALUE!"},{"$error":"#VALUE!"},{"$f":"SUBSTITUTE(IN!G3147,\"-\",\"\")","v":""},"",{"$f":"IN!F3147*60","v":0},0,"-"]
[0,{"$error":"#VALUE!"},{"$error":"#VALUE!"},{"$f":"SUBSTITUTE(IN!G3148,\"-\",\"\")","v":""},"",{"$f":"IN!F3148*60","v":0},0,"-"]
[0,{"$error":"#VALUE!"},{"$error":"#VALUE!"},{"$f":"SUBSTITUTE(IN!G3149,\"-\",\"\")","v":""},"",{"$f":"IN!F3149*60","v":0},0,"-"]
[0,{"$error":"#VALUE!"},{"$error":"#VALUE!"},{"$f":"SUBSTITUTE(IN!G3150,\"-\",\"\")","v":""},"",{"$f":"IN!F3150*60","v":0},0,"-"]
[0,{"$error":"#VALUE!"},{"$error":"#VALUE!"},{"$f":"SUBSTITUTE(IN!G3151,\"-\",\"\")","v":""},"",{"$f":"IN!F3151*60","v":0},0,"-"]
[0,{"$error":"#VALUE!"},{"$error":"#VALUE!"},{"$f":"SUBSTITUTE(IN!G3152,\"-\",\"\")","v":""},"",{"$f":"IN!F3152*60","v":0},0,"-"]
[0,{"$error":"#VALUE!"},{"$error":"#VALUE!"},{"$f":"SUBSTITUTE(IN!G3153,\"-\",\"\")","v":""},"",{"$f":"IN!F3153*60","v":0},0,"-"]
[0,{"$error":"#VALUE!"},{"$error":"#VALUE!"},{"$f":"SUBSTITUTE(IN!G3154,\"-\",\"\")","v":""},"",{"$f":"IN!F3154*60","v":0},0,"-"]
[0,{"$error":"#VALUE!"},{"$error":"#VALUE!"},{"$f":"SUBSTITUTE(IN!G3155,\"-\",\"\")","v":""},"",{"$f":"IN!F3155*60","v":0},0,"-"]
[0,{"$error":"#VALUE!"},{"$error":"#VALUE!"},{"$f":"SUBSTITUTE(IN!G3156,\"-\",\"\")","v":""},"",{"$f":"IN!F3156*60","v":0},0,"-"]
[0,{"$error":"#VALUE!"},{"$error":"#VALUE!"},{"$f":"SUBSTITUTE(IN!G3157,\"-\",\"\")","v":""},"",{"$f":"IN!F3157*60","v":0},0,"-"]
[0,{"$error":"#VALUE!"},{"$error":"#VALUE!"},{"$f":"SUBSTITUTE(IN!G3158,\"-\",\"\")","v":""},"",{"$f":"IN!F3158*60","v":0},0,"-"]
[{"$f":"LEN(D3159)","v":0},{"$f":"VALUE(LEFT(D3159,1))","v":{"$error":"#VALUE!"}},{"$f":"IF(B3159<2,20,19)","v":{"$error":"#VALUE!"}},{"$f":"SUBSTITUTE(IN!G3159,\"-\",\"\")","v":""},{"$f":"IF(A3159=10,CONCATENATE(C3159,D3159),D3159)","v":""},{"$f":"IN!F3159*60","v":0},{"$f":"ROUND(F3159,0)","v":0},{"$f":"CONCATENATE(MID(E3159,3,6),\"-\",MID(E3159,9,4))","v":"-"}]
[0,{"$error":"#VALUE!"},{"$error":"#VALUE!"},{"$f":"SUBSTITUTE(IN!G3160,\"-\",\"\")","v":""},"",{"$f":"IN!F3160*60","v":0},0,"-"]
[0,{"$error":"#VALUE!"},{"$error":"#VALUE!"},{"$f":"SUBSTITUTE(IN!G3161,\"-\",\"\")","v":""},"",{"$f":"IN!F3161*60","v":0},0,"-"]
[0,{"$error":"#VALUE!"},{"$error":"#VALUE!"},{"$f":"SUBSTITUTE(IN!G3162,\"-\",\"\")","v":""},"",{"$f":"IN!F3162*60","v":0},0,"-"]
[0,{"$error":"#VALUE!"},{"$error":"#VALUE!"},{"$f":"SUBSTITUTE(IN!G3163,\"-\",\"\")","v":""},"",{"$f":"IN!F3163*60","v":0},0,"-"]
[0,{"$error":"#VALUE!"},{"$error":"#VALUE!"},{"$f":"SUBSTITUTE(IN!G3164,\"-\",\"\")","v":""},"",{"$f":"IN!F3164*60","v":0},0,"-"]
[0,{"$error":"#VALUE!"},{"$error":"#VALUE!"},{"$f":"SUBSTITUTE(IN!G3165,\"-\",\"\")","v":""},"",{"$f":"IN!F3165*60","v":0},0,"-"]
[0,{"$error":"#VALUE!"},{"$error":"#VALUE!"},{"$f":"SUBSTITUTE(IN!G3166,\"-\",\"\")","v":""},"",{"$f":"IN!F3166*60","v":0},0,"-"]
[0,{"$error":"#VALUE!"},{"$error":"#VALUE!"},{"$f":"SUBSTITUTE(IN!G3167,\"-\",\"\")","v":""},"",{"$f":"IN!F3167*60","v":0},0,"-"]
[0,{"$error":"#VALUE!"},{"$error":"#VALUE!"},{"$f":"SUBSTITUTE(IN!G3168,\"-\",\"\")","v":""},"",{"$f":"IN!F3168*60","v":0},0,"-"]
[0,{"$error":"#VALUE!"},{"$error":"#VALUE!"},{"$f":"SUBSTITUTE(IN!G3169,\"-\",\"\")","v":""},"",{"$f":"IN!F3169*60","v":0},0,"-"]
[0,{"$error":"#VALUE!"},{"$error":"#VALUE!"},{"$f":"SUBSTITUTE(IN!G3170,\"-\",\"\")","v":""},"",{"$f":"IN!F3170*60","v":0},0,"-"]
[0,{"$error":"#VALUE!"},{"$error":"#VALUE!"},{"$f":"SUBSTITUTE(IN!G3171,\"-\",\"\")","v":""},"",{"$f":"IN!F3171*60","v":0},0,"-"]
[0,{"$error":"#VALUE!"},{"$error":"#VALUE!"},{"$f":"SUBSTITUTE(IN!G3172,\"-\",\"\")","v":""},"",{"$f":"IN!F3172*60","v":0},0,"-"]
[0,{"$error":"#VALUE!"},{"$error":"#VALUE!"},{"$f":"SUBSTITUTE(IN!G3173,\"-\",\"\")","v":""},"",{"$f":"IN!F3173*60","v":0},0,"-"]
[0,{"$error":"#VALUE!"},{"$error":"#VALUE!"},{"$f":"SUBSTITUTE(IN!G3174,\"-\",\"\")","v":""},"",{"$f":"IN!F3174*60","v":0},0,"-"]
[0,{"$error":"#VALUE!"},{"$error":"#VALUE!"},{"$f":"SUBSTITUTE(IN!G3175,\"-\",\"\")","v":""},"",{"$f":"IN!F3175*60","v":0},0,"-"]
[0,{"$error":"#VALUE!"},{"$error":"#VALUE!"},{"$f":"SUBSTITUTE(IN!G3176,\"-\",\"\")","v":""},"",{"$f":"IN!F3176*60","v":0},0,"-"]
[0,{"$error":"#VALUE!"},{"$error":"#VALUE!"},{"$f":"SUBSTITUTE(IN!G3177,\"-\",\"\")","v":""},"",{"$f":"IN!F3177*60","v":0},0,"-"]
[0,{"$error":"#VALUE!"},{"$error":"#VALUE!"},{"$f":"SUBSTITUTE(IN!G3178,\"-\",\"\")","v":""},"",{"$f":"IN!F3178*60","v":0},0,"-"]
[0,{"$error":"#VALUE!"},{"$error":"#VALUE!"},{"$f":"SUBSTITUTE(IN!G3179,\"-\",\"\")","v":""},"",{"$f":"IN!F3179*60","v":0},0,"-"]
[0,{"$error":"#VALUE!"},{"$error":"#VALUE!"},{"$f":"SUBSTITUTE(IN!G3180,\"-\",\"\")","v":""},"",{"$f":"IN!F3180*60","v":0},0,"-"]
[0,{"$error":"#VALUE!"},{"$error":"#VALUE!"},{"$f":"SUBSTITUTE(IN!G3181,\"-\",\"\")","v":""},"",{"$f":"IN!F3181*60","v":0},0,"-"]
[0,{"$error":"#VALUE!"},{"$error":"#VALUE!"},{"$f":"SUBSTITUTE(IN!G3182,\"-\",\"\")","v":""},"",{"$f":"IN!F3182*60","v":0},0,"-"]
[0,{"$error":"#VALUE!"},{"$error":"#VALUE!"},{"$f":"SUBSTITUTE(IN!G3183,\"-\",\"\")","v":""},"",{"$f":"IN!F3183*60","v":0},0,"-"]
[0,{"$error":"#VALUE!"},{"$error":"#VALUE!"},{"$f":"SUBSTITUTE(IN!G3184,\"-\",\"\")","v":""},"",{"$f":"IN!F3184*60","v":0},0,"-"]
[0,{"$error":"#VALUE!"},{"$error":"#VALUE!"},{"$f":"SUBSTITUTE(IN!G3185,\"-\",\"\")","v":""},"",{"$f":"IN!F3185*60","v":0},0,"-"]
[0,{"$error":"#VALUE!"},{"$error":"#VALUE!"},{"$f":"SUBSTITUTE(IN!G3186,\"-\",\"\")","v":""},"",{"$f":"IN!F3186*60","v":0},0,"-"]
[0,{"$error":"#VALUE!"},{"$error":"#VALUE!"},{"$f":"SUBSTITUTE(IN!G3187,\"-\",\"\")","v":""},"",{"$f":"IN!F3187*60","v":0},0,"-"]
[0,{"$error":"#VALUE!"},{"$error":"#VALUE!"},{"$f":"SUBSTITUTE(IN!G3188,\"-\",\"\")","v":""},"",{"$f":"IN!F3188*60","v":0},0,"-"]
[0,{"$error":"#VALUE!"},{"$error":"#VALUE!"},{"$f":"SUBSTITUTE(IN!G3189,\"-\",\"\")","v":""},"",{"$f":"IN!F3189*60","v":0},0,"-"]
[0,{"$error":"#VALUE!"},{"$error":"#VALUE!"},{"$f":"SUBSTITUTE(IN!G3190,\"-\",\"\")","v":""},"",{"$f":"IN!F3190*60","v":0},0,"-"]
[0,{"$error":"#VALUE!"},{"$error":"#VALUE!"},{"$f":"SUBSTITUTE(IN!G3191,\"-\",\"\")","v":""},"",{"$f":"IN!F3191*60","v":0},0,"-"]
[0,{"$error":"#VALUE!"},{"$error":"#VALUE!"},{"$f":"SUBSTITUTE(IN!G3192,\"-\",\"\")","v":""},"",{"$f":"IN!F3192*60","v":0},0,"-"]
[0,{"$error":"#VALUE!"},{"$error":"#VALUE!"},{"$f":"SUBSTITUTE(IN!G3193,\"-\",\"\")","v":""},"",{"$f":"IN!F3193*60","v":0},0,"-"]
[0,{"$error":"#VALUE!"},{"$error":"#VALUE!"},{"$f":"SUBSTITUTE(IN!G3194,\"-\",\"\")","v":""},"",{"$f":"IN!F3194*60","v":0},0,"-"]
[0,{"$error":"#VALUE!"},{"$error":"#VALUE!"},{"$f":"SUBSTITUTE(IN!G3195,\"-\",\"\")","v":""},"",{"$f":"IN!F3195*60","v":0},0,"-"]
[0,{"$error":"#VALUE!"},{"$error":"#VALUE!"},{"$f":"SUBSTITUTE(IN!G3196,\"-\",\"\")","v":""},"",{"$f":"IN!F3196*60","v":0},0,"-"]
[0,{"$error":"#VALUE!"},{"$error":"#VALUE!"},{"$f":"SUBSTITUTE(IN!G3197,\"-\",\"\")","v":""},"",{"$f":"IN!F3197*60","v":0},0,"-"]
[0,{"$error":"#VALUE!"},{"$error":"#VALUE!"},{"$f":"SUBSTITUTE(IN!G3198,\"-\",\"\")","v":""},"",{"$f":"IN!F3198*60","v":0},0,"-"]
[0,{"$error":"#VALUE!"},{"$error":"#VALUE!"},{"$f":"SUBSTITUTE(IN!G3199,\"-\",\"\")","v":""},"",{"$f":"IN!F3199*60","v":0},0,"-"]
[0,{"$error":"#VALUE!"},{"$error":"#VALUE!"},{"$f":"SUBSTITUTE(IN!G3200,\"-\",\"\")","v":""},"",{"$f":"IN!F3200*60","v":0},0,"-"]
[0,{"$error":"#VALUE!"},{"$error":"#VALUE!"},{"$f":"SUBSTITUTE(IN!G3201,\"-\",\"\")","v":""},"",{"$f":"IN!F3201*60","v":0},0,"-"]
[0,{"$error":"#VALUE!"},{"$error":"#VALUE!"},{"$f":"SUBSTITUTE(IN!G3202,\"-\",\"\")","v":""},"",{"$f":"IN!F3202*60","v":0},0,"-"]
[0,{"$error":"#VALUE!"},{"$error":"#VALUE!"},{"$f":"SUBSTITUTE(IN!G3203,\"-\",\"\")","v":""},"",{"$f":"IN!F3203*60","v":0},0,"-"]
[0,{"$error":"#VALUE!"},{"$error":"#VALUE!"},{"$f":"SUBSTITUTE(IN!G3204,\"-\",\"\")","v":""},"",{"$f":"IN!F3204*60","v":0},0,"-"]
[0,{"$error":"#VALUE!"},{"$error":"#VALUE!"},{"$f":"SUBSTITUTE(IN!G3205,\"-\",\"\")","v":""},"",{"$f":"IN!F3205*60","v":0},0,"-"]
[0,{"$error":"#VALUE!"},{"$error":"#VALUE!"},{"$f":"SUBSTITUTE(IN!G3206,\"-\",\"\")","v":""},"",{"$f":"IN!F3206*60","v":0},0,"-"]
[0,{"$error":"#VALUE!"},{"$error":"#VALUE!"},{"$f":"SUBSTITUTE(IN!G3207,\"-\",\"\")","v":""},"",{"$f":"IN!F3207*60","v":0},0,"-"]
[0,{"$error":"#VALUE!"},{"$error":"#VALUE!"},{"$f":"SUBSTITUTE(IN!G3208,\"-\",\"\")","v":""},"",{"$f":"IN!F3208*60","v":0},0,"-"]
[0,{"$error":"#VALUE!"},{"$error":"#VALUE!"},{"$f":"SUBSTITUTE(IN!G3209,\"-\",\"\")","v":""},"",{"$f":"IN!F3209*60","v":0},0,"-"]
[0,{"$error":"#VALUE!"},{"$error":"#VALUE!"},{"$f":"SUBSTITUTE(IN!G3210,\"-\",\"\")","v":""},"",{"$f":"IN!F3210*60","v":0},0,"-"]
[0,{"$error":"#VALUE!"},{"$error":"#VALUE!"},{"$f":"SUBSTITUTE(IN!G3211,\"-\",\"\")","v":""},"",{"$f":"IN!F3211*60","v":0},0,"-"]
[0,{"$error":"#VALUE!"},{"$error":"#VALUE!"},{"$f":"SUBSTITUTE(IN!G3212,\"-\",\"\")","v":""},"",{"$f":"IN!F3212*60","v":0},0,"-"]
[0,{"$error":"#VALUE!"},{"$error":"#VALUE!"},{"$f":"SUBSTITUTE(IN!G3213,\"-\",\"\")","v":""},"",{"$f":"IN!F3213*60","v":0},0,"-"]
[0,{"$error":"#VALUE!"},{"$error":"#VALUE!"},{"$f":"SUBSTITUTE(IN!G3214,\"-\",\"\")","v":""},"",{"$f":"IN!F3214*60","v":0},0,"-"]
[0,{"$error":"#VALUE!"},{"$error":"#VALUE!"},{"$f":"SUBSTITUTE(IN!G3215,\"-\",\"\")","v":""},"",{"$f":"IN!F3215*60","v":0},0,"-"]
[0,{"$error":"#VALUE!"},{"$error":"#VALUE!"},{"$f":"SUBSTITUTE(IN!G3216,\"-\",\"\")","v":""},"",{"$f":"IN!F3216*60","v":0},0,"-"]
[0,{"$error":"#VALUE!"},{"$error":"#VALUE!"},{"$f":"SUBSTITUTE(IN!G3217,\"-\",\"\")","v":""},"",{"$f":"IN!F3217*60","v":0},0,"-"]
[0,{"$error":"#VALUE!"},{"$error":"#VALUE!"},{"$f":"SUBSTITUTE(IN!G3218,\"-\",\"\")","v":""},"",{"$f":"IN!F3218*60","v":0},0,"-"]
[0,{"$error":"#VALUE!"},{"$error":"#VALUE!"},{"$f":"SUBSTITUTE(IN!G3219,\"-\",\"\")","v":""},"",{"$f":"IN!F3219*60","v":0},0,"-"]
[0,{"$error":"#VALUE!"},{"$error":"#VALUE!"},{"$f":"SUBSTITUTE(IN!G3220,\"-\",\"\")","v":""},"",{"$f":"IN!F3220*60","v":0},0,"-"]
[0,{"$error":"#VALUE!"},{"$error":"#VALUE!"},{"$f":"SUBSTITUTE(IN!G3221,\"-\",\"\")","v":""},"",{"$f":"IN!F3221*60","v":0},0,"-"]
[0,{"$error":"#VALUE!"},{"$error":"#VALUE!"},{"$f":"SUBSTITUTE(IN!G3222,\"-\",\"\")","v":""},"",{"$f":"IN!F3222*60","v":0},0,"-"]
[{"$f":"LEN(D3223)","v":0},{"$f":"VALUE(LEFT(D3223,1))","v":{"$error":"#VALUE!"}},{"$f":"IF(B3223<2,20,19)","v":{"$error":"#VALUE!"}},{"$f":"SUBSTITUTE(IN!G3223,\"-\",\"\")","v":""},{"$f":"IF(A3223=10,CONCATENATE(C3223,D3223),D3223)","v":""},{"$f":"IN!F3223*60","v":0},{"$f":"ROUND(F3223,0)","v":0},{"$f":"CONCATENATE(MID(E3223,3,6),\"-\",MID(E3223,9,4))","v":"-"}]
[0,{"$error":"#VALUE!"},{"$error":"#VALUE!"},{"$f":"SUBSTITUTE(IN!G3224,\"-\",\"\")","v":""},"",{"$f":"IN!F3224*60","v":0},0,"-"]
[0,{"$error":"#VALUE!"},{"$error":"#VALUE!"},{"$f":"SUBSTITUTE(IN!G3225,\"-\",\"\")","v":""},"",{"$f":"IN!F3225*60","v":0},0,"-"]
[0,{"$error":"#VALUE!"},{"$error":"#VALUE!"},{"$f":"SUBSTITUTE(IN!G3226,\"-\",\"\")","v":""},"",{"$f":"IN!F3226*60","v":0},0,"-"]
[0,{"$error":"#VALUE!"},{"$error":"#VALUE!"},{"$f":"SUBSTITUTE(IN!G3227,\"-\",\"\")","v":""},"",{"$f":"IN!F3227*60","v":0},0,"-"]
[0,{"$error":"#VALUE!"},{"$error":"#VALUE!"},{"$f":"SUBSTITUTE(IN!G3228,\"-\",\"\")","v":""},"",{"$f":"IN!F3228*60","v":0},0,"-"]
[0,{"$error":"#VALUE!"},{"$error":"#VALUE!"},{"$f":"SUBSTITUTE(IN!G3229,\"-\",\"\")","v":""},"",{"$f":"IN!F3229*60","v":0},0,"-"]
[0,{"$error":"#VALUE!"},{"$error":"#VALUE!"},{"$f":"SUBSTITUTE(IN!G3230,\"-\",\"\")","v":""},"",{"$f":"IN!F3230*60","v":0},0,"-"]
[0,{"$error":"#VALUE!"},{"$error":"#VALUE!"},{"$f":"SUBSTITUTE(IN!G3231,\"-\",\"\")","v":""},"",{"$f":"IN!F3231*60","v":0},0,"-"]
[0,{"$error":"#VALUE!"},{"$error":"#VALUE!"},{"$f":"SUBSTITUTE(IN!G3232,\"-\",\"\")","v":""},"",{"$f":"IN!F3232*60","v":0},0,"-"]
[0,{"$error":"#VALUE!"},{"$error":"#VALUE!"},{"$f":"SUBSTITUTE(IN!G3233,\"-\",\"\")","v":""},"",{"$f":"IN!F3233*60","v":0},0,"-"]
[0,{"$error":"#VALUE!"},{"$error":"#VALUE!"},{"$f":"SUBSTITUTE(IN!G3234,\"-\",\"\")","v":""},"",{"$f":"IN!F3234*60","v":0},0,"-"]
[0,{"$error":"#VALUE!"},{"$error":"#VALUE!"},{"$f":"SUBSTITUTE(IN!G3235,\"-\",\"\")","v":""},"",{"$f":"IN!F3235*60","v":0},0,"-"]
[0,{"$error":"#VALUE!"},{"$error":"#VALUE!"},{"$f":"SUBSTITUTE(IN!G3236,\"-\",\"\")","v":""},"",{"$f":"IN!F3236*60","v":0},0,"-"]
[0,{"$error":"#VALUE!"},{"$error":"#VALUE!"},{"$f":"SUBSTITUTE(IN!G3237,\"-\",\"\")","v":""},"",{"$f":"IN!F3237*60","v":0},0,"-"]
[0,{"$error":"#VALUE!"},{"$error":"#VALUE!"},{"$f":"SUBSTITUTE(IN!G3238,\"-\",\"\")","v":""},"",{"$f":"IN!F3238*60","v":0},0,"-"]
[0,{"$error":"#VALUE!"},{"$error":"#VALUE!"},{"$f":"SUBSTITUTE(IN!G3239,\"-\",\"\")","v":""},"",{"$f":"IN!F3239*60","v":0},0,"-"]
[0,{"$error":"#VALUE!"},{"$error":"#VALUE!"},{"$f":"SUBSTITUTE(IN!G3240,\"-\",\"\")","v":""},"",{"$f":"IN!F3240*60","v":0},0,"-"]
[0,{"$error":"#VALUE!"},{"$error":"#VALUE!"},{"$f":"SUBSTITUTE(IN!G3241,\"-\",\"\")","v":""},"",{"$f":"IN!F3241*60","v":0},0,"-"]
[0,{"$error":"#VALUE!"},{"$error":"#VALUE!"},{"$f":"SUBSTITUTE(IN!G3242,\"-\",\"\")","v":""},"",{"$f":"IN!F3242*60","v":0},0,"-"]
[0,{"$error":"#VALUE!"},{"$error":"#VALUE!"},{"$f":"SUBSTITUTE(IN!G3243,\"-\",\"\")","v":""},"",{"$f":"IN!F3243*60","v":0},0,"-"]
[0,{"$error":"#VALUE!"},{"$error":"#VALUE!"},{"$f":"SUBSTITUTE(IN!G3244,\"-\",\"\")","v":""},"",{"$f":"IN!F3244*60","v":0},0,"-"]
[0,{"$error":"#VALUE!"},{"$error":"#VALUE!"},{"$f":"SUBSTITUTE(IN!G3245,\"-\",\"\")","v":""},"",{"$f":"IN!F3245*60","v":0},0,"-"]
[0,{"$error":"#VALUE!"},{"$error":"#VALUE!"},{"$f":"SUBSTITUTE(IN!G3246,\"-\",\"\")","v":""},"",{"$f":"IN!F3246*60","v":0},0,"-"]
[0,{"$error":"#VALUE!"},{"$error":"#VALUE!"},{"$f":"SUBSTITUTE(IN!G3247,\"-\",\"\")","v":""},"",{"$f":"IN!F3247*60","v":0},0,"-"]
[0,{"$error":"#VALUE!"},{"$error":"#VALUE!"},{"$f":"SUBSTITUTE(IN!G3248,\"-\",\"\")","v":""},"",{"$f":"IN!F3248*60","v":0},0,"-"]
[0,{"$error":"#VALUE!"},{"$error":"#VALUE!"},{"$f":"SUBSTITUTE(IN!G3249,\"-\",\"\")","v":""},"",{"$f":"IN!F3249*60","v":0},0,"-"]
[0,{"$error":"#VALUE!"},{"$error":"#VALUE!"},{"$f":"SUBSTITUTE(IN!G3250,\"-\",\"\")","v":""},"",{"$f":"IN!F3250*60","v":0},0,"-"]
[0,{"$error":"#VALUE!"},{"$error":"#VALUE!"},{"$f":"SUBSTITUTE(IN!G3251,\"-\",\"\")","v":""},"",{"$f":"IN!F3251*60","v":0},0,"-"]
[0,{"$error":"#VALUE!"},{"$error":"#VALUE!"},{"$f":"SUBSTITUTE(IN!G3252,\"-\",\"\")","v":""},"",{"$f":"IN!F3252*60","v":0},0,"-"]
[0,{"$error":"#VALUE!"},{"$error":"#VALUE!"},{"$f":"SUBSTITUTE(IN!G3253,\"-\",\"\")","v":""},"",{"$f":"IN!F3253*60","v":0},0,"-"]
[0,{"$error":"#VALUE!"},{"$error":"#VALUE!"},{"$f":"SUBSTITUTE(IN!G3254,\"-\",\"\")","v":""},"",{"$f":"IN!F3254*60","v":0},0,"-"]
[0,{"$error":"#VALUE!"},{"$error":"#VALUE!"},{"$f":"SUBSTITUTE(IN!G3255,\"-\",\"\")","v":""},"",{"$f":"IN!F3255*60","v":0},0,"-"]
[0,{"$error":"#VALUE!"},{"$error":"#VALUE!"},{"$f":"SUBSTITUTE(IN!G3256,\"-\",\"\")","v":""},"",{"$f":"IN!F3256*60","v":0},0,"-"]
[0,{"$error":"#VALUE!"},{"$error":"#VALUE!"},{"$f":"SUBSTITUTE(IN!G3257,\"-\",\"\")","v":""},"",{"$f":"IN!F3257*60","v":0},0,"-"]
[0,{"$error":"#VALUE!"},{"$error":"#VALUE!"},{"$f":"SUBSTITUTE(IN!G3258,\"-\",\"\")","v":""},"",{"$f":"IN!F3258*60","v":0},0,"-"]
[0,{"$error":"#VALUE!"},{"$error":"#VALUE!"},{"$f":"SUBSTITUTE(IN!G3259,\"-\",\"\")","v":""},"",{"$f":"IN!F3259*60","v":0},0,"-"]
[0,{"$error":"#VALUE!"},{"$error":"#VALUE!"},{"$f":"SUBSTITUTE(IN!G3260,\"-\",\"\")","v":""},"",{"$f":"IN!F3260*60","v":0},0,"-"]
[0,{"$error":"#VALUE!"},{"$error":"#VALUE!"},{"$f":"SUBSTITUTE(IN!G3261,\"-\",\"\")","v":""},"",{"$f":"IN!F3261*60","v":0},0,"-"]
[0,{"$error":"#VALUE!"},{"$error":"#VALUE!"},{"$f":"SUBSTITUTE(IN!G3262,\"-\",\"\")","v":""},"",{"$f":"IN!F3262*60","v":0},0,"-"]
[0,{"$error":"#VALUE!"},{"$error":"#VALUE!"},{"$f":"SUBSTITUTE(IN!G3263,\"-\",\"\")","v":""},"",{"$f":"IN!F3263*60","v":0},0,"-"]
[0,{"$error":"#VALUE!"},{"$error":"#VALUE!"},{"$f":"SUBSTITUTE(IN!G3264,\"-\",\"\")","v":""},"",{"$f":"IN!F3264*60","v":0},0,"-"]
[0,{"$error":"#VALUE!"},{"$error":"#VALUE!"},{"$f":"SUBSTITUTE(IN!G3265,\"-\",\"\")","v":""},"",{"$f":"IN!F3265*60","v":0},0,"-"]
[0,{"$error":"#VALUE!"},{"$error":"#VALUE!"},{"$f":"SUBSTITUTE(IN!G3266,\"-\",\"\")","v":""},"",{"$f":"IN!F3266*60","v":0},0,"-"]
[0,{"$error":"#VALUE!"},{"$error":"#VALUE!"},{"$f":"SUBSTITUTE(IN!G3267,\"-\",\"\")","v":""},"",{"$f":"IN!F3267*60","v":0},0,"-"]
[0,{"$error":"#VALUE!"},{"$error":"#VALUE!"},{"$f":"SUBSTITUTE(IN!G3268,\"-\",\"\")","v":""},"",{"$f":"IN!F3268*60","v":0},0,"-"]
[0,{"$error":"#VALUE!"},{"$error":"#VALUE!"},{"$f":"SUBSTITUTE(IN!G3269,\"-\",\"\")","v":""},"",{"$f":"IN!F3269*60","v":0},0,"-"]
[0,{"$error":"#VALUE!"},{"$error":"#VALUE!"},{"$f":"SUBSTITUTE(IN!G3270,\"-\",\"\")","v":""},"",{"$f":"IN!F3270*60","v":0},0,"-"]
[0,{"$error":"#VALUE!"},{"$error":"#VALUE!"},{"$f":"SUBSTITUTE(IN!G3271,\"-\",\"\")","v":""},"",{"$f":"IN!F3271*60","v":0},0,"-"]
[0,{"$error":"#VALUE!"},{"$error":"#VALUE!"},{"$f":"SUBSTITUTE(IN!G3272,\"-\",\"\")","v":""},"",{"$f":"IN!F3272*60","v":0},0,"-"]
[0,{"$error":"#VALUE!"},{"$error":"#VALUE!"},{"$f":"SUBSTITUTE(IN!G3273,\"-\",\"\")","v":""},"",{"$f":"IN!F3273*60","v":0},0,"-"]
[0,{"$error":"#VALUE!"},{"$error":"#VALUE!"},{"$f":"SUBSTITUTE(IN!G3274,\"-\",\"\")","v":""},"",{"$f":"IN!F3274*60","v":0},0,"-"]
[0,{"$error":"#VALUE!"},{"$error":"#VALUE!"},{"$f":"SUBSTITUTE(IN!G3275,\"-\",\"\")","v":""},"",{"$f":"IN!F3275*60","v":0},0,"-"]
[0,{"$error":"#VALUE!"},{"$error":"#VALUE!"},{"$f":"SUBSTITUTE(IN!G3276,\"-\",\"\")","v":""},"",{"$f":"IN!F3276*60","v":0},0,"-"]
[0,{"$error":"#VALUE!"},{"$error":"#VALUE!"},{"$f":"SUBSTITUTE(IN!G3277,\"-\",\"\")","v":""},"",{"$f":"IN!F3277*60","v":0},0,"-"]
[0,{"$error":"#VALUE!"},{"$error":"#VALUE!"},{"$f":"SUBSTITUTE(IN!G3278,\"-\",\"\")","v":""},"",{"$f":"IN!F3278*60","v":0},0,"-"]
[0,{"$error":"#VALUE!"},{"$error":"#VALUE!"},{"$f":"SUBSTITUTE(IN!G3279,\"-\",\"\")","v":""},"",{"$f":"IN!F3279*60","v":0},0,"-"]
[0,{"$error":"#VALUE!"},{"$error":"#VALUE!"},{"$f":"SUBSTITUTE(IN!G3280,\"-\",\"\")","v":""},"",{"$f":"IN!F3280*60","v":0},0,"-"]
[0,{"$error":"#VALUE!"},{"$error":"#VALUE!"},{"$f":"SUBSTITUTE(IN!G3281,\"-\",\"\")","v":""},"",{"$f":"IN!F3281*60","v":0},0,"-"]
[0,{"$error":"#VALUE!"},{"$error":"#VALUE!"},{"$f":"SUBSTITUTE(IN!G3282,\"-\",\"\")","v":""},"",{"$f":"IN!F3282*60","v":0},0,"-"]
[0,{"$error":"#VALUE!"},{"$error":"#VALUE!"},{"$f":"SUBSTITUTE(IN!G3283,\"-\",\"\")","v":""},"",{"$f":"IN!F3283*60","v":0},0,"-"]
[0,{"$error":"#VALUE!"},{"$error":"#VALUE!"},{"$f":"SUBSTITUTE(IN!G3284,\"-\",\"\")","v":""},"",{"$f":"IN!F3284*60","v":0},0,"-"]
[0,{"$error":"#VALUE!"},{"$error":"#VALUE!"},{"$f":"SUBSTITUTE(IN!G3285,\"-\",\"\")","v":""},"",{"$f":"IN!F3285*60","v":0},0,"-"]
[0,{"$error":"#VALUE!"},{"$error":"#VALUE!"},{"$f":"SUBSTITUTE(IN!G3286,\"-\",\"\")","v":""},"",{"$f":"IN!F3286*60","v":0},0,"-"]
[{"$f":"LEN(D3287)","v":0},{"$f":"VALUE(LEFT(D3287,1))","v":{"$error":"#VALUE!"}},{"$f":"IF(B3287<2,20,19)","v":{"$error":"#VALUE!"}},{"$f":"SUBSTITUTE(IN!G3287,\"-\",\"\")","v":""},{"$f":"IF(A3287=10,CONCATENATE(C3287,D3287),D3287)","v":""},{"$f":"IN!F3287*60","v":0},{"$f":"ROUND(F3287,0)","v":0},{"$f":"CONCATENATE(MID(E3287,3,6),\"-\",MID(E3287,9,4))","v":"-"}]
[0,{"$error":"#VALUE!"},{"$error":"#VALUE!"},{"$f":"SUBSTITUTE(IN!G3288,\"-\",\"\")","v":""},"",{"$f":"IN!F3288*60","v":0},0,"-"]
[0,{"$error":"#VALUE!"},{"$error":"#VALUE!"},{"$f":"SUBSTITUTE(IN!G3289,\"-\",\"\")","v":""},"",{"$f":"IN!F3289*60","v":0},0,"-"]
[0,{"$error":"#VALUE!"},{"$error":"#VALUE!"},{"$f":"SUBSTITUTE(IN!G3290,\"-\",\"\")","v":""},"",{"$f":"IN!F3290*60","v":0},0,"-"]
[0,{"$error":"#VALUE!"},{"$error":"#VALUE!"},{"$f":"SUBSTITUTE(IN!G3291,\"-\",\"\")","v":""},"",{"$f":"IN!F3291*60","v":0},0,"-"]
[0,{"$error":"#VALUE!"},{"$error":"#VALUE!"},{"$f":"SUBSTITUTE(IN!G3292,\"-\",\"\")","v":""},"",{"$f":"IN!F3292*60","v":0},0,"-"]
[0,{"$error":"#VALUE!"},{"$error":"#VALUE!"},{"$f":"SUBSTITUTE(IN!G3293,\"-\",\"\")","v":""},"",{"$f":"IN!F3293*60","v":0},0,"-"]
[0,{"$error":"#VALUE!"},{"$error":"#VALUE!"},{"$f":"SUBSTITUTE(IN!G3294,\"-\",\"\")","v":""},"",{"$f":"IN!F3294*60","v":0},0,"-"]
[0,{"$error":"#VALUE!"},{"$error":"#VALUE!"},{"$f":"SUBSTITUTE(IN!G3295,\"-\",\"\")","v":""},"",{"$f":"IN!F3295*60","v":0},0,"-"]
[0,{"$error":"#VALUE!"},{"$error":"#VALUE!"},{"$f":"SUBSTITUTE(IN!G3296,\"-\",\"\")","v":""},"",{"$f":"IN!F3296*60","v":0},0,"-"]
[0,{"$error":"#VALUE!"},{"$error":"#VALUE!"},{"$f":"SUBSTITUTE(IN!G3297,\"-\",\"\")","v":""},"",{"$f":"IN!F3297*60","v":0},0,"-"]
[0,{"$error":"#VALUE!"},{"$error":"#VALUE!"},{"$f":"SUBSTITUTE(IN!G3298,\"-\",\"\")","v":""},"",{"$f":"IN!F3298*60","v":0},0,"-"]
[0,{"$error":"#VALUE!"},{"$error":"#VALUE!"},{"$f":"SUBSTITUTE(IN!G3299,\"-\",\"\")","v":""},"",{"$f":"IN!F3299*60","v":0},0,"-"]
[0,{"$error":"#VALUE!"},{"$error":"#VALUE!"},{"$f":"SUBSTITUTE(IN!G3300,\"-\",\"\")","v":""},"",{"$f":"IN!F3300*60","v":0},0,"-"]
[0,{"$error":"#VALUE!"},{"$error":"#VALUE!"},{"$f":"SUBSTITUTE(IN!G3301,\"-\",\"\")","v":""},"",{"$f":"IN!F3301*60","v":0},0,"-"]
[0,{"$error":"#VALUE!"},{"$error":"#VALUE!"},{"$f":"SUBSTITUTE(IN!G3302,\"-\",\"\")","v":""},"",{"$f":"IN!F3302*60","v":0},0,"-"]
[0,{"$error":"#VALUE!"},{"$error":"#VALUE!"},{"$f":"SUBSTITUTE(IN!G3303,\"-\",\"\")","v":""},"",{"$f":"IN!F3303*60","v":0},0,"-"]
[0,{"$error":"#VALUE!"},{"$error":"#VALUE!"},{"$f":"SUBSTITUTE(IN!G3304,\"-\",\"\")","v":""},"",{"$f":"IN!F3304*60","v":0},0,"-"]
[0,{"$error":"#VALUE!"},{"$error":"#VALUE!"},{"$f":"SUBSTITUTE(IN!G3305,\"-\",\"\")","v":""},"",{"$f":"IN!F3305*60","v":0},0,"-"]
[0,{"$error":"#VALUE!"},{"$error":"#VALUE!"},{"$f":"SUBSTITUTE(IN!G3306,\"-\",\"\")","v":""},"",{"$f":"IN!F3306*60","v":0},0,"-"]
[0,{"$error":"#VALUE!"},{"$error":"#VALUE!"},{"$f":"SUBSTITUTE(IN!G3307,\"-\",\"\")","v":""},"",{"$f":"IN!F3307*60","v":0},0,"-"]
[0,{"$error":"#VALUE!"},{"$error":"#VALUE!"},{"$f":"SUBSTITUTE(IN!G3308,\"-\",\"\")","v":""},"",{"$f":"IN!F3308*60","v":0},0,"-"]
[0,{"$error":"#VALUE!"},{"$error":"#VALUE!"},{"$f":"SUBSTITUTE(IN!G3309,\"-\",\"\")","v":""},"",{"$f":"IN!F3309*60","v":0},0,"-"]
[0,{"$error":"#VALUE!"},{"$error":"#VALUE!"},{"$f":"SUBSTITUTE(IN!G3310,\"-\",\"\")","v":""},"",{"$f":"IN!F3310*60","v":0},0,"-"]
[0,{"$error":"#VALUE!"},{"$error":"#VALUE!"},{"$f":"SUBSTITUTE(IN!G3311,\"-\",\"\")","v":""},"",{"$f":"IN!F3311*60","v":0},0,"-"]
[0,{"$error":"#VALUE!"},{"$error":"#VALUE!"},{"$f":"SUBSTITUTE(IN!G3312,\"-\",\"\")","v":""},"",{"$f":"IN!F3312*60","v":0},0,"-"]
[0,{"$error":"#VALUE!"},{"$error":"#VALUE!"},{"$f":"SUBSTITUTE(IN!G3313,\"-\",\"\")","v":""},"",{"$f":"IN!F3313*60","v":0},0,"-"]
[0,{"$error":"#VALUE!"},{"$error":"#VALUE!"},{"$f":"SUBSTITUTE(IN!G3314,\"-\",\"\")","v":""},"",{"$f":"IN!F3314*60","v":0},0,"-"]
[0,{"$error":"#VALUE!"},{"$error":"#VALUE!"},{"$f":"SUBSTITUTE(IN!G3315,\"-\",\"\")","v":""},"",{"$f":"IN!F3315*60","v":0},0,"-"]
[0,{"$error":"#VALUE!"},{"$error":"#VALUE!"},{"$f":"SUBSTITUTE(IN!G3316,\"-\",\"\")","v":""},"",{"$f":"IN!F3316*60","v":0},0,"-"]
[0,{"$error":"#VALUE!"},{"$error":"#VALUE!"},{"$f":"SUBSTITUTE(IN!G3317,\"-\",\"\")","v":""},"",{"$f":"IN!F3317*60","v":0},0,"-"]
[0,{"$error":"#VALUE!"},{"$error":"#VALUE!"},{"$f":"SUBSTITUTE(IN!G3318,\"-\",\"\")","v":""},"",{"$f":"IN!F3318*60","v":0},0,"-"]
[0,{"$error":"#VALUE!"},{"$error":"#VALUE!"},{"$f":"SUBSTITUTE(IN!G3319,\"-\",\"\")","v":""},"",{"$f":"IN!F3319*60","v":0},0,"-"]
[0,{"$error":"#VALUE!"},{"$error":"#VALUE!"},{"$f":"SUBSTITUTE(IN!G3320,\"-\",\"\")","v":""},"",{"$f":"IN!F3320*60","v":0},0,"-"]
[0,{"$error":"#VALUE!"},{"$error":"#VALUE!"},{"$f":"SUBSTITUTE(IN!G3321,\"-\",\"\")","v":""},"",{"$f":"IN!F3321*60","v":0},0,"-"]
[0,{"$error":"#VALUE!"},{"$error":"#VALUE!"},{"$f":"SUBSTITUTE(IN!G3322,\"-\",\"\")","v":""},"",{"$f":"IN!F3322*60","v":0},0,"-"]
[0,{"$error":"#VALUE!"},{"$error":"#VALUE!"},{"$f":"SUBSTITUTE(IN!G3323,\"-\",\"\")","v":""},"",{"$f":"IN!F3323*60","v":0},0,"-"]
[0,{"$error":"#VALUE!"},{"$error":"#VALUE!"},{"$f":"SUBSTITUTE(IN!G3324,\"-\",\"\")","v":""},"",{"$f":"IN!F3324*60","v":0},0,"-"]
[0,{"$error":"#VALUE!"},{"$error":"#VALUE!"},{"$f":"SUBSTITUTE(IN!G3325,\"-\",\"\")","v":""},"",{"$f":"IN!F3325*60","v":0},0,"-"]
[0,{"$error":"#VALUE!"},{"$error":"#VALUE!"},{"$f":"SUBSTITUTE(IN!G3326,\"-\",\"\")","v":""},"",{"$f":"IN!F3326*60","v":0},0,"-"]
[0,{"$error":"#VALUE!"},{"$error":"#VALUE!"},{"$f":"SUBSTITUTE(IN!G3327,\"-\",\"\")","v":""},"",{"$f":"IN!F3327*60","v":0},0,"-"]
[0,{"$error":"#VALUE!"},{"$error":"#VALUE!"},{"$f":"SUBSTITUTE(IN!G3328,\"-\",\"\")","v":""},"",{"$f":"IN!F3328*60","v":0},0,"-"]
[0,{"$error":"#VALUE!"},{"$error":"#VALUE!"},{"$f":"SUBSTITUTE(IN!G3329,\"-\",\"\")","v":""},"",{"$f":"IN!F3329*60","v":0},0,"-"]
[0,{"$error":"#VALUE!"},{"$error":"#VALUE!"},{"$f":"SUBSTITUTE(IN!G3330,\"-\",\"\")","v":""},"",{"$f":"IN!F3330*60","v":0},0,"-"]
[0,{"$error":"#VALUE!"},{"$error":"#VALUE!"},{"$f":"SUBSTITUTE(IN!G3331,\"-\",\"\")","v":""},"",{"$f":"IN!F3331*60","v":0},0,"-"]
[0,{"$error":"#VALUE!"},{"$error":"#VALUE!"},{"$f":"SUBSTITUTE(IN!G3332,\"-\",\"\")","v":""},"",{"$f":"IN!F3332*60","v":0},0,"-"]
[0,{"$error":"#VALUE!"},{"$error":"#VALUE!"},{"$f":"SUBSTITUTE(IN!G3333,\"-\",\"\")","v":""},"",{"$f":"IN!F3333*60","v":0},0,"-"]
[0,{"$error":"#VALUE!"},{"$error":"#VALUE!"},{"$f":"SUBSTITUTE(IN!G3334,\"-\",\"\")","v":""},"",{"$f":"IN!F3334*60","v":0},0,"-"]
[0,{"$error":"#VALUE!"},{"$error":"#VALUE!"},{"$f":"SUBSTITUTE(IN!G3335,\"-\",\"\")","v":""},"",{"$f":"IN!F3335*60","v":0},0,"-"]
[0,{"$error":"#VALUE!"},{"$error":"#VALUE!"},{"$f":"SUBSTITUTE(IN!G3336,\"-\",\"\")","v":""},"",{"$f":"IN!F3336*60","v":0},0,"-"]
[0,{"$error":"#VALUE!"},{"$error":"#VALUE!"},{"$f":"SUBSTITUTE(IN!G3337,\"-\",\"\")","v":""},"",{"$f":"IN!F3337*60","v":0},0,"-"]
[0,{"$error":"#VALUE!"},{"$error":"#VALUE!"},{"$f":"SUBSTITUTE(IN!G3338,\"-\",\"\")","v":""},"",{"$f":"IN!F3338*60","v":0},0,"-"]
[0,{"$error":"#VALUE!"},{"$error":"#VALUE!"},{"$f":"SUBSTITUTE(IN!G3339,\"-\",\"\")","v":""},"",{"$f":"IN!F3339*60","v":0},0,"-"]
[0,{"$error":"#VALUE!"},{"$error":"#VALUE!"},{"$f":"SUBSTITUTE(IN!G3340,\"-\",\"\")","v":""},"",{"$f":"IN!F3340*60","v":0},0,"-"]
[0,{"$error":"#VALUE!"},{"$error":"#VALUE!"},{"$f":"SUBSTITUTE(IN!G3341,\"-\",\"\")","v":""},"",{"$f":"IN!F3341*60","v":0},0,"-"]
[0,{"$error":"#VALUE!"},{"$error":"#VALUE!"},{"$f":"SUBSTITUTE(IN!G3342,\"-\",\"\")","v":""},"",{"$f":"IN!F3342*60","v":0},0,"-"]
[0,{"$error":"#VALUE!"},{"$error":"#VALUE!"},{"$f":"SUBSTITUTE(IN!G3343,\"-\",\"\")","v":""},"",{"$f":"IN!F3343*60","v":0},0,"-"]
[0,{"$error":"#VALUE!"},{"$error":"#VALUE!"},{"$f":"SUBSTITUTE(IN!G3344,\"-\",\"\")","v":""},"",{"$f":"IN!F3344*60","v":0},0,"-"]
[0,{"$error":"#VALUE!"},{"$error":"#VALUE!"},{"$f":"SUBSTITUTE(IN!G3345,\"-\",\"\")","v":""},"",{"$f":"IN!F3345*60","v":0},0,"-"]
[0,{"$error":"#VALUE!"},{"$error":"#VALUE!"},{"$f":"SUBSTITUTE(IN!G3346,\"-\",\"\")","v":""},"",{"$f":"IN!F3346*60","v":0},0,"-"]
[0,{"$error":"#VALUE!"},{"$error":"#VALUE!"},{"$f":"SUBSTITUTE(IN!G3347,\"-\",\"\")","v":""},"",{"$f":"IN!F3347*60","v":0},0,"-"]
[0,{"$error":"#VALUE!"},{"$error":"#VALUE!"},{"$f":"SUBSTITUTE(IN!G3348,\"-\",\"\")","v":""},"",{"$f":"IN!F3348*60","v":0},0,"-"]
[0,{"$error":"#VALUE!"},{"$error":"#VALUE!"},{"$f":"SUBSTITUTE(IN!G3349,\"-\",\"\")","v":""},"",{"$f":"IN!F3349*60","v":0},0,"-"]
[0,{"$error":"#VALUE!"},{"$error":"#VALUE!"},{"$f":"SUBSTITUTE(IN!G3350,\"-\",\"\")","v":""},"",{"$f":"IN!F3350*60","v":0},0,"-"]
[{"$f":"LEN(D3351)","v":0},{"$f":"VALUE(LEFT(D3351,1))","v":{"$error":"#VALUE!"}},{"$f":"IF(B3351<2,20,19)","v":{"$error":"#VALUE!"}},{"$f":"SUBSTITUTE(IN!G3351,\"-\",\"\")","v":""},{"$f":"IF(A3351=10,CONCATENATE(C3351,D3351),D3351)","v":""},{"$f":"IN!F3351*60","v":0},{"$f":"ROUND(F3351,0)","v":0},{"$f":"CONCATENATE(MID(E3351,3,6),\"-\",MID(E3351,9,4))","v":"-"}]
[0,{"$error":"#VALUE!"},{"$error":"#VALUE!"},{"$f":"SUBSTITUTE(IN!G3352,\"-\",\"\")","v":""},"",{"$f":"IN!F3352*60","v":0},0,"-"]
[0,{"$error":"#VALUE!"},{"$error":"#VALUE!"},{"$f":"SUBSTITUTE(IN!G3353,\"-\",\"\")","v":""},"",{"$f":"IN!F3353*60","v":0},0,"-"]
[0,{"$error":"#VALUE!"},{"$error":"#VALUE!"},{"$f":"SUBSTITUTE(IN!G3354,\"-\",\"\")","v":""},"",{"$f":"IN!F3354*60","v":0},0,"-"]
[0,{"$error":"#VALUE!"},{"$error":"#VALUE!"},{"$f":"SUBSTITUTE(IN!G3355,\"-\",\"\")","v":""},"",{"$f":"IN!F3355*60","v":0},0,"-"]
[0,{"$error":"#VALUE!"},{"$error":"#VALUE!"},{"$f":"SUBSTITUTE(IN!G3356,\"-\",\"\")","v":""},"",{"$f":"IN!F3356*60","v":0},0,"-"]
[0,{"$error":"#VALUE!"},{"$error":"#VALUE!"},{"$f":"SUBSTITUTE(IN!G3357,\"-\",\"\")","v":""},"",{"$f":"IN!F3357*60","v":0},0,"-"]
[0,{"$error":"#VALUE!"},{"$error":"#VALUE!"},{"$f":"SUBSTITUTE(IN!G3358,\"-\",\"\")","v":""},"",{"$f":"IN!F3358*60","v":0},0,"-"]
[0,{"$error":"#VALUE!"},{"$error":"#VALUE!"},{"$f":"SUBSTITUTE(IN!G3359,\"-\",\"\")","v":""},"",{"$f":"IN!F3359*60","v":0},0,"-"]
[0,{"$error":"#VALUE!"},{"$error":"#VALUE!"},{"$f":"SUBSTITUTE(IN!G3360,\"-\",\"\")","v":""},"",{"$f":"IN!F3360*60","v":0},0,"-"]
[0,{"$error":"#VALUE!"},{"$error":"#VALUE!"},{"$f":"SUBSTITUTE(IN!G3361,\"-\",\"\")","v":""},"",{"$f":"IN!F3361*60","v":0},0,"-"]
[0,{"$error":"#VALUE!"},{"$error":"#VALUE!"},{"$f":"SUBSTITUTE(IN!G3362,\"-\",\"\")","v":""},"",{"$f":"IN!F3362*60","v":0},0,"-"]
[0,{"$error":"#VALUE!"},{"$error":"#VALUE!"},{"$f":"SUBSTITUTE(IN!G3363,\"-\",\"\")","v":""},"",{"$f":"IN!F3363*60","v":0},0,"-"]
[0,{"$error":"#VALUE!"},{"$error":"#VALUE!"},{"$f":"SUBSTITUTE(IN!G3364,\"-\",\"\")","v":""},"",{"$f":"IN!F3364*60","v":0},0,"-"]
[0,{"$error":"#VALUE!"},{"$error":"#VALUE!"},{"$f":"SUBSTITUTE(IN!G3365,\"-\",\"\")","v":""},"",{"$f":"IN!F3365*60","v":0},0,"-"]
[0,{"$error":"#VALUE!"},{"$error":"#VALUE!"},{"$f":"SUBSTITUTE(IN!G3366,\"-\",\"\")","v":""},"",{"$f":"IN!F3366*60","v":0},0,"-"]
[0,{"$error":"#VALUE!"},{"$error":"#VALUE!"},{"$f":"SUBSTITUTE(IN!G3367,\"-\",\"\")","v":""},"",{"$f":"IN!F3367*60","v":0},0,"-"]
[0,{"$error":"#VALUE!"},{"$error":"#VALUE!"},{"$f":"SUBSTITUTE(IN!G3368,\"-\",\"\")","v":""},"",{"$f":"IN!F3368*60","v":0},0,"-"]
[0,{"$error":"#VALUE!"},{"$error":"#VALUE!"},{"$f":"SUBSTITUTE(IN!G3369,\"-\",\"\")","v":""},"",{"$f":"IN!F3369*60","v":0},0,"-"]
[0,{"$error":"#VALUE!"},{"$error":"#VALUE!"},{"$f":"SUBSTITUTE(IN!G3370,\"-\",\"\")","v":""},"",{"$f":"IN!F3370*60","v":0},0,"-"]
[0,{"$error":"#VALUE!"},{"$error":"#VALUE!"},{"$f":"SUBSTITUTE(IN!G3371,\"-\",\"\")","v":""},"",{"$f":"IN!F3371*60","v":0},0,"-"]
[0,{"$error":"#VALUE!"},{"$error":"#VALUE!"},{"$f":"SUBSTITUTE(IN!G3372,\"-\",\"\")","v":""},"",{"$f":"IN!F3372*60","v":0},0,"-"]
[0,{"$error":"#VALUE!"},{"$error":"#VALUE!"},{"$f":"SUBSTITUTE(IN!G3373,\"-\",\"\")","v":""},"",{"$f":"IN!F3373*60","v":0},0,"-"]
[0,{"$error":"#VALUE!"},{"$error":"#VALUE!"},{"$f":"SUBSTITUTE(IN!G3374,\"-\",\"\")","v":""},"",{"$f":"IN!F3374*60","v":0},0,"-"]
[0,{"$error":"#VALUE!"},{"$error":"#VALUE!"},{"$f":"SUBSTITUTE(IN!G3375,\"-\",\"\")","v":""},"",{"$f":"IN!F3375*60","v":0},0,"-"]
[0,{"$error":"#VALUE!"},{"$error":"#VALUE!"},{"$f":"SUBSTITUTE(IN!G3376,\"-\",\"\")","v":""},"",{"$f":"IN!F3376*60","v":0},0,"-"]
[0,{"$error":"#VALUE!"},{"$error":"#VALUE!"},{"$f":"SUBSTITUTE(IN!G3377,\"-\",\"\")","v":""},"",{"$f":"IN!F3377*60","v":0},0,"-"]
[0,{"$error":"#VALUE!"},{"$error":"#VALUE!"},{"$f":"SUBSTITUTE(IN!G3378,\"-\",\"\")","v":""},"",{"$f":"IN!F3378*60","v":0},0,"-"]
[0,{"$error":"#VALUE!"},{"$error":"#VALUE!"},{"$f":"SUBSTITUTE(IN!G3379,\"-\",\"\")","v":""},"",{"$f":"IN!F3379*60","v":0},0,"-"]
[0,{"$error":"#VALUE!"},{"$error":"#VALUE!"},{"$f":"SUBSTITUTE(IN!G3380,\"-\",\"\")","v":""},"",{"$f":"IN!F3380*60","v":0},0,"-"]
[0,{"$error":"#VALUE!"},{"$error":"#VALUE!"},{"$f":"SUBSTITUTE(IN!G3381,\"-\",\"\")","v":""},"",{"$f":"IN!F3381*60","v":0},0,"-"]
[0,{"$error":"#VALUE!"},{"$error":"#VALUE!"},{"$f":"SUBSTITUTE(IN!G3382,\"-\",\"\")","v":""},"",{"$f":"IN!F3382*60","v":0},0,"-"]
[0,{"$error":"#VALUE!"},{"$error":"#VALUE!"},{"$f":"SUBSTITUTE(IN!G3383,\"-\",\"\")","v":""},"",{"$f":"IN!F3383*60","v":0},0,"-"]
[0,{"$error":"#VALUE!"},{"$error":"#VALUE!"},{"$f":"SUBSTITUTE(IN!G3384,\"-\",\"\")","v":""},"",{"$f":"IN!F3384*60","v":0},0,"-"]
[0,{"$error":"#VALUE!"},{"$error":"#VALUE!"},{"$f":"SUBSTITUTE(IN!G3385,\"-\",\"\")","v":""},"",{"$f":"IN!F3385*60","v":0},0,"-"]
[0,{"$error":"#VALUE!"},{"$error":"#VALUE!"},{"$f":"SUBSTITUTE(IN!G3386,\"-\",\"\")","v":""},"",{"$f":"IN!F3386*60","v":0},0,"-"]
[0,{"$error":"#VALUE!"},{"$error":"#VALUE!"},{"$f":"SUBSTITUTE(IN!G3387,\"-\",\"\")","v":""},"",{"$f":"IN!F3387*60","v":0},0,"-"]
[0,{"$error":"#VALUE!"},{"$error":"#VALUE!"},{"$f":"SUBSTITUTE(IN!G3388,\"-\",\"\")","v":""},"",{"$f":"IN!F3388*60","v":0},0,"-"]
[0,{"$error":"#VALUE!"},{"$error":"#VALUE!"},{"$f":"SUBSTITUTE(IN!G3389,\"-\",\"\")","v":""},"",{"$f":"IN!F3389*60","v":0},0,"-"]
[0,{"$error":"#VALUE!"},{"$error":"#VALUE!"},{"$f":"SUBSTITUTE(IN!G3390,\"-\",\"\")","v":""},"",{"$f":"IN!F3390*60","v":0},0,"-"]
[0,{"$error":"#VALUE!"},{"$error":"#VALUE!"},{"$f":"SUBSTITUTE(IN!G3391,\"-\",\"\")","v":""},"",{"$f":"IN!F3391*60","v":0},0,"-"]
[0,{"$error":"#VALUE!"},{"$error":"#VALUE!"},{"$f":"SUBSTITUTE(IN!G3392,\"-\",\"\")","v":""},"",{"$f":"IN!F3392*60","v":0},0,"-"]
[0,{"$error":"#VALUE!"},{"$error":"#VALUE!"},{"$f":"SUBSTITUTE(IN!G3393,\"-\",\"\")","v":""},"",{"$f":"IN!F3393*60","v":0},0,"-"]
[0,{"$error":"#VALUE!"},{"$error":"#VALUE!"},{"$f":"SUBSTITUTE(IN!G3394,\"-\",\"\")","v":""},"",{"$f":"IN!F3394*60","v":0},0,"-"]
[0,{"$error":"#VALUE!"},{"$error":"#VALUE!"},{"$f":"SUBSTITUTE(IN!G3395,\"-\",\"\")","v":""},"",{"$f":"IN!F3395*60","v":0},0,"-"]
[0,{"$error":"#VALUE!"},{"$error":"#VALUE!"},{"$f":"SUBSTITUTE(IN!G3396,\"-\",\"\")","v":""},"",{"$f":"IN!F3396*60","v":0},0,"-"]
[0,{"$error":"#VALUE!"},{"$error":"#VALUE!"},{"$f":"SUBSTITUTE(IN!G3397,\"-\",\"\")","v":""},"",{"$f":"IN!F3397*60","v":0},0,"-"]
[0,{"$error":"#VALUE!"},{"$error":"#VALUE!"},{"$f":"SUBSTITUTE(IN!G3398,\"-\",\"\")","v":""},"",{"$f":"IN!F3398*60","v":0},0,"-"]
[0,{"$error":"#VALUE!"},{"$error":"#VALUE!"},{"$f":"SUBSTITUTE(IN!G3399,\"-\",\"\")","v":""},"",{"$f":"IN!F3399*60","v":0},0,"-"]
[0,{"$error":"#VALUE!"},{"$error":"#VALUE!"},{"$f":"SUBSTITUTE(IN!G3400,\"-\",\"\")","v":""},"",{"$f":"IN!F3400*60","v":0},0,"-"]
[0,{"$error":"#VALUE!"},{"$error":"#VALUE!"},{"$f":"SUBSTITUTE(IN!G3401,\"-\",\"\")","v":""},"",{"$f":"IN!F3401*60","v":0},0,"-"]
[0,{"$error":"#VALUE!"},{"$error":"#VALUE!"},{"$f":"SUBSTITUTE(IN!G3402,\"-\",\"\")","v":""},"",{"$f":"IN!F3402*60","v":0},0,"-"]
[0,{"$error":"#VALUE!"},{"$error":"#VALUE!"},{"$f":"SUBSTITUTE(IN!G3403,\"-\",\"\")","v":""},"",{"$f":"IN!F3403*60","v":0},0,"-"]
[0,{"$error":"#VALUE!"},{"$error":"#VALUE!"},{"$f":"SUBSTITUTE(IN!G3404,\"-\",\"\")","v":""},"",{"$f":"IN!F3404*60","v":0},0,"-"]
[0,{"$error":"#VALUE!"},{"$error":"#VALUE!"},{"$f":"SUBSTITUTE(IN!G3405,\"-\",\"\")","v":""},"",{"$f":"IN!F3405*60","v":0},0,"-"]
[0,{"$error":"#VALUE!"},{"$error":"#VALUE!"},{"$f":"SUBSTITUTE(IN!G3406,\"-\",\"\")","v":""},"",{"$f":"IN!F3406*60","v":0},0,"-"]
[0,{"$error":"#VALUE!"},{"$error":"#VALUE!"},{"$f":"SUBSTITUTE(IN!G3407,\"-\",\"\")","v":""},"",{"$f":"IN!F3407*60","v":0},0,"-"]
[0,{"$error":"#VALUE!"},{"$error":"#VALUE!"},{"$f":"SUBSTITUTE(IN!G3408,\"-\",\"\")","v":""},"",{"$f":"IN!F3408*60","v":0},0,"-"]
[0,{"$error":"#VALUE!"},{"$error":"#VALUE!"},{"$f":"SUBSTITUTE(IN!G3409,\"-\",\"\")","v":""},"",{"$f":"IN!F3409*60","v":0},0,"-"]
[0,{"$error":"#VALUE!"},{"$error":"#VALUE!"},{"$f":"SUBSTITUTE(IN!G3410,\"-\",\"\")","v":""},"",{"$f":"IN!F3410*60","v":0},0,"-"]
[0,{"$error":"#VALUE!"},{"$error":"#VALUE!"},{"$f":"SUBSTITUTE(IN!G3411,\"-\",\"\")","v":""},"",{"$f":"IN!F3411*60","v":0},0,"-"]
[0,{"$error":"#VALUE!"},{"$error":"#VALUE!"},{"$f":"SUBSTITUTE(IN!G3412,\"-\",\"\")","v":""},"",{"$f":"IN!F3412*60","v":0},0,"-"]
[0,{"$error":"#VALUE!"},{"$error":"#VALUE!"},{"$f":"SUBSTITUTE(IN!G3413,\"-\",\"\")","v":""},"",{"$f":"IN!F3413*60","v":0},0,"-"]
[0,{"$error":"#VALUE!"},{"$error":"#VALUE!"},{"$f":"SUBSTITUTE(IN!G3414,\"-\",\"\")","v":""},"",{"$f":"IN!F3414*60","v":0},0,"-"]
[{"$f":"LEN(D3415)","v":0},{"$f":"VALUE(LEFT(D3415,1))","v":{"$error":"#VALUE!"}},{"$f":"IF(B3415<2,20,19)","v":{"$error":"#VALUE!"}},{"$f":"SUBSTITUTE(IN!G3415,\"-\",\"\")","v":""},{"$f":"IF(A3415=10,CONCATENATE(C3415,D3415),D3415)","v":""},{"$f":"IN!F3415*60","v":0},{"$f":"ROUND(F3415,0)","v":0},{"$f":"CONCATENATE(MID(E3415,3,6),\"-\",MID(E3415,9,4))","v":"-"}]
[0,{"$error":"#VALUE!"},{"$error":"#VALUE!"},{"$f":"SUBSTITUTE(IN!G3416,\"-\",\"\")","v":""},"",{"$f":"IN!F3416*60","v":0},0,"-"]
[0,{"$error":"#VALUE!"},{"$error":"#VALUE!"},{"$f":"SUBSTITUTE(IN!G3417,\"-\",\"\")","v":""},"",{"$f":"IN!F3417*60","v":0},0,"-"]
[0,{"$error":"#VALUE!"},{"$error":"#VALUE!"},{"$f":"SUBSTITUTE(IN!G3418,\"-\",\"\")","v":""},"",{"$f":"IN!F3418*60","v":0},0,"-"]
[0,{"$error":"#VALUE!"},{"$error":"#VALUE!"},{"$f":"SUBSTITUTE(IN!G3419,\"-\",\"\")","v":""},"",{"$f":"IN!F3419*60","v":0},0,"-"]
[0,{"$error":"#VALUE!"},{"$error":"#VALUE!"},{"$f":"SUBSTITUTE(IN!G3420,\"-\",\"\")","v":""},"",{"$f":"IN!F3420*60","v":0},0,"-"]
[0,{"$error":"#VALUE!"},{"$error":"#VALUE!"},{"$f":"SUBSTITUTE(IN!G3421,\"-\",\"\")","v":""},"",{"$f":"IN!F3421*60","v":0},0,"-"]
[0,{"$error":"#VALUE!"},{"$error":"#VALUE!"},{"$f":"SUBSTITUTE(IN!G3422,\"-\",\"\")","v":""},"",{"$f":"IN!F3422*60","v":0},0,"-"]
[0,{"$error":"#VALUE!"},{"$error":"#VALUE!"},{"$f":"SUBSTITUTE(IN!G3423,\"-\",\"\")","v":""},"",{"$f":"IN!F3423*60","v":0},0,"-"]
[0,{"$error":"#VALUE!"},{"$error":"#VALUE!"},{"$f":"SUBSTITUTE(IN!G3424,\"-\",\"\")","v":""},"",{"$f":"IN!F3424*60","v":0},0,"-"]
[0,{"$error":"#VALUE!"},{"$error":"#VALUE!"},{"$f":"SUBSTITUTE(IN!G3425,\"-\",\"\")","v":""},"",{"$f":"IN!F3425*60","v":0},0,"-"]
[0,{"$error":"#VALUE!"},{"$error":"#VALUE!"},{"$f":"SUBSTITUTE(IN!G3426,\"-\",\"\")","v":""},"",{"$f":"IN!F3426*60","v":0},0,"-"]
[0,{"$error":"#VALUE!"},{"$error":"#VALUE!"},{"$f":"SUBSTITUTE(IN!G3427,\"-\",\"\")","v":""},"",{"$f":"IN!F3427*60","v":0},0,"-"]
[0,{"$error":"#VALUE!"},{"$error":"#VALUE!"},{"$f":"SUBSTITUTE(IN!G3428,\"-\",\"\")","v":""},"",{"$f":"IN!F3428*60","v":0},0,"-"]
[0,{"$error":"#VALUE!"},{"$error":"#VALUE!"},{"$f":"SUBSTITUTE(IN!G3429,\"-\",\"\")","v":""},"",{"$f":"IN!F3429*60","v":0},0,"-"]
[0,{"$error":"#VALUE!"},{"$error":"#VALUE!"},{"$f":"SUBSTITUTE(IN!G3430,\"-\",\"\")","v":""},"",{"$f":"IN!F3430*60","v":0},0,"-"]
[0,{"$error":"#VALUE!"},{"$error":"#VALUE!"},{"$f":"SUBSTITUTE(IN!G3431,\"-\",\"\")","v":""},"",{"$f":"IN!F3431*60","v":0},0,"-"]
[0,{"$error":"#VALUE!"},{"$error":"#VALUE!"},{"$f":"SUBSTITUTE(IN!G3432,\"-\",\"\")","v":""},"",{"$f":"IN!F3432*60","v":0},0,"-"]
[0,{"$error":"#VALUE!"},{"$error":"#VALUE!"},{"$f":"SUBSTITUTE(IN!G3433,\"-\",\"\")","v":""},"",{"$f":"IN!F3433*60","v":0},0,"-"]
[0,{"$error":"#VALUE!"},{"$error":"#VALUE!"},{"$f":"SUBSTITUTE(IN!G3434,\"-\",\"\")","v":""},"",{"$f":"IN!F3434*60","v":0},0,"-"]
[0,{"$error":"#VALUE!"},{"$error":"#VALUE!"},{"$f":"SUBSTITUTE(IN!G3435,\"-\",\"\")","v":""},"",{"$f":"IN!F3435*60","v":0},0,"-"]
[0,{"$error":"#VALUE!"},{"$error":"#VALUE!"},{"$f":"SUBSTITUTE(IN!G3436,\"-\",\"\")","v":""},"",{"$f":"IN!F3436*60","v":0},0,"-"]
[0,{"$error":"#VALUE!"},{"$error":"#VALUE!"},{"$f":"SUBSTITUTE(IN!G3437,\"-\",\"\")","v":""},"",{"$f":"IN!F3437*60","v":0},0,"-"]
[0,{"$error":"#VALUE!"},{"$error":"#VALUE!"},{"$f":"SUBSTITUTE(IN!G3438,\"-\",\"\")","v":""},"",{"$f":"IN!F3438*60","v":0},0,"-"]
[0,{"$error":"#VALUE!"},{"$error":"#VALUE!"},{"$f":"SUBSTITUTE(IN!G3439,\"-\",\"\")","v":""},"",{"$f":"IN!F3439*60","v":0},0,"-"]
[0,{"$error":"#VALUE!"},{"$error":"#VALUE!"},{"$f":"SUBSTITUTE(IN!G3440,\"-\",\"\")","v":""},"",{"$f":"IN!F3440*60","v":0},0,"-"]
[0,{"$error":"#VALUE!"},{"$error":"#VALUE!"},{"$f":"SUBSTITUTE(IN!G3441,\"-\",\"\")","v":""},"",{"$f":"IN!F3441*60","v":0},0,"-"]
[0,{"$error":"#VALUE!"},{"$error":"#VALUE!"},{"$f":"SUBSTITUTE(IN!G3442,\"-\",\"\")","v":""},"",{"$f":"IN!F3442*60","v":0},0,"-"]
[0,{"$error":"#VALUE!"},{"$error":"#VALUE!"},{"$f":"SUBSTITUTE(IN!G3443,\"-\",\"\")","v":""},"",{"$f":"IN!F3443*60","v":0},0,"-"]
[0,{"$error":"#VALUE!"},{"$error":"#VALUE!"},{"$f":"SUBSTITUTE(IN!G3444,\"-\",\"\")","v":""},"",{"$f":"IN!F3444*60","v":0},0,"-"]
[0,{"$error":"#VALUE!"},{"$error":"#VALUE!"},{"$f":"SUBSTITUTE(IN!G3445,\"-\",\"\")","v":""},"",{"$f":"IN!F3445*60","v":0},0,"-"]
[0,{"$error":"#VALUE!"},{"$error":"#VALUE!"},{"$f":"SUBSTITUTE(IN!G3446,\"-\",\"\")","v":""},"",{"$f":"IN!F3446*60","v":0},0,"-"]
[0,{"$error":"#VALUE!"},{"$error":"#VALUE!"},{"$f":"SUBSTITUTE(IN!G3447,\"-\",\"\")","v":""},"",{"$f":"IN!F3447*60","v":0},0,"-"]
[0,{"$error":"#VALUE!"},{"$error":"#VALUE!"},{"$f":"SUBSTITUTE(IN!G3448,\"-\",\"\")","v":""},"",{"$f":"IN!F3448*60","v":0},0,"-"]
[0,{"$error":"#VALUE!"},{"$error":"#VALUE!"},{"$f":"SUBSTITUTE(IN!G3449,\"-\",\"\")","v":""},"",{"$f":"IN!F3449*60","v":0},0,"-"]
[0,{"$error":"#VALUE!"},{"$error":"#VALUE!"},{"$f":"SUBSTITUTE(IN!G3450,\"-\",\"\")","v":""},"",{"$f":"IN!F3450*60","v":0},0,"-"]
[0,{"$error":"#VALUE!"},{"$error":"#VALUE!"},{"$f":"SUBSTITUTE(IN!G3451,\"-\",\"\")","v":""},"",{"$f":"IN!F3451*60","v":0},0,"-"]
[0,{"$error":"#VALUE!"},{"$error":"#VALUE!"},{"$f":"SUBSTITUTE(IN!G3452,\"-\",\"\")","v":""},"",{"$f":"IN!F3452*60","v":0},0,"-"]
[0,{"$error":"#VALUE!"},{"$error":"#VALUE!"},{"$f":"SUBSTITUTE(IN!G3453,\"-\",\"\")","v":""},"",{"$f":"IN!F3453*60","v":0},0,"-"]
[0,{"$error":"#VALUE!"},{"$error":"#VALUE!"},{"$f":"SUBSTITUTE(IN!G3454,\"-\",\"\")","v":""},"",{"$f":"IN!F3454*60","v":0},0,"-"]
[0,{"$error":"#VALUE!"},{"$error":"#VALUE!"},{"$f":"SUBSTITUTE(IN!G3455,\"-\",\"\")","v":""},"",{"$f":"IN!F3455*60","v":0},0,"-"]
[0,{"$error":"#VALUE!"},{"$error":"#VALUE!"},{"$f":"SUBSTITUTE(IN!G3456,\"-\",\"\")","v":""},"",{"$f":"IN!F3456*60","v":0},0,"-"]
[0,{"$error":"#VALUE!"},{"$error":"#VALUE!"},{"$f":"SUBSTITUTE(IN!G3457,\"-\",\"\")","v":""},"",{"$f":"IN!F3457*60","v":0},0,"-"]
[0,{"$error":"#VALUE!"},{"$error":"#VALUE!"},{"$f":"SUBSTITUTE(IN!G3458,\"-\",\"\")","v":""},"",{"$f":"IN!F3458*60","v":0},0,"-"]
[0,{"$error":"#VALUE!"},{"$error":"#VALUE!"},{"$f":"SUBSTITUTE(IN!G3459,\"-\",\"\")","v":""},"",{"$f":"IN!F3459*60","v":0},0,"-"]
[0,{"$error":"#VALUE!"},{"$error":"#VALUE!"},{"$f":"SUBSTITUTE(IN!G3460,\"-\",\"\")","v":""},"",{"$f":"IN!F3460*60","v":0},0,"-"]
[0,{"$error":"#VALUE!"},{"$error":"#VALUE!"},{"$f":"SUBSTITUTE(IN!G3461,\"-\",\"\")","v":""},"",{"$f":"IN!F3461*60","v":0},0,"-"]
[0,{"$error":"#VALUE!"},{"$error":"#VALUE!"},{"$f":"SUBSTITUTE(IN!G3462,\"-\",\"\")","v":""},"",{"$f":"IN!F3462*60","v":0},0,"-"]
[0,{"$error":"#VALUE!"},{"$error":"#VALUE!"},{"$f":"SUBSTITUTE(IN!G3463,\"-\",\"\")","v":""},"",{"$f":"IN!F3463*60","v":0},0,"-"]
[0,{"$error":"#VALUE!"},{"$error":"#VALUE!"},{"$f":"SUBSTITUTE(IN!G3464,\"-\",\"\")","v":""},"",{"$f":"IN!F3464*60","v":0},0,"-"]
[0,{"$error":"#VALUE!"},{"$error":"#VALUE!"},{"$f":"SUBSTITUTE(IN!G3465,\"-\",\"\")","v":""},"",{"$f":"IN!F3465*60","v":0},0,"-"]
[0,{"$error":"#VALUE!"},{"$error":"#VALUE!"},{"$f":"SUBSTITUTE(IN!G3466,\"-\",\"\")","v":""},"",{"$f":"IN!F3466*60","v":0},0,"-"]
[0,{"$error":"#VALUE!"},{"$error":"#VALUE!"},{"$f":"SUBSTITUTE(IN!G3467,\"-\",\"\")","v":""},"",{"$f":"IN!F3467*60","v":0},0,"-"]
[0,{"$error":"#VALUE!"},{"$error":"#VALUE!"},{"$f":"SUBSTITUTE(IN!G3468,\"-\",\"\")","v":""},"",{"$f":"IN!F3468*60","v":0},0,"-"]
[0,{"$error":"#VALUE!"},{"$error":"#VALUE!"},{"$f":"SUBSTITUTE(IN!G3469,\"-\",\"\")","v":""},"",{"$f":"IN!F3469*60","v":0},0,"-"]
[0,{"$error":"#VALUE!"},{"$error":"#VALUE!"},{"$f":"SUBSTITUTE(IN!G3470,\"-\",\"\")","v":""},"",{"$f":"IN!F3470*60","v":0},0,"-"]
[0,{"$error":"#VALUE!"},{"$error":"#VALUE!"},{"$f":"SUBSTITUTE(IN!G3471,\"-\",\"\")","v":""},"",{"$f":"IN!F3471*60","v":0},0,"-"]
[0,{"$error":"#VALUE!"},{"$error":"#VALUE!"},{"$f":"SUBSTITUTE(IN!G3472,\"-\",\"\")","v":""},"",{"$f":"IN!F3472*60","v":0},0,"-"]
[0,{"$error":"#VALUE!"},{"$error":"#VALUE!"},{"$f":"SUBSTITUTE(IN!G3473,\"-\",\"\")","v":""},"",{"$f":"IN!F3473*60","v":0},0,"-"]
[0,{"$error":"#VALUE!"},{"$error":"#VALUE!"},{"$f":"SUBSTITUTE(IN!G3474,\"-\",\"\")","v":""},"",{"$f":"IN!F3474*60","v":0},0,"-"]
[0,{"$error":"#VALUE!"},{"$error":"#VALUE!"},{"$f":"SUBSTITUTE(IN!G3475,\"-\",\"\")","v":""},"",{"$f":"IN!F3475*60","v":0},0,"-"]
[0,{"$error":"#VALUE!"},{"$error":"#VALUE!"},{"$f":"SUBSTITUTE(IN!G3476,\"-\",\"\")","v":""},"",{"$f":"IN!F3476*60","v":0},0,"-"]
[0,{"$error":"#VALUE!"},{"$error":"#VALUE!"},{"$f":"SUBSTITUTE(IN!G3477,\"-\",\"\")","v":""},"",{"$f":"IN!F3477*60","v":0},0,"-"]
[0,{"$error":"#VALUE!"},{"$error":"#VALUE!"},{"$f":"SUBSTITUTE(IN!G3478,\"-\",\"\")","v":""},"",{"$f":"IN!F3478*60","v":0},0,"-"]
[{"$f":"LEN(D3479)","v":0},{"$f":"VALUE(LEFT(D3479,1))","v":{"$error":"#VALUE!"}},{"$f":"IF(B3479<2,20,19)","v":{"$error":"#VALUE!"}},{"$f":"SUBSTITUTE(IN!G3479,\"-\",\"\")","v":""},{"$f":"IF(A3479=10,CONCATENATE(C3479,D3479),D3479)","v":""},{"$f":"IN!F3479*60","v":0},{"$f":"ROUND(F3479,0)","v":0},{"$f":"CONCATENATE(MID(E3479,3,6),\"-\",MID(E3479,9,4))","v":"-"}]
[0,{"$error":"#VALUE!"},{"$error":"#VALUE!"},{"$f":"SUBSTITUTE(IN!G3480,\"-\",\"\")","v":""},"",{"$f":"IN!F3480*60","v":0},0,"-"]
[0,{"$error":"#VALUE!"},{"$error":"#VALUE!"},{"$f":"SUBSTITUTE(IN!G3481,\"-\",\"\")","v":""},"",{"$f":"IN!F3481*60","v":0},0,"-"]
[0,{"$error":"#VALUE!"},{"$error":"#VALUE!"},{"$f":"SUBSTITUTE(IN!G3482,\"-\",\"\")","v":""},"",{"$f":"IN!F3482*60","v":0},0,"-"]
[0,{"$error":"#VALUE!"},{"$error":"#VALUE!"},{"$f":"SUBSTITUTE(IN!G3483,\"-\",\"\")","v":""},"",{"$f":"IN!F3483*60","v":0},0,"-"]
[0,{"$error":"#VALUE!"},{"$error":"#VALUE!"},{"$f":"SUBSTITUTE(IN!G3484,\"-\",\"\")","v":""},"",{"$f":"IN!F3484*60","v":0},0,"-"]
[0,{"$error":"#VALUE!"},{"$error":"#VALUE!"},{"$f":"SUBSTITUTE(IN!G3485,\"-\",\"\")","v":""},"",{"$f":"IN!F3485*60","v":0},0,"-"]
[0,{"$error":"#VALUE!"},{"$error":"#VALUE!"},{"$f":"SUBSTITUTE(IN!G3486,\"-\",\"\")","v":""},"",{"$f":"IN!F3486*60","v":0},0,"-"]
[0,{"$error":"#VALUE!"},{"$error":"#VALUE!"},{"$f":"SUBSTITUTE(IN!G3487,\"-\",\"\")","v":""},"",{"$f":"IN!F3487*60","v":0},0,"-"]
[0,{"$error":"#VALUE!"},{"$error":"#VALUE!"},{"$f":"SUBSTITUTE(IN!G3488,\"-\",\"\")","v":""},"",{"$f":"IN!F3488*60","v":0},0,"-"]
[0,{"$error":"#VALUE!"},{"$error":"#VALUE!"},{"$f":"SUBSTITUTE(IN!G3489,\"-\",\"\")","v":""},"",{"$f":"IN!F3489*60","v":0},0,"-"]
[0,{"$error":"#VALUE!"},{"$error":"#VALUE!"},{"$f":"SUBSTITUTE(IN!G3490,\"-\",\"\")","v":""},"",{"$f":"IN!F3490*60","v":0},0,"-"]
[0,{"$error":"#VALUE!"},{"$error":"#VALUE!"},{"$f":"SUBSTITUTE(IN!G3491,\"-\",\"\")","v":""},"",{"$f":"IN!F3491*60","v":0},0,"-"]
[0,{"$error":"#VALUE!"},{"$error":"#VALUE!"},{"$f":"SUBSTITUTE(IN!G3492,\"-\",\"\")","v":""},"",{"$f":"IN!F3492*60","v":0},0,"-"]
[0,{"$error":"#VALUE!"},{"$error":"#VALUE!"},{"$f":"SUBSTITUTE(IN!G3493,\"-\",\"\")","v":""},"",{"$f":"IN!F3493*60","v":0},0,"-"]
[0,{"$error":"#VALUE!"},{"$error":"#VALUE!"},{"$f":"SUBSTITUTE(IN!G3494,\"-\",\"\")","v":""},"",{"$f":"IN!F3494*60","v":0},0,"-"]
[0,{"$error":"#VALUE!"},{"$error":"#VALUE!"},{"$f":"SUBSTITUTE(IN!G3495,\"-\",\"\")","v":""},"",{"$f":"IN!F3495*60","v":0},0,"-"]
[0,{"$error":"#VALUE!"},{"$error":"#VALUE!"},{"$f":"SUBSTITUTE(IN!G3496,\"-\",\"\")","v":""},"",{"$f":"IN!F3496*60","v":0},0,"-"]
[0,{"$error":"#VALUE!"},{"$error":"#VALUE!"},{"$f":"SUBSTITUTE(IN!G3497,\"-\",\"\")","v":""},"",{"$f":"IN!F3497*60","v":0},0,"-"]
[0,{"$error":"#VALUE!"},{"$error":"#VALUE!"},{"$f":"SUBSTITUTE(IN!G3498,\"-\",\"\")","v":""},"",{"$f":"IN!F3498*60","v":0},0,"-"]
[0,{"$error":"#VALUE!"},{"$error":"#VALUE!"},{"$f":"SUBSTITUTE(IN!G3499,\"-\",\"\")","v":""},"",{"$f":"IN!F3499*60","v":0},0,"-"]
[0,{"$error":"#VALUE!"},{"$error":"#VALUE!"},{"$f":"SUBSTITUTE(IN!G3500,\"-\",\"\")","v":""},"",{"$f":"IN!F3500*60","v":0},0,"-"]
[0,{"$error":"#VALUE!"},{"$error":"#VALUE!"},{"$f":"SUBSTITUTE(IN!G3501,\"-\",\"\")","v":""},"",{"$f":"IN!F3501*60","v":0},0,"-"]
[0,{"$error":"#VALUE!"},{"$error":"#VALUE!"},{"$f":"SUBSTITUTE(IN!G3502,\"-\",\"\")","v":""},"",{"$f":"IN!F3502*60","v":0},0,"-"]
[0,{"$error":"#VALUE!"},{"$error":"#VALUE!"},{"$f":"SUBSTITUTE(IN!G3503,\"-\",\"\")","v":""},"",{"$f":"IN!F3503*60","v":0},0,"-"]

{"sheet":"UT","index":4,"n_rows":3501,"n_cols":4,"rows_kept":3501,"cut":false,"hidden":false,"merged":[]}
["Personnr","From","Tom","Minuter"]
[{"$f":"Blad3!H4","v":"-"},{"$f":"Tidsram!$B$2","v":0},{"$f":"Tidsram!$B$3","v":0},{"$f":"Blad3!G4","v":0}]
[{"$f":"Blad3!H5","v":"-"},{"$f":"Tidsram!$B$2","v":0},{"$f":"Tidsram!$B$3","v":0},{"$f":"Blad3!G5","v":0}]
[{"$f":"Blad3!H6","v":"-"},{"$f":"Tidsram!$B$2","v":0},{"$f":"Tidsram!$B$3","v":0},{"$f":"Blad3!G6","v":0}]
[{"$f":"Blad3!H7","v":"-"},{"$f":"Tidsram!$B$2","v":0},{"$f":"Tidsram!$B$3","v":0},{"$f":"Blad3!G7","v":0}]
[{"$f":"Blad3!H8","v":"-"},{"$f":"Tidsram!$B$2","v":0},{"$f":"Tidsram!$B$3","v":0},{"$f":"Blad3!G8","v":0}]
[{"$f":"Blad3!H9","v":"-"},{"$f":"Tidsram!$B$2","v":0},{"$f":"Tidsram!$B$3","v":0},{"$f":"Blad3!G9","v":0}]
[{"$f":"Blad3!H10","v":"-"},{"$f":"Tidsram!$B$2","v":0},{"$f":"Tidsram!$B$3","v":0},{"$f":"Blad3!G10","v":0}]
[{"$f":"Blad3!H11","v":"-"},{"$f":"Tidsram!$B$2","v":0},{"$f":"Tidsram!$B$3","v":0},{"$f":"Blad3!G11","v":0}]
[{"$f":"Blad3!H12","v":"-"},{"$f":"Tidsram!$B$2","v":0},{"$f":"Tidsram!$B$3","v":0},{"$f":"Blad3!G12","v":0}]
[{"$f":"Blad3!H13","v":"-"},{"$f":"Tidsram!$B$2","v":0},{"$f":"Tidsram!$B$3","v":0},{"$f":"Blad3!G13","v":0}]
[{"$f":"Blad3!H14","v":"-"},{"$f":"Tidsram!$B$2","v":0},{"$f":"Tidsram!$B$3","v":0},{"$f":"Blad3!G14","v":0}]
[{"$f":"Blad3!H15","v":"-"},{"$f":"Tidsram!$B$2","v":0},{"$f":"Tidsram!$B$3","v":0},{"$f":"Blad3!G15","v":0}]
[{"$f":"Blad3!H16","v":"-"},{"$f":"Tidsram!$B$2","v":0},{"$f":"Tidsram!$B$3","v":0},{"$f":"Blad3!G16","v":0}]
[{"$f":"Blad3!H17","v":"-"},{"$f":"Tidsram!$B$2","v":0},{"$f":"Tidsram!$B$3","v":0},{"$f":"Blad3!G17","v":0}]
[{"$f":"Blad3!H18","v":"-"},{"$f":"Tidsram!$B$2","v":0},{"$f":"Tidsram!$B$3","v":0},{"$f":"Blad3!G18","v":0}]
[{"$f":"Blad3!H19","v":"-"},{"$f":"Tidsram!$B$2","v":0},{"$f":"Tidsram!$B$3","v":0},{"$f":"Blad3!G19","v":0}]
[{"$f":"Blad3!H20","v":"-"},{"$f":"Tidsram!$B$2","v":0},{"$f":"Tidsram!$B$3","v":0},{"$f":"Blad3!G20","v":0}]
[{"$f":"Blad3!H21","v":"-"},{"$f":"Tidsram!$B$2","v":0},{"$f":"Tidsram!$B$3","v":0},{"$f":"Blad3!G21","v":0}]
[{"$f":"Blad3!H22","v":"-"},{"$f":"Tidsram!$B$2","v":0},{"$f":"Tidsram!$B$3","v":0},{"$f":"Blad3!G22","v":0}]
[{"$f":"Blad3!H23","v":"-"},{"$f":"Tidsram!$B$2","v":0},{"$f":"Tidsram!$B$3","v":0},{"$f":"Blad3!G23","v":0}]
[{"$f":"Blad3!H24","v":"-"},{"$f":"Tidsram!$B$2","v":0},{"$f":"Tidsram!$B$3","v":0},{"$f":"Blad3!G24","v":0}]
[{"$f":"Blad3!H25","v":"-"},{"$f":"Tidsram!$B$2","v":0},{"$f":"Tidsram!$B$3","v":0},{"$f":"Blad3!G25","v":0}]
[{"$f":"Blad3!H26","v":"-"},{"$f":"Tidsram!$B$2","v":0},{"$f":"Tidsram!$B$3","v":0},{"$f":"Blad3!G26","v":0}]
[{"$f":"Blad3!H27","v":"-"},{"$f":"Tidsram!$B$2","v":0},{"$f":"Tidsram!$B$3","v":0},{"$f":"Blad3!G27","v":0}]
[{"$f":"Blad3!H28","v":"-"},{"$f":"Tidsram!$B$2","v":0},{"$f":"Tidsram!$B$3","v":0},{"$f":"Blad3!G28","v":0}]
[{"$f":"Blad3!H29","v":"-"},{"$f":"Tidsram!$B$2","v":0},{"$f":"Tidsram!$B$3","v":0},{"$f":"Blad3!G29","v":0}]
[{"$f":"Blad3!H30","v":"-"},{"$f":"Tidsram!$B$2","v":0},{"$f":"Tidsram!$B$3","v":0},{"$f":"Blad3!G30","v":0}]
[{"$f":"Blad3!H31","v":"-"},{"$f":"Tidsram!$B$2","v":0},{"$f":"Tidsram!$B$3","v":0},{"$f":"Blad3!G31","v":0}]
[{"$f":"Blad3!H32","v":"-"},{"$f":"Tidsram!$B$2","v":0},{"$f":"Tidsram!$B$3","v":0},{"$f":"Blad3!G32","v":0}]
[{"$f":"Blad3!H33","v":"-"},{"$f":"Tidsram!$B$2","v":0},{"$f":"Tidsram!$B$3","v":0},{"$f":"Blad3!G33","v":0}]
[{"$f":"Blad3!H34","v":"-"},{"$f":"Tidsram!$B$2","v":0},{"$f":"Tidsram!$B$3","v":0},{"$f":"Blad3!G34","v":0}]
[{"$f":"Blad3!H35","v":"-"},{"$f":"Tidsram!$B$2","v":0},{"$f":"Tidsram!$B$3","v":0},{"$f":"Blad3!G35","v":0}]
[{"$f":"Blad3!H36","v":"-"},{"$f":"Tidsram!$B$2","v":0},{"$f":"Tidsram!$B$3","v":0},{"$f":"Blad3!G36","v":0}]
[{"$f":"Blad3!H37","v":"-"},{"$f":"Tidsram!$B$2","v":0},{"$f":"Tidsram!$B$3","v":0},{"$f":"Blad3!G37","v":0}]
[{"$f":"Blad3!H38","v":"-"},{"$f":"Tidsram!$B$2","v":0},{"$f":"Tidsram!$B$3","v":0},{"$f":"Blad3!G38","v":0}]
[{"$f":"Blad3!H39","v":"-"},{"$f":"Tidsram!$B$2","v":0},{"$f":"Tidsram!$B$3","v":0},{"$f":"Blad3!G39","v":0}]
[{"$f":"Blad3!H40","v":"-"},{"$f":"Tidsram!$B$2","v":0},{"$f":"Tidsram!$B$3","v":0},{"$f":"Blad3!G40","v":0}]
[{"$f":"Blad3!H41","v":"-"},{"$f":"Tidsram!$B$2","v":0},{"$f":"Tidsram!$B$3","v":0},{"$f":"Blad3!G41","v":0}]
[{"$f":"Blad3!H42","v":"-"},{"$f":"Tidsram!$B$2","v":0},{"$f":"Tidsram!$B$3","v":0},{"$f":"Blad3!G42","v":0}]
[{"$f":"Blad3!H43","v":"-"},{"$f":"Tidsram!$B$2","v":0},{"$f":"Tidsram!$B$3","v":0},{"$f":"Blad3!G43","v":0}]
[{"$f":"Blad3!H44","v":"-"},{"$f":"Tidsram!$B$2","v":0},{"$f":"Tidsram!$B$3","v":0},{"$f":"Blad3!G44","v":0}]
[{"$f":"Blad3!H45","v":"-"},{"$f":"Tidsram!$B$2","v":0},{"$f":"Tidsram!$B$3","v":0},{"$f":"Blad3!G45","v":0}]
[{"$f":"Blad3!H46","v":"-"},{"$f":"Tidsram!$B$2","v":0},{"$f":"Tidsram!$B$3","v":0},{"$f":"Blad3!G46","v":0}]
[{"$f":"Blad3!H47","v":"-"},{"$f":"Tidsram!$B$2","v":0},{"$f":"Tidsram!$B$3","v":0},{"$f":"Blad3!G47","v":0}]
[{"$f":"Blad3!H48","v":"-"},{"$f":"Tidsram!$B$2","v":0},{"$f":"Tidsram!$B$3","v":0},{"$f":"Blad3!G48","v":0}]
[{"$f":"Blad3!H49","v":"-"},{"$f":"Tidsram!$B$2","v":0},{"$f":"Tidsram!$B$3","v":0},{"$f":"Blad3!G49","v":0}]
[{"$f":"Blad3!H50","v":"-"},{"$f":"Tidsram!$B$2","v":0},{"$f":"Tidsram!$B$3","v":0},{"$f":"Blad3!G50","v":0}]
[{"$f":"Blad3!H51","v":"-"},{"$f":"Tidsram!$B$2","v":0},{"$f":"Tidsram!$B$3","v":0},{"$f":"Blad3!G51","v":0}]
[{"$f":"Blad3!H52","v":"-"},{"$f":"Tidsram!$B$2","v":0},{"$f":"Tidsram!$B$3","v":0},{"$f":"Blad3!G52","v":0}]
[{"$f":"Blad3!H53","v":"-"},{"$f":"Tidsram!$B$2","v":0},{"$f":"Tidsram!$B$3","v":0},{"$f":"Blad3!G53","v":0}]
[{"$f":"Blad3!H54","v":"-"},{"$f":"Tidsram!$B$2","v":0},{"$f":"Tidsram!$B$3","v":0},{"$f":"Blad3!G54","v":0}]
[{"$f":"Blad3!H55","v":"-"},{"$f":"Tidsram!$B$2","v":0},{"$f":"Tidsram!$B$3","v":0},{"$f":"Blad3!G55","v":0}]
[{"$f":"Blad3!H56","v":"-"},{"$f":"Tidsram!$B$2","v":0},{"$f":"Tidsram!$B$3","v":0},{"$f":"Blad3!G56","v":0}]
[{"$f":"Blad3!H57","v":"-"},{"$f":"Tidsram!$B$2","v":0},{"$f":"Tidsram!$B$3","v":0},{"$f":"Blad3!G57","v":0}]
[{"$f":"Blad3!H58","v":"-"},{"$f":"Tidsram!$B$2","v":0},{"$f":"Tidsram!$B$3","v":0},{"$f":"Blad3!G58","v":0}]
[{"$f":"Blad3!H59","v":"-"},{"$f":"Tidsram!$B$2","v":0},{"$f":"Tidsram!$B$3","v":0},{"$f":"Blad3!G59","v":0}]
[{"$f":"Blad3!H60","v":"-"},{"$f":"Tidsram!$B$2","v":0},{"$f":"Tidsram!$B$3","v":0},{"$f":"Blad3!G60","v":0}]
[{"$f":"Blad3!H61","v":"-"},{"$f":"Tidsram!$B$2","v":0},{"$f":"Tidsram!$B$3","v":0},{"$f":"Blad3!G61","v":0}]
[{"$f":"Blad3!H62","v":"-"},{"$f":"Tidsram!$B$2","v":0},{"$f":"Tidsram!$B$3","v":0},{"$f":"Blad3!G62","v":0}]
[{"$f":"Blad3!H63","v":"-"},{"$f":"Tidsram!$B$2","v":0},{"$f":"Tidsram!$B$3","v":0},{"$f":"Blad3!G63","v":0}]
[{"$f":"Blad3!H64","v":"-"},{"$f":"Tidsram!$B$2","v":0},{"$f":"Tidsram!$B$3","v":0},{"$f":"Blad3!G64","v":0}]
[{"$f":"Blad3!H65","v":"-"},{"$f":"Tidsram!$B$2","v":0},{"$f":"Tidsram!$B$3","v":0},{"$f":"Blad3!G65","v":0}]
[{"$f":"Blad3!H66","v":"-"},{"$f":"Tidsram!$B$2","v":0},{"$f":"Tidsram!$B$3","v":0},{"$f":"Blad3!G66","v":0}]
[{"$f":"Blad3!H67","v":"-"},{"$f":"Tidsram!$B$2","v":0},{"$f":"Tidsram!$B$3","v":0},{"$f":"Blad3!G67","v":0}]
[{"$f":"Blad3!H68","v":"-"},{"$f":"Tidsram!$B$2","v":0},{"$f":"Tidsram!$B$3","v":0},{"$f":"Blad3!G68","v":0}]
[{"$f":"Blad3!H69","v":"-"},{"$f":"Tidsram!$B$2","v":0},{"$f":"Tidsram!$B$3","v":0},{"$f":"Blad3!G69","v":0}]
[{"$f":"Blad3!H70","v":"-"},{"$f":"Tidsram!$B$2","v":0},{"$f":"Tidsram!$B$3","v":0},{"$f":"Blad3!G70","v":0}]
[{"$f":"Blad3!H71","v":"-"},{"$f":"Tidsram!$B$2","v":0},{"$f":"Tidsram!$B$3","v":0},{"$f":"Blad3!G71","v":0}]
[{"$f":"Blad3!H72","v":"-"},{"$f":"Tidsram!$B$2","v":0},{"$f":"Tidsram!$B$3","v":0},{"$f":"Blad3!G72","v":0}]
[{"$f":"Blad3!H73","v":"-"},{"$f":"Tidsram!$B$2","v":0},{"$f":"Tidsram!$B$3","v":0},{"$f":"Blad3!G73","v":0}]
[{"$f":"Blad3!H74","v":"-"},{"$f":"Tidsram!$B$2","v":0},{"$f":"Tidsram!$B$3","v":0},{"$f":"Blad3!G74","v":0}]
[{"$f":"Blad3!H75","v":"-"},{"$f":"Tidsram!$B$2","v":0},{"$f":"Tidsram!$B$3","v":0},{"$f":"Blad3!G75","v":0}]
[{"$f":"Blad3!H76","v":"-"},{"$f":"Tidsram!$B$2","v":0},{"$f":"Tidsram!$B$3","v":0},{"$f":"Blad3!G76","v":0}]
[{"$f":"Blad3!H77","v":"-"},{"$f":"Tidsram!$B$2","v":0},{"$f":"Tidsram!$B$3","v":0},{"$f":"Blad3!G77","v":0}]
[{"$f":"Blad3!H78","v":"-"},{"$f":"Tidsram!$B$2","v":0},{"$f":"Tidsram!$B$3","v":0},{"$f":"Blad3!G78","v":0}]
[{"$f":"Blad3!H79","v":"-"},{"$f":"Tidsram!$B$2","v":0},{"$f":"Tidsram!$B$3","v":0},{"$f":"Blad3!G79","v":0}]
[{"$f":"Blad3!H80","v":"-"},{"$f":"Tidsram!$B$2","v":0},{"$f":"Tidsram!$B$3","v":0},{"$f":"Blad3!G80","v":0}]
[{"$f":"Blad3!H81","v":"-"},{"$f":"Tidsram!$B$2","v":0},{"$f":"Tidsram!$B$3","v":0},{"$f":"Blad3!G81","v":0}]
[{"$f":"Blad3!H82","v":"-"},{"$f":"Tidsram!$B$2","v":0},{"$f":"Tidsram!$B$3","v":0},{"$f":"Blad3!G82","v":0}]
[{"$f":"Blad3!H83","v":"-"},{"$f":"Tidsram!$B$2","v":0},{"$f":"Tidsram!$B$3","v":0},{"$f":"Blad3!G83","v":0}]
[{"$f":"Blad3!H84","v":"-"},{"$f":"Tidsram!$B$2","v":0},{"$f":"Tidsram!$B$3","v":0},{"$f":"Blad3!G84","v":0}]
[{"$f":"Blad3!H85","v":"-"},{"$f":"Tidsram!$B$2","v":0},{"$f":"Tidsram!$B$3","v":0},{"$f":"Blad3!G85","v":0}]
[{"$f":"Blad3!H86","v":"-"},{"$f":"Tidsram!$B$2","v":0},{"$f":"Tidsram!$B$3","v":0},{"$f":"Blad3!G86","v":0}]
[{"$f":"Blad3!H87","v":"-"},{"$f":"Tidsram!$B$2","v":0},{"$f":"Tidsram!$B$3","v":0},{"$f":"Blad3!G87","v":0}]
[{"$f":"Blad3!H88","v":"-"},{"$f":"Tidsram!$B$2","v":0},{"$f":"Tidsram!$B$3","v":0},{"$f":"Blad3!G88","v":0}]
[{"$f":"Blad3!H89","v":"-"},{"$f":"Tidsram!$B$2","v":0},{"$f":"Tidsram!$B$3","v":0},{"$f":"Blad3!G89","v":0}]
[{"$f":"Blad3!H90","v":"-"},{"$f":"Tidsram!$B$2","v":0},{"$f":"Tidsram!$B$3","v":0},{"$f":"Blad3!G90","v":0}]
[{"$f":"Blad3!H91","v":"-"},{"$f":"Tidsram!$B$2","v":0},{"$f":"Tidsram!$B$3","v":0},{"$f":"Blad3!G91","v":0}]
[{"$f":"Blad3!H92","v":"-"},{"$f":"Tidsram!$B$2","v":0},{"$f":"Tidsram!$B$3","v":0},{"$f":"Blad3!G92","v":0}]
[{"$f":"Blad3!H93","v":"-"},{"$f":"Tidsram!$B$2","v":0},{"$f":"Tidsram!$B$3","v":0},{"$f":"Blad3!G93","v":0}]
[{"$f":"Blad3!H94","v":"-"},{"$f":"Tidsram!$B$2","v":0},{"$f":"Tidsram!$B$3","v":0},{"$f":"Blad3!G94","v":0}]
[{"$f":"Blad3!H95","v":"-"},{"$f":"Tidsram!$B$2","v":0},{"$f":"Tidsram!$B$3","v":0},{"$f":"Blad3!G95","v":0}]
[{"$f":"Blad3!H96","v":"-"},{"$f":"Tidsram!$B$2","v":0},{"$f":"Tidsram!$B$3","v":0},{"$f":"Blad3!G96","v":0}]
[{"$f":"Blad3!H97","v":"-"},{"$f":"Tidsram!$B$2","v":0},{"$f":"Tidsram!$B$3","v":0},{"$f":"Blad3!G97","v":0}]
[{"$f":"Blad3!H98","v":"-"},{"$f":"Tidsram!$B$2","v":0},{"$f":"Tidsram!$B$3","v":0},{"$f":"Blad3!G98","v":0}]
[{"$f":"Blad3!H99","v":"-"},{"$f":"Tidsram!$B$2","v":0},{"$f":"Tidsram!$B$3","v":0},{"$f":"Blad3!G99","v":0}]
[{"$f":"Blad3!H100","v":"-"},{"$f":"Tidsram!$B$2","v":0},{"$f":"Tidsram!$B$3","v":0},{"$f":"Blad3!G100","v":0}]
[{"$f":"Blad3!H101","v":"-"},{"$f":"Tidsram!$B$2","v":0},{"$f":"Tidsram!$B$3","v":0},{"$f":"Blad3!G101","v":0}]
[{"$f":"Blad3!H102","v":"-"},{"$f":"Tidsram!$B$2","v":0},{"$f":"Tidsram!$B$3","v":0},{"$f":"Blad3!G102","v":0}]
[{"$f":"Blad3!H103","v":"-"},{"$f":"Tidsram!$B$2","v":0},{"$f":"Tidsram!$B$3","v":0},{"$f":"Blad3!G103","v":0}]
[{"$f":"Blad3!H104","v":"-"},{"$f":"Tidsram!$B$2","v":0},{"$f":"Tidsram!$B$3","v":0},{"$f":"Blad3!G104","v":0}]
[{"$f":"Blad3!H105","v":"-"},{"$f":"Tidsram!$B$2","v":0},{"$f":"Tidsram!$B$3","v":0},{"$f":"Blad3!G105","v":0}]
[{"$f":"Blad3!H106","v":"-"},{"$f":"Tidsram!$B$2","v":0},{"$f":"Tidsram!$B$3","v":0},{"$f":"Blad3!G106","v":0}]
[{"$f":"Blad3!H107","v":"-"},{"$f":"Tidsram!$B$2","v":0},{"$f":"Tidsram!$B$3","v":0},{"$f":"Blad3!G107","v":0}]
[{"$f":"Blad3!H108","v":"-"},{"$f":"Tidsram!$B$2","v":0},{"$f":"Tidsram!$B$3","v":0},{"$f":"Blad3!G108","v":0}]
[{"$f":"Blad3!H109","v":"-"},{"$f":"Tidsram!$B$2","v":0},{"$f":"Tidsram!$B$3","v":0},{"$f":"Blad3!G109","v":0}]
[{"$f":"Blad3!H110","v":"-"},{"$f":"Tidsram!$B$2","v":0},{"$f":"Tidsram!$B$3","v":0},{"$f":"Blad3!G110","v":0}]
[{"$f":"Blad3!H111","v":"-"},{"$f":"Tidsram!$B$2","v":0},{"$f":"Tidsram!$B$3","v":0},{"$f":"Blad3!G111","v":0}]
[{"$f":"Blad3!H112","v":"-"},{"$f":"Tidsram!$B$2","v":0},{"$f":"Tidsram!$B$3","v":0},{"$f":"Blad3!G112","v":0}]
[{"$f":"Blad3!H113","v":"-"},{"$f":"Tidsram!$B$2","v":0},{"$f":"Tidsram!$B$3","v":0},{"$f":"Blad3!G113","v":0}]
[{"$f":"Blad3!H114","v":"-"},{"$f":"Tidsram!$B$2","v":0},{"$f":"Tidsram!$B$3","v":0},{"$f":"Blad3!G114","v":0}]
[{"$f":"Blad3!H115","v":"-"},{"$f":"Tidsram!$B$2","v":0},{"$f":"Tidsram!$B$3","v":0},{"$f":"Blad3!G115","v":0}]
[{"$f":"Blad3!H116","v":"-"},{"$f":"Tidsram!$B$2","v":0},{"$f":"Tidsram!$B$3","v":0},{"$f":"Blad3!G116","v":0}]
[{"$f":"Blad3!H117","v":"-"},{"$f":"Tidsram!$B$2","v":0},{"$f":"Tidsram!$B$3","v":0},{"$f":"Blad3!G117","v":0}]
[{"$f":"Blad3!H118","v":"-"},{"$f":"Tidsram!$B$2","v":0},{"$f":"Tidsram!$B$3","v":0},{"$f":"Blad3!G118","v":0}]
[{"$f":"Blad3!H119","v":"-"},{"$f":"Tidsram!$B$2","v":0},{"$f":"Tidsram!$B$3","v":0},{"$f":"Blad3!G119","v":0}]
[{"$f":"Blad3!H120","v":"-"},{"$f":"Tidsram!$B$2","v":0},{"$f":"Tidsram!$B$3","v":0},{"$f":"Blad3!G120","v":0}]
[{"$f":"Blad3!H121","v":"-"},{"$f":"Tidsram!$B$2","v":0},{"$f":"Tidsram!$B$3","v":0},{"$f":"Blad3!G121","v":0}]
[{"$f":"Blad3!H122","v":"-"},{"$f":"Tidsram!$B$2","v":0},{"$f":"Tidsram!$B$3","v":0},{"$f":"Blad3!G122","v":0}]
[{"$f":"Blad3!H123","v":"-"},{"$f":"Tidsram!$B$2","v":0},{"$f":"Tidsram!$B$3","v":0},{"$f":"Blad3!G123","v":0}]
[{"$f":"Blad3!H124","v":"-"},{"$f":"Tidsram!$B$2","v":0},{"$f":"Tidsram!$B$3","v":0},{"$f":"Blad3!G124","v":0}]
[{"$f":"Blad3!H125","v":"-"},{"$f":"Tidsram!$B$2","v":0},{"$f":"Tidsram!$B$3","v":0},{"$f":"Blad3!G125","v":0}]
[{"$f":"Blad3!H126","v":"-"},{"$f":"Tidsram!$B$2","v":0},{"$f":"Tidsram!$B$3","v":0},{"$f":"Blad3!G126","v":0}]
[{"$f":"Blad3!H127","v":"-"},{"$f":"Tidsram!$B$2","v":0},{"$f":"Tidsram!$B$3","v":0},{"$f":"Blad3!G127","v":0}]
[{"$f":"Blad3!H128","v":"-"},{"$f":"Tidsram!$B$2","v":0},{"$f":"Tidsram!$B$3","v":0},{"$f":"Blad3!G128","v":0}]
[{"$f":"Blad3!H129","v":"-"},{"$f":"Tidsram!$B$2","v":0},{"$f":"Tidsram!$B$3","v":0},{"$f":"Blad3!G129","v":0}]
[{"$f":"Blad3!H130","v":"-"},{"$f":"Tidsram!$B$2","v":0},{"$f":"Tidsram!$B$3","v":0},{"$f":"Blad3!G130","v":0}]
[{"$f":"Blad3!H131","v":"-"},{"$f":"Tidsram!$B$2","v":0},{"$f":"Tidsram!$B$3","v":0},{"$f":"Blad3!G131","v":0}]
[{"$f":"Blad3!H132","v":"-"},{"$f":"Tidsram!$B$2","v":0},{"$f":"Tidsram!$B$3","v":0},{"$f":"Blad3!G132","v":0}]
[{"$f":"Blad3!H133","v":"-"},{"$f":"Tidsram!$B$2","v":0},{"$f":"Tidsram!$B$3","v":0},{"$f":"Blad3!G133","v":0}]
[{"$f":"Blad3!H134","v":"-"},{"$f":"Tidsram!$B$2","v":0},{"$f":"Tidsram!$B$3","v":0},{"$f":"Blad3!G134","v":0}]
[{"$f":"Blad3!H135","v":"-"},{"$f":"Tidsram!$B$2","v":0},{"$f":"Tidsram!$B$3","v":0},{"$f":"Blad3!G135","v":0}]
[{"$f":"Blad3!H136","v":"-"},{"$f":"Tidsram!$B$2","v":0},{"$f":"Tidsram!$B$3","v":0},{"$f":"Blad3!G136","v":0}]
[{"$f":"Blad3!H137","v":"-"},{"$f":"Tidsram!$B$2","v":0},{"$f":"Tidsram!$B$3","v":0},{"$f":"Blad3!G137","v":0}]
[{"$f":"Blad3!H138","v":"-"},{"$f":"Tidsram!$B$2","v":0},{"$f":"Tidsram!$B$3","v":0},{"$f":"Blad3!G138","v":0}]
[{"$f":"Blad3!H139","v":"-"},{"$f":"Tidsram!$B$2","v":0},{"$f":"Tidsram!$B$3","v":0},{"$f":"Blad3!G139","v":0}]
[{"$f":"Blad3!H140","v":"-"},{"$f":"Tidsram!$B$2","v":0},{"$f":"Tidsram!$B$3","v":0},{"$f":"Blad3!G140","v":0}]
[{"$f":"Blad3!H141","v":"-"},{"$f":"Tidsram!$B$2","v":0},{"$f":"Tidsram!$B$3","v":0},{"$f":"Blad3!G141","v":0}]
[{"$f":"Blad3!H142","v":"-"},{"$f":"Tidsram!$B$2","v":0},{"$f":"Tidsram!$B$3","v":0},{"$f":"Blad3!G142","v":0}]
[{"$f":"Blad3!H143","v":"-"},{"$f":"Tidsram!$B$2","v":0},{"$f":"Tidsram!$B$3","v":0},{"$f":"Blad3!G143","v":0}]
[{"$f":"Blad3!H144","v":"-"},{"$f":"Tidsram!$B$2","v":0},{"$f":"Tidsram!$B$3","v":0},{"$f":"Blad3!G144","v":0}]
[{"$f":"Blad3!H145","v":"-"},{"$f":"Tidsram!$B$2","v":0},{"$f":"Tidsram!$B$3","v":0},{"$f":"Blad3!G145","v":0}]
[{"$f":"Blad3!H146","v":"-"},{"$f":"Tidsram!$B$2","v":0},{"$f":"Tidsram!$B$3","v":0},{"$f":"Blad3!G146","v":0}]
[{"$f":"Blad3!H147","v":"-"},{"$f":"Tidsram!$B$2","v":0},{"$f":"Tidsram!$B$3","v":0},{"$f":"Blad3!G147","v":0}]
[{"$f":"Blad3!H148","v":"-"},{"$f":"Tidsram!$B$2","v":0},{"$f":"Tidsram!$B$3","v":0},{"$f":"Blad3!G148","v":0}]
[{"$f":"Blad3!H149","v":"-"},{"$f":"Tidsram!$B$2","v":0},{"$f":"Tidsram!$B$3","v":0},{"$f":"Blad3!G149","v":0}]
[{"$f":"Blad3!H150","v":"-"},{"$f":"Tidsram!$B$2","v":0},{"$f":"Tidsram!$B$3","v":0},{"$f":"Blad3!G150","v":0}]
[{"$f":"Blad3!H151","v":"-"},{"$f":"Tidsram!$B$2","v":0},{"$f":"Tidsram!$B$3","v":0},{"$f":"Blad3!G151","v":0}]
[{"$f":"Blad3!H152","v":"-"},{"$f":"Tidsram!$B$2","v":0},{"$f":"Tidsram!$B$3","v":0},{"$f":"Blad3!G152","v":0}]
[{"$f":"Blad3!H153","v":"-"},{"$f":"Tidsram!$B$2","v":0},{"$f":"Tidsram!$B$3","v":0},{"$f":"Blad3!G153","v":0}]
[{"$f":"Blad3!H154","v":"-"},{"$f":"Tidsram!$B$2","v":0},{"$f":"Tidsram!$B$3","v":0},{"$f":"Blad3!G154","v":0}]
[{"$f":"Blad3!H155","v":"-"},{"$f":"Tidsram!$B$2","v":0},{"$f":"Tidsram!$B$3","v":0},{"$f":"Blad3!G155","v":0}]
[{"$f":"Blad3!H156","v":"-"},{"$f":"Tidsram!$B$2","v":0},{"$f":"Tidsram!$B$3","v":0},{"$f":"Blad3!G156","v":0}]
[{"$f":"Blad3!H157","v":"-"},{"$f":"Tidsram!$B$2","v":0},{"$f":"Tidsram!$B$3","v":0},{"$f":"Blad3!G157","v":0}]
[{"$f":"Blad3!H158","v":"-"},{"$f":"Tidsram!$B$2","v":0},{"$f":"Tidsram!$B$3","v":0},{"$f":"Blad3!G158","v":0}]
[{"$f":"Blad3!H159","v":"-"},{"$f":"Tidsram!$B$2","v":0},{"$f":"Tidsram!$B$3","v":0},{"$f":"Blad3!G159","v":0}]
[{"$f":"Blad3!H160","v":"-"},{"$f":"Tidsram!$B$2","v":0},{"$f":"Tidsram!$B$3","v":0},{"$f":"Blad3!G160","v":0}]
[{"$f":"Blad3!H161","v":"-"},{"$f":"Tidsram!$B$2","v":0},{"$f":"Tidsram!$B$3","v":0},{"$f":"Blad3!G161","v":0}]
[{"$f":"Blad3!H162","v":"-"},{"$f":"Tidsram!$B$2","v":0},{"$f":"Tidsram!$B$3","v":0},{"$f":"Blad3!G162","v":0}]
[{"$f":"Blad3!H163","v":"-"},{"$f":"Tidsram!$B$2","v":0},{"$f":"Tidsram!$B$3","v":0},{"$f":"Blad3!G163","v":0}]
[{"$f":"Blad3!H164","v":"-"},{"$f":"Tidsram!$B$2","v":0},{"$f":"Tidsram!$B$3","v":0},{"$f":"Blad3!G164","v":0}]
[{"$f":"Blad3!H165","v":"-"},{"$f":"Tidsram!$B$2","v":0},{"$f":"Tidsram!$B$3","v":0},{"$f":"Blad3!G165","v":0}]
[{"$f":"Blad3!H166","v":"-"},{"$f":"Tidsram!$B$2","v":0},{"$f":"Tidsram!$B$3","v":0},{"$f":"Blad3!G166","v":0}]
[{"$f":"Blad3!H167","v":"-"},{"$f":"Tidsram!$B$2","v":0},{"$f":"Tidsram!$B$3","v":0},{"$f":"Blad3!G167","v":0}]
[{"$f":"Blad3!H168","v":"-"},{"$f":"Tidsram!$B$2","v":0},{"$f":"Tidsram!$B$3","v":0},{"$f":"Blad3!G168","v":0}]
[{"$f":"Blad3!H169","v":"-"},{"$f":"Tidsram!$B$2","v":0},{"$f":"Tidsram!$B$3","v":0},{"$f":"Blad3!G169","v":0}]
[{"$f":"Blad3!H170","v":"-"},{"$f":"Tidsram!$B$2","v":0},{"$f":"Tidsram!$B$3","v":0},{"$f":"Blad3!G170","v":0}]
[{"$f":"Blad3!H171","v":"-"},{"$f":"Tidsram!$B$2","v":0},{"$f":"Tidsram!$B$3","v":0},{"$f":"Blad3!G171","v":0}]
[{"$f":"Blad3!H172","v":"-"},{"$f":"Tidsram!$B$2","v":0},{"$f":"Tidsram!$B$3","v":0},{"$f":"Blad3!G172","v":0}]
[{"$f":"Blad3!H173","v":"-"},{"$f":"Tidsram!$B$2","v":0},{"$f":"Tidsram!$B$3","v":0},{"$f":"Blad3!G173","v":0}]
[{"$f":"Blad3!H174","v":"-"},{"$f":"Tidsram!$B$2","v":0},{"$f":"Tidsram!$B$3","v":0},{"$f":"Blad3!G174","v":0}]
[{"$f":"Blad3!H175","v":"-"},{"$f":"Tidsram!$B$2","v":0},{"$f":"Tidsram!$B$3","v":0},{"$f":"Blad3!G175","v":0}]
[{"$f":"Blad3!H176","v":"-"},{"$f":"Tidsram!$B$2","v":0},{"$f":"Tidsram!$B$3","v":0},{"$f":"Blad3!G176","v":0}]
[{"$f":"Blad3!H177","v":"-"},{"$f":"Tidsram!$B$2","v":0},{"$f":"Tidsram!$B$3","v":0},{"$f":"Blad3!G177","v":0}]
[{"$f":"Blad3!H178","v":"-"},{"$f":"Tidsram!$B$2","v":0},{"$f":"Tidsram!$B$3","v":0},{"$f":"Blad3!G178","v":0}]
[{"$f":"Blad3!H179","v":"-"},{"$f":"Tidsram!$B$2","v":0},{"$f":"Tidsram!$B$3","v":0},{"$f":"Blad3!G179","v":0}]
[{"$f":"Blad3!H180","v":"-"},{"$f":"Tidsram!$B$2","v":0},{"$f":"Tidsram!$B$3","v":0},{"$f":"Blad3!G180","v":0}]
[{"$f":"Blad3!H181","v":"-"},{"$f":"Tidsram!$B$2","v":0},{"$f":"Tidsram!$B$3","v":0},{"$f":"Blad3!G181","v":0}]
[{"$f":"Blad3!H182","v":"-"},{"$f":"Tidsram!$B$2","v":0},{"$f":"Tidsram!$B$3","v":0},{"$f":"Blad3!G182","v":0}]
[{"$f":"Blad3!H183","v":"-"},{"$f":"Tidsram!$B$2","v":0},{"$f":"Tidsram!$B$3","v":0},{"$f":"Blad3!G183","v":0}]
[{"$f":"Blad3!H184","v":"-"},{"$f":"Tidsram!$B$2","v":0},{"$f":"Tidsram!$B$3","v":0},{"$f":"Blad3!G184","v":0}]
[{"$f":"Blad3!H185","v":"-"},{"$f":"Tidsram!$B$2","v":0},{"$f":"Tidsram!$B$3","v":0},{"$f":"Blad3!G185","v":0}]
[{"$f":"Blad3!H186","v":"-"},{"$f":"Tidsram!$B$2","v":0},{"$f":"Tidsram!$B$3","v":0},{"$f":"Blad3!G186","v":0}]
[{"$f":"Blad3!H187","v":"-"},{"$f":"Tidsram!$B$2","v":0},{"$f":"Tidsram!$B$3","v":0},{"$f":"Blad3!G187","v":0}]
[{"$f":"Blad3!H188","v":"-"},{"$f":"Tidsram!$B$2","v":0},{"$f":"Tidsram!$B$3","v":0},{"$f":"Blad3!G188","v":0}]
[{"$f":"Blad3!H189","v":"-"},{"$f":"Tidsram!$B$2","v":0},{"$f":"Tidsram!$B$3","v":0},{"$f":"Blad3!G189","v":0}]
[{"$f":"Blad3!H190","v":"-"},{"$f":"Tidsram!$B$2","v":0},{"$f":"Tidsram!$B$3","v":0},{"$f":"Blad3!G190","v":0}]
[{"$f":"Blad3!H191","v":"-"},{"$f":"Tidsram!$B$2","v":0},{"$f":"Tidsram!$B$3","v":0},{"$f":"Blad3!G191","v":0}]
[{"$f":"Blad3!H192","v":"-"},{"$f":"Tidsram!$B$2","v":0},{"$f":"Tidsram!$B$3","v":0},{"$f":"Blad3!G192","v":0}]
[{"$f":"Blad3!H193","v":"-"},{"$f":"Tidsram!$B$2","v":0},{"$f":"Tidsram!$B$3","v":0},{"$f":"Blad3!G193","v":0}]
[{"$f":"Blad3!H194","v":"-"},{"$f":"Tidsram!$B$2","v":0},{"$f":"Tidsram!$B$3","v":0},{"$f":"Blad3!G194","v":0}]
[{"$f":"Blad3!H195","v":"-"},{"$f":"Tidsram!$B$2","v":0},{"$f":"Tidsram!$B$3","v":0},{"$f":"Blad3!G195","v":0}]
[{"$f":"Blad3!H196","v":"-"},{"$f":"Tidsram!$B$2","v":0},{"$f":"Tidsram!$B$3","v":0},{"$f":"Blad3!G196","v":0}]
[{"$f":"Blad3!H197","v":"-"},{"$f":"Tidsram!$B$2","v":0},{"$f":"Tidsram!$B$3","v":0},{"$f":"Blad3!G197","v":0}]
[{"$f":"Blad3!H198","v":"-"},{"$f":"Tidsram!$B$2","v":0},{"$f":"Tidsram!$B$3","v":0},{"$f":"Blad3!G198","v":0}]
[{"$f":"Blad3!H199","v":"-"},{"$f":"Tidsram!$B$2","v":0},{"$f":"Tidsram!$B$3","v":0},{"$f":"Blad3!G199","v":0}]
[{"$f":"Blad3!H200","v":"-"},{"$f":"Tidsram!$B$2","v":0},{"$f":"Tidsram!$B$3","v":0},{"$f":"Blad3!G200","v":0}]
[{"$f":"Blad3!H201","v":"-"},{"$f":"Tidsram!$B$2","v":0},{"$f":"Tidsram!$B$3","v":0},{"$f":"Blad3!G201","v":0}]
[{"$f":"Blad3!H202","v":"-"},{"$f":"Tidsram!$B$2","v":0},{"$f":"Tidsram!$B$3","v":0},{"$f":"Blad3!G202","v":0}]
[{"$f":"Blad3!H203","v":"-"},{"$f":"Tidsram!$B$2","v":0},{"$f":"Tidsram!$B$3","v":0},{"$f":"Blad3!G203","v":0}]
[{"$f":"Blad3!H204","v":"-"},{"$f":"Tidsram!$B$2","v":0},{"$f":"Tidsram!$B$3","v":0},{"$f":"Blad3!G204","v":0}]
[{"$f":"Blad3!H205","v":"-"},{"$f":"Tidsram!$B$2","v":0},{"$f":"Tidsram!$B$3","v":0},{"$f":"Blad3!G205","v":0}]
[{"$f":"Blad3!H206","v":"-"},{"$f":"Tidsram!$B$2","v":0},{"$f":"Tidsram!$B$3","v":0},{"$f":"Blad3!G206","v":0}]
[{"$f":"Blad3!H207","v":"-"},{"$f":"Tidsram!$B$2","v":0},{"$f":"Tidsram!$B$3","v":0},{"$f":"Blad3!G207","v":0}]
[{"$f":"Blad3!H208","v":"-"},{"$f":"Tidsram!$B$2","v":0},{"$f":"Tidsram!$B$3","v":0},{"$f":"Blad3!G208","v":0}]
[{"$f":"Blad3!H209","v":"-"},{"$f":"Tidsram!$B$2","v":0},{"$f":"Tidsram!$B$3","v":0},{"$f":"Blad3!G209","v":0}]
[{"$f":"Blad3!H210","v":"-"},{"$f":"Tidsram!$B$2","v":0},{"$f":"Tidsram!$B$3","v":0},{"$f":"Blad3!G210","v":0}]
[{"$f":"Blad3!H211","v":"-"},{"$f":"Tidsram!$B$2","v":0},{"$f":"Tidsram!$B$3","v":0},{"$f":"Blad3!G211","v":0}]
[{"$f":"Blad3!H212","v":"-"},{"$f":"Tidsram!$B$2","v":0},{"$f":"Tidsram!$B$3","v":0},{"$f":"Blad3!G212","v":0}]
[{"$f":"Blad3!H213","v":"-"},{"$f":"Tidsram!$B$2","v":0},{"$f":"Tidsram!$B$3","v":0},{"$f":"Blad3!G213","v":0}]
[{"$f":"Blad3!H214","v":"-"},{"$f":"Tidsram!$B$2","v":0},{"$f":"Tidsram!$B$3","v":0},{"$f":"Blad3!G214","v":0}]
[{"$f":"Blad3!H215","v":"-"},{"$f":"Tidsram!$B$2","v":0},{"$f":"Tidsram!$B$3","v":0},{"$f":"Blad3!G215","v":0}]
[{"$f":"Blad3!H216","v":"-"},{"$f":"Tidsram!$B$2","v":0},{"$f":"Tidsram!$B$3","v":0},{"$f":"Blad3!G216","v":0}]
[{"$f":"Blad3!H217","v":"-"},{"$f":"Tidsram!$B$2","v":0},{"$f":"Tidsram!$B$3","v":0},{"$f":"Blad3!G217","v":0}]
[{"$f":"Blad3!H218","v":"-"},{"$f":"Tidsram!$B$2","v":0},{"$f":"Tidsram!$B$3","v":0},{"$f":"Blad3!G218","v":0}]
[{"$f":"Blad3!H219","v":"-"},{"$f":"Tidsram!$B$2","v":0},{"$f":"Tidsram!$B$3","v":0},{"$f":"Blad3!G219","v":0}]
[{"$f":"Blad3!H220","v":"-"},{"$f":"Tidsram!$B$2","v":0},{"$f":"Tidsram!$B$3","v":0},{"$f":"Blad3!G220","v":0}]
[{"$f":"Blad3!H221","v":"-"},{"$f":"Tidsram!$B$2","v":0},{"$f":"Tidsram!$B$3","v":0},{"$f":"Blad3!G221","v":0}]
[{"$f":"Blad3!H222","v":"-"},{"$f":"Tidsram!$B$2","v":0},{"$f":"Tidsram!$B$3","v":0},{"$f":"Blad3!G222","v":0}]
[{"$f":"Blad3!H223","v":"-"},{"$f":"Tidsram!$B$2","v":0},{"$f":"Tidsram!$B$3","v":0},{"$f":"Blad3!G223","v":0}]
[{"$f":"Blad3!H224","v":"-"},{"$f":"Tidsram!$B$2","v":0},{"$f":"Tidsram!$B$3","v":0},{"$f":"Blad3!G224","v":0}]
[{"$f":"Blad3!H225","v":"-"},{"$f":"Tidsram!$B$2","v":0},{"$f":"Tidsram!$B$3","v":0},{"$f":"Blad3!G225","v":0}]
[{"$f":"Blad3!H226","v":"-"},{"$f":"Tidsram!$B$2","v":0},{"$f":"Tidsram!$B$3","v":0},{"$f":"Blad3!G226","v":0}]
[{"$f":"Blad3!H227","v":"-"},{"$f":"Tidsram!$B$2","v":0},{"$f":"Tidsram!$B$3","v":0},{"$f":"Blad3!G227","v":0}]
[{"$f":"Blad3!H228","v":"-"},{"$f":"Tidsram!$B$2","v":0},{"$f":"Tidsram!$B$3","v":0},{"$f":"Blad3!G228","v":0}]
[{"$f":"Blad3!H229","v":"-"},{"$f":"Tidsram!$B$2","v":0},{"$f":"Tidsram!$B$3","v":0},{"$f":"Blad3!G229","v":0}]
[{"$f":"Blad3!H230","v":"-"},{"$f":"Tidsram!$B$2","v":0},{"$f":"Tidsram!$B$3","v":0},{"$f":"Blad3!G230","v":0}]
[{"$f":"Blad3!H231","v":"-"},{"$f":"Tidsram!$B$2","v":0},{"$f":"Tidsram!$B$3","v":0},{"$f":"Blad3!G231","v":0}]
[{"$f":"Blad3!H232","v":"-"},{"$f":"Tidsram!$B$2","v":0},{"$f":"Tidsram!$B$3","v":0},{"$f":"Blad3!G232","v":0}]
[{"$f":"Blad3!H233","v":"-"},{"$f":"Tidsram!$B$2","v":0},{"$f":"Tidsram!$B$3","v":0},{"$f":"Blad3!G233","v":0}]
[{"$f":"Blad3!H234","v":"-"},{"$f":"Tidsram!$B$2","v":0},{"$f":"Tidsram!$B$3","v":0},{"$f":"Blad3!G234","v":0}]
[{"$f":"Blad3!H235","v":"-"},{"$f":"Tidsram!$B$2","v":0},{"$f":"Tidsram!$B$3","v":0},{"$f":"Blad3!G235","v":0}]
[{"$f":"Blad3!H236","v":"-"},{"$f":"Tidsram!$B$2","v":0},{"$f":"Tidsram!$B$3","v":0},{"$f":"Blad3!G236","v":0}]
[{"$f":"Blad3!H237","v":"-"},{"$f":"Tidsram!$B$2","v":0},{"$f":"Tidsram!$B$3","v":0},{"$f":"Blad3!G237","v":0}]
[{"$f":"Blad3!H238","v":"-"},{"$f":"Tidsram!$B$2","v":0},{"$f":"Tidsram!$B$3","v":0},{"$f":"Blad3!G238","v":0}]
[{"$f":"Blad3!H239","v":"-"},{"$f":"Tidsram!$B$2","v":0},{"$f":"Tidsram!$B$3","v":0},{"$f":"Blad3!G239","v":0}]
[{"$f":"Blad3!H240","v":"-"},{"$f":"Tidsram!$B$2","v":0},{"$f":"Tidsram!$B$3","v":0},{"$f":"Blad3!G240","v":0}]
[{"$f":"Blad3!H241","v":"-"},{"$f":"Tidsram!$B$2","v":0},{"$f":"Tidsram!$B$3","v":0},{"$f":"Blad3!G241","v":0}]
[{"$f":"Blad3!H242","v":"-"},{"$f":"Tidsram!$B$2","v":0},{"$f":"Tidsram!$B$3","v":0},{"$f":"Blad3!G242","v":0}]
[{"$f":"Blad3!H243","v":"-"},{"$f":"Tidsram!$B$2","v":0},{"$f":"Tidsram!$B$3","v":0},{"$f":"Blad3!G243","v":0}]
[{"$f":"Blad3!H244","v":"-"},{"$f":"Tidsram!$B$2","v":0},{"$f":"Tidsram!$B$3","v":0},{"$f":"Blad3!G244","v":0}]
[{"$f":"Blad3!H245","v":"-"},{"$f":"Tidsram!$B$2","v":0},{"$f":"Tidsram!$B$3","v":0},{"$f":"Blad3!G245","v":0}]
[{"$f":"Blad3!H246","v":"-"},{"$f":"Tidsram!$B$2","v":0},{"$f":"Tidsram!$B$3","v":0},{"$f":"Blad3!G246","v":0}]
[{"$f":"Blad3!H247","v":"-"},{"$f":"Tidsram!$B$2","v":0},{"$f":"Tidsram!$B$3","v":0},{"$f":"Blad3!G247","v":0}]
[{"$f":"Blad3!H248","v":"-"},{"$f":"Tidsram!$B$2","v":0},{"$f":"Tidsram!$B$3","v":0},{"$f":"Blad3!G248","v":0}]
[{"$f":"Blad3!H249","v":"-"},{"$f":"Tidsram!$B$2","v":0},{"$f":"Tidsram!$B$3","v":0},{"$f":"Blad3!G249","v":0}]
[{"$f":"Blad3!H250","v":"-"},{"$f":"Tidsram!$B$2","v":0},{"$f":"Tidsram!$B$3","v":0},{"$f":"Blad3!G250","v":0}]
[{"$f":"Blad3!H251","v":"-"},{"$f":"Tidsram!$B$2","v":0},{"$f":"Tidsram!$B$3","v":0},{"$f":"Blad3!G251","v":0}]
[{"$f":"Blad3!H252","v":"-"},{"$f":"Tidsram!$B$2","v":0},{"$f":"Tidsram!$B$3","v":0},{"$f":"Blad3!G252","v":0}]
[{"$f":"Blad3!H253","v":"-"},{"$f":"Tidsram!$B$2","v":0},{"$f":"Tidsram!$B$3","v":0},{"$f":"Blad3!G253","v":0}]
[{"$f":"Blad3!H254","v":"-"},{"$f":"Tidsram!$B$2","v":0},{"$f":"Tidsram!$B$3","v":0},{"$f":"Blad3!G254","v":0}]
[{"$f":"Blad3!H255","v":"-"},{"$f":"Tidsram!$B$2","v":0},{"$f":"Tidsram!$B$3","v":0},{"$f":"Blad3!G255","v":0}]
[{"$f":"Blad3!H256","v":"-"},{"$f":"Tidsram!$B$2","v":0},{"$f":"Tidsram!$B$3","v":0},{"$f":"Blad3!G256","v":0}]
[{"$f":"Blad3!H257","v":"-"},{"$f":"Tidsram!$B$2","v":0},{"$f":"Tidsram!$B$3","v":0},{"$f":"Blad3!G257","v":0}]
[{"$f":"Blad3!H258","v":"-"},{"$f":"Tidsram!$B$2","v":0},{"$f":"Tidsram!$B$3","v":0},{"$f":"Blad3!G258","v":0}]
[{"$f":"Blad3!H259","v":"-"},{"$f":"Tidsram!$B$2","v":0},{"$f":"Tidsram!$B$3","v":0},{"$f":"Blad3!G259","v":0}]
[{"$f":"Blad3!H260","v":"-"},{"$f":"Tidsram!$B$2","v":0},{"$f":"Tidsram!$B$3","v":0},{"$f":"Blad3!G260","v":0}]
[{"$f":"Blad3!H261","v":"-"},{"$f":"Tidsram!$B$2","v":0},{"$f":"Tidsram!$B$3","v":0},{"$f":"Blad3!G261","v":0}]
[{"$f":"Blad3!H262","v":"-"},{"$f":"Tidsram!$B$2","v":0},{"$f":"Tidsram!$B$3","v":0},{"$f":"Blad3!G262","v":0}]
[{"$f":"Blad3!H263","v":"-"},{"$f":"Tidsram!$B$2","v":0},{"$f":"Tidsram!$B$3","v":0},{"$f":"Blad3!G263","v":0}]
[{"$f":"Blad3!H264","v":"-"},{"$f":"Tidsram!$B$2","v":0},{"$f":"Tidsram!$B$3","v":0},{"$f":"Blad3!G264","v":0}]
[{"$f":"Blad3!H265","v":"-"},{"$f":"Tidsram!$B$2","v":0},{"$f":"Tidsram!$B$3","v":0},{"$f":"Blad3!G265","v":0}]
[{"$f":"Blad3!H266","v":"-"},{"$f":"Tidsram!$B$2","v":0},{"$f":"Tidsram!$B$3","v":0},{"$f":"Blad3!G266","v":0}]
[{"$f":"Blad3!H267","v":"-"},{"$f":"Tidsram!$B$2","v":0},{"$f":"Tidsram!$B$3","v":0},{"$f":"Blad3!G267","v":0}]
[{"$f":"Blad3!H268","v":"-"},{"$f":"Tidsram!$B$2","v":0},{"$f":"Tidsram!$B$3","v":0},{"$f":"Blad3!G268","v":0}]
[{"$f":"Blad3!H269","v":"-"},{"$f":"Tidsram!$B$2","v":0},{"$f":"Tidsram!$B$3","v":0},{"$f":"Blad3!G269","v":0}]
[{"$f":"Blad3!H270","v":"-"},{"$f":"Tidsram!$B$2","v":0},{"$f":"Tidsram!$B$3","v":0},{"$f":"Blad3!G270","v":0}]
[{"$f":"Blad3!H271","v":"-"},{"$f":"Tidsram!$B$2","v":0},{"$f":"Tidsram!$B$3","v":0},{"$f":"Blad3!G271","v":0}]
[{"$f":"Blad3!H272","v":"-"},{"$f":"Tidsram!$B$2","v":0},{"$f":"Tidsram!$B$3","v":0},{"$f":"Blad3!G272","v":0}]
[{"$f":"Blad3!H273","v":"-"},{"$f":"Tidsram!$B$2","v":0},{"$f":"Tidsram!$B$3","v":0},{"$f":"Blad3!G273","v":0}]
[{"$f":"Blad3!H274","v":"-"},{"$f":"Tidsram!$B$2","v":0},{"$f":"Tidsram!$B$3","v":0},{"$f":"Blad3!G274","v":0}]
[{"$f":"Blad3!H275","v":"-"},{"$f":"Tidsram!$B$2","v":0},{"$f":"Tidsram!$B$3","v":0},{"$f":"Blad3!G275","v":0}]
[{"$f":"Blad3!H276","v":"-"},{"$f":"Tidsram!$B$2","v":0},{"$f":"Tidsram!$B$3","v":0},{"$f":"Blad3!G276","v":0}]
[{"$f":"Blad3!H277","v":"-"},{"$f":"Tidsram!$B$2","v":0},{"$f":"Tidsram!$B$3","v":0},{"$f":"Blad3!G277","v":0}]
[{"$f":"Blad3!H278","v":"-"},{"$f":"Tidsram!$B$2","v":0},{"$f":"Tidsram!$B$3","v":0},{"$f":"Blad3!G278","v":0}]
[{"$f":"Blad3!H279","v":"-"},{"$f":"Tidsram!$B$2","v":0},{"$f":"Tidsram!$B$3","v":0},{"$f":"Blad3!G279","v":0}]
[{"$f":"Blad3!H280","v":"-"},{"$f":"Tidsram!$B$2","v":0},{"$f":"Tidsram!$B$3","v":0},{"$f":"Blad3!G280","v":0}]
[{"$f":"Blad3!H281","v":"-"},{"$f":"Tidsram!$B$2","v":0},{"$f":"Tidsram!$B$3","v":0},{"$f":"Blad3!G281","v":0}]
[{"$f":"Blad3!H282","v":"-"},{"$f":"Tidsram!$B$2","v":0},{"$f":"Tidsram!$B$3","v":0},{"$f":"Blad3!G282","v":0}]
[{"$f":"Blad3!H283","v":"-"},{"$f":"Tidsram!$B$2","v":0},{"$f":"Tidsram!$B$3","v":0},{"$f":"Blad3!G283","v":0}]
[{"$f":"Blad3!H284","v":"-"},{"$f":"Tidsram!$B$2","v":0},{"$f":"Tidsram!$B$3","v":0},{"$f":"Blad3!G284","v":0}]
[{"$f":"Blad3!H285","v":"-"},{"$f":"Tidsram!$B$2","v":0},{"$f":"Tidsram!$B$3","v":0},{"$f":"Blad3!G285","v":0}]
[{"$f":"Blad3!H286","v":"-"},{"$f":"Tidsram!$B$2","v":0},{"$f":"Tidsram!$B$3","v":0},{"$f":"Blad3!G286","v":0}]
[{"$f":"Blad3!H287","v":"-"},{"$f":"Tidsram!$B$2","v":0},{"$f":"Tidsram!$B$3","v":0},{"$f":"Blad3!G287","v":0}]
[{"$f":"Blad3!H288","v":"-"},{"$f":"Tidsram!$B$2","v":0},{"$f":"Tidsram!$B$3","v":0},{"$f":"Blad3!G288","v":0}]
[{"$f":"Blad3!H289","v":"-"},{"$f":"Tidsram!$B$2","v":0},{"$f":"Tidsram!$B$3","v":0},{"$f":"Blad3!G289","v":0}]
[{"$f":"Blad3!H290","v":"-"},{"$f":"Tidsram!$B$2","v":0},{"$f":"Tidsram!$B$3","v":0},{"$f":"Blad3!G290","v":0}]
[{"$f":"Blad3!H291","v":"-"},{"$f":"Tidsram!$B$2","v":0},{"$f":"Tidsram!$B$3","v":0},{"$f":"Blad3!G291","v":0}]
[{"$f":"Blad3!H292","v":"-"},{"$f":"Tidsram!$B$2","v":0},{"$f":"Tidsram!$B$3","v":0},{"$f":"Blad3!G292","v":0}]
[{"$f":"Blad3!H293","v":"-"},{"$f":"Tidsram!$B$2","v":0},{"$f":"Tidsram!$B$3","v":0},{"$f":"Blad3!G293","v":0}]
[{"$f":"Blad3!H294","v":"-"},{"$f":"Tidsram!$B$2","v":0},{"$f":"Tidsram!$B$3","v":0},{"$f":"Blad3!G294","v":0}]
[{"$f":"Blad3!H295","v":"-"},{"$f":"Tidsram!$B$2","v":0},{"$f":"Tidsram!$B$3","v":0},{"$f":"Blad3!G295","v":0}]
[{"$f":"Blad3!H296","v":"-"},{"$f":"Tidsram!$B$2","v":0},{"$f":"Tidsram!$B$3","v":0},{"$f":"Blad3!G296","v":0}]
[{"$f":"Blad3!H297","v":"-"},{"$f":"Tidsram!$B$2","v":0},{"$f":"Tidsram!$B$3","v":0},{"$f":"Blad3!G297","v":0}]
[{"$f":"Blad3!H298","v":"-"},{"$f":"Tidsram!$B$2","v":0},{"$f":"Tidsram!$B$3","v":0},{"$f":"Blad3!G298","v":0}]
[{"$f":"Blad3!H299","v":"-"},{"$f":"Tidsram!$B$2","v":0},{"$f":"Tidsram!$B$3","v":0},{"$f":"Blad3!G299","v":0}]
[{"$f":"Blad3!H300","v":"-"},{"$f":"Tidsram!$B$2","v":0},{"$f":"Tidsram!$B$3","v":0},{"$f":"Blad3!G300","v":0}]
[{"$f":"Blad3!H301","v":"-"},{"$f":"Tidsram!$B$2","v":0},{"$f":"Tidsram!$B$3","v":0},{"$f":"Blad3!G301","v":0}]
[{"$f":"Blad3!H302","v":"-"},{"$f":"Tidsram!$B$2","v":0},{"$f":"Tidsram!$B$3","v":0},{"$f":"Blad3!G302","v":0}]
[{"$f":"Blad3!H303","v":"-"},{"$f":"Tidsram!$B$2","v":0},{"$f":"Tidsram!$B$3","v":0},{"$f":"Blad3!G303","v":0}]
[{"$f":"Blad3!H304","v":"-"},{"$f":"Tidsram!$B$2","v":0},{"$f":"Tidsram!$B$3","v":0},{"$f":"Blad3!G304","v":0}]
[{"$f":"Blad3!H305","v":"-"},{"$f":"Tidsram!$B$2","v":0},{"$f":"Tidsram!$B$3","v":0},{"$f":"Blad3!G305","v":0}]
[{"$f":"Blad3!H306","v":"-"},{"$f":"Tidsram!$B$2","v":0},{"$f":"Tidsram!$B$3","v":0},{"$f":"Blad3!G306","v":0}]
[{"$f":"Blad3!H307","v":"-"},{"$f":"Tidsram!$B$2","v":0},{"$f":"Tidsram!$B$3","v":0},{"$f":"Blad3!G307","v":0}]
[{"$f":"Blad3!H308","v":"-"},{"$f":"Tidsram!$B$2","v":0},{"$f":"Tidsram!$B$3","v":0},{"$f":"Blad3!G308","v":0}]
[{"$f":"Blad3!H309","v":"-"},{"$f":"Tidsram!$B$2","v":0},{"$f":"Tidsram!$B$3","v":0},{"$f":"Blad3!G309","v":0}]
[{"$f":"Blad3!H310","v":"-"},{"$f":"Tidsram!$B$2","v":0},{"$f":"Tidsram!$B$3","v":0},{"$f":"Blad3!G310","v":0}]
[{"$f":"Blad3!H311","v":"-"},{"$f":"Tidsram!$B$2","v":0},{"$f":"Tidsram!$B$3","v":0},{"$f":"Blad3!G311","v":0}]
[{"$f":"Blad3!H312","v":"-"},{"$f":"Tidsram!$B$2","v":0},{"$f":"Tidsram!$B$3","v":0},{"$f":"Blad3!G312","v":0}]
[{"$f":"Blad3!H313","v":"-"},{"$f":"Tidsram!$B$2","v":0},{"$f":"Tidsram!$B$3","v":0},{"$f":"Blad3!G313","v":0}]
[{"$f":"Blad3!H314","v":"-"},{"$f":"Tidsram!$B$2","v":0},{"$f":"Tidsram!$B$3","v":0},{"$f":"Blad3!G314","v":0}]
[{"$f":"Blad3!H315","v":"-"},{"$f":"Tidsram!$B$2","v":0},{"$f":"Tidsram!$B$3","v":0},{"$f":"Blad3!G315","v":0}]
[{"$f":"Blad3!H316","v":"-"},{"$f":"Tidsram!$B$2","v":0},{"$f":"Tidsram!$B$3","v":0},{"$f":"Blad3!G316","v":0}]
[{"$f":"Blad3!H317","v":"-"},{"$f":"Tidsram!$B$2","v":0},{"$f":"Tidsram!$B$3","v":0},{"$f":"Blad3!G317","v":0}]
[{"$f":"Blad3!H318","v":"-"},{"$f":"Tidsram!$B$2","v":0},{"$f":"Tidsram!$B$3","v":0},{"$f":"Blad3!G318","v":0}]
[{"$f":"Blad3!H319","v":"-"},{"$f":"Tidsram!$B$2","v":0},{"$f":"Tidsram!$B$3","v":0},{"$f":"Blad3!G319","v":0}]
[{"$f":"Blad3!H320","v":"-"},{"$f":"Tidsram!$B$2","v":0},{"$f":"Tidsram!$B$3","v":0},{"$f":"Blad3!G320","v":0}]
[{"$f":"Blad3!H321","v":"-"},{"$f":"Tidsram!$B$2","v":0},{"$f":"Tidsram!$B$3","v":0},{"$f":"Blad3!G321","v":0}]
[{"$f":"Blad3!H322","v":"-"},{"$f":"Tidsram!$B$2","v":0},{"$f":"Tidsram!$B$3","v":0},{"$f":"Blad3!G322","v":0}]
[{"$f":"Blad3!H323","v":"-"},{"$f":"Tidsram!$B$2","v":0},{"$f":"Tidsram!$B$3","v":0},{"$f":"Blad3!G323","v":0}]
[{"$f":"Blad3!H324","v":"-"},{"$f":"Tidsram!$B$2","v":0},{"$f":"Tidsram!$B$3","v":0},{"$f":"Blad3!G324","v":0}]
[{"$f":"Blad3!H325","v":"-"},{"$f":"Tidsram!$B$2","v":0},{"$f":"Tidsram!$B$3","v":0},{"$f":"Blad3!G325","v":0}]
[{"$f":"Blad3!H326","v":"-"},{"$f":"Tidsram!$B$2","v":0},{"$f":"Tidsram!$B$3","v":0},{"$f":"Blad3!G326","v":0}]
[{"$f":"Blad3!H327","v":"-"},{"$f":"Tidsram!$B$2","v":0},{"$f":"Tidsram!$B$3","v":0},{"$f":"Blad3!G327","v":0}]
[{"$f":"Blad3!H328","v":"-"},{"$f":"Tidsram!$B$2","v":0},{"$f":"Tidsram!$B$3","v":0},{"$f":"Blad3!G328","v":0}]
[{"$f":"Blad3!H329","v":"-"},{"$f":"Tidsram!$B$2","v":0},{"$f":"Tidsram!$B$3","v":0},{"$f":"Blad3!G329","v":0}]
[{"$f":"Blad3!H330","v":"-"},{"$f":"Tidsram!$B$2","v":0},{"$f":"Tidsram!$B$3","v":0},{"$f":"Blad3!G330","v":0}]
[{"$f":"Blad3!H331","v":"-"},{"$f":"Tidsram!$B$2","v":0},{"$f":"Tidsram!$B$3","v":0},{"$f":"Blad3!G331","v":0}]
[{"$f":"Blad3!H332","v":"-"},{"$f":"Tidsram!$B$2","v":0},{"$f":"Tidsram!$B$3","v":0},{"$f":"Blad3!G332","v":0}]
[{"$f":"Blad3!H333","v":"-"},{"$f":"Tidsram!$B$2","v":0},{"$f":"Tidsram!$B$3","v":0},{"$f":"Blad3!G333","v":0}]
[{"$f":"Blad3!H334","v":"-"},{"$f":"Tidsram!$B$2","v":0},{"$f":"Tidsram!$B$3","v":0},{"$f":"Blad3!G334","v":0}]
[{"$f":"Blad3!H335","v":"-"},{"$f":"Tidsram!$B$2","v":0},{"$f":"Tidsram!$B$3","v":0},{"$f":"Blad3!G335","v":0}]
[{"$f":"Blad3!H336","v":"-"},{"$f":"Tidsram!$B$2","v":0},{"$f":"Tidsram!$B$3","v":0},{"$f":"Blad3!G336","v":0}]
[{"$f":"Blad3!H337","v":"-"},{"$f":"Tidsram!$B$2","v":0},{"$f":"Tidsram!$B$3","v":0},{"$f":"Blad3!G337","v":0}]
[{"$f":"Blad3!H338","v":"-"},{"$f":"Tidsram!$B$2","v":0},{"$f":"Tidsram!$B$3","v":0},{"$f":"Blad3!G338","v":0}]
[{"$f":"Blad3!H339","v":"-"},{"$f":"Tidsram!$B$2","v":0},{"$f":"Tidsram!$B$3","v":0},{"$f":"Blad3!G339","v":0}]
[{"$f":"Blad3!H340","v":"-"},{"$f":"Tidsram!$B$2","v":0},{"$f":"Tidsram!$B$3","v":0},{"$f":"Blad3!G340","v":0}]
[{"$f":"Blad3!H341","v":"-"},{"$f":"Tidsram!$B$2","v":0},{"$f":"Tidsram!$B$3","v":0},{"$f":"Blad3!G341","v":0}]
[{"$f":"Blad3!H342","v":"-"},{"$f":"Tidsram!$B$2","v":0},{"$f":"Tidsram!$B$3","v":0},{"$f":"Blad3!G342","v":0}]
[{"$f":"Blad3!H343","v":"-"},{"$f":"Tidsram!$B$2","v":0},{"$f":"Tidsram!$B$3","v":0},{"$f":"Blad3!G343","v":0}]
[{"$f":"Blad3!H344","v":"-"},{"$f":"Tidsram!$B$2","v":0},{"$f":"Tidsram!$B$3","v":0},{"$f":"Blad3!G344","v":0}]
[{"$f":"Blad3!H345","v":"-"},{"$f":"Tidsram!$B$2","v":0},{"$f":"Tidsram!$B$3","v":0},{"$f":"Blad3!G345","v":0}]
[{"$f":"Blad3!H346","v":"-"},{"$f":"Tidsram!$B$2","v":0},{"$f":"Tidsram!$B$3","v":0},{"$f":"Blad3!G346","v":0}]
[{"$f":"Blad3!H347","v":"-"},{"$f":"Tidsram!$B$2","v":0},{"$f":"Tidsram!$B$3","v":0},{"$f":"Blad3!G347","v":0}]
[{"$f":"Blad3!H348","v":"-"},{"$f":"Tidsram!$B$2","v":0},{"$f":"Tidsram!$B$3","v":0},{"$f":"Blad3!G348","v":0}]
[{"$f":"Blad3!H349","v":"-"},{"$f":"Tidsram!$B$2","v":0},{"$f":"Tidsram!$B$3","v":0},{"$f":"Blad3!G349","v":0}]
[{"$f":"Blad3!H350","v":"-"},{"$f":"Tidsram!$B$2","v":0},{"$f":"Tidsram!$B$3","v":0},{"$f":"Blad3!G350","v":0}]
[{"$f":"Blad3!H351","v":"-"},{"$f":"Tidsram!$B$2","v":0},{"$f":"Tidsram!$B$3","v":0},{"$f":"Blad3!G351","v":0}]
[{"$f":"Blad3!H352","v":"-"},{"$f":"Tidsram!$B$2","v":0},{"$f":"Tidsram!$B$3","v":0},{"$f":"Blad3!G352","v":0}]
[{"$f":"Blad3!H353","v":"-"},{"$f":"Tidsram!$B$2","v":0},{"$f":"Tidsram!$B$3","v":0},{"$f":"Blad3!G353","v":0}]
[{"$f":"Blad3!H354","v":"-"},{"$f":"Tidsram!$B$2","v":0},{"$f":"Tidsram!$B$3","v":0},{"$f":"Blad3!G354","v":0}]
[{"$f":"Blad3!H355","v":"-"},{"$f":"Tidsram!$B$2","v":0},{"$f":"Tidsram!$B$3","v":0},{"$f":"Blad3!G355","v":0}]
[{"$f":"Blad3!H356","v":"-"},{"$f":"Tidsram!$B$2","v":0},{"$f":"Tidsram!$B$3","v":0},{"$f":"Blad3!G356","v":0}]
[{"$f":"Blad3!H357","v":"-"},{"$f":"Tidsram!$B$2","v":0},{"$f":"Tidsram!$B$3","v":0},{"$f":"Blad3!G357","v":0}]
[{"$f":"Blad3!H358","v":"-"},{"$f":"Tidsram!$B$2","v":0},{"$f":"Tidsram!$B$3","v":0},{"$f":"Blad3!G358","v":0}]
[{"$f":"Blad3!H359","v":"-"},{"$f":"Tidsram!$B$2","v":0},{"$f":"Tidsram!$B$3","v":0},{"$f":"Blad3!G359","v":0}]
[{"$f":"Blad3!H360","v":"-"},{"$f":"Tidsram!$B$2","v":0},{"$f":"Tidsram!$B$3","v":0},{"$f":"Blad3!G360","v":0}]
[{"$f":"Blad3!H361","v":"-"},{"$f":"Tidsram!$B$2","v":0},{"$f":"Tidsram!$B$3","v":0},{"$f":"Blad3!G361","v":0}]
[{"$f":"Blad3!H362","v":"-"},{"$f":"Tidsram!$B$2","v":0},{"$f":"Tidsram!$B$3","v":0},{"$f":"Blad3!G362","v":0}]
[{"$f":"Blad3!H363","v":"-"},{"$f":"Tidsram!$B$2","v":0},{"$f":"Tidsram!$B$3","v":0},{"$f":"Blad3!G363","v":0}]
[{"$f":"Blad3!H364","v":"-"},{"$f":"Tidsram!$B$2","v":0},{"$f":"Tidsram!$B$3","v":0},{"$f":"Blad3!G364","v":0}]
[{"$f":"Blad3!H365","v":"-"},{"$f":"Tidsram!$B$2","v":0},{"$f":"Tidsram!$B$3","v":0},{"$f":"Blad3!G365","v":0}]
[{"$f":"Blad3!H366","v":"-"},{"$f":"Tidsram!$B$2","v":0},{"$f":"Tidsram!$B$3","v":0},{"$f":"Blad3!G366","v":0}]
[{"$f":"Blad3!H367","v":"-"},{"$f":"Tidsram!$B$2","v":0},{"$f":"Tidsram!$B$3","v":0},{"$f":"Blad3!G367","v":0}]
[{"$f":"Blad3!H368","v":"-"},{"$f":"Tidsram!$B$2","v":0},{"$f":"Tidsram!$B$3","v":0},{"$f":"Blad3!G368","v":0}]
[{"$f":"Blad3!H369","v":"-"},{"$f":"Tidsram!$B$2","v":0},{"$f":"Tidsram!$B$3","v":0},{"$f":"Blad3!G369","v":0}]
[{"$f":"Blad3!H370","v":"-"},{"$f":"Tidsram!$B$2","v":0},{"$f":"Tidsram!$B$3","v":0},{"$f":"Blad3!G370","v":0}]
[{"$f":"Blad3!H371","v":"-"},{"$f":"Tidsram!$B$2","v":0},{"$f":"Tidsram!$B$3","v":0},{"$f":"Blad3!G371","v":0}]
[{"$f":"Blad3!H372","v":"-"},{"$f":"Tidsram!$B$2","v":0},{"$f":"Tidsram!$B$3","v":0},{"$f":"Blad3!G372","v":0}]
[{"$f":"Blad3!H373","v":"-"},{"$f":"Tidsram!$B$2","v":0},{"$f":"Tidsram!$B$3","v":0},{"$f":"Blad3!G373","v":0}]
[{"$f":"Blad3!H374","v":"-"},{"$f":"Tidsram!$B$2","v":0},{"$f":"Tidsram!$B$3","v":0},{"$f":"Blad3!G374","v":0}]
[{"$f":"Blad3!H375","v":"-"},{"$f":"Tidsram!$B$2","v":0},{"$f":"Tidsram!$B$3","v":0},{"$f":"Blad3!G375","v":0}]
[{"$f":"Blad3!H376","v":"-"},{"$f":"Tidsram!$B$2","v":0},{"$f":"Tidsram!$B$3","v":0},{"$f":"Blad3!G376","v":0}]
[{"$f":"Blad3!H377","v":"-"},{"$f":"Tidsram!$B$2","v":0},{"$f":"Tidsram!$B$3","v":0},{"$f":"Blad3!G377","v":0}]
[{"$f":"Blad3!H378","v":"-"},{"$f":"Tidsram!$B$2","v":0},{"$f":"Tidsram!$B$3","v":0},{"$f":"Blad3!G378","v":0}]
[{"$f":"Blad3!H379","v":"-"},{"$f":"Tidsram!$B$2","v":0},{"$f":"Tidsram!$B$3","v":0},{"$f":"Blad3!G379","v":0}]
[{"$f":"Blad3!H380","v":"-"},{"$f":"Tidsram!$B$2","v":0},{"$f":"Tidsram!$B$3","v":0},{"$f":"Blad3!G380","v":0}]
[{"$f":"Blad3!H381","v":"-"},{"$f":"Tidsram!$B$2","v":0},{"$f":"Tidsram!$B$3","v":0},{"$f":"Blad3!G381","v":0}]
[{"$f":"Blad3!H382","v":"-"},{"$f":"Tidsram!$B$2","v":0},{"$f":"Tidsram!$B$3","v":0},{"$f":"Blad3!G382","v":0}]
[{"$f":"Blad3!H383","v":"-"},{"$f":"Tidsram!$B$2","v":0},{"$f":"Tidsram!$B$3","v":0},{"$f":"Blad3!G383","v":0}]
[{"$f":"Blad3!H384","v":"-"},{"$f":"Tidsram!$B$2","v":0},{"$f":"Tidsram!$B$3","v":0},{"$f":"Blad3!G384","v":0}]
[{"$f":"Blad3!H385","v":"-"},{"$f":"Tidsram!$B$2","v":0},{"$f":"Tidsram!$B$3","v":0},{"$f":"Blad3!G385","v":0}]
[{"$f":"Blad3!H386","v":"-"},{"$f":"Tidsram!$B$2","v":0},{"$f":"Tidsram!$B$3","v":0},{"$f":"Blad3!G386","v":0}]
[{"$f":"Blad3!H387","v":"-"},{"$f":"Tidsram!$B$2","v":0},{"$f":"Tidsram!$B$3","v":0},{"$f":"Blad3!G387","v":0}]
[{"$f":"Blad3!H388","v":"-"},{"$f":"Tidsram!$B$2","v":0},{"$f":"Tidsram!$B$3","v":0},{"$f":"Blad3!G388","v":0}]
[{"$f":"Blad3!H389","v":"-"},{"$f":"Tidsram!$B$2","v":0},{"$f":"Tidsram!$B$3","v":0},{"$f":"Blad3!G389","v":0}]
[{"$f":"Blad3!H390","v":"-"},{"$f":"Tidsram!$B$2","v":0},{"$f":"Tidsram!$B$3","v":0},{"$f":"Blad3!G390","v":0}]
[{"$f":"Blad3!H391","v":"-"},{"$f":"Tidsram!$B$2","v":0},{"$f":"Tidsram!$B$3","v":0},{"$f":"Blad3!G391","v":0}]
[{"$f":"Blad3!H392","v":"-"},{"$f":"Tidsram!$B$2","v":0},{"$f":"Tidsram!$B$3","v":0},{"$f":"Blad3!G392","v":0}]
[{"$f":"Blad3!H393","v":"-"},{"$f":"Tidsram!$B$2","v":0},{"$f":"Tidsram!$B$3","v":0},{"$f":"Blad3!G393","v":0}]
[{"$f":"Blad3!H394","v":"-"},{"$f":"Tidsram!$B$2","v":0},{"$f":"Tidsram!$B$3","v":0},{"$f":"Blad3!G394","v":0}]
[{"$f":"Blad3!H395","v":"-"},{"$f":"Tidsram!$B$2","v":0},{"$f":"Tidsram!$B$3","v":0},{"$f":"Blad3!G395","v":0}]
[{"$f":"Blad3!H396","v":"-"},{"$f":"Tidsram!$B$2","v":0},{"$f":"Tidsram!$B$3","v":0},{"$f":"Blad3!G396","v":0}]
[{"$f":"Blad3!H397","v":"-"},{"$f":"Tidsram!$B$2","v":0},{"$f":"Tidsram!$B$3","v":0},{"$f":"Blad3!G397","v":0}]
[{"$f":"Blad3!H398","v":"-"},{"$f":"Tidsram!$B$2","v":0},{"$f":"Tidsram!$B$3","v":0},{"$f":"Blad3!G398","v":0}]
[{"$f":"Blad3!H399","v":"-"},{"$f":"Tidsram!$B$2","v":0},{"$f":"Tidsram!$B$3","v":0},{"$f":"Blad3!G399","v":0}]
[{"$f":"Blad3!H400","v":"-"},{"$f":"Tidsram!$B$2","v":0},{"$f":"Tidsram!$B$3","v":0},{"$f":"Blad3!G400","v":0}]
[{"$f":"Blad3!H401","v":"-"},{"$f":"Tidsram!$B$2","v":0},{"$f":"Tidsram!$B$3","v":0},{"$f":"Blad3!G401","v":0}]
[{"$f":"Blad3!H402","v":"-"},{"$f":"Tidsram!$B$2","v":0},{"$f":"Tidsram!$B$3","v":0},{"$f":"Blad3!G402","v":0}]
[{"$f":"Blad3!H403","v":"-"},{"$f":"Tidsram!$B$2","v":0},{"$f":"Tidsram!$B$3","v":0},{"$f":"Blad3!G403","v":0}]
[{"$f":"Blad3!H404","v":"-"},{"$f":"Tidsram!$B$2","v":0},{"$f":"Tidsram!$B$3","v":0},{"$f":"Blad3!G404","v":0}]
[{"$f":"Blad3!H405","v":"-"},{"$f":"Tidsram!$B$2","v":0},{"$f":"Tidsram!$B$3","v":0},{"$f":"Blad3!G405","v":0}]
[{"$f":"Blad3!H406","v":"-"},{"$f":"Tidsram!$B$2","v":0},{"$f":"Tidsram!$B$3","v":0},{"$f":"Blad3!G406","v":0}]
[{"$f":"Blad3!H407","v":"-"},{"$f":"Tidsram!$B$2","v":0},{"$f":"Tidsram!$B$3","v":0},{"$f":"Blad3!G407","v":0}]
[{"$f":"Blad3!H408","v":"-"},{"$f":"Tidsram!$B$2","v":0},{"$f":"Tidsram!$B$3","v":0},{"$f":"Blad3!G408","v":0}]
[{"$f":"Blad3!H409","v":"-"},{"$f":"Tidsram!$B$2","v":0},{"$f":"Tidsram!$B$3","v":0},{"$f":"Blad3!G409","v":0}]
[{"$f":"Blad3!H410","v":"-"},{"$f":"Tidsram!$B$2","v":0},{"$f":"Tidsram!$B$3","v":0},{"$f":"Blad3!G410","v":0}]
[{"$f":"Blad3!H411","v":"-"},{"$f":"Tidsram!$B$2","v":0},{"$f":"Tidsram!$B$3","v":0},{"$f":"Blad3!G411","v":0}]
[{"$f":"Blad3!H412","v":"-"},{"$f":"Tidsram!$B$2","v":0},{"$f":"Tidsram!$B$3","v":0},{"$f":"Blad3!G412","v":0}]
[{"$f":"Blad3!H413","v":"-"},{"$f":"Tidsram!$B$2","v":0},{"$f":"Tidsram!$B$3","v":0},{"$f":"Blad3!G413","v":0}]
[{"$f":"Blad3!H414","v":"-"},{"$f":"Tidsram!$B$2","v":0},{"$f":"Tidsram!$B$3","v":0},{"$f":"Blad3!G414","v":0}]
[{"$f":"Blad3!H415","v":"-"},{"$f":"Tidsram!$B$2","v":0},{"$f":"Tidsram!$B$3","v":0},{"$f":"Blad3!G415","v":0}]
[{"$f":"Blad3!H416","v":"-"},{"$f":"Tidsram!$B$2","v":0},{"$f":"Tidsram!$B$3","v":0},{"$f":"Blad3!G416","v":0}]
[{"$f":"Blad3!H417","v":"-"},{"$f":"Tidsram!$B$2","v":0},{"$f":"Tidsram!$B$3","v":0},{"$f":"Blad3!G417","v":0}]
[{"$f":"Blad3!H418","v":"-"},{"$f":"Tidsram!$B$2","v":0},{"$f":"Tidsram!$B$3","v":0},{"$f":"Blad3!G418","v":0}]
[{"$f":"Blad3!H419","v":"-"},{"$f":"Tidsram!$B$2","v":0},{"$f":"Tidsram!$B$3","v":0},{"$f":"Blad3!G419","v":0}]
[{"$f":"Blad3!H420","v":"-"},{"$f":"Tidsram!$B$2","v":0},{"$f":"Tidsram!$B$3","v":0},{"$f":"Blad3!G420","v":0}]
[{"$f":"Blad3!H421","v":"-"},{"$f":"Tidsram!$B$2","v":0},{"$f":"Tidsram!$B$3","v":0},{"$f":"Blad3!G421","v":0}]
[{"$f":"Blad3!H422","v":"-"},{"$f":"Tidsram!$B$2","v":0},{"$f":"Tidsram!$B$3","v":0},{"$f":"Blad3!G422","v":0}]
[{"$f":"Blad3!H423","v":"-"},{"$f":"Tidsram!$B$2","v":0},{"$f":"Tidsram!$B$3","v":0},{"$f":"Blad3!G423","v":0}]
[{"$f":"Blad3!H424","v":"-"},{"$f":"Tidsram!$B$2","v":0},{"$f":"Tidsram!$B$3","v":0},{"$f":"Blad3!G424","v":0}]
[{"$f":"Blad3!H425","v":"-"},{"$f":"Tidsram!$B$2","v":0},{"$f":"Tidsram!$B$3","v":0},{"$f":"Blad3!G425","v":0}]
[{"$f":"Blad3!H426","v":"-"},{"$f":"Tidsram!$B$2","v":0},{"$f":"Tidsram!$B$3","v":0},{"$f":"Blad3!G426","v":0}]
[{"$f":"Blad3!H427","v":"-"},{"$f":"Tidsram!$B$2","v":0},{"$f":"Tidsram!$B$3","v":0},{"$f":"Blad3!G427","v":0}]
[{"$f":"Blad3!H428","v":"-"},{"$f":"Tidsram!$B$2","v":0},{"$f":"Tidsram!$B$3","v":0},{"$f":"Blad3!G428","v":0}]
[{"$f":"Blad3!H429","v":"-"},{"$f":"Tidsram!$B$2","v":0},{"$f":"Tidsram!$B$3","v":0},{"$f":"Blad3!G429","v":0}]
[{"$f":"Blad3!H430","v":"-"},{"$f":"Tidsram!$B$2","v":0},{"$f":"Tidsram!$B$3","v":0},{"$f":"Blad3!G430","v":0}]
[{"$f":"Blad3!H431","v":"-"},{"$f":"Tidsram!$B$2","v":0},{"$f":"Tidsram!$B$3","v":0},{"$f":"Blad3!G431","v":0}]
[{"$f":"Blad3!H432","v":"-"},{"$f":"Tidsram!$B$2","v":0},{"$f":"Tidsram!$B$3","v":0},{"$f":"Blad3!G432","v":0}]
[{"$f":"Blad3!H433","v":"-"},{"$f":"Tidsram!$B$2","v":0},{"$f":"Tidsram!$B$3","v":0},{"$f":"Blad3!G433","v":0}]
[{"$f":"Blad3!H434","v":"-"},{"$f":"Tidsram!$B$2","v":0},{"$f":"Tidsram!$B$3","v":0},{"$f":"Blad3!G434","v":0}]
[{"$f":"Blad3!H435","v":"-"},{"$f":"Tidsram!$B$2","v":0},{"$f":"Tidsram!$B$3","v":0},{"$f":"Blad3!G435","v":0}]
[{"$f":"Blad3!H436","v":"-"},{"$f":"Tidsram!$B$2","v":0},{"$f":"Tidsram!$B$3","v":0},{"$f":"Blad3!G436","v":0}]
[{"$f":"Blad3!H437","v":"-"},{"$f":"Tidsram!$B$2","v":0},{"$f":"Tidsram!$B$3","v":0},{"$f":"Blad3!G437","v":0}]
[{"$f":"Blad3!H438","v":"-"},{"$f":"Tidsram!$B$2","v":0},{"$f":"Tidsram!$B$3","v":0},{"$f":"Blad3!G438","v":0}]
[{"$f":"Blad3!H439","v":"-"},{"$f":"Tidsram!$B$2","v":0},{"$f":"Tidsram!$B$3","v":0},{"$f":"Blad3!G439","v":0}]
[{"$f":"Blad3!H440","v":"-"},{"$f":"Tidsram!$B$2","v":0},{"$f":"Tidsram!$B$3","v":0},{"$f":"Blad3!G440","v":0}]
[{"$f":"Blad3!H441","v":"-"},{"$f":"Tidsram!$B$2","v":0},{"$f":"Tidsram!$B$3","v":0},{"$f":"Blad3!G441","v":0}]
[{"$f":"Blad3!H442","v":"-"},{"$f":"Tidsram!$B$2","v":0},{"$f":"Tidsram!$B$3","v":0},{"$f":"Blad3!G442","v":0}]
[{"$f":"Blad3!H443","v":"-"},{"$f":"Tidsram!$B$2","v":0},{"$f":"Tidsram!$B$3","v":0},{"$f":"Blad3!G443","v":0}]
[{"$f":"Blad3!H444","v":"-"},{"$f":"Tidsram!$B$2","v":0},{"$f":"Tidsram!$B$3","v":0},{"$f":"Blad3!G444","v":0}]
[{"$f":"Blad3!H445","v":"-"},{"$f":"Tidsram!$B$2","v":0},{"$f":"Tidsram!$B$3","v":0},{"$f":"Blad3!G445","v":0}]
[{"$f":"Blad3!H446","v":"-"},{"$f":"Tidsram!$B$2","v":0},{"$f":"Tidsram!$B$3","v":0},{"$f":"Blad3!G446","v":0}]
[{"$f":"Blad3!H447","v":"-"},{"$f":"Tidsram!$B$2","v":0},{"$f":"Tidsram!$B$3","v":0},{"$f":"Blad3!G447","v":0}]
[{"$f":"Blad3!H448","v":"-"},{"$f":"Tidsram!$B$2","v":0},{"$f":"Tidsram!$B$3","v":0},{"$f":"Blad3!G448","v":0}]
[{"$f":"Blad3!H449","v":"-"},{"$f":"Tidsram!$B$2","v":0},{"$f":"Tidsram!$B$3","v":0},{"$f":"Blad3!G449","v":0}]
[{"$f":"Blad3!H450","v":"-"},{"$f":"Tidsram!$B$2","v":0},{"$f":"Tidsram!$B$3","v":0},{"$f":"Blad3!G450","v":0}]
[{"$f":"Blad3!H451","v":"-"},{"$f":"Tidsram!$B$2","v":0},{"$f":"Tidsram!$B$3","v":0},{"$f":"Blad3!G451","v":0}]
[{"$f":"Blad3!H452","v":"-"},{"$f":"Tidsram!$B$2","v":0},{"$f":"Tidsram!$B$3","v":0},{"$f":"Blad3!G452","v":0}]
[{"$f":"Blad3!H453","v":"-"},{"$f":"Tidsram!$B$2","v":0},{"$f":"Tidsram!$B$3","v":0},{"$f":"Blad3!G453","v":0}]
[{"$f":"Blad3!H454","v":"-"},{"$f":"Tidsram!$B$2","v":0},{"$f":"Tidsram!$B$3","v":0},{"$f":"Blad3!G454","v":0}]
[{"$f":"Blad3!H455","v":"-"},{"$f":"Tidsram!$B$2","v":0},{"$f":"Tidsram!$B$3","v":0},{"$f":"Blad3!G455","v":0}]
[{"$f":"Blad3!H456","v":"-"},{"$f":"Tidsram!$B$2","v":0},{"$f":"Tidsram!$B$3","v":0},{"$f":"Blad3!G456","v":0}]
[{"$f":"Blad3!H457","v":"-"},{"$f":"Tidsram!$B$2","v":0},{"$f":"Tidsram!$B$3","v":0},{"$f":"Blad3!G457","v":0}]
[{"$f":"Blad3!H458","v":"-"},{"$f":"Tidsram!$B$2","v":0},{"$f":"Tidsram!$B$3","v":0},{"$f":"Blad3!G458","v":0}]
[{"$f":"Blad3!H459","v":"-"},{"$f":"Tidsram!$B$2","v":0},{"$f":"Tidsram!$B$3","v":0},{"$f":"Blad3!G459","v":0}]
[{"$f":"Blad3!H460","v":"-"},{"$f":"Tidsram!$B$2","v":0},{"$f":"Tidsram!$B$3","v":0},{"$f":"Blad3!G460","v":0}]
[{"$f":"Blad3!H461","v":"-"},{"$f":"Tidsram!$B$2","v":0},{"$f":"Tidsram!$B$3","v":0},{"$f":"Blad3!G461","v":0}]
[{"$f":"Blad3!H462","v":"-"},{"$f":"Tidsram!$B$2","v":0},{"$f":"Tidsram!$B$3","v":0},{"$f":"Blad3!G462","v":0}]
[{"$f":"Blad3!H463","v":"-"},{"$f":"Tidsram!$B$2","v":0},{"$f":"Tidsram!$B$3","v":0},{"$f":"Blad3!G463","v":0}]
[{"$f":"Blad3!H464","v":"-"},{"$f":"Tidsram!$B$2","v":0},{"$f":"Tidsram!$B$3","v":0},{"$f":"Blad3!G464","v":0}]
[{"$f":"Blad3!H465","v":"-"},{"$f":"Tidsram!$B$2","v":0},{"$f":"Tidsram!$B$3","v":0},{"$f":"Blad3!G465","v":0}]
[{"$f":"Blad3!H466","v":"-"},{"$f":"Tidsram!$B$2","v":0},{"$f":"Tidsram!$B$3","v":0},{"$f":"Blad3!G466","v":0}]
[{"$f":"Blad3!H467","v":"-"},{"$f":"Tidsram!$B$2","v":0},{"$f":"Tidsram!$B$3","v":0},{"$f":"Blad3!G467","v":0}]
[{"$f":"Blad3!H468","v":"-"},{"$f":"Tidsram!$B$2","v":0},{"$f":"Tidsram!$B$3","v":0},{"$f":"Blad3!G468","v":0}]
[{"$f":"Blad3!H469","v":"-"},{"$f":"Tidsram!$B$2","v":0},{"$f":"Tidsram!$B$3","v":0},{"$f":"Blad3!G469","v":0}]
[{"$f":"Blad3!H470","v":"-"},{"$f":"Tidsram!$B$2","v":0},{"$f":"Tidsram!$B$3","v":0},{"$f":"Blad3!G470","v":0}]
[{"$f":"Blad3!H471","v":"-"},{"$f":"Tidsram!$B$2","v":0},{"$f":"Tidsram!$B$3","v":0},{"$f":"Blad3!G471","v":0}]
[{"$f":"Blad3!H472","v":"-"},{"$f":"Tidsram!$B$2","v":0},{"$f":"Tidsram!$B$3","v":0},{"$f":"Blad3!G472","v":0}]
[{"$f":"Blad3!H473","v":"-"},{"$f":"Tidsram!$B$2","v":0},{"$f":"Tidsram!$B$3","v":0},{"$f":"Blad3!G473","v":0}]
[{"$f":"Blad3!H474","v":"-"},{"$f":"Tidsram!$B$2","v":0},{"$f":"Tidsram!$B$3","v":0},{"$f":"Blad3!G474","v":0}]
[{"$f":"Blad3!H475","v":"-"},{"$f":"Tidsram!$B$2","v":0},{"$f":"Tidsram!$B$3","v":0},{"$f":"Blad3!G475","v":0}]
[{"$f":"Blad3!H476","v":"-"},{"$f":"Tidsram!$B$2","v":0},{"$f":"Tidsram!$B$3","v":0},{"$f":"Blad3!G476","v":0}]
[{"$f":"Blad3!H477","v":"-"},{"$f":"Tidsram!$B$2","v":0},{"$f":"Tidsram!$B$3","v":0},{"$f":"Blad3!G477","v":0}]
[{"$f":"Blad3!H478","v":"-"},{"$f":"Tidsram!$B$2","v":0},{"$f":"Tidsram!$B$3","v":0},{"$f":"Blad3!G478","v":0}]
[{"$f":"Blad3!H479","v":"-"},{"$f":"Tidsram!$B$2","v":0},{"$f":"Tidsram!$B$3","v":0},{"$f":"Blad3!G479","v":0}]
[{"$f":"Blad3!H480","v":"-"},{"$f":"Tidsram!$B$2","v":0},{"$f":"Tidsram!$B$3","v":0},{"$f":"Blad3!G480","v":0}]
[{"$f":"Blad3!H481","v":"-"},{"$f":"Tidsram!$B$2","v":0},{"$f":"Tidsram!$B$3","v":0},{"$f":"Blad3!G481","v":0}]
[{"$f":"Blad3!H482","v":"-"},{"$f":"Tidsram!$B$2","v":0},{"$f":"Tidsram!$B$3","v":0},{"$f":"Blad3!G482","v":0}]
[{"$f":"Blad3!H483","v":"-"},{"$f":"Tidsram!$B$2","v":0},{"$f":"Tidsram!$B$3","v":0},{"$f":"Blad3!G483","v":0}]
[{"$f":"Blad3!H484","v":"-"},{"$f":"Tidsram!$B$2","v":0},{"$f":"Tidsram!$B$3","v":0},{"$f":"Blad3!G484","v":0}]
[{"$f":"Blad3!H485","v":"-"},{"$f":"Tidsram!$B$2","v":0},{"$f":"Tidsram!$B$3","v":0},{"$f":"Blad3!G485","v":0}]
[{"$f":"Blad3!H486","v":"-"},{"$f":"Tidsram!$B$2","v":0},{"$f":"Tidsram!$B$3","v":0},{"$f":"Blad3!G486","v":0}]
[{"$f":"Blad3!H487","v":"-"},{"$f":"Tidsram!$B$2","v":0},{"$f":"Tidsram!$B$3","v":0},{"$f":"Blad3!G487","v":0}]
[{"$f":"Blad3!H488","v":"-"},{"$f":"Tidsram!$B$2","v":0},{"$f":"Tidsram!$B$3","v":0},{"$f":"Blad3!G488","v":0}]
[{"$f":"Blad3!H489","v":"-"},{"$f":"Tidsram!$B$2","v":0},{"$f":"Tidsram!$B$3","v":0},{"$f":"Blad3!G489","v":0}]
[{"$f":"Blad3!H490","v":"-"},{"$f":"Tidsram!$B$2","v":0},{"$f":"Tidsram!$B$3","v":0},{"$f":"Blad3!G490","v":0}]
[{"$f":"Blad3!H491","v":"-"},{"$f":"Tidsram!$B$2","v":0},{"$f":"Tidsram!$B$3","v":0},{"$f":"Blad3!G491","v":0}]
[{"$f":"Blad3!H492","v":"-"},{"$f":"Tidsram!$B$2","v":0},{"$f":"Tidsram!$B$3","v":0},{"$f":"Blad3!G492","v":0}]
[{"$f":"Blad3!H493","v":"-"},{"$f":"Tidsram!$B$2","v":0},{"$f":"Tidsram!$B$3","v":0},{"$f":"Blad3!G493","v":0}]
[{"$f":"Blad3!H494","v":"-"},{"$f":"Tidsram!$B$2","v":0},{"$f":"Tidsram!$B$3","v":0},{"$f":"Blad3!G494","v":0}]
[{"$f":"Blad3!H495","v":"-"},{"$f":"Tidsram!$B$2","v":0},{"$f":"Tidsram!$B$3","v":0},{"$f":"Blad3!G495","v":0}]
[{"$f":"Blad3!H496","v":"-"},{"$f":"Tidsram!$B$2","v":0},{"$f":"Tidsram!$B$3","v":0},{"$f":"Blad3!G496","v":0}]
[{"$f":"Blad3!H497","v":"-"},{"$f":"Tidsram!$B$2","v":0},{"$f":"Tidsram!$B$3","v":0},{"$f":"Blad3!G497","v":0}]
[{"$f":"Blad3!H498","v":"-"},{"$f":"Tidsram!$B$2","v":0},{"$f":"Tidsram!$B$3","v":0},{"$f":"Blad3!G498","v":0}]
[{"$f":"Blad3!H499","v":"-"},{"$f":"Tidsram!$B$2","v":0},{"$f":"Tidsram!$B$3","v":0},{"$f":"Blad3!G499","v":0}]
[{"$f":"Blad3!H500","v":"-"},{"$f":"Tidsram!$B$2","v":0},{"$f":"Tidsram!$B$3","v":0},{"$f":"Blad3!G500","v":0}]
[{"$f":"Blad3!H501","v":"-"},{"$f":"Tidsram!$B$2","v":0},{"$f":"Tidsram!$B$3","v":0},{"$f":"Blad3!G501","v":0}]
[{"$f":"Blad3!H502","v":"-"},{"$f":"Tidsram!$B$2","v":0},{"$f":"Tidsram!$B$3","v":0},{"$f":"Blad3!G502","v":0}]
[{"$f":"Blad3!H503","v":"-"},{"$f":"Tidsram!$B$2","v":0},{"$f":"Tidsram!$B$3","v":0},{"$f":"Blad3!G503","v":0}]
[{"$f":"Blad3!H504","v":"-"},{"$f":"Tidsram!$B$2","v":0},{"$f":"Tidsram!$B$3","v":0},{"$f":"Blad3!G504","v":0}]
[{"$f":"Blad3!H505","v":"-"},{"$f":"Tidsram!$B$2","v":0},{"$f":"Tidsram!$B$3","v":0},{"$f":"Blad3!G505","v":0}]
[{"$f":"Blad3!H506","v":"-"},{"$f":"Tidsram!$B$2","v":0},{"$f":"Tidsram!$B$3","v":0},{"$f":"Blad3!G506","v":0}]
[{"$f":"Blad3!H507","v":"-"},{"$f":"Tidsram!$B$2","v":0},{"$f":"Tidsram!$B$3","v":0},{"$f":"Blad3!G507","v":0}]
[{"$f":"Blad3!H508","v":"-"},{"$f":"Tidsram!$B$2","v":0},{"$f":"Tidsram!$B$3","v":0},{"$f":"Blad3!G508","v":0}]
[{"$f":"Blad3!H509","v":"-"},{"$f":"Tidsram!$B$2","v":0},{"$f":"Tidsram!$B$3","v":0},{"$f":"Blad3!G509","v":0}]
[{"$f":"Blad3!H510","v":"-"},{"$f":"Tidsram!$B$2","v":0},{"$f":"Tidsram!$B$3","v":0},{"$f":"Blad3!G510","v":0}]
[{"$f":"Blad3!H511","v":"-"},{"$f":"Tidsram!$B$2","v":0},{"$f":"Tidsram!$B$3","v":0},{"$f":"Blad3!G511","v":0}]
[{"$f":"Blad3!H512","v":"-"},{"$f":"Tidsram!$B$2","v":0},{"$f":"Tidsram!$B$3","v":0},{"$f":"Blad3!G512","v":0}]
[{"$f":"Blad3!H513","v":"-"},{"$f":"Tidsram!$B$2","v":0},{"$f":"Tidsram!$B$3","v":0},{"$f":"Blad3!G513","v":0}]
[{"$f":"Blad3!H514","v":"-"},{"$f":"Tidsram!$B$2","v":0},{"$f":"Tidsram!$B$3","v":0},{"$f":"Blad3!G514","v":0}]
[{"$f":"Blad3!H515","v":"-"},{"$f":"Tidsram!$B$2","v":0},{"$f":"Tidsram!$B$3","v":0},{"$f":"Blad3!G515","v":0}]
[{"$f":"Blad3!H516","v":"-"},{"$f":"Tidsram!$B$2","v":0},{"$f":"Tidsram!$B$3","v":0},{"$f":"Blad3!G516","v":0}]
[{"$f":"Blad3!H517","v":"-"},{"$f":"Tidsram!$B$2","v":0},{"$f":"Tidsram!$B$3","v":0},{"$f":"Blad3!G517","v":0}]
[{"$f":"Blad3!H518","v":"-"},{"$f":"Tidsram!$B$2","v":0},{"$f":"Tidsram!$B$3","v":0},{"$f":"Blad3!G518","v":0}]
[{"$f":"Blad3!H519","v":"-"},{"$f":"Tidsram!$B$2","v":0},{"$f":"Tidsram!$B$3","v":0},{"$f":"Blad3!G519","v":0}]
[{"$f":"Blad3!H520","v":"-"},{"$f":"Tidsram!$B$2","v":0},{"$f":"Tidsram!$B$3","v":0},{"$f":"Blad3!G520","v":0}]
[{"$f":"Blad3!H521","v":"-"},{"$f":"Tidsram!$B$2","v":0},{"$f":"Tidsram!$B$3","v":0},{"$f":"Blad3!G521","v":0}]
[{"$f":"Blad3!H522","v":"-"},{"$f":"Tidsram!$B$2","v":0},{"$f":"Tidsram!$B$3","v":0},{"$f":"Blad3!G522","v":0}]
[{"$f":"Blad3!H523","v":"-"},{"$f":"Tidsram!$B$2","v":0},{"$f":"Tidsram!$B$3","v":0},{"$f":"Blad3!G523","v":0}]
[{"$f":"Blad3!H524","v":"-"},{"$f":"Tidsram!$B$2","v":0},{"$f":"Tidsram!$B$3","v":0},{"$f":"Blad3!G524","v":0}]
[{"$f":"Blad3!H525","v":"-"},{"$f":"Tidsram!$B$2","v":0},{"$f":"Tidsram!$B$3","v":0},{"$f":"Blad3!G525","v":0}]
[{"$f":"Blad3!H526","v":"-"},{"$f":"Tidsram!$B$2","v":0},{"$f":"Tidsram!$B$3","v":0},{"$f":"Blad3!G526","v":0}]
[{"$f":"Blad3!H527","v":"-"},{"$f":"Tidsram!$B$2","v":0},{"$f":"Tidsram!$B$3","v":0},{"$f":"Blad3!G527","v":0}]
[{"$f":"Blad3!H528","v":"-"},{"$f":"Tidsram!$B$2","v":0},{"$f":"Tidsram!$B$3","v":0},{"$f":"Blad3!G528","v":0}]
[{"$f":"Blad3!H529","v":"-"},{"$f":"Tidsram!$B$2","v":0},{"$f":"Tidsram!$B$3","v":0},{"$f":"Blad3!G529","v":0}]
[{"$f":"Blad3!H530","v":"-"},{"$f":"Tidsram!$B$2","v":0},{"$f":"Tidsram!$B$3","v":0},{"$f":"Blad3!G530","v":0}]
[{"$f":"Blad3!H531","v":"-"},{"$f":"Tidsram!$B$2","v":0},{"$f":"Tidsram!$B$3","v":0},{"$f":"Blad3!G531","v":0}]
[{"$f":"Blad3!H532","v":"-"},{"$f":"Tidsram!$B$2","v":0},{"$f":"Tidsram!$B$3","v":0},{"$f":"Blad3!G532","v":0}]
[{"$f":"Blad3!H533","v":"-"},{"$f":"Tidsram!$B$2","v":0},{"$f":"Tidsram!$B$3","v":0},{"$f":"Blad3!G533","v":0}]
[{"$f":"Blad3!H534","v":"-"},{"$f":"Tidsram!$B$2","v":0},{"$f":"Tidsram!$B$3","v":0},{"$f":"Blad3!G534","v":0}]
[{"$f":"Blad3!H535","v":"-"},{"$f":"Tidsram!$B$2","v":0},{"$f":"Tidsram!$B$3","v":0},{"$f":"Blad3!G535","v":0}]
[{"$f":"Blad3!H536","v":"-"},{"$f":"Tidsram!$B$2","v":0},{"$f":"Tidsram!$B$3","v":0},{"$f":"Blad3!G536","v":0}]
[{"$f":"Blad3!H537","v":"-"},{"$f":"Tidsram!$B$2","v":0},{"$f":"Tidsram!$B$3","v":0},{"$f":"Blad3!G537","v":0}]
[{"$f":"Blad3!H538","v":"-"},{"$f":"Tidsram!$B$2","v":0},{"$f":"Tidsram!$B$3","v":0},{"$f":"Blad3!G538","v":0}]
[{"$f":"Blad3!H539","v":"-"},{"$f":"Tidsram!$B$2","v":0},{"$f":"Tidsram!$B$3","v":0},{"$f":"Blad3!G539","v":0}]
[{"$f":"Blad3!H540","v":"-"},{"$f":"Tidsram!$B$2","v":0},{"$f":"Tidsram!$B$3","v":0},{"$f":"Blad3!G540","v":0}]
[{"$f":"Blad3!H541","v":"-"},{"$f":"Tidsram!$B$2","v":0},{"$f":"Tidsram!$B$3","v":0},{"$f":"Blad3!G541","v":0}]
[{"$f":"Blad3!H542","v":"-"},{"$f":"Tidsram!$B$2","v":0},{"$f":"Tidsram!$B$3","v":0},{"$f":"Blad3!G542","v":0}]
[{"$f":"Blad3!H543","v":"-"},{"$f":"Tidsram!$B$2","v":0},{"$f":"Tidsram!$B$3","v":0},{"$f":"Blad3!G543","v":0}]
[{"$f":"Blad3!H544","v":"-"},{"$f":"Tidsram!$B$2","v":0},{"$f":"Tidsram!$B$3","v":0},{"$f":"Blad3!G544","v":0}]
[{"$f":"Blad3!H545","v":"-"},{"$f":"Tidsram!$B$2","v":0},{"$f":"Tidsram!$B$3","v":0},{"$f":"Blad3!G545","v":0}]
[{"$f":"Blad3!H546","v":"-"},{"$f":"Tidsram!$B$2","v":0},{"$f":"Tidsram!$B$3","v":0},{"$f":"Blad3!G546","v":0}]
[{"$f":"Blad3!H547","v":"-"},{"$f":"Tidsram!$B$2","v":0},{"$f":"Tidsram!$B$3","v":0},{"$f":"Blad3!G547","v":0}]
[{"$f":"Blad3!H548","v":"-"},{"$f":"Tidsram!$B$2","v":0},{"$f":"Tidsram!$B$3","v":0},{"$f":"Blad3!G548","v":0}]
[{"$f":"Blad3!H549","v":"-"},{"$f":"Tidsram!$B$2","v":0},{"$f":"Tidsram!$B$3","v":0},{"$f":"Blad3!G549","v":0}]
[{"$f":"Blad3!H550","v":"-"},{"$f":"Tidsram!$B$2","v":0},{"$f":"Tidsram!$B$3","v":0},{"$f":"Blad3!G550","v":0}]
[{"$f":"Blad3!H551","v":"-"},{"$f":"Tidsram!$B$2","v":0},{"$f":"Tidsram!$B$3","v":0},{"$f":"Blad3!G551","v":0}]
[{"$f":"Blad3!H552","v":"-"},{"$f":"Tidsram!$B$2","v":0},{"$f":"Tidsram!$B$3","v":0},{"$f":"Blad3!G552","v":0}]
[{"$f":"Blad3!H553","v":"-"},{"$f":"Tidsram!$B$2","v":0},{"$f":"Tidsram!$B$3","v":0},{"$f":"Blad3!G553","v":0}]
[{"$f":"Blad3!H554","v":"-"},{"$f":"Tidsram!$B$2","v":0},{"$f":"Tidsram!$B$3","v":0},{"$f":"Blad3!G554","v":0}]
[{"$f":"Blad3!H555","v":"-"},{"$f":"Tidsram!$B$2","v":0},{"$f":"Tidsram!$B$3","v":0},{"$f":"Blad3!G555","v":0}]
[{"$f":"Blad3!H556","v":"-"},{"$f":"Tidsram!$B$2","v":0},{"$f":"Tidsram!$B$3","v":0},{"$f":"Blad3!G556","v":0}]
[{"$f":"Blad3!H557","v":"-"},{"$f":"Tidsram!$B$2","v":0},{"$f":"Tidsram!$B$3","v":0},{"$f":"Blad3!G557","v":0}]
[{"$f":"Blad3!H558","v":"-"},{"$f":"Tidsram!$B$2","v":0},{"$f":"Tidsram!$B$3","v":0},{"$f":"Blad3!G558","v":0}]
[{"$f":"Blad3!H559","v":"-"},{"$f":"Tidsram!$B$2","v":0},{"$f":"Tidsram!$B$3","v":0},{"$f":"Blad3!G559","v":0}]
[{"$f":"Blad3!H560","v":"-"},{"$f":"Tidsram!$B$2","v":0},{"$f":"Tidsram!$B$3","v":0},{"$f":"Blad3!G560","v":0}]
[{"$f":"Blad3!H561","v":"-"},{"$f":"Tidsram!$B$2","v":0},{"$f":"Tidsram!$B$3","v":0},{"$f":"Blad3!G561","v":0}]
[{"$f":"Blad3!H562","v":"-"},{"$f":"Tidsram!$B$2","v":0},{"$f":"Tidsram!$B$3","v":0},{"$f":"Blad3!G562","v":0}]
[{"$f":"Blad3!H563","v":"-"},{"$f":"Tidsram!$B$2","v":0},{"$f":"Tidsram!$B$3","v":0},{"$f":"Blad3!G563","v":0}]
[{"$f":"Blad3!H564","v":"-"},{"$f":"Tidsram!$B$2","v":0},{"$f":"Tidsram!$B$3","v":0},{"$f":"Blad3!G564","v":0}]
[{"$f":"Blad3!H565","v":"-"},{"$f":"Tidsram!$B$2","v":0},{"$f":"Tidsram!$B$3","v":0},{"$f":"Blad3!G565","v":0}]
[{"$f":"Blad3!H566","v":"-"},{"$f":"Tidsram!$B$2","v":0},{"$f":"Tidsram!$B$3","v":0},{"$f":"Blad3!G566","v":0}]
[{"$f":"Blad3!H567","v":"-"},{"$f":"Tidsram!$B$2","v":0},{"$f":"Tidsram!$B$3","v":0},{"$f":"Blad3!G567","v":0}]
[{"$f":"Blad3!H568","v":"-"},{"$f":"Tidsram!$B$2","v":0},{"$f":"Tidsram!$B$3","v":0},{"$f":"Blad3!G568","v":0}]
[{"$f":"Blad3!H569","v":"-"},{"$f":"Tidsram!$B$2","v":0},{"$f":"Tidsram!$B$3","v":0},{"$f":"Blad3!G569","v":0}]
[{"$f":"Blad3!H570","v":"-"},{"$f":"Tidsram!$B$2","v":0},{"$f":"Tidsram!$B$3","v":0},{"$f":"Blad3!G570","v":0}]
[{"$f":"Blad3!H571","v":"-"},{"$f":"Tidsram!$B$2","v":0},{"$f":"Tidsram!$B$3","v":0},{"$f":"Blad3!G571","v":0}]
[{"$f":"Blad3!H572","v":"-"},{"$f":"Tidsram!$B$2","v":0},{"$f":"Tidsram!$B$3","v":0},{"$f":"Blad3!G572","v":0}]
[{"$f":"Blad3!H573","v":"-"},{"$f":"Tidsram!$B$2","v":0},{"$f":"Tidsram!$B$3","v":0},{"$f":"Blad3!G573","v":0}]
[{"$f":"Blad3!H574","v":"-"},{"$f":"Tidsram!$B$2","v":0},{"$f":"Tidsram!$B$3","v":0},{"$f":"Blad3!G574","v":0}]
[{"$f":"Blad3!H575","v":"-"},{"$f":"Tidsram!$B$2","v":0},{"$f":"Tidsram!$B$3","v":0},{"$f":"Blad3!G575","v":0}]
[{"$f":"Blad3!H576","v":"-"},{"$f":"Tidsram!$B$2","v":0},{"$f":"Tidsram!$B$3","v":0},{"$f":"Blad3!G576","v":0}]
[{"$f":"Blad3!H577","v":"-"},{"$f":"Tidsram!$B$2","v":0},{"$f":"Tidsram!$B$3","v":0},{"$f":"Blad3!G577","v":0}]
[{"$f":"Blad3!H578","v":"-"},{"$f":"Tidsram!$B$2","v":0},{"$f":"Tidsram!$B$3","v":0},{"$f":"Blad3!G578","v":0}]
[{"$f":"Blad3!H579","v":"-"},{"$f":"Tidsram!$B$2","v":0},{"$f":"Tidsram!$B$3","v":0},{"$f":"Blad3!G579","v":0}]
[{"$f":"Blad3!H580","v":"-"},{"$f":"Tidsram!$B$2","v":0},{"$f":"Tidsram!$B$3","v":0},{"$f":"Blad3!G580","v":0}]
[{"$f":"Blad3!H581","v":"-"},{"$f":"Tidsram!$B$2","v":0},{"$f":"Tidsram!$B$3","v":0},{"$f":"Blad3!G581","v":0}]
[{"$f":"Blad3!H582","v":"-"},{"$f":"Tidsram!$B$2","v":0},{"$f":"Tidsram!$B$3","v":0},{"$f":"Blad3!G582","v":0}]
[{"$f":"Blad3!H583","v":"-"},{"$f":"Tidsram!$B$2","v":0},{"$f":"Tidsram!$B$3","v":0},{"$f":"Blad3!G583","v":0}]
[{"$f":"Blad3!H584","v":"-"},{"$f":"Tidsram!$B$2","v":0},{"$f":"Tidsram!$B$3","v":0},{"$f":"Blad3!G584","v":0}]
[{"$f":"Blad3!H585","v":"-"},{"$f":"Tidsram!$B$2","v":0},{"$f":"Tidsram!$B$3","v":0},{"$f":"Blad3!G585","v":0}]
[{"$f":"Blad3!H586","v":"-"},{"$f":"Tidsram!$B$2","v":0},{"$f":"Tidsram!$B$3","v":0},{"$f":"Blad3!G586","v":0}]
[{"$f":"Blad3!H587","v":"-"},{"$f":"Tidsram!$B$2","v":0},{"$f":"Tidsram!$B$3","v":0},{"$f":"Blad3!G587","v":0}]
[{"$f":"Blad3!H588","v":"-"},{"$f":"Tidsram!$B$2","v":0},{"$f":"Tidsram!$B$3","v":0},{"$f":"Blad3!G588","v":0}]
[{"$f":"Blad3!H589","v":"-"},{"$f":"Tidsram!$B$2","v":0},{"$f":"Tidsram!$B$3","v":0},{"$f":"Blad3!G589","v":0}]
[{"$f":"Blad3!H590","v":"-"},{"$f":"Tidsram!$B$2","v":0},{"$f":"Tidsram!$B$3","v":0},{"$f":"Blad3!G590","v":0}]
[{"$f":"Blad3!H591","v":"-"},{"$f":"Tidsram!$B$2","v":0},{"$f":"Tidsram!$B$3","v":0},{"$f":"Blad3!G591","v":0}]
[{"$f":"Blad3!H592","v":"-"},{"$f":"Tidsram!$B$2","v":0},{"$f":"Tidsram!$B$3","v":0},{"$f":"Blad3!G592","v":0}]
[{"$f":"Blad3!H593","v":"-"},{"$f":"Tidsram!$B$2","v":0},{"$f":"Tidsram!$B$3","v":0},{"$f":"Blad3!G593","v":0}]
[{"$f":"Blad3!H594","v":"-"},{"$f":"Tidsram!$B$2","v":0},{"$f":"Tidsram!$B$3","v":0},{"$f":"Blad3!G594","v":0}]
[{"$f":"Blad3!H595","v":"-"},{"$f":"Tidsram!$B$2","v":0},{"$f":"Tidsram!$B$3","v":0},{"$f":"Blad3!G595","v":0}]
[{"$f":"Blad3!H596","v":"-"},{"$f":"Tidsram!$B$2","v":0},{"$f":"Tidsram!$B$3","v":0},{"$f":"Blad3!G596","v":0}]
[{"$f":"Blad3!H597","v":"-"},{"$f":"Tidsram!$B$2","v":0},{"$f":"Tidsram!$B$3","v":0},{"$f":"Blad3!G597","v":0}]
[{"$f":"Blad3!H598","v":"-"},{"$f":"Tidsram!$B$2","v":0},{"$f":"Tidsram!$B$3","v":0},{"$f":"Blad3!G598","v":0}]
[{"$f":"Blad3!H599","v":"-"},{"$f":"Tidsram!$B$2","v":0},{"$f":"Tidsram!$B$3","v":0},{"$f":"Blad3!G599","v":0}]
[{"$f":"Blad3!H600","v":"-"},{"$f":"Tidsram!$B$2","v":0},{"$f":"Tidsram!$B$3","v":0},{"$f":"Blad3!G600","v":0}]
[{"$f":"Blad3!H601","v":"-"},{"$f":"Tidsram!$B$2","v":0},{"$f":"Tidsram!$B$3","v":0},{"$f":"Blad3!G601","v":0}]
[{"$f":"Blad3!H602","v":"-"},{"$f":"Tidsram!$B$2","v":0},{"$f":"Tidsram!$B$3","v":0},{"$f":"Blad3!G602","v":0}]
[{"$f":"Blad3!H603","v":"-"},{"$f":"Tidsram!$B$2","v":0},{"$f":"Tidsram!$B$3","v":0},{"$f":"Blad3!G603","v":0}]
[{"$f":"Blad3!H604","v":"-"},{"$f":"Tidsram!$B$2","v":0},{"$f":"Tidsram!$B$3","v":0},{"$f":"Blad3!G604","v":0}]
[{"$f":"Blad3!H605","v":"-"},{"$f":"Tidsram!$B$2","v":0},{"$f":"Tidsram!$B$3","v":0},{"$f":"Blad3!G605","v":0}]
[{"$f":"Blad3!H606","v":"-"},{"$f":"Tidsram!$B$2","v":0},{"$f":"Tidsram!$B$3","v":0},{"$f":"Blad3!G606","v":0}]
[{"$f":"Blad3!H607","v":"-"},{"$f":"Tidsram!$B$2","v":0},{"$f":"Tidsram!$B$3","v":0},{"$f":"Blad3!G607","v":0}]
[{"$f":"Blad3!H608","v":"-"},{"$f":"Tidsram!$B$2","v":0},{"$f":"Tidsram!$B$3","v":0},{"$f":"Blad3!G608","v":0}]
[{"$f":"Blad3!H609","v":"-"},{"$f":"Tidsram!$B$2","v":0},{"$f":"Tidsram!$B$3","v":0},{"$f":"Blad3!G609","v":0}]
[{"$f":"Blad3!H610","v":"-"},{"$f":"Tidsram!$B$2","v":0},{"$f":"Tidsram!$B$3","v":0},{"$f":"Blad3!G610","v":0}]
[{"$f":"Blad3!H611","v":"-"},{"$f":"Tidsram!$B$2","v":0},{"$f":"Tidsram!$B$3","v":0},{"$f":"Blad3!G611","v":0}]
[{"$f":"Blad3!H612","v":"-"},{"$f":"Tidsram!$B$2","v":0},{"$f":"Tidsram!$B$3","v":0},{"$f":"Blad3!G612","v":0}]
[{"$f":"Blad3!H613","v":"-"},{"$f":"Tidsram!$B$2","v":0},{"$f":"Tidsram!$B$3","v":0},{"$f":"Blad3!G613","v":0}]
[{"$f":"Blad3!H614","v":"-"},{"$f":"Tidsram!$B$2","v":0},{"$f":"Tidsram!$B$3","v":0},{"$f":"Blad3!G614","v":0}]
[{"$f":"Blad3!H615","v":"-"},{"$f":"Tidsram!$B$2","v":0},{"$f":"Tidsram!$B$3","v":0},{"$f":"Blad3!G615","v":0}]
[{"$f":"Blad3!H616","v":"-"},{"$f":"Tidsram!$B$2","v":0},{"$f":"Tidsram!$B$3","v":0},{"$f":"Blad3!G616","v":0}]
[{"$f":"Blad3!H617","v":"-"},{"$f":"Tidsram!$B$2","v":0},{"$f":"Tidsram!$B$3","v":0},{"$f":"Blad3!G617","v":0}]
[{"$f":"Blad3!H618","v":"-"},{"$f":"Tidsram!$B$2","v":0},{"$f":"Tidsram!$B$3","v":0},{"$f":"Blad3!G618","v":0}]
[{"$f":"Blad3!H619","v":"-"},{"$f":"Tidsram!$B$2","v":0},{"$f":"Tidsram!$B$3","v":0},{"$f":"Blad3!G619","v":0}]
[{"$f":"Blad3!H620","v":"-"},{"$f":"Tidsram!$B$2","v":0},{"$f":"Tidsram!$B$3","v":0},{"$f":"Blad3!G620","v":0}]
[{"$f":"Blad3!H621","v":"-"},{"$f":"Tidsram!$B$2","v":0},{"$f":"Tidsram!$B$3","v":0},{"$f":"Blad3!G621","v":0}]
[{"$f":"Blad3!H622","v":"-"},{"$f":"Tidsram!$B$2","v":0},{"$f":"Tidsram!$B$3","v":0},{"$f":"Blad3!G622","v":0}]
[{"$f":"Blad3!H623","v":"-"},{"$f":"Tidsram!$B$2","v":0},{"$f":"Tidsram!$B$3","v":0},{"$f":"Blad3!G623","v":0}]
[{"$f":"Blad3!H624","v":"-"},{"$f":"Tidsram!$B$2","v":0},{"$f":"Tidsram!$B$3","v":0},{"$f":"Blad3!G624","v":0}]
[{"$f":"Blad3!H625","v":"-"},{"$f":"Tidsram!$B$2","v":0},{"$f":"Tidsram!$B$3","v":0},{"$f":"Blad3!G625","v":0}]
[{"$f":"Blad3!H626","v":"-"},{"$f":"Tidsram!$B$2","v":0},{"$f":"Tidsram!$B$3","v":0},{"$f":"Blad3!G626","v":0}]
[{"$f":"Blad3!H627","v":"-"},{"$f":"Tidsram!$B$2","v":0},{"$f":"Tidsram!$B$3","v":0},{"$f":"Blad3!G627","v":0}]
[{"$f":"Blad3!H628","v":"-"},{"$f":"Tidsram!$B$2","v":0},{"$f":"Tidsram!$B$3","v":0},{"$f":"Blad3!G628","v":0}]
[{"$f":"Blad3!H629","v":"-"},{"$f":"Tidsram!$B$2","v":0},{"$f":"Tidsram!$B$3","v":0},{"$f":"Blad3!G629","v":0}]
[{"$f":"Blad3!H630","v":"-"},{"$f":"Tidsram!$B$2","v":0},{"$f":"Tidsram!$B$3","v":0},{"$f":"Blad3!G630","v":0}]
[{"$f":"Blad3!H631","v":"-"},{"$f":"Tidsram!$B$2","v":0},{"$f":"Tidsram!$B$3","v":0},{"$f":"Blad3!G631","v":0}]
[{"$f":"Blad3!H632","v":"-"},{"$f":"Tidsram!$B$2","v":0},{"$f":"Tidsram!$B$3","v":0},{"$f":"Blad3!G632","v":0}]
[{"$f":"Blad3!H633","v":"-"},{"$f":"Tidsram!$B$2","v":0},{"$f":"Tidsram!$B$3","v":0},{"$f":"Blad3!G633","v":0}]
[{"$f":"Blad3!H634","v":"-"},{"$f":"Tidsram!$B$2","v":0},{"$f":"Tidsram!$B$3","v":0},{"$f":"Blad3!G634","v":0}]
[{"$f":"Blad3!H635","v":"-"},{"$f":"Tidsram!$B$2","v":0},{"$f":"Tidsram!$B$3","v":0},{"$f":"Blad3!G635","v":0}]
[{"$f":"Blad3!H636","v":"-"},{"$f":"Tidsram!$B$2","v":0},{"$f":"Tidsram!$B$3","v":0},{"$f":"Blad3!G636","v":0}]
[{"$f":"Blad3!H637","v":"-"},{"$f":"Tidsram!$B$2","v":0},{"$f":"Tidsram!$B$3","v":0},{"$f":"Blad3!G637","v":0}]
[{"$f":"Blad3!H638","v":"-"},{"$f":"Tidsram!$B$2","v":0},{"$f":"Tidsram!$B$3","v":0},{"$f":"Blad3!G638","v":0}]
[{"$f":"Blad3!H639","v":"-"},{"$f":"Tidsram!$B$2","v":0},{"$f":"Tidsram!$B$3","v":0},{"$f":"Blad3!G639","v":0}]
[{"$f":"Blad3!H640","v":"-"},{"$f":"Tidsram!$B$2","v":0},{"$f":"Tidsram!$B$3","v":0},{"$f":"Blad3!G640","v":0}]
[{"$f":"Blad3!H641","v":"-"},{"$f":"Tidsram!$B$2","v":0},{"$f":"Tidsram!$B$3","v":0},{"$f":"Blad3!G641","v":0}]
[{"$f":"Blad3!H642","v":"-"},{"$f":"Tidsram!$B$2","v":0},{"$f":"Tidsram!$B$3","v":0},{"$f":"Blad3!G642","v":0}]
[{"$f":"Blad3!H643","v":"-"},{"$f":"Tidsram!$B$2","v":0},{"$f":"Tidsram!$B$3","v":0},{"$f":"Blad3!G643","v":0}]
[{"$f":"Blad3!H644","v":"-"},{"$f":"Tidsram!$B$2","v":0},{"$f":"Tidsram!$B$3","v":0},{"$f":"Blad3!G644","v":0}]
[{"$f":"Blad3!H645","v":"-"},{"$f":"Tidsram!$B$2","v":0},{"$f":"Tidsram!$B$3","v":0},{"$f":"Blad3!G645","v":0}]
[{"$f":"Blad3!H646","v":"-"},{"$f":"Tidsram!$B$2","v":0},{"$f":"Tidsram!$B$3","v":0},{"$f":"Blad3!G646","v":0}]
[{"$f":"Blad3!H647","v":"-"},{"$f":"Tidsram!$B$2","v":0},{"$f":"Tidsram!$B$3","v":0},{"$f":"Blad3!G647","v":0}]
[{"$f":"Blad3!H648","v":"-"},{"$f":"Tidsram!$B$2","v":0},{"$f":"Tidsram!$B$3","v":0},{"$f":"Blad3!G648","v":0}]
[{"$f":"Blad3!H649","v":"-"},{"$f":"Tidsram!$B$2","v":0},{"$f":"Tidsram!$B$3","v":0},{"$f":"Blad3!G649","v":0}]
[{"$f":"Blad3!H650","v":"-"},{"$f":"Tidsram!$B$2","v":0},{"$f":"Tidsram!$B$3","v":0},{"$f":"Blad3!G650","v":0}]
[{"$f":"Blad3!H651","v":"-"},{"$f":"Tidsram!$B$2","v":0},{"$f":"Tidsram!$B$3","v":0},{"$f":"Blad3!G651","v":0}]
[{"$f":"Blad3!H652","v":"-"},{"$f":"Tidsram!$B$2","v":0},{"$f":"Tidsram!$B$3","v":0},{"$f":"Blad3!G652","v":0}]
[{"$f":"Blad3!H653","v":"-"},{"$f":"Tidsram!$B$2","v":0},{"$f":"Tidsram!$B$3","v":0},{"$f":"Blad3!G653","v":0}]
[{"$f":"Blad3!H654","v":"-"},{"$f":"Tidsram!$B$2","v":0},{"$f":"Tidsram!$B$3","v":0},{"$f":"Blad3!G654","v":0}]
[{"$f":"Blad3!H655","v":"-"},{"$f":"Tidsram!$B$2","v":0},{"$f":"Tidsram!$B$3","v":0},{"$f":"Blad3!G655","v":0}]
[{"$f":"Blad3!H656","v":"-"},{"$f":"Tidsram!$B$2","v":0},{"$f":"Tidsram!$B$3","v":0},{"$f":"Blad3!G656","v":0}]
[{"$f":"Blad3!H657","v":"-"},{"$f":"Tidsram!$B$2","v":0},{"$f":"Tidsram!$B$3","v":0},{"$f":"Blad3!G657","v":0}]
[{"$f":"Blad3!H658","v":"-"},{"$f":"Tidsram!$B$2","v":0},{"$f":"Tidsram!$B$3","v":0},{"$f":"Blad3!G658","v":0}]
[{"$f":"Blad3!H659","v":"-"},{"$f":"Tidsram!$B$2","v":0},{"$f":"Tidsram!$B$3","v":0},{"$f":"Blad3!G659","v":0}]
[{"$f":"Blad3!H660","v":"-"},{"$f":"Tidsram!$B$2","v":0},{"$f":"Tidsram!$B$3","v":0},{"$f":"Blad3!G660","v":0}]
[{"$f":"Blad3!H661","v":"-"},{"$f":"Tidsram!$B$2","v":0},{"$f":"Tidsram!$B$3","v":0},{"$f":"Blad3!G661","v":0}]
[{"$f":"Blad3!H662","v":"-"},{"$f":"Tidsram!$B$2","v":0},{"$f":"Tidsram!$B$3","v":0},{"$f":"Blad3!G662","v":0}]
[{"$f":"Blad3!H663","v":"-"},{"$f":"Tidsram!$B$2","v":0},{"$f":"Tidsram!$B$3","v":0},{"$f":"Blad3!G663","v":0}]
[{"$f":"Blad3!H664","v":"-"},{"$f":"Tidsram!$B$2","v":0},{"$f":"Tidsram!$B$3","v":0},{"$f":"Blad3!G664","v":0}]
[{"$f":"Blad3!H665","v":"-"},{"$f":"Tidsram!$B$2","v":0},{"$f":"Tidsram!$B$3","v":0},{"$f":"Blad3!G665","v":0}]
[{"$f":"Blad3!H666","v":"-"},{"$f":"Tidsram!$B$2","v":0},{"$f":"Tidsram!$B$3","v":0},{"$f":"Blad3!G666","v":0}]
[{"$f":"Blad3!H667","v":"-"},{"$f":"Tidsram!$B$2","v":0},{"$f":"Tidsram!$B$3","v":0},{"$f":"Blad3!G667","v":0}]
[{"$f":"Blad3!H668","v":"-"},{"$f":"Tidsram!$B$2","v":0},{"$f":"Tidsram!$B$3","v":0},{"$f":"Blad3!G668","v":0}]
[{"$f":"Blad3!H669","v":"-"},{"$f":"Tidsram!$B$2","v":0},{"$f":"Tidsram!$B$3","v":0},{"$f":"Blad3!G669","v":0}]
[{"$f":"Blad3!H670","v":"-"},{"$f":"Tidsram!$B$2","v":0},{"$f":"Tidsram!$B$3","v":0},{"$f":"Blad3!G670","v":0}]
[{"$f":"Blad3!H671","v":"-"},{"$f":"Tidsram!$B$2","v":0},{"$f":"Tidsram!$B$3","v":0},{"$f":"Blad3!G671","v":0}]
[{"$f":"Blad3!H672","v":"-"},{"$f":"Tidsram!$B$2","v":0},{"$f":"Tidsram!$B$3","v":0},{"$f":"Blad3!G672","v":0}]
[{"$f":"Blad3!H673","v":"-"},{"$f":"Tidsram!$B$2","v":0},{"$f":"Tidsram!$B$3","v":0},{"$f":"Blad3!G673","v":0}]
[{"$f":"Blad3!H674","v":"-"},{"$f":"Tidsram!$B$2","v":0},{"$f":"Tidsram!$B$3","v":0},{"$f":"Blad3!G674","v":0}]
[{"$f":"Blad3!H675","v":"-"},{"$f":"Tidsram!$B$2","v":0},{"$f":"Tidsram!$B$3","v":0},{"$f":"Blad3!G675","v":0}]
[{"$f":"Blad3!H676","v":"-"},{"$f":"Tidsram!$B$2","v":0},{"$f":"Tidsram!$B$3","v":0},{"$f":"Blad3!G676","v":0}]
[{"$f":"Blad3!H677","v":"-"},{"$f":"Tidsram!$B$2","v":0},{"$f":"Tidsram!$B$3","v":0},{"$f":"Blad3!G677","v":0}]
[{"$f":"Blad3!H678","v":"-"},{"$f":"Tidsram!$B$2","v":0},{"$f":"Tidsram!$B$3","v":0},{"$f":"Blad3!G678","v":0}]
[{"$f":"Blad3!H679","v":"-"},{"$f":"Tidsram!$B$2","v":0},{"$f":"Tidsram!$B$3","v":0},{"$f":"Blad3!G679","v":0}]
[{"$f":"Blad3!H680","v":"-"},{"$f":"Tidsram!$B$2","v":0},{"$f":"Tidsram!$B$3","v":0},{"$f":"Blad3!G680","v":0}]
[{"$f":"Blad3!H681","v":"-"},{"$f":"Tidsram!$B$2","v":0},{"$f":"Tidsram!$B$3","v":0},{"$f":"Blad3!G681","v":0}]
[{"$f":"Blad3!H682","v":"-"},{"$f":"Tidsram!$B$2","v":0},{"$f":"Tidsram!$B$3","v":0},{"$f":"Blad3!G682","v":0}]
[{"$f":"Blad3!H683","v":"-"},{"$f":"Tidsram!$B$2","v":0},{"$f":"Tidsram!$B$3","v":0},{"$f":"Blad3!G683","v":0}]
[{"$f":"Blad3!H684","v":"-"},{"$f":"Tidsram!$B$2","v":0},{"$f":"Tidsram!$B$3","v":0},{"$f":"Blad3!G684","v":0}]
[{"$f":"Blad3!H685","v":"-"},{"$f":"Tidsram!$B$2","v":0},{"$f":"Tidsram!$B$3","v":0},{"$f":"Blad3!G685","v":0}]
[{"$f":"Blad3!H686","v":"-"},{"$f":"Tidsram!$B$2","v":0},{"$f":"Tidsram!$B$3","v":0},{"$f":"Blad3!G686","v":0}]
[{"$f":"Blad3!H687","v":"-"},{"$f":"Tidsram!$B$2","v":0},{"$f":"Tidsram!$B$3","v":0},{"$f":"Blad3!G687","v":0}]
[{"$f":"Blad3!H688","v":"-"},{"$f":"Tidsram!$B$2","v":0},{"$f":"Tidsram!$B$3","v":0},{"$f":"Blad3!G688","v":0}]
[{"$f":"Blad3!H689","v":"-"},{"$f":"Tidsram!$B$2","v":0},{"$f":"Tidsram!$B$3","v":0},{"$f":"Blad3!G689","v":0}]
[{"$f":"Blad3!H690","v":"-"},{"$f":"Tidsram!$B$2","v":0},{"$f":"Tidsram!$B$3","v":0},{"$f":"Blad3!G690","v":0}]
[{"$f":"Blad3!H691","v":"-"},{"$f":"Tidsram!$B$2","v":0},{"$f":"Tidsram!$B$3","v":0},{"$f":"Blad3!G691","v":0}]
[{"$f":"Blad3!H692","v":"-"},{"$f":"Tidsram!$B$2","v":0},{"$f":"Tidsram!$B$3","v":0},{"$f":"Blad3!G692","v":0}]
[{"$f":"Blad3!H693","v":"-"},{"$f":"Tidsram!$B$2","v":0},{"$f":"Tidsram!$B$3","v":0},{"$f":"Blad3!G693","v":0}]
[{"$f":"Blad3!H694","v":"-"},{"$f":"Tidsram!$B$2","v":0},{"$f":"Tidsram!$B$3","v":0},{"$f":"Blad3!G694","v":0}]
[{"$f":"Blad3!H695","v":"-"},{"$f":"Tidsram!$B$2","v":0},{"$f":"Tidsram!$B$3","v":0},{"$f":"Blad3!G695","v":0}]
[{"$f":"Blad3!H696","v":"-"},{"$f":"Tidsram!$B$2","v":0},{"$f":"Tidsram!$B$3","v":0},{"$f":"Blad3!G696","v":0}]
[{"$f":"Blad3!H697","v":"-"},{"$f":"Tidsram!$B$2","v":0},{"$f":"Tidsram!$B$3","v":0},{"$f":"Blad3!G697","v":0}]
[{"$f":"Blad3!H698","v":"-"},{"$f":"Tidsram!$B$2","v":0},{"$f":"Tidsram!$B$3","v":0},{"$f":"Blad3!G698","v":0}]
[{"$f":"Blad3!H699","v":"-"},{"$f":"Tidsram!$B$2","v":0},{"$f":"Tidsram!$B$3","v":0},{"$f":"Blad3!G699","v":0}]
[{"$f":"Blad3!H700","v":"-"},{"$f":"Tidsram!$B$2","v":0},{"$f":"Tidsram!$B$3","v":0},{"$f":"Blad3!G700","v":0}]
[{"$f":"Blad3!H701","v":"-"},{"$f":"Tidsram!$B$2","v":0},{"$f":"Tidsram!$B$3","v":0},{"$f":"Blad3!G701","v":0}]
[{"$f":"Blad3!H702","v":"-"},{"$f":"Tidsram!$B$2","v":0},{"$f":"Tidsram!$B$3","v":0},{"$f":"Blad3!G702","v":0}]
[{"$f":"Blad3!H703","v":"-"},{"$f":"Tidsram!$B$2","v":0},{"$f":"Tidsram!$B$3","v":0},{"$f":"Blad3!G703","v":0}]
[{"$f":"Blad3!H704","v":"-"},{"$f":"Tidsram!$B$2","v":0},{"$f":"Tidsram!$B$3","v":0},{"$f":"Blad3!G704","v":0}]
[{"$f":"Blad3!H705","v":"-"},{"$f":"Tidsram!$B$2","v":0},{"$f":"Tidsram!$B$3","v":0},{"$f":"Blad3!G705","v":0}]
[{"$f":"Blad3!H706","v":"-"},{"$f":"Tidsram!$B$2","v":0},{"$f":"Tidsram!$B$3","v":0},{"$f":"Blad3!G706","v":0}]
[{"$f":"Blad3!H707","v":"-"},{"$f":"Tidsram!$B$2","v":0},{"$f":"Tidsram!$B$3","v":0},{"$f":"Blad3!G707","v":0}]
[{"$f":"Blad3!H708","v":"-"},{"$f":"Tidsram!$B$2","v":0},{"$f":"Tidsram!$B$3","v":0},{"$f":"Blad3!G708","v":0}]
[{"$f":"Blad3!H709","v":"-"},{"$f":"Tidsram!$B$2","v":0},{"$f":"Tidsram!$B$3","v":0},{"$f":"Blad3!G709","v":0}]
[{"$f":"Blad3!H710","v":"-"},{"$f":"Tidsram!$B$2","v":0},{"$f":"Tidsram!$B$3","v":0},{"$f":"Blad3!G710","v":0}]
[{"$f":"Blad3!H711","v":"-"},{"$f":"Tidsram!$B$2","v":0},{"$f":"Tidsram!$B$3","v":0},{"$f":"Blad3!G711","v":0}]
[{"$f":"Blad3!H712","v":"-"},{"$f":"Tidsram!$B$2","v":0},{"$f":"Tidsram!$B$3","v":0},{"$f":"Blad3!G712","v":0}]
[{"$f":"Blad3!H713","v":"-"},{"$f":"Tidsram!$B$2","v":0},{"$f":"Tidsram!$B$3","v":0},{"$f":"Blad3!G713","v":0}]
[{"$f":"Blad3!H714","v":"-"},{"$f":"Tidsram!$B$2","v":0},{"$f":"Tidsram!$B$3","v":0},{"$f":"Blad3!G714","v":0}]
[{"$f":"Blad3!H715","v":"-"},{"$f":"Tidsram!$B$2","v":0},{"$f":"Tidsram!$B$3","v":0},{"$f":"Blad3!G715","v":0}]
[{"$f":"Blad3!H716","v":"-"},{"$f":"Tidsram!$B$2","v":0},{"$f":"Tidsram!$B$3","v":0},{"$f":"Blad3!G716","v":0}]
[{"$f":"Blad3!H717","v":"-"},{"$f":"Tidsram!$B$2","v":0},{"$f":"Tidsram!$B$3","v":0},{"$f":"Blad3!G717","v":0}]
[{"$f":"Blad3!H718","v":"-"},{"$f":"Tidsram!$B$2","v":0},{"$f":"Tidsram!$B$3","v":0},{"$f":"Blad3!G718","v":0}]
[{"$f":"Blad3!H719","v":"-"},{"$f":"Tidsram!$B$2","v":0},{"$f":"Tidsram!$B$3","v":0},{"$f":"Blad3!G719","v":0}]
[{"$f":"Blad3!H720","v":"-"},{"$f":"Tidsram!$B$2","v":0},{"$f":"Tidsram!$B$3","v":0},{"$f":"Blad3!G720","v":0}]
[{"$f":"Blad3!H721","v":"-"},{"$f":"Tidsram!$B$2","v":0},{"$f":"Tidsram!$B$3","v":0},{"$f":"Blad3!G721","v":0}]
[{"$f":"Blad3!H722","v":"-"},{"$f":"Tidsram!$B$2","v":0},{"$f":"Tidsram!$B$3","v":0},{"$f":"Blad3!G722","v":0}]
[{"$f":"Blad3!H723","v":"-"},{"$f":"Tidsram!$B$2","v":0},{"$f":"Tidsram!$B$3","v":0},{"$f":"Blad3!G723","v":0}]
[{"$f":"Blad3!H724","v":"-"},{"$f":"Tidsram!$B$2","v":0},{"$f":"Tidsram!$B$3","v":0},{"$f":"Blad3!G724","v":0}]
[{"$f":"Blad3!H725","v":"-"},{"$f":"Tidsram!$B$2","v":0},{"$f":"Tidsram!$B$3","v":0},{"$f":"Blad3!G725","v":0}]
[{"$f":"Blad3!H726","v":"-"},{"$f":"Tidsram!$B$2","v":0},{"$f":"Tidsram!$B$3","v":0},{"$f":"Blad3!G726","v":0}]
[{"$f":"Blad3!H727","v":"-"},{"$f":"Tidsram!$B$2","v":0},{"$f":"Tidsram!$B$3","v":0},{"$f":"Blad3!G727","v":0}]
[{"$f":"Blad3!H728","v":"-"},{"$f":"Tidsram!$B$2","v":0},{"$f":"Tidsram!$B$3","v":0},{"$f":"Blad3!G728","v":0}]
[{"$f":"Blad3!H729","v":"-"},{"$f":"Tidsram!$B$2","v":0},{"$f":"Tidsram!$B$3","v":0},{"$f":"Blad3!G729","v":0}]
[{"$f":"Blad3!H730","v":"-"},{"$f":"Tidsram!$B$2","v":0},{"$f":"Tidsram!$B$3","v":0},{"$f":"Blad3!G730","v":0}]
[{"$f":"Blad3!H731","v":"-"},{"$f":"Tidsram!$B$2","v":0},{"$f":"Tidsram!$B$3","v":0},{"$f":"Blad3!G731","v":0}]
[{"$f":"Blad3!H732","v":"-"},{"$f":"Tidsram!$B$2","v":0},{"$f":"Tidsram!$B$3","v":0},{"$f":"Blad3!G732","v":0}]
[{"$f":"Blad3!H733","v":"-"},{"$f":"Tidsram!$B$2","v":0},{"$f":"Tidsram!$B$3","v":0},{"$f":"Blad3!G733","v":0}]
[{"$f":"Blad3!H734","v":"-"},{"$f":"Tidsram!$B$2","v":0},{"$f":"Tidsram!$B$3","v":0},{"$f":"Blad3!G734","v":0}]
[{"$f":"Blad3!H735","v":"-"},{"$f":"Tidsram!$B$2","v":0},{"$f":"Tidsram!$B$3","v":0},{"$f":"Blad3!G735","v":0}]
[{"$f":"Blad3!H736","v":"-"},{"$f":"Tidsram!$B$2","v":0},{"$f":"Tidsram!$B$3","v":0},{"$f":"Blad3!G736","v":0}]
[{"$f":"Blad3!H737","v":"-"},{"$f":"Tidsram!$B$2","v":0},{"$f":"Tidsram!$B$3","v":0},{"$f":"Blad3!G737","v":0}]
[{"$f":"Blad3!H738","v":"-"},{"$f":"Tidsram!$B$2","v":0},{"$f":"Tidsram!$B$3","v":0},{"$f":"Blad3!G738","v":0}]
[{"$f":"Blad3!H739","v":"-"},{"$f":"Tidsram!$B$2","v":0},{"$f":"Tidsram!$B$3","v":0},{"$f":"Blad3!G739","v":0}]
[{"$f":"Blad3!H740","v":"-"},{"$f":"Tidsram!$B$2","v":0},{"$f":"Tidsram!$B$3","v":0},{"$f":"Blad3!G740","v":0}]
[{"$f":"Blad3!H741","v":"-"},{"$f":"Tidsram!$B$2","v":0},{"$f":"Tidsram!$B$3","v":0},{"$f":"Blad3!G741","v":0}]
[{"$f":"Blad3!H742","v":"-"},{"$f":"Tidsram!$B$2","v":0},{"$f":"Tidsram!$B$3","v":0},{"$f":"Blad3!G742","v":0}]
[{"$f":"Blad3!H743","v":"-"},{"$f":"Tidsram!$B$2","v":0},{"$f":"Tidsram!$B$3","v":0},{"$f":"Blad3!G743","v":0}]
[{"$f":"Blad3!H744","v":"-"},{"$f":"Tidsram!$B$2","v":0},{"$f":"Tidsram!$B$3","v":0},{"$f":"Blad3!G744","v":0}]
[{"$f":"Blad3!H745","v":"-"},{"$f":"Tidsram!$B$2","v":0},{"$f":"Tidsram!$B$3","v":0},{"$f":"Blad3!G745","v":0}]
[{"$f":"Blad3!H746","v":"-"},{"$f":"Tidsram!$B$2","v":0},{"$f":"Tidsram!$B$3","v":0},{"$f":"Blad3!G746","v":0}]
[{"$f":"Blad3!H747","v":"-"},{"$f":"Tidsram!$B$2","v":0},{"$f":"Tidsram!$B$3","v":0},{"$f":"Blad3!G747","v":0}]
[{"$f":"Blad3!H748","v":"-"},{"$f":"Tidsram!$B$2","v":0},{"$f":"Tidsram!$B$3","v":0},{"$f":"Blad3!G748","v":0}]
[{"$f":"Blad3!H749","v":"-"},{"$f":"Tidsram!$B$2","v":0},{"$f":"Tidsram!$B$3","v":0},{"$f":"Blad3!G749","v":0}]
[{"$f":"Blad3!H750","v":"-"},{"$f":"Tidsram!$B$2","v":0},{"$f":"Tidsram!$B$3","v":0},{"$f":"Blad3!G750","v":0}]
[{"$f":"Blad3!H751","v":"-"},{"$f":"Tidsram!$B$2","v":0},{"$f":"Tidsram!$B$3","v":0},{"$f":"Blad3!G751","v":0}]
[{"$f":"Blad3!H752","v":"-"},{"$f":"Tidsram!$B$2","v":0},{"$f":"Tidsram!$B$3","v":0},{"$f":"Blad3!G752","v":0}]
[{"$f":"Blad3!H753","v":"-"},{"$f":"Tidsram!$B$2","v":0},{"$f":"Tidsram!$B$3","v":0},{"$f":"Blad3!G753","v":0}]
[{"$f":"Blad3!H754","v":"-"},{"$f":"Tidsram!$B$2","v":0},{"$f":"Tidsram!$B$3","v":0},{"$f":"Blad3!G754","v":0}]
[{"$f":"Blad3!H755","v":"-"},{"$f":"Tidsram!$B$2","v":0},{"$f":"Tidsram!$B$3","v":0},{"$f":"Blad3!G755","v":0}]
[{"$f":"Blad3!H756","v":"-"},{"$f":"Tidsram!$B$2","v":0},{"$f":"Tidsram!$B$3","v":0},{"$f":"Blad3!G756","v":0}]
[{"$f":"Blad3!H757","v":"-"},{"$f":"Tidsram!$B$2","v":0},{"$f":"Tidsram!$B$3","v":0},{"$f":"Blad3!G757","v":0}]
[{"$f":"Blad3!H758","v":"-"},{"$f":"Tidsram!$B$2","v":0},{"$f":"Tidsram!$B$3","v":0},{"$f":"Blad3!G758","v":0}]
[{"$f":"Blad3!H759","v":"-"},{"$f":"Tidsram!$B$2","v":0},{"$f":"Tidsram!$B$3","v":0},{"$f":"Blad3!G759","v":0}]
[{"$f":"Blad3!H760","v":"-"},{"$f":"Tidsram!$B$2","v":0},{"$f":"Tidsram!$B$3","v":0},{"$f":"Blad3!G760","v":0}]
[{"$f":"Blad3!H761","v":"-"},{"$f":"Tidsram!$B$2","v":0},{"$f":"Tidsram!$B$3","v":0},{"$f":"Blad3!G761","v":0}]
[{"$f":"Blad3!H762","v":"-"},{"$f":"Tidsram!$B$2","v":0},{"$f":"Tidsram!$B$3","v":0},{"$f":"Blad3!G762","v":0}]
[{"$f":"Blad3!H763","v":"-"},{"$f":"Tidsram!$B$2","v":0},{"$f":"Tidsram!$B$3","v":0},{"$f":"Blad3!G763","v":0}]
[{"$f":"Blad3!H764","v":"-"},{"$f":"Tidsram!$B$2","v":0},{"$f":"Tidsram!$B$3","v":0},{"$f":"Blad3!G764","v":0}]
[{"$f":"Blad3!H765","v":"-"},{"$f":"Tidsram!$B$2","v":0},{"$f":"Tidsram!$B$3","v":0},{"$f":"Blad3!G765","v":0}]
[{"$f":"Blad3!H766","v":"-"},{"$f":"Tidsram!$B$2","v":0},{"$f":"Tidsram!$B$3","v":0},{"$f":"Blad3!G766","v":0}]
[{"$f":"Blad3!H767","v":"-"},{"$f":"Tidsram!$B$2","v":0},{"$f":"Tidsram!$B$3","v":0},{"$f":"Blad3!G767","v":0}]
[{"$f":"Blad3!H768","v":"-"},{"$f":"Tidsram!$B$2","v":0},{"$f":"Tidsram!$B$3","v":0},{"$f":"Blad3!G768","v":0}]
[{"$f":"Blad3!H769","v":"-"},{"$f":"Tidsram!$B$2","v":0},{"$f":"Tidsram!$B$3","v":0},{"$f":"Blad3!G769","v":0}]
[{"$f":"Blad3!H770","v":"-"},{"$f":"Tidsram!$B$2","v":0},{"$f":"Tidsram!$B$3","v":0},{"$f":"Blad3!G770","v":0}]
[{"$f":"Blad3!H771","v":"-"},{"$f":"Tidsram!$B$2","v":0},{"$f":"Tidsram!$B$3","v":0},{"$f":"Blad3!G771","v":0}]
[{"$f":"Blad3!H772","v":"-"},{"$f":"Tidsram!$B$2","v":0},{"$f":"Tidsram!$B$3","v":0},{"$f":"Blad3!G772","v":0}]
[{"$f":"Blad3!H773","v":"-"},{"$f":"Tidsram!$B$2","v":0},{"$f":"Tidsram!$B$3","v":0},{"$f":"Blad3!G773","v":0}]
[{"$f":"Blad3!H774","v":"-"},{"$f":"Tidsram!$B$2","v":0},{"$f":"Tidsram!$B$3","v":0},{"$f":"Blad3!G774","v":0}]
[{"$f":"Blad3!H775","v":"-"},{"$f":"Tidsram!$B$2","v":0},{"$f":"Tidsram!$B$3","v":0},{"$f":"Blad3!G775","v":0}]
[{"$f":"Blad3!H776","v":"-"},{"$f":"Tidsram!$B$2","v":0},{"$f":"Tidsram!$B$3","v":0},{"$f":"Blad3!G776","v":0}]
[{"$f":"Blad3!H777","v":"-"},{"$f":"Tidsram!$B$2","v":0},{"$f":"Tidsram!$B$3","v":0},{"$f":"Blad3!G777","v":0}]
[{"$f":"Blad3!H778","v":"-"},{"$f":"Tidsram!$B$2","v":0},{"$f":"Tidsram!$B$3","v":0},{"$f":"Blad3!G778","v":0}]
[{"$f":"Blad3!H779","v":"-"},{"$f":"Tidsram!$B$2","v":0},{"$f":"Tidsram!$B$3","v":0},{"$f":"Blad3!G779","v":0}]
[{"$f":"Blad3!H780","v":"-"},{"$f":"Tidsram!$B$2","v":0},{"$f":"Tidsram!$B$3","v":0},{"$f":"Blad3!G780","v":0}]
[{"$f":"Blad3!H781","v":"-"},{"$f":"Tidsram!$B$2","v":0},{"$f":"Tidsram!$B$3","v":0},{"$f":"Blad3!G781","v":0}]
[{"$f":"Blad3!H782","v":"-"},{"$f":"Tidsram!$B$2","v":0},{"$f":"Tidsram!$B$3","v":0},{"$f":"Blad3!G782","v":0}]
[{"$f":"Blad3!H783","v":"-"},{"$f":"Tidsram!$B$2","v":0},{"$f":"Tidsram!$B$3","v":0},{"$f":"Blad3!G783","v":0}]
[{"$f":"Blad3!H784","v":"-"},{"$f":"Tidsram!$B$2","v":0},{"$f":"Tidsram!$B$3","v":0},{"$f":"Blad3!G784","v":0}]
[{"$f":"Blad3!H785","v":"-"},{"$f":"Tidsram!$B$2","v":0},{"$f":"Tidsram!$B$3","v":0},{"$f":"Blad3!G785","v":0}]
[{"$f":"Blad3!H786","v":"-"},{"$f":"Tidsram!$B$2","v":0},{"$f":"Tidsram!$B$3","v":0},{"$f":"Blad3!G786","v":0}]
[{"$f":"Blad3!H787","v":"-"},{"$f":"Tidsram!$B$2","v":0},{"$f":"Tidsram!$B$3","v":0},{"$f":"Blad3!G787","v":0}]
[{"$f":"Blad3!H788","v":"-"},{"$f":"Tidsram!$B$2","v":0},{"$f":"Tidsram!$B$3","v":0},{"$f":"Blad3!G788","v":0}]
[{"$f":"Blad3!H789","v":"-"},{"$f":"Tidsram!$B$2","v":0},{"$f":"Tidsram!$B$3","v":0},{"$f":"Blad3!G789","v":0}]
[{"$f":"Blad3!H790","v":"-"},{"$f":"Tidsram!$B$2","v":0},{"$f":"Tidsram!$B$3","v":0},{"$f":"Blad3!G790","v":0}]
[{"$f":"Blad3!H791","v":"-"},{"$f":"Tidsram!$B$2","v":0},{"$f":"Tidsram!$B$3","v":0},{"$f":"Blad3!G791","v":0}]
[{"$f":"Blad3!H792","v":"-"},{"$f":"Tidsram!$B$2","v":0},{"$f":"Tidsram!$B$3","v":0},{"$f":"Blad3!G792","v":0}]
[{"$f":"Blad3!H793","v":"-"},{"$f":"Tidsram!$B$2","v":0},{"$f":"Tidsram!$B$3","v":0},{"$f":"Blad3!G793","v":0}]
[{"$f":"Blad3!H794","v":"-"},{"$f":"Tidsram!$B$2","v":0},{"$f":"Tidsram!$B$3","v":0},{"$f":"Blad3!G794","v":0}]
[{"$f":"Blad3!H795","v":"-"},{"$f":"Tidsram!$B$2","v":0},{"$f":"Tidsram!$B$3","v":0},{"$f":"Blad3!G795","v":0}]
[{"$f":"Blad3!H796","v":"-"},{"$f":"Tidsram!$B$2","v":0},{"$f":"Tidsram!$B$3","v":0},{"$f":"Blad3!G796","v":0}]
[{"$f":"Blad3!H797","v":"-"},{"$f":"Tidsram!$B$2","v":0},{"$f":"Tidsram!$B$3","v":0},{"$f":"Blad3!G797","v":0}]
[{"$f":"Blad3!H798","v":"-"},{"$f":"Tidsram!$B$2","v":0},{"$f":"Tidsram!$B$3","v":0},{"$f":"Blad3!G798","v":0}]
[{"$f":"Blad3!H799","v":"-"},{"$f":"Tidsram!$B$2","v":0},{"$f":"Tidsram!$B$3","v":0},{"$f":"Blad3!G799","v":0}]
[{"$f":"Blad3!H800","v":"-"},{"$f":"Tidsram!$B$2","v":0},{"$f":"Tidsram!$B$3","v":0},{"$f":"Blad3!G800","v":0}]
[{"$f":"Blad3!H801","v":"-"},{"$f":"Tidsram!$B$2","v":0},{"$f":"Tidsram!$B$3","v":0},{"$f":"Blad3!G801","v":0}]
[{"$f":"Blad3!H802","v":"-"},{"$f":"Tidsram!$B$2","v":0},{"$f":"Tidsram!$B$3","v":0},{"$f":"Blad3!G802","v":0}]
[{"$f":"Blad3!H803","v":"-"},{"$f":"Tidsram!$B$2","v":0},{"$f":"Tidsram!$B$3","v":0},{"$f":"Blad3!G803","v":0}]
[{"$f":"Blad3!H804","v":"-"},{"$f":"Tidsram!$B$2","v":0},{"$f":"Tidsram!$B$3","v":0},{"$f":"Blad3!G804","v":0}]
[{"$f":"Blad3!H805","v":"-"},{"$f":"Tidsram!$B$2","v":0},{"$f":"Tidsram!$B$3","v":0},{"$f":"Blad3!G805","v":0}]
[{"$f":"Blad3!H806","v":"-"},{"$f":"Tidsram!$B$2","v":0},{"$f":"Tidsram!$B$3","v":0},{"$f":"Blad3!G806","v":0}]
[{"$f":"Blad3!H807","v":"-"},{"$f":"Tidsram!$B$2","v":0},{"$f":"Tidsram!$B$3","v":0},{"$f":"Blad3!G807","v":0}]
[{"$f":"Blad3!H808","v":"-"},{"$f":"Tidsram!$B$2","v":0},{"$f":"Tidsram!$B$3","v":0},{"$f":"Blad3!G808","v":0}]
[{"$f":"Blad3!H809","v":"-"},{"$f":"Tidsram!$B$2","v":0},{"$f":"Tidsram!$B$3","v":0},{"$f":"Blad3!G809","v":0}]
[{"$f":"Blad3!H810","v":"-"},{"$f":"Tidsram!$B$2","v":0},{"$f":"Tidsram!$B$3","v":0},{"$f":"Blad3!G810","v":0}]
[{"$f":"Blad3!H811","v":"-"},{"$f":"Tidsram!$B$2","v":0},{"$f":"Tidsram!$B$3","v":0},{"$f":"Blad3!G811","v":0}]
[{"$f":"Blad3!H812","v":"-"},{"$f":"Tidsram!$B$2","v":0},{"$f":"Tidsram!$B$3","v":0},{"$f":"Blad3!G812","v":0}]
[{"$f":"Blad3!H813","v":"-"},{"$f":"Tidsram!$B$2","v":0},{"$f":"Tidsram!$B$3","v":0},{"$f":"Blad3!G813","v":0}]
[{"$f":"Blad3!H814","v":"-"},{"$f":"Tidsram!$B$2","v":0},{"$f":"Tidsram!$B$3","v":0},{"$f":"Blad3!G814","v":0}]
[{"$f":"Blad3!H815","v":"-"},{"$f":"Tidsram!$B$2","v":0},{"$f":"Tidsram!$B$3","v":0},{"$f":"Blad3!G815","v":0}]
[{"$f":"Blad3!H816","v":"-"},{"$f":"Tidsram!$B$2","v":0},{"$f":"Tidsram!$B$3","v":0},{"$f":"Blad3!G816","v":0}]
[{"$f":"Blad3!H817","v":"-"},{"$f":"Tidsram!$B$2","v":0},{"$f":"Tidsram!$B$3","v":0},{"$f":"Blad3!G817","v":0}]
[{"$f":"Blad3!H818","v":"-"},{"$f":"Tidsram!$B$2","v":0},{"$f":"Tidsram!$B$3","v":0},{"$f":"Blad3!G818","v":0}]
[{"$f":"Blad3!H819","v":"-"},{"$f":"Tidsram!$B$2","v":0},{"$f":"Tidsram!$B$3","v":0},{"$f":"Blad3!G819","v":0}]
[{"$f":"Blad3!H820","v":"-"},{"$f":"Tidsram!$B$2","v":0},{"$f":"Tidsram!$B$3","v":0},{"$f":"Blad3!G820","v":0}]
[{"$f":"Blad3!H821","v":"-"},{"$f":"Tidsram!$B$2","v":0},{"$f":"Tidsram!$B$3","v":0},{"$f":"Blad3!G821","v":0}]
[{"$f":"Blad3!H822","v":"-"},{"$f":"Tidsram!$B$2","v":0},{"$f":"Tidsram!$B$3","v":0},{"$f":"Blad3!G822","v":0}]
[{"$f":"Blad3!H823","v":"-"},{"$f":"Tidsram!$B$2","v":0},{"$f":"Tidsram!$B$3","v":0},{"$f":"Blad3!G823","v":0}]
[{"$f":"Blad3!H824","v":"-"},{"$f":"Tidsram!$B$2","v":0},{"$f":"Tidsram!$B$3","v":0},{"$f":"Blad3!G824","v":0}]
[{"$f":"Blad3!H825","v":"-"},{"$f":"Tidsram!$B$2","v":0},{"$f":"Tidsram!$B$3","v":0},{"$f":"Blad3!G825","v":0}]
[{"$f":"Blad3!H826","v":"-"},{"$f":"Tidsram!$B$2","v":0},{"$f":"Tidsram!$B$3","v":0},{"$f":"Blad3!G826","v":0}]
[{"$f":"Blad3!H827","v":"-"},{"$f":"Tidsram!$B$2","v":0},{"$f":"Tidsram!$B$3","v":0},{"$f":"Blad3!G827","v":0}]
[{"$f":"Blad3!H828","v":"-"},{"$f":"Tidsram!$B$2","v":0},{"$f":"Tidsram!$B$3","v":0},{"$f":"Blad3!G828","v":0}]
[{"$f":"Blad3!H829","v":"-"},{"$f":"Tidsram!$B$2","v":0},{"$f":"Tidsram!$B$3","v":0},{"$f":"Blad3!G829","v":0}]
[{"$f":"Blad3!H830","v":"-"},{"$f":"Tidsram!$B$2","v":0},{"$f":"Tidsram!$B$3","v":0},{"$f":"Blad3!G830","v":0}]
[{"$f":"Blad3!H831","v":"-"},{"$f":"Tidsram!$B$2","v":0},{"$f":"Tidsram!$B$3","v":0},{"$f":"Blad3!G831","v":0}]
[{"$f":"Blad3!H832","v":"-"},{"$f":"Tidsram!$B$2","v":0},{"$f":"Tidsram!$B$3","v":0},{"$f":"Blad3!G832","v":0}]
[{"$f":"Blad3!H833","v":"-"},{"$f":"Tidsram!$B$2","v":0},{"$f":"Tidsram!$B$3","v":0},{"$f":"Blad3!G833","v":0}]
[{"$f":"Blad3!H834","v":"-"},{"$f":"Tidsram!$B$2","v":0},{"$f":"Tidsram!$B$3","v":0},{"$f":"Blad3!G834","v":0}]
[{"$f":"Blad3!H835","v":"-"},{"$f":"Tidsram!$B$2","v":0},{"$f":"Tidsram!$B$3","v":0},{"$f":"Blad3!G835","v":0}]
[{"$f":"Blad3!H836","v":"-"},{"$f":"Tidsram!$B$2","v":0},{"$f":"Tidsram!$B$3","v":0},{"$f":"Blad3!G836","v":0}]
[{"$f":"Blad3!H837","v":"-"},{"$f":"Tidsram!$B$2","v":0},{"$f":"Tidsram!$B$3","v":0},{"$f":"Blad3!G837","v":0}]
[{"$f":"Blad3!H838","v":"-"},{"$f":"Tidsram!$B$2","v":0},{"$f":"Tidsram!$B$3","v":0},{"$f":"Blad3!G838","v":0}]
[{"$f":"Blad3!H839","v":"-"},{"$f":"Tidsram!$B$2","v":0},{"$f":"Tidsram!$B$3","v":0},{"$f":"Blad3!G839","v":0}]
[{"$f":"Blad3!H840","v":"-"},{"$f":"Tidsram!$B$2","v":0},{"$f":"Tidsram!$B$3","v":0},{"$f":"Blad3!G840","v":0}]
[{"$f":"Blad3!H841","v":"-"},{"$f":"Tidsram!$B$2","v":0},{"$f":"Tidsram!$B$3","v":0},{"$f":"Blad3!G841","v":0}]
[{"$f":"Blad3!H842","v":"-"},{"$f":"Tidsram!$B$2","v":0},{"$f":"Tidsram!$B$3","v":0},{"$f":"Blad3!G842","v":0}]
[{"$f":"Blad3!H843","v":"-"},{"$f":"Tidsram!$B$2","v":0},{"$f":"Tidsram!$B$3","v":0},{"$f":"Blad3!G843","v":0}]
[{"$f":"Blad3!H844","v":"-"},{"$f":"Tidsram!$B$2","v":0},{"$f":"Tidsram!$B$3","v":0},{"$f":"Blad3!G844","v":0}]
[{"$f":"Blad3!H845","v":"-"},{"$f":"Tidsram!$B$2","v":0},{"$f":"Tidsram!$B$3","v":0},{"$f":"Blad3!G845","v":0}]
[{"$f":"Blad3!H846","v":"-"},{"$f":"Tidsram!$B$2","v":0},{"$f":"Tidsram!$B$3","v":0},{"$f":"Blad3!G846","v":0}]
[{"$f":"Blad3!H847","v":"-"},{"$f":"Tidsram!$B$2","v":0},{"$f":"Tidsram!$B$3","v":0},{"$f":"Blad3!G847","v":0}]
[{"$f":"Blad3!H848","v":"-"},{"$f":"Tidsram!$B$2","v":0},{"$f":"Tidsram!$B$3","v":0},{"$f":"Blad3!G848","v":0}]
[{"$f":"Blad3!H849","v":"-"},{"$f":"Tidsram!$B$2","v":0},{"$f":"Tidsram!$B$3","v":0},{"$f":"Blad3!G849","v":0}]
[{"$f":"Blad3!H850","v":"-"},{"$f":"Tidsram!$B$2","v":0},{"$f":"Tidsram!$B$3","v":0},{"$f":"Blad3!G850","v":0}]
[{"$f":"Blad3!H851","v":"-"},{"$f":"Tidsram!$B$2","v":0},{"$f":"Tidsram!$B$3","v":0},{"$f":"Blad3!G851","v":0}]
[{"$f":"Blad3!H852","v":"-"},{"$f":"Tidsram!$B$2","v":0},{"$f":"Tidsram!$B$3","v":0},{"$f":"Blad3!G852","v":0}]
[{"$f":"Blad3!H853","v":"-"},{"$f":"Tidsram!$B$2","v":0},{"$f":"Tidsram!$B$3","v":0},{"$f":"Blad3!G853","v":0}]
[{"$f":"Blad3!H854","v":"-"},{"$f":"Tidsram!$B$2","v":0},{"$f":"Tidsram!$B$3","v":0},{"$f":"Blad3!G854","v":0}]
[{"$f":"Blad3!H855","v":"-"},{"$f":"Tidsram!$B$2","v":0},{"$f":"Tidsram!$B$3","v":0},{"$f":"Blad3!G855","v":0}]
[{"$f":"Blad3!H856","v":"-"},{"$f":"Tidsram!$B$2","v":0},{"$f":"Tidsram!$B$3","v":0},{"$f":"Blad3!G856","v":0}]
[{"$f":"Blad3!H857","v":"-"},{"$f":"Tidsram!$B$2","v":0},{"$f":"Tidsram!$B$3","v":0},{"$f":"Blad3!G857","v":0}]
[{"$f":"Blad3!H858","v":"-"},{"$f":"Tidsram!$B$2","v":0},{"$f":"Tidsram!$B$3","v":0},{"$f":"Blad3!G858","v":0}]
[{"$f":"Blad3!H859","v":"-"},{"$f":"Tidsram!$B$2","v":0},{"$f":"Tidsram!$B$3","v":0},{"$f":"Blad3!G859","v":0}]
[{"$f":"Blad3!H860","v":"-"},{"$f":"Tidsram!$B$2","v":0},{"$f":"Tidsram!$B$3","v":0},{"$f":"Blad3!G860","v":0}]
[{"$f":"Blad3!H861","v":"-"},{"$f":"Tidsram!$B$2","v":0},{"$f":"Tidsram!$B$3","v":0},{"$f":"Blad3!G861","v":0}]
[{"$f":"Blad3!H862","v":"-"},{"$f":"Tidsram!$B$2","v":0},{"$f":"Tidsram!$B$3","v":0},{"$f":"Blad3!G862","v":0}]
[{"$f":"Blad3!H863","v":"-"},{"$f":"Tidsram!$B$2","v":0},{"$f":"Tidsram!$B$3","v":0},{"$f":"Blad3!G863","v":0}]
[{"$f":"Blad3!H864","v":"-"},{"$f":"Tidsram!$B$2","v":0},{"$f":"Tidsram!$B$3","v":0},{"$f":"Blad3!G864","v":0}]
[{"$f":"Blad3!H865","v":"-"},{"$f":"Tidsram!$B$2","v":0},{"$f":"Tidsram!$B$3","v":0},{"$f":"Blad3!G865","v":0}]
[{"$f":"Blad3!H866","v":"-"},{"$f":"Tidsram!$B$2","v":0},{"$f":"Tidsram!$B$3","v":0},{"$f":"Blad3!G866","v":0}]
[{"$f":"Blad3!H867","v":"-"},{"$f":"Tidsram!$B$2","v":0},{"$f":"Tidsram!$B$3","v":0},{"$f":"Blad3!G867","v":0}]
[{"$f":"Blad3!H868","v":"-"},{"$f":"Tidsram!$B$2","v":0},{"$f":"Tidsram!$B$3","v":0},{"$f":"Blad3!G868","v":0}]
[{"$f":"Blad3!H869","v":"-"},{"$f":"Tidsram!$B$2","v":0},{"$f":"Tidsram!$B$3","v":0},{"$f":"Blad3!G869","v":0}]
[{"$f":"Blad3!H870","v":"-"},{"$f":"Tidsram!$B$2","v":0},{"$f":"Tidsram!$B$3","v":0},{"$f":"Blad3!G870","v":0}]
[{"$f":"Blad3!H871","v":"-"},{"$f":"Tidsram!$B$2","v":0},{"$f":"Tidsram!$B$3","v":0},{"$f":"Blad3!G871","v":0}]
[{"$f":"Blad3!H872","v":"-"},{"$f":"Tidsram!$B$2","v":0},{"$f":"Tidsram!$B$3","v":0},{"$f":"Blad3!G872","v":0}]
[{"$f":"Blad3!H873","v":"-"},{"$f":"Tidsram!$B$2","v":0},{"$f":"Tidsram!$B$3","v":0},{"$f":"Blad3!G873","v":0}]
[{"$f":"Blad3!H874","v":"-"},{"$f":"Tidsram!$B$2","v":0},{"$f":"Tidsram!$B$3","v":0},{"$f":"Blad3!G874","v":0}]
[{"$f":"Blad3!H875","v":"-"},{"$f":"Tidsram!$B$2","v":0},{"$f":"Tidsram!$B$3","v":0},{"$f":"Blad3!G875","v":0}]
[{"$f":"Blad3!H876","v":"-"},{"$f":"Tidsram!$B$2","v":0},{"$f":"Tidsram!$B$3","v":0},{"$f":"Blad3!G876","v":0}]
[{"$f":"Blad3!H877","v":"-"},{"$f":"Tidsram!$B$2","v":0},{"$f":"Tidsram!$B$3","v":0},{"$f":"Blad3!G877","v":0}]
[{"$f":"Blad3!H878","v":"-"},{"$f":"Tidsram!$B$2","v":0},{"$f":"Tidsram!$B$3","v":0},{"$f":"Blad3!G878","v":0}]
[{"$f":"Blad3!H879","v":"-"},{"$f":"Tidsram!$B$2","v":0},{"$f":"Tidsram!$B$3","v":0},{"$f":"Blad3!G879","v":0}]
[{"$f":"Blad3!H880","v":"-"},{"$f":"Tidsram!$B$2","v":0},{"$f":"Tidsram!$B$3","v":0},{"$f":"Blad3!G880","v":0}]
[{"$f":"Blad3!H881","v":"-"},{"$f":"Tidsram!$B$2","v":0},{"$f":"Tidsram!$B$3","v":0},{"$f":"Blad3!G881","v":0}]
[{"$f":"Blad3!H882","v":"-"},{"$f":"Tidsram!$B$2","v":0},{"$f":"Tidsram!$B$3","v":0},{"$f":"Blad3!G882","v":0}]
[{"$f":"Blad3!H883","v":"-"},{"$f":"Tidsram!$B$2","v":0},{"$f":"Tidsram!$B$3","v":0},{"$f":"Blad3!G883","v":0}]
[{"$f":"Blad3!H884","v":"-"},{"$f":"Tidsram!$B$2","v":0},{"$f":"Tidsram!$B$3","v":0},{"$f":"Blad3!G884","v":0}]
[{"$f":"Blad3!H885","v":"-"},{"$f":"Tidsram!$B$2","v":0},{"$f":"Tidsram!$B$3","v":0},{"$f":"Blad3!G885","v":0}]
[{"$f":"Blad3!H886","v":"-"},{"$f":"Tidsram!$B$2","v":0},{"$f":"Tidsram!$B$3","v":0},{"$f":"Blad3!G886","v":0}]
[{"$f":"Blad3!H887","v":"-"},{"$f":"Tidsram!$B$2","v":0},{"$f":"Tidsram!$B$3","v":0},{"$f":"Blad3!G887","v":0}]
[{"$f":"Blad3!H888","v":"-"},{"$f":"Tidsram!$B$2","v":0},{"$f":"Tidsram!$B$3","v":0},{"$f":"Blad3!G888","v":0}]
[{"$f":"Blad3!H889","v":"-"},{"$f":"Tidsram!$B$2","v":0},{"$f":"Tidsram!$B$3","v":0},{"$f":"Blad3!G889","v":0}]
[{"$f":"Blad3!H890","v":"-"},{"$f":"Tidsram!$B$2","v":0},{"$f":"Tidsram!$B$3","v":0},{"$f":"Blad3!G890","v":0}]
[{"$f":"Blad3!H891","v":"-"},{"$f":"Tidsram!$B$2","v":0},{"$f":"Tidsram!$B$3","v":0},{"$f":"Blad3!G891","v":0}]
[{"$f":"Blad3!H892","v":"-"},{"$f":"Tidsram!$B$2","v":0},{"$f":"Tidsram!$B$3","v":0},{"$f":"Blad3!G892","v":0}]
[{"$f":"Blad3!H893","v":"-"},{"$f":"Tidsram!$B$2","v":0},{"$f":"Tidsram!$B$3","v":0},{"$f":"Blad3!G893","v":0}]
[{"$f":"Blad3!H894","v":"-"},{"$f":"Tidsram!$B$2","v":0},{"$f":"Tidsram!$B$3","v":0},{"$f":"Blad3!G894","v":0}]
[{"$f":"Blad3!H895","v":"-"},{"$f":"Tidsram!$B$2","v":0},{"$f":"Tidsram!$B$3","v":0},{"$f":"Blad3!G895","v":0}]
[{"$f":"Blad3!H896","v":"-"},{"$f":"Tidsram!$B$2","v":0},{"$f":"Tidsram!$B$3","v":0},{"$f":"Blad3!G896","v":0}]
[{"$f":"Blad3!H897","v":"-"},{"$f":"Tidsram!$B$2","v":0},{"$f":"Tidsram!$B$3","v":0},{"$f":"Blad3!G897","v":0}]
[{"$f":"Blad3!H898","v":"-"},{"$f":"Tidsram!$B$2","v":0},{"$f":"Tidsram!$B$3","v":0},{"$f":"Blad3!G898","v":0}]
[{"$f":"Blad3!H899","v":"-"},{"$f":"Tidsram!$B$2","v":0},{"$f":"Tidsram!$B$3","v":0},{"$f":"Blad3!G899","v":0}]
[{"$f":"Blad3!H900","v":"-"},{"$f":"Tidsram!$B$2","v":0},{"$f":"Tidsram!$B$3","v":0},{"$f":"Blad3!G900","v":0}]
[{"$f":"Blad3!H901","v":"-"},{"$f":"Tidsram!$B$2","v":0},{"$f":"Tidsram!$B$3","v":0},{"$f":"Blad3!G901","v":0}]
[{"$f":"Blad3!H902","v":"-"},{"$f":"Tidsram!$B$2","v":0},{"$f":"Tidsram!$B$3","v":0},{"$f":"Blad3!G902","v":0}]
[{"$f":"Blad3!H903","v":"-"},{"$f":"Tidsram!$B$2","v":0},{"$f":"Tidsram!$B$3","v":0},{"$f":"Blad3!G903","v":0}]
[{"$f":"Blad3!H904","v":"-"},{"$f":"Tidsram!$B$2","v":0},{"$f":"Tidsram!$B$3","v":0},{"$f":"Blad3!G904","v":0}]
[{"$f":"Blad3!H905","v":"-"},{"$f":"Tidsram!$B$2","v":0},{"$f":"Tidsram!$B$3","v":0},{"$f":"Blad3!G905","v":0}]
[{"$f":"Blad3!H906","v":"-"},{"$f":"Tidsram!$B$2","v":0},{"$f":"Tidsram!$B$3","v":0},{"$f":"Blad3!G906","v":0}]
[{"$f":"Blad3!H907","v":"-"},{"$f":"Tidsram!$B$2","v":0},{"$f":"Tidsram!$B$3","v":0},{"$f":"Blad3!G907","v":0}]
[{"$f":"Blad3!H908","v":"-"},{"$f":"Tidsram!$B$2","v":0},{"$f":"Tidsram!$B$3","v":0},{"$f":"Blad3!G908","v":0}]
[{"$f":"Blad3!H909","v":"-"},{"$f":"Tidsram!$B$2","v":0},{"$f":"Tidsram!$B$3","v":0},{"$f":"Blad3!G909","v":0}]
[{"$f":"Blad3!H910","v":"-"},{"$f":"Tidsram!$B$2","v":0},{"$f":"Tidsram!$B$3","v":0},{"$f":"Blad3!G910","v":0}]
[{"$f":"Blad3!H911","v":"-"},{"$f":"Tidsram!$B$2","v":0},{"$f":"Tidsram!$B$3","v":0},{"$f":"Blad3!G911","v":0}]
[{"$f":"Blad3!H912","v":"-"},{"$f":"Tidsram!$B$2","v":0},{"$f":"Tidsram!$B$3","v":0},{"$f":"Blad3!G912","v":0}]
[{"$f":"Blad3!H913","v":"-"},{"$f":"Tidsram!$B$2","v":0},{"$f":"Tidsram!$B$3","v":0},{"$f":"Blad3!G913","v":0}]
[{"$f":"Blad3!H914","v":"-"},{"$f":"Tidsram!$B$2","v":0},{"$f":"Tidsram!$B$3","v":0},{"$f":"Blad3!G914","v":0}]
[{"$f":"Blad3!H915","v":"-"},{"$f":"Tidsram!$B$2","v":0},{"$f":"Tidsram!$B$3","v":0},{"$f":"Blad3!G915","v":0}]
[{"$f":"Blad3!H916","v":"-"},{"$f":"Tidsram!$B$2","v":0},{"$f":"Tidsram!$B$3","v":0},{"$f":"Blad3!G916","v":0}]
[{"$f":"Blad3!H917","v":"-"},{"$f":"Tidsram!$B$2","v":0},{"$f":"Tidsram!$B$3","v":0},{"$f":"Blad3!G917","v":0}]
[{"$f":"Blad3!H918","v":"-"},{"$f":"Tidsram!$B$2","v":0},{"$f":"Tidsram!$B$3","v":0},{"$f":"Blad3!G918","v":0}]
[{"$f":"Blad3!H919","v":"-"},{"$f":"Tidsram!$B$2","v":0},{"$f":"Tidsram!$B$3","v":0},{"$f":"Blad3!G919","v":0}]
[{"$f":"Blad3!H920","v":"-"},{"$f":"Tidsram!$B$2","v":0},{"$f":"Tidsram!$B$3","v":0},{"$f":"Blad3!G920","v":0}]
[{"$f":"Blad3!H921","v":"-"},{"$f":"Tidsram!$B$2","v":0},{"$f":"Tidsram!$B$3","v":0},{"$f":"Blad3!G921","v":0}]
[{"$f":"Blad3!H922","v":"-"},{"$f":"Tidsram!$B$2","v":0},{"$f":"Tidsram!$B$3","v":0},{"$f":"Blad3!G922","v":0}]
[{"$f":"Blad3!H923","v":"-"},{"$f":"Tidsram!$B$2","v":0},{"$f":"Tidsram!$B$3","v":0},{"$f":"Blad3!G923","v":0}]
[{"$f":"Blad3!H924","v":"-"},{"$f":"Tidsram!$B$2","v":0},{"$f":"Tidsram!$B$3","v":0},{"$f":"Blad3!G924","v":0}]
[{"$f":"Blad3!H925","v":"-"},{"$f":"Tidsram!$B$2","v":0},{"$f":"Tidsram!$B$3","v":0},{"$f":"Blad3!G925","v":0}]
[{"$f":"Blad3!H926","v":"-"},{"$f":"Tidsram!$B$2","v":0},{"$f":"Tidsram!$B$3","v":0},{"$f":"Blad3!G926","v":0}]
[{"$f":"Blad3!H927","v":"-"},{"$f":"Tidsram!$B$2","v":0},{"$f":"Tidsram!$B$3","v":0},{"$f":"Blad3!G927","v":0}]
[{"$f":"Blad3!H928","v":"-"},{"$f":"Tidsram!$B$2","v":0},{"$f":"Tidsram!$B$3","v":0},{"$f":"Blad3!G928","v":0}]
[{"$f":"Blad3!H929","v":"-"},{"$f":"Tidsram!$B$2","v":0},{"$f":"Tidsram!$B$3","v":0},{"$f":"Blad3!G929","v":0}]
[{"$f":"Blad3!H930","v":"-"},{"$f":"Tidsram!$B$2","v":0},{"$f":"Tidsram!$B$3","v":0},{"$f":"Blad3!G930","v":0}]
[{"$f":"Blad3!H931","v":"-"},{"$f":"Tidsram!$B$2","v":0},{"$f":"Tidsram!$B$3","v":0},{"$f":"Blad3!G931","v":0}]
[{"$f":"Blad3!H932","v":"-"},{"$f":"Tidsram!$B$2","v":0},{"$f":"Tidsram!$B$3","v":0},{"$f":"Blad3!G932","v":0}]
[{"$f":"Blad3!H933","v":"-"},{"$f":"Tidsram!$B$2","v":0},{"$f":"Tidsram!$B$3","v":0},{"$f":"Blad3!G933","v":0}]
[{"$f":"Blad3!H934","v":"-"},{"$f":"Tidsram!$B$2","v":0},{"$f":"Tidsram!$B$3","v":0},{"$f":"Blad3!G934","v":0}]
[{"$f":"Blad3!H935","v":"-"},{"$f":"Tidsram!$B$2","v":0},{"$f":"Tidsram!$B$3","v":0},{"$f":"Blad3!G935","v":0}]
[{"$f":"Blad3!H936","v":"-"},{"$f":"Tidsram!$B$2","v":0},{"$f":"Tidsram!$B$3","v":0},{"$f":"Blad3!G936","v":0}]
[{"$f":"Blad3!H937","v":"-"},{"$f":"Tidsram!$B$2","v":0},{"$f":"Tidsram!$B$3","v":0},{"$f":"Blad3!G937","v":0}]
[{"$f":"Blad3!H938","v":"-"},{"$f":"Tidsram!$B$2","v":0},{"$f":"Tidsram!$B$3","v":0},{"$f":"Blad3!G938","v":0}]
[{"$f":"Blad3!H939","v":"-"},{"$f":"Tidsram!$B$2","v":0},{"$f":"Tidsram!$B$3","v":0},{"$f":"Blad3!G939","v":0}]
[{"$f":"Blad3!H940","v":"-"},{"$f":"Tidsram!$B$2","v":0},{"$f":"Tidsram!$B$3","v":0},{"$f":"Blad3!G940","v":0}]
[{"$f":"Blad3!H941","v":"-"},{"$f":"Tidsram!$B$2","v":0},{"$f":"Tidsram!$B$3","v":0},{"$f":"Blad3!G941","v":0}]
[{"$f":"Blad3!H942","v":"-"},{"$f":"Tidsram!$B$2","v":0},{"$f":"Tidsram!$B$3","v":0},{"$f":"Blad3!G942","v":0}]
[{"$f":"Blad3!H943","v":"-"},{"$f":"Tidsram!$B$2","v":0},{"$f":"Tidsram!$B$3","v":0},{"$f":"Blad3!G943","v":0}]
[{"$f":"Blad3!H944","v":"-"},{"$f":"Tidsram!$B$2","v":0},{"$f":"Tidsram!$B$3","v":0},{"$f":"Blad3!G944","v":0}]
[{"$f":"Blad3!H945","v":"-"},{"$f":"Tidsram!$B$2","v":0},{"$f":"Tidsram!$B$3","v":0},{"$f":"Blad3!G945","v":0}]
[{"$f":"Blad3!H946","v":"-"},{"$f":"Tidsram!$B$2","v":0},{"$f":"Tidsram!$B$3","v":0},{"$f":"Blad3!G946","v":0}]
[{"$f":"Blad3!H947","v":"-"},{"$f":"Tidsram!$B$2","v":0},{"$f":"Tidsram!$B$3","v":0},{"$f":"Blad3!G947","v":0}]
[{"$f":"Blad3!H948","v":"-"},{"$f":"Tidsram!$B$2","v":0},{"$f":"Tidsram!$B$3","v":0},{"$f":"Blad3!G948","v":0}]
[{"$f":"Blad3!H949","v":"-"},{"$f":"Tidsram!$B$2","v":0},{"$f":"Tidsram!$B$3","v":0},{"$f":"Blad3!G949","v":0}]
[{"$f":"Blad3!H950","v":"-"},{"$f":"Tidsram!$B$2","v":0},{"$f":"Tidsram!$B$3","v":0},{"$f":"Blad3!G950","v":0}]
[{"$f":"Blad3!H951","v":"-"},{"$f":"Tidsram!$B$2","v":0},{"$f":"Tidsram!$B$3","v":0},{"$f":"Blad3!G951","v":0}]
[{"$f":"Blad3!H952","v":"-"},{"$f":"Tidsram!$B$2","v":0},{"$f":"Tidsram!$B$3","v":0},{"$f":"Blad3!G952","v":0}]
[{"$f":"Blad3!H953","v":"-"},{"$f":"Tidsram!$B$2","v":0},{"$f":"Tidsram!$B$3","v":0},{"$f":"Blad3!G953","v":0}]
[{"$f":"Blad3!H954","v":"-"},{"$f":"Tidsram!$B$2","v":0},{"$f":"Tidsram!$B$3","v":0},{"$f":"Blad3!G954","v":0}]
[{"$f":"Blad3!H955","v":"-"},{"$f":"Tidsram!$B$2","v":0},{"$f":"Tidsram!$B$3","v":0},{"$f":"Blad3!G955","v":0}]
[{"$f":"Blad3!H956","v":"-"},{"$f":"Tidsram!$B$2","v":0},{"$f":"Tidsram!$B$3","v":0},{"$f":"Blad3!G956","v":0}]
[{"$f":"Blad3!H957","v":"-"},{"$f":"Tidsram!$B$2","v":0},{"$f":"Tidsram!$B$3","v":0},{"$f":"Blad3!G957","v":0}]
[{"$f":"Blad3!H958","v":"-"},{"$f":"Tidsram!$B$2","v":0},{"$f":"Tidsram!$B$3","v":0},{"$f":"Blad3!G958","v":0}]
[{"$f":"Blad3!H959","v":"-"},{"$f":"Tidsram!$B$2","v":0},{"$f":"Tidsram!$B$3","v":0},{"$f":"Blad3!G959","v":0}]
[{"$f":"Blad3!H960","v":"-"},{"$f":"Tidsram!$B$2","v":0},{"$f":"Tidsram!$B$3","v":0},{"$f":"Blad3!G960","v":0}]
[{"$f":"Blad3!H961","v":"-"},{"$f":"Tidsram!$B$2","v":0},{"$f":"Tidsram!$B$3","v":0},{"$f":"Blad3!G961","v":0}]
[{"$f":"Blad3!H962","v":"-"},{"$f":"Tidsram!$B$2","v":0},{"$f":"Tidsram!$B$3","v":0},{"$f":"Blad3!G962","v":0}]
[{"$f":"Blad3!H963","v":"-"},{"$f":"Tidsram!$B$2","v":0},{"$f":"Tidsram!$B$3","v":0},{"$f":"Blad3!G963","v":0}]
[{"$f":"Blad3!H964","v":"-"},{"$f":"Tidsram!$B$2","v":0},{"$f":"Tidsram!$B$3","v":0},{"$f":"Blad3!G964","v":0}]
[{"$f":"Blad3!H965","v":"-"},{"$f":"Tidsram!$B$2","v":0},{"$f":"Tidsram!$B$3","v":0},{"$f":"Blad3!G965","v":0}]
[{"$f":"Blad3!H966","v":"-"},{"$f":"Tidsram!$B$2","v":0},{"$f":"Tidsram!$B$3","v":0},{"$f":"Blad3!G966","v":0}]
[{"$f":"Blad3!H967","v":"-"},{"$f":"Tidsram!$B$2","v":0},{"$f":"Tidsram!$B$3","v":0},{"$f":"Blad3!G967","v":0}]
[{"$f":"Blad3!H968","v":"-"},{"$f":"Tidsram!$B$2","v":0},{"$f":"Tidsram!$B$3","v":0},{"$f":"Blad3!G968","v":0}]
[{"$f":"Blad3!H969","v":"-"},{"$f":"Tidsram!$B$2","v":0},{"$f":"Tidsram!$B$3","v":0},{"$f":"Blad3!G969","v":0}]
[{"$f":"Blad3!H970","v":"-"},{"$f":"Tidsram!$B$2","v":0},{"$f":"Tidsram!$B$3","v":0},{"$f":"Blad3!G970","v":0}]
[{"$f":"Blad3!H971","v":"-"},{"$f":"Tidsram!$B$2","v":0},{"$f":"Tidsram!$B$3","v":0},{"$f":"Blad3!G971","v":0}]
[{"$f":"Blad3!H972","v":"-"},{"$f":"Tidsram!$B$2","v":0},{"$f":"Tidsram!$B$3","v":0},{"$f":"Blad3!G972","v":0}]
[{"$f":"Blad3!H973","v":"-"},{"$f":"Tidsram!$B$2","v":0},{"$f":"Tidsram!$B$3","v":0},{"$f":"Blad3!G973","v":0}]
[{"$f":"Blad3!H974","v":"-"},{"$f":"Tidsram!$B$2","v":0},{"$f":"Tidsram!$B$3","v":0},{"$f":"Blad3!G974","v":0}]
[{"$f":"Blad3!H975","v":"-"},{"$f":"Tidsram!$B$2","v":0},{"$f":"Tidsram!$B$3","v":0},{"$f":"Blad3!G975","v":0}]
[{"$f":"Blad3!H976","v":"-"},{"$f":"Tidsram!$B$2","v":0},{"$f":"Tidsram!$B$3","v":0},{"$f":"Blad3!G976","v":0}]
[{"$f":"Blad3!H977","v":"-"},{"$f":"Tidsram!$B$2","v":0},{"$f":"Tidsram!$B$3","v":0},{"$f":"Blad3!G977","v":0}]
[{"$f":"Blad3!H978","v":"-"},{"$f":"Tidsram!$B$2","v":0},{"$f":"Tidsram!$B$3","v":0},{"$f":"Blad3!G978","v":0}]
[{"$f":"Blad3!H979","v":"-"},{"$f":"Tidsram!$B$2","v":0},{"$f":"Tidsram!$B$3","v":0},{"$f":"Blad3!G979","v":0}]
[{"$f":"Blad3!H980","v":"-"},{"$f":"Tidsram!$B$2","v":0},{"$f":"Tidsram!$B$3","v":0},{"$f":"Blad3!G980","v":0}]
[{"$f":"Blad3!H981","v":"-"},{"$f":"Tidsram!$B$2","v":0},{"$f":"Tidsram!$B$3","v":0},{"$f":"Blad3!G981","v":0}]
[{"$f":"Blad3!H982","v":"-"},{"$f":"Tidsram!$B$2","v":0},{"$f":"Tidsram!$B$3","v":0},{"$f":"Blad3!G982","v":0}]
[{"$f":"Blad3!H983","v":"-"},{"$f":"Tidsram!$B$2","v":0},{"$f":"Tidsram!$B$3","v":0},{"$f":"Blad3!G983","v":0}]
[{"$f":"Blad3!H984","v":"-"},{"$f":"Tidsram!$B$2","v":0},{"$f":"Tidsram!$B$3","v":0},{"$f":"Blad3!G984","v":0}]
[{"$f":"Blad3!H985","v":"-"},{"$f":"Tidsram!$B$2","v":0},{"$f":"Tidsram!$B$3","v":0},{"$f":"Blad3!G985","v":0}]
[{"$f":"Blad3!H986","v":"-"},{"$f":"Tidsram!$B$2","v":0},{"$f":"Tidsram!$B$3","v":0},{"$f":"Blad3!G986","v":0}]
[{"$f":"Blad3!H987","v":"-"},{"$f":"Tidsram!$B$2","v":0},{"$f":"Tidsram!$B$3","v":0},{"$f":"Blad3!G987","v":0}]
[{"$f":"Blad3!H988","v":"-"},{"$f":"Tidsram!$B$2","v":0},{"$f":"Tidsram!$B$3","v":0},{"$f":"Blad3!G988","v":0}]
[{"$f":"Blad3!H989","v":"-"},{"$f":"Tidsram!$B$2","v":0},{"$f":"Tidsram!$B$3","v":0},{"$f":"Blad3!G989","v":0}]
[{"$f":"Blad3!H990","v":"-"},{"$f":"Tidsram!$B$2","v":0},{"$f":"Tidsram!$B$3","v":0},{"$f":"Blad3!G990","v":0}]
[{"$f":"Blad3!H991","v":"-"},{"$f":"Tidsram!$B$2","v":0},{"$f":"Tidsram!$B$3","v":0},{"$f":"Blad3!G991","v":0}]
[{"$f":"Blad3!H992","v":"-"},{"$f":"Tidsram!$B$2","v":0},{"$f":"Tidsram!$B$3","v":0},{"$f":"Blad3!G992","v":0}]
[{"$f":"Blad3!H993","v":"-"},{"$f":"Tidsram!$B$2","v":0},{"$f":"Tidsram!$B$3","v":0},{"$f":"Blad3!G993","v":0}]
[{"$f":"Blad3!H994","v":"-"},{"$f":"Tidsram!$B$2","v":0},{"$f":"Tidsram!$B$3","v":0},{"$f":"Blad3!G994","v":0}]
[{"$f":"Blad3!H995","v":"-"},{"$f":"Tidsram!$B$2","v":0},{"$f":"Tidsram!$B$3","v":0},{"$f":"Blad3!G995","v":0}]
[{"$f":"Blad3!H996","v":"-"},{"$f":"Tidsram!$B$2","v":0},{"$f":"Tidsram!$B$3","v":0},{"$f":"Blad3!G996","v":0}]
[{"$f":"Blad3!H997","v":"-"},{"$f":"Tidsram!$B$2","v":0},{"$f":"Tidsram!$B$3","v":0},{"$f":"Blad3!G997","v":0}]
[{"$f":"Blad3!H998","v":"-"},{"$f":"Tidsram!$B$2","v":0},{"$f":"Tidsram!$B$3","v":0},{"$f":"Blad3!G998","v":0}]
[{"$f":"Blad3!H999","v":"-"},{"$f":"Tidsram!$B$2","v":0},{"$f":"Tidsram!$B$3","v":0},{"$f":"Blad3!G999","v":0}]
[{"$f":"Blad3!H1000","v":"-"},{"$f":"Tidsram!$B$2","v":0},{"$f":"Tidsram!$B$3","v":0},{"$f":"Blad3!G1000","v":0}]
[{"$f":"Blad3!H1001","v":"-"},{"$f":"Tidsram!$B$2","v":0},{"$f":"Tidsram!$B$3","v":0},{"$f":"Blad3!G1001","v":0}]
[{"$f":"Blad3!H1002","v":"-"},{"$f":"Tidsram!$B$2","v":0},{"$f":"Tidsram!$B$3","v":0},{"$f":"Blad3!G1002","v":0}]
[{"$f":"Blad3!H1003","v":"-"},{"$f":"Tidsram!$B$2","v":0},{"$f":"Tidsram!$B$3","v":0},{"$f":"Blad3!G1003","v":0}]
[{"$f":"Blad3!H1004","v":"-"},{"$f":"Tidsram!$B$2","v":0},{"$f":"Tidsram!$B$3","v":0},{"$f":"Blad3!G1004","v":0}]
[{"$f":"Blad3!H1005","v":"-"},{"$f":"Tidsram!$B$2","v":0},{"$f":"Tidsram!$B$3","v":0},{"$f":"Blad3!G1005","v":0}]
[{"$f":"Blad3!H1006","v":"-"},{"$f":"Tidsram!$B$2","v":0},{"$f":"Tidsram!$B$3","v":0},{"$f":"Blad3!G1006","v":0}]
[{"$f":"Blad3!H1007","v":"-"},{"$f":"Tidsram!$B$2","v":0},{"$f":"Tidsram!$B$3","v":0},{"$f":"Blad3!G1007","v":0}]
[{"$f":"Blad3!H1008","v":"-"},{"$f":"Tidsram!$B$2","v":0},{"$f":"Tidsram!$B$3","v":0},{"$f":"Blad3!G1008","v":0}]
[{"$f":"Blad3!H1009","v":"-"},{"$f":"Tidsram!$B$2","v":0},{"$f":"Tidsram!$B$3","v":0},{"$f":"Blad3!G1009","v":0}]
[{"$f":"Blad3!H1010","v":"-"},{"$f":"Tidsram!$B$2","v":0},{"$f":"Tidsram!$B$3","v":0},{"$f":"Blad3!G1010","v":0}]
[{"$f":"Blad3!H1011","v":"-"},{"$f":"Tidsram!$B$2","v":0},{"$f":"Tidsram!$B$3","v":0},{"$f":"Blad3!G1011","v":0}]
[{"$f":"Blad3!H1012","v":"-"},{"$f":"Tidsram!$B$2","v":0},{"$f":"Tidsram!$B$3","v":0},{"$f":"Blad3!G1012","v":0}]
[{"$f":"Blad3!H1013","v":"-"},{"$f":"Tidsram!$B$2","v":0},{"$f":"Tidsram!$B$3","v":0},{"$f":"Blad3!G1013","v":0}]
[{"$f":"Blad3!H1014","v":"-"},{"$f":"Tidsram!$B$2","v":0},{"$f":"Tidsram!$B$3","v":0},{"$f":"Blad3!G1014","v":0}]
[{"$f":"Blad3!H1015","v":"-"},{"$f":"Tidsram!$B$2","v":0},{"$f":"Tidsram!$B$3","v":0},{"$f":"Blad3!G1015","v":0}]
[{"$f":"Blad3!H1016","v":"-"},{"$f":"Tidsram!$B$2","v":0},{"$f":"Tidsram!$B$3","v":0},{"$f":"Blad3!G1016","v":0}]
[{"$f":"Blad3!H1017","v":"-"},{"$f":"Tidsram!$B$2","v":0},{"$f":"Tidsram!$B$3","v":0},{"$f":"Blad3!G1017","v":0}]
[{"$f":"Blad3!H1018","v":"-"},{"$f":"Tidsram!$B$2","v":0},{"$f":"Tidsram!$B$3","v":0},{"$f":"Blad3!G1018","v":0}]
[{"$f":"Blad3!H1019","v":"-"},{"$f":"Tidsram!$B$2","v":0},{"$f":"Tidsram!$B$3","v":0},{"$f":"Blad3!G1019","v":0}]
[{"$f":"Blad3!H1020","v":"-"},{"$f":"Tidsram!$B$2","v":0},{"$f":"Tidsram!$B$3","v":0},{"$f":"Blad3!G1020","v":0}]
[{"$f":"Blad3!H1021","v":"-"},{"$f":"Tidsram!$B$2","v":0},{"$f":"Tidsram!$B$3","v":0},{"$f":"Blad3!G1021","v":0}]
[{"$f":"Blad3!H1022","v":"-"},{"$f":"Tidsram!$B$2","v":0},{"$f":"Tidsram!$B$3","v":0},{"$f":"Blad3!G1022","v":0}]
[{"$f":"Blad3!H1023","v":"-"},{"$f":"Tidsram!$B$2","v":0},{"$f":"Tidsram!$B$3","v":0},{"$f":"Blad3!G1023","v":0}]
[{"$f":"Blad3!H1024","v":"-"},{"$f":"Tidsram!$B$2","v":0},{"$f":"Tidsram!$B$3","v":0},{"$f":"Blad3!G1024","v":0}]
[{"$f":"Blad3!H1025","v":"-"},{"$f":"Tidsram!$B$2","v":0},{"$f":"Tidsram!$B$3","v":0},{"$f":"Blad3!G1025","v":0}]
[{"$f":"Blad3!H1026","v":"-"},{"$f":"Tidsram!$B$2","v":0},{"$f":"Tidsram!$B$3","v":0},{"$f":"Blad3!G1026","v":0}]
[{"$f":"Blad3!H1027","v":"-"},{"$f":"Tidsram!$B$2","v":0},{"$f":"Tidsram!$B$3","v":0},{"$f":"Blad3!G1027","v":0}]
[{"$f":"Blad3!H1028","v":"-"},{"$f":"Tidsram!$B$2","v":0},{"$f":"Tidsram!$B$3","v":0},{"$f":"Blad3!G1028","v":0}]
[{"$f":"Blad3!H1029","v":"-"},{"$f":"Tidsram!$B$2","v":0},{"$f":"Tidsram!$B$3","v":0},{"$f":"Blad3!G1029","v":0}]
[{"$f":"Blad3!H1030","v":"-"},{"$f":"Tidsram!$B$2","v":0},{"$f":"Tidsram!$B$3","v":0},{"$f":"Blad3!G1030","v":0}]
[{"$f":"Blad3!H1031","v":"-"},{"$f":"Tidsram!$B$2","v":0},{"$f":"Tidsram!$B$3","v":0},{"$f":"Blad3!G1031","v":0}]
[{"$f":"Blad3!H1032","v":"-"},{"$f":"Tidsram!$B$2","v":0},{"$f":"Tidsram!$B$3","v":0},{"$f":"Blad3!G1032","v":0}]
[{"$f":"Blad3!H1033","v":"-"},{"$f":"Tidsram!$B$2","v":0},{"$f":"Tidsram!$B$3","v":0},{"$f":"Blad3!G1033","v":0}]
[{"$f":"Blad3!H1034","v":"-"},{"$f":"Tidsram!$B$2","v":0},{"$f":"Tidsram!$B$3","v":0},{"$f":"Blad3!G1034","v":0}]
[{"$f":"Blad3!H1035","v":"-"},{"$f":"Tidsram!$B$2","v":0},{"$f":"Tidsram!$B$3","v":0},{"$f":"Blad3!G1035","v":0}]
[{"$f":"Blad3!H1036","v":"-"},{"$f":"Tidsram!$B$2","v":0},{"$f":"Tidsram!$B$3","v":0},{"$f":"Blad3!G1036","v":0}]
[{"$f":"Blad3!H1037","v":"-"},{"$f":"Tidsram!$B$2","v":0},{"$f":"Tidsram!$B$3","v":0},{"$f":"Blad3!G1037","v":0}]
[{"$f":"Blad3!H1038","v":"-"},{"$f":"Tidsram!$B$2","v":0},{"$f":"Tidsram!$B$3","v":0},{"$f":"Blad3!G1038","v":0}]
[{"$f":"Blad3!H1039","v":"-"},{"$f":"Tidsram!$B$2","v":0},{"$f":"Tidsram!$B$3","v":0},{"$f":"Blad3!G1039","v":0}]
[{"$f":"Blad3!H1040","v":"-"},{"$f":"Tidsram!$B$2","v":0},{"$f":"Tidsram!$B$3","v":0},{"$f":"Blad3!G1040","v":0}]
[{"$f":"Blad3!H1041","v":"-"},{"$f":"Tidsram!$B$2","v":0},{"$f":"Tidsram!$B$3","v":0},{"$f":"Blad3!G1041","v":0}]
[{"$f":"Blad3!H1042","v":"-"},{"$f":"Tidsram!$B$2","v":0},{"$f":"Tidsram!$B$3","v":0},{"$f":"Blad3!G1042","v":0}]
[{"$f":"Blad3!H1043","v":"-"},{"$f":"Tidsram!$B$2","v":0},{"$f":"Tidsram!$B$3","v":0},{"$f":"Blad3!G1043","v":0}]
[{"$f":"Blad3!H1044","v":"-"},{"$f":"Tidsram!$B$2","v":0},{"$f":"Tidsram!$B$3","v":0},{"$f":"Blad3!G1044","v":0}]
[{"$f":"Blad3!H1045","v":"-"},{"$f":"Tidsram!$B$2","v":0},{"$f":"Tidsram!$B$3","v":0},{"$f":"Blad3!G1045","v":0}]
[{"$f":"Blad3!H1046","v":"-"},{"$f":"Tidsram!$B$2","v":0},{"$f":"Tidsram!$B$3","v":0},{"$f":"Blad3!G1046","v":0}]
[{"$f":"Blad3!H1047","v":"-"},{"$f":"Tidsram!$B$2","v":0},{"$f":"Tidsram!$B$3","v":0},{"$f":"Blad3!G1047","v":0}]
[{"$f":"Blad3!H1048","v":"-"},{"$f":"Tidsram!$B$2","v":0},{"$f":"Tidsram!$B$3","v":0},{"$f":"Blad3!G1048","v":0}]
[{"$f":"Blad3!H1049","v":"-"},{"$f":"Tidsram!$B$2","v":0},{"$f":"Tidsram!$B$3","v":0},{"$f":"Blad3!G1049","v":0}]
[{"$f":"Blad3!H1050","v":"-"},{"$f":"Tidsram!$B$2","v":0},{"$f":"Tidsram!$B$3","v":0},{"$f":"Blad3!G1050","v":0}]
[{"$f":"Blad3!H1051","v":"-"},{"$f":"Tidsram!$B$2","v":0},{"$f":"Tidsram!$B$3","v":0},{"$f":"Blad3!G1051","v":0}]
[{"$f":"Blad3!H1052","v":"-"},{"$f":"Tidsram!$B$2","v":0},{"$f":"Tidsram!$B$3","v":0},{"$f":"Blad3!G1052","v":0}]
[{"$f":"Blad3!H1053","v":"-"},{"$f":"Tidsram!$B$2","v":0},{"$f":"Tidsram!$B$3","v":0},{"$f":"Blad3!G1053","v":0}]
[{"$f":"Blad3!H1054","v":"-"},{"$f":"Tidsram!$B$2","v":0},{"$f":"Tidsram!$B$3","v":0},{"$f":"Blad3!G1054","v":0}]
[{"$f":"Blad3!H1055","v":"-"},{"$f":"Tidsram!$B$2","v":0},{"$f":"Tidsram!$B$3","v":0},{"$f":"Blad3!G1055","v":0}]
[{"$f":"Blad3!H1056","v":"-"},{"$f":"Tidsram!$B$2","v":0},{"$f":"Tidsram!$B$3","v":0},{"$f":"Blad3!G1056","v":0}]
[{"$f":"Blad3!H1057","v":"-"},{"$f":"Tidsram!$B$2","v":0},{"$f":"Tidsram!$B$3","v":0},{"$f":"Blad3!G1057","v":0}]
[{"$f":"Blad3!H1058","v":"-"},{"$f":"Tidsram!$B$2","v":0},{"$f":"Tidsram!$B$3","v":0},{"$f":"Blad3!G1058","v":0}]
[{"$f":"Blad3!H1059","v":"-"},{"$f":"Tidsram!$B$2","v":0},{"$f":"Tidsram!$B$3","v":0},{"$f":"Blad3!G1059","v":0}]
[{"$f":"Blad3!H1060","v":"-"},{"$f":"Tidsram!$B$2","v":0},{"$f":"Tidsram!$B$3","v":0},{"$f":"Blad3!G1060","v":0}]
[{"$f":"Blad3!H1061","v":"-"},{"$f":"Tidsram!$B$2","v":0},{"$f":"Tidsram!$B$3","v":0},{"$f":"Blad3!G1061","v":0}]
[{"$f":"Blad3!H1062","v":"-"},{"$f":"Tidsram!$B$2","v":0},{"$f":"Tidsram!$B$3","v":0},{"$f":"Blad3!G1062","v":0}]
[{"$f":"Blad3!H1063","v":"-"},{"$f":"Tidsram!$B$2","v":0},{"$f":"Tidsram!$B$3","v":0},{"$f":"Blad3!G1063","v":0}]
[{"$f":"Blad3!H1064","v":"-"},{"$f":"Tidsram!$B$2","v":0},{"$f":"Tidsram!$B$3","v":0},{"$f":"Blad3!G1064","v":0}]
[{"$f":"Blad3!H1065","v":"-"},{"$f":"Tidsram!$B$2","v":0},{"$f":"Tidsram!$B$3","v":0},{"$f":"Blad3!G1065","v":0}]
[{"$f":"Blad3!H1066","v":"-"},{"$f":"Tidsram!$B$2","v":0},{"$f":"Tidsram!$B$3","v":0},{"$f":"Blad3!G1066","v":0}]
[{"$f":"Blad3!H1067","v":"-"},{"$f":"Tidsram!$B$2","v":0},{"$f":"Tidsram!$B$3","v":0},{"$f":"Blad3!G1067","v":0}]
[{"$f":"Blad3!H1068","v":"-"},{"$f":"Tidsram!$B$2","v":0},{"$f":"Tidsram!$B$3","v":0},{"$f":"Blad3!G1068","v":0}]
[{"$f":"Blad3!H1069","v":"-"},{"$f":"Tidsram!$B$2","v":0},{"$f":"Tidsram!$B$3","v":0},{"$f":"Blad3!G1069","v":0}]
[{"$f":"Blad3!H1070","v":"-"},{"$f":"Tidsram!$B$2","v":0},{"$f":"Tidsram!$B$3","v":0},{"$f":"Blad3!G1070","v":0}]
[{"$f":"Blad3!H1071","v":"-"},{"$f":"Tidsram!$B$2","v":0},{"$f":"Tidsram!$B$3","v":0},{"$f":"Blad3!G1071","v":0}]
[{"$f":"Blad3!H1072","v":"-"},{"$f":"Tidsram!$B$2","v":0},{"$f":"Tidsram!$B$3","v":0},{"$f":"Blad3!G1072","v":0}]
[{"$f":"Blad3!H1073","v":"-"},{"$f":"Tidsram!$B$2","v":0},{"$f":"Tidsram!$B$3","v":0},{"$f":"Blad3!G1073","v":0}]
[{"$f":"Blad3!H1074","v":"-"},{"$f":"Tidsram!$B$2","v":0},{"$f":"Tidsram!$B$3","v":0},{"$f":"Blad3!G1074","v":0}]
[{"$f":"Blad3!H1075","v":"-"},{"$f":"Tidsram!$B$2","v":0},{"$f":"Tidsram!$B$3","v":0},{"$f":"Blad3!G1075","v":0}]
[{"$f":"Blad3!H1076","v":"-"},{"$f":"Tidsram!$B$2","v":0},{"$f":"Tidsram!$B$3","v":0},{"$f":"Blad3!G1076","v":0}]
[{"$f":"Blad3!H1077","v":"-"},{"$f":"Tidsram!$B$2","v":0},{"$f":"Tidsram!$B$3","v":0},{"$f":"Blad3!G1077","v":0}]
[{"$f":"Blad3!H1078","v":"-"},{"$f":"Tidsram!$B$2","v":0},{"$f":"Tidsram!$B$3","v":0},{"$f":"Blad3!G1078","v":0}]
[{"$f":"Blad3!H1079","v":"-"},{"$f":"Tidsram!$B$2","v":0},{"$f":"Tidsram!$B$3","v":0},{"$f":"Blad3!G1079","v":0}]
[{"$f":"Blad3!H1080","v":"-"},{"$f":"Tidsram!$B$2","v":0},{"$f":"Tidsram!$B$3","v":0},{"$f":"Blad3!G1080","v":0}]
[{"$f":"Blad3!H1081","v":"-"},{"$f":"Tidsram!$B$2","v":0},{"$f":"Tidsram!$B$3","v":0},{"$f":"Blad3!G1081","v":0}]
[{"$f":"Blad3!H1082","v":"-"},{"$f":"Tidsram!$B$2","v":0},{"$f":"Tidsram!$B$3","v":0},{"$f":"Blad3!G1082","v":0}]
[{"$f":"Blad3!H1083","v":"-"},{"$f":"Tidsram!$B$2","v":0},{"$f":"Tidsram!$B$3","v":0},{"$f":"Blad3!G1083","v":0}]
[{"$f":"Blad3!H1084","v":"-"},{"$f":"Tidsram!$B$2","v":0},{"$f":"Tidsram!$B$3","v":0},{"$f":"Blad3!G1084","v":0}]
[{"$f":"Blad3!H1085","v":"-"},{"$f":"Tidsram!$B$2","v":0},{"$f":"Tidsram!$B$3","v":0},{"$f":"Blad3!G1085","v":0}]
[{"$f":"Blad3!H1086","v":"-"},{"$f":"Tidsram!$B$2","v":0},{"$f":"Tidsram!$B$3","v":0},{"$f":"Blad3!G1086","v":0}]
[{"$f":"Blad3!H1087","v":"-"},{"$f":"Tidsram!$B$2","v":0},{"$f":"Tidsram!$B$3","v":0},{"$f":"Blad3!G1087","v":0}]
[{"$f":"Blad3!H1088","v":"-"},{"$f":"Tidsram!$B$2","v":0},{"$f":"Tidsram!$B$3","v":0},{"$f":"Blad3!G1088","v":0}]
[{"$f":"Blad3!H1089","v":"-"},{"$f":"Tidsram!$B$2","v":0},{"$f":"Tidsram!$B$3","v":0},{"$f":"Blad3!G1089","v":0}]
[{"$f":"Blad3!H1090","v":"-"},{"$f":"Tidsram!$B$2","v":0},{"$f":"Tidsram!$B$3","v":0},{"$f":"Blad3!G1090","v":0}]
[{"$f":"Blad3!H1091","v":"-"},{"$f":"Tidsram!$B$2","v":0},{"$f":"Tidsram!$B$3","v":0},{"$f":"Blad3!G1091","v":0}]
[{"$f":"Blad3!H1092","v":"-"},{"$f":"Tidsram!$B$2","v":0},{"$f":"Tidsram!$B$3","v":0},{"$f":"Blad3!G1092","v":0}]
[{"$f":"Blad3!H1093","v":"-"},{"$f":"Tidsram!$B$2","v":0},{"$f":"Tidsram!$B$3","v":0},{"$f":"Blad3!G1093","v":0}]
[{"$f":"Blad3!H1094","v":"-"},{"$f":"Tidsram!$B$2","v":0},{"$f":"Tidsram!$B$3","v":0},{"$f":"Blad3!G1094","v":0}]
[{"$f":"Blad3!H1095","v":"-"},{"$f":"Tidsram!$B$2","v":0},{"$f":"Tidsram!$B$3","v":0},{"$f":"Blad3!G1095","v":0}]
[{"$f":"Blad3!H1096","v":"-"},{"$f":"Tidsram!$B$2","v":0},{"$f":"Tidsram!$B$3","v":0},{"$f":"Blad3!G1096","v":0}]
[{"$f":"Blad3!H1097","v":"-"},{"$f":"Tidsram!$B$2","v":0},{"$f":"Tidsram!$B$3","v":0},{"$f":"Blad3!G1097","v":0}]
[{"$f":"Blad3!H1098","v":"-"},{"$f":"Tidsram!$B$2","v":0},{"$f":"Tidsram!$B$3","v":0},{"$f":"Blad3!G1098","v":0}]
[{"$f":"Blad3!H1099","v":"-"},{"$f":"Tidsram!$B$2","v":0},{"$f":"Tidsram!$B$3","v":0},{"$f":"Blad3!G1099","v":0}]
[{"$f":"Blad3!H1100","v":"-"},{"$f":"Tidsram!$B$2","v":0},{"$f":"Tidsram!$B$3","v":0},{"$f":"Blad3!G1100","v":0}]
[{"$f":"Blad3!H1101","v":"-"},{"$f":"Tidsram!$B$2","v":0},{"$f":"Tidsram!$B$3","v":0},{"$f":"Blad3!G1101","v":0}]
[{"$f":"Blad3!H1102","v":"-"},{"$f":"Tidsram!$B$2","v":0},{"$f":"Tidsram!$B$3","v":0},{"$f":"Blad3!G1102","v":0}]
[{"$f":"Blad3!H1103","v":"-"},{"$f":"Tidsram!$B$2","v":0},{"$f":"Tidsram!$B$3","v":0},{"$f":"Blad3!G1103","v":0}]
[{"$f":"Blad3!H1104","v":"-"},{"$f":"Tidsram!$B$2","v":0},{"$f":"Tidsram!$B$3","v":0},{"$f":"Blad3!G1104","v":0}]
[{"$f":"Blad3!H1105","v":"-"},{"$f":"Tidsram!$B$2","v":0},{"$f":"Tidsram!$B$3","v":0},{"$f":"Blad3!G1105","v":0}]
[{"$f":"Blad3!H1106","v":"-"},{"$f":"Tidsram!$B$2","v":0},{"$f":"Tidsram!$B$3","v":0},{"$f":"Blad3!G1106","v":0}]
[{"$f":"Blad3!H1107","v":"-"},{"$f":"Tidsram!$B$2","v":0},{"$f":"Tidsram!$B$3","v":0},{"$f":"Blad3!G1107","v":0}]
[{"$f":"Blad3!H1108","v":"-"},{"$f":"Tidsram!$B$2","v":0},{"$f":"Tidsram!$B$3","v":0},{"$f":"Blad3!G1108","v":0}]
[{"$f":"Blad3!H1109","v":"-"},{"$f":"Tidsram!$B$2","v":0},{"$f":"Tidsram!$B$3","v":0},{"$f":"Blad3!G1109","v":0}]
[{"$f":"Blad3!H1110","v":"-"},{"$f":"Tidsram!$B$2","v":0},{"$f":"Tidsram!$B$3","v":0},{"$f":"Blad3!G1110","v":0}]
[{"$f":"Blad3!H1111","v":"-"},{"$f":"Tidsram!$B$2","v":0},{"$f":"Tidsram!$B$3","v":0},{"$f":"Blad3!G1111","v":0}]
[{"$f":"Blad3!H1112","v":"-"},{"$f":"Tidsram!$B$2","v":0},{"$f":"Tidsram!$B$3","v":0},{"$f":"Blad3!G1112","v":0}]
[{"$f":"Blad3!H1113","v":"-"},{"$f":"Tidsram!$B$2","v":0},{"$f":"Tidsram!$B$3","v":0},{"$f":"Blad3!G1113","v":0}]
[{"$f":"Blad3!H1114","v":"-"},{"$f":"Tidsram!$B$2","v":0},{"$f":"Tidsram!$B$3","v":0},{"$f":"Blad3!G1114","v":0}]
[{"$f":"Blad3!H1115","v":"-"},{"$f":"Tidsram!$B$2","v":0},{"$f":"Tidsram!$B$3","v":0},{"$f":"Blad3!G1115","v":0}]
[{"$f":"Blad3!H1116","v":"-"},{"$f":"Tidsram!$B$2","v":0},{"$f":"Tidsram!$B$3","v":0},{"$f":"Blad3!G1116","v":0}]
[{"$f":"Blad3!H1117","v":"-"},{"$f":"Tidsram!$B$2","v":0},{"$f":"Tidsram!$B$3","v":0},{"$f":"Blad3!G1117","v":0}]
[{"$f":"Blad3!H1118","v":"-"},{"$f":"Tidsram!$B$2","v":0},{"$f":"Tidsram!$B$3","v":0},{"$f":"Blad3!G1118","v":0}]
[{"$f":"Blad3!H1119","v":"-"},{"$f":"Tidsram!$B$2","v":0},{"$f":"Tidsram!$B$3","v":0},{"$f":"Blad3!G1119","v":0}]
[{"$f":"Blad3!H1120","v":"-"},{"$f":"Tidsram!$B$2","v":0},{"$f":"Tidsram!$B$3","v":0},{"$f":"Blad3!G1120","v":0}]
[{"$f":"Blad3!H1121","v":"-"},{"$f":"Tidsram!$B$2","v":0},{"$f":"Tidsram!$B$3","v":0},{"$f":"Blad3!G1121","v":0}]
[{"$f":"Blad3!H1122","v":"-"},{"$f":"Tidsram!$B$2","v":0},{"$f":"Tidsram!$B$3","v":0},{"$f":"Blad3!G1122","v":0}]
[{"$f":"Blad3!H1123","v":"-"},{"$f":"Tidsram!$B$2","v":0},{"$f":"Tidsram!$B$3","v":0},{"$f":"Blad3!G1123","v":0}]
[{"$f":"Blad3!H1124","v":"-"},{"$f":"Tidsram!$B$2","v":0},{"$f":"Tidsram!$B$3","v":0},{"$f":"Blad3!G1124","v":0}]
[{"$f":"Blad3!H1125","v":"-"},{"$f":"Tidsram!$B$2","v":0},{"$f":"Tidsram!$B$3","v":0},{"$f":"Blad3!G1125","v":0}]
[{"$f":"Blad3!H1126","v":"-"},{"$f":"Tidsram!$B$2","v":0},{"$f":"Tidsram!$B$3","v":0},{"$f":"Blad3!G1126","v":0}]
[{"$f":"Blad3!H1127","v":"-"},{"$f":"Tidsram!$B$2","v":0},{"$f":"Tidsram!$B$3","v":0},{"$f":"Blad3!G1127","v":0}]
[{"$f":"Blad3!H1128","v":"-"},{"$f":"Tidsram!$B$2","v":0},{"$f":"Tidsram!$B$3","v":0},{"$f":"Blad3!G1128","v":0}]
[{"$f":"Blad3!H1129","v":"-"},{"$f":"Tidsram!$B$2","v":0},{"$f":"Tidsram!$B$3","v":0},{"$f":"Blad3!G1129","v":0}]
[{"$f":"Blad3!H1130","v":"-"},{"$f":"Tidsram!$B$2","v":0},{"$f":"Tidsram!$B$3","v":0},{"$f":"Blad3!G1130","v":0}]
[{"$f":"Blad3!H1131","v":"-"},{"$f":"Tidsram!$B$2","v":0},{"$f":"Tidsram!$B$3","v":0},{"$f":"Blad3!G1131","v":0}]
[{"$f":"Blad3!H1132","v":"-"},{"$f":"Tidsram!$B$2","v":0},{"$f":"Tidsram!$B$3","v":0},{"$f":"Blad3!G1132","v":0}]
[{"$f":"Blad3!H1133","v":"-"},{"$f":"Tidsram!$B$2","v":0},{"$f":"Tidsram!$B$3","v":0},{"$f":"Blad3!G1133","v":0}]
[{"$f":"Blad3!H1134","v":"-"},{"$f":"Tidsram!$B$2","v":0},{"$f":"Tidsram!$B$3","v":0},{"$f":"Blad3!G1134","v":0}]
[{"$f":"Blad3!H1135","v":"-"},{"$f":"Tidsram!$B$2","v":0},{"$f":"Tidsram!$B$3","v":0},{"$f":"Blad3!G1135","v":0}]
[{"$f":"Blad3!H1136","v":"-"},{"$f":"Tidsram!$B$2","v":0},{"$f":"Tidsram!$B$3","v":0},{"$f":"Blad3!G1136","v":0}]
[{"$f":"Blad3!H1137","v":"-"},{"$f":"Tidsram!$B$2","v":0},{"$f":"Tidsram!$B$3","v":0},{"$f":"Blad3!G1137","v":0}]
[{"$f":"Blad3!H1138","v":"-"},{"$f":"Tidsram!$B$2","v":0},{"$f":"Tidsram!$B$3","v":0},{"$f":"Blad3!G1138","v":0}]
[{"$f":"Blad3!H1139","v":"-"},{"$f":"Tidsram!$B$2","v":0},{"$f":"Tidsram!$B$3","v":0},{"$f":"Blad3!G1139","v":0}]
[{"$f":"Blad3!H1140","v":"-"},{"$f":"Tidsram!$B$2","v":0},{"$f":"Tidsram!$B$3","v":0},{"$f":"Blad3!G1140","v":0}]
[{"$f":"Blad3!H1141","v":"-"},{"$f":"Tidsram!$B$2","v":0},{"$f":"Tidsram!$B$3","v":0},{"$f":"Blad3!G1141","v":0}]
[{"$f":"Blad3!H1142","v":"-"},{"$f":"Tidsram!$B$2","v":0},{"$f":"Tidsram!$B$3","v":0},{"$f":"Blad3!G1142","v":0}]
[{"$f":"Blad3!H1143","v":"-"},{"$f":"Tidsram!$B$2","v":0},{"$f":"Tidsram!$B$3","v":0},{"$f":"Blad3!G1143","v":0}]
[{"$f":"Blad3!H1144","v":"-"},{"$f":"Tidsram!$B$2","v":0},{"$f":"Tidsram!$B$3","v":0},{"$f":"Blad3!G1144","v":0}]
[{"$f":"Blad3!H1145","v":"-"},{"$f":"Tidsram!$B$2","v":0},{"$f":"Tidsram!$B$3","v":0},{"$f":"Blad3!G1145","v":0}]
[{"$f":"Blad3!H1146","v":"-"},{"$f":"Tidsram!$B$2","v":0},{"$f":"Tidsram!$B$3","v":0},{"$f":"Blad3!G1146","v":0}]
[{"$f":"Blad3!H1147","v":"-"},{"$f":"Tidsram!$B$2","v":0},{"$f":"Tidsram!$B$3","v":0},{"$f":"Blad3!G1147","v":0}]
[{"$f":"Blad3!H1148","v":"-"},{"$f":"Tidsram!$B$2","v":0},{"$f":"Tidsram!$B$3","v":0},{"$f":"Blad3!G1148","v":0}]
[{"$f":"Blad3!H1149","v":"-"},{"$f":"Tidsram!$B$2","v":0},{"$f":"Tidsram!$B$3","v":0},{"$f":"Blad3!G1149","v":0}]
[{"$f":"Blad3!H1150","v":"-"},{"$f":"Tidsram!$B$2","v":0},{"$f":"Tidsram!$B$3","v":0},{"$f":"Blad3!G1150","v":0}]
[{"$f":"Blad3!H1151","v":"-"},{"$f":"Tidsram!$B$2","v":0},{"$f":"Tidsram!$B$3","v":0},{"$f":"Blad3!G1151","v":0}]
[{"$f":"Blad3!H1152","v":"-"},{"$f":"Tidsram!$B$2","v":0},{"$f":"Tidsram!$B$3","v":0},{"$f":"Blad3!G1152","v":0}]
[{"$f":"Blad3!H1153","v":"-"},{"$f":"Tidsram!$B$2","v":0},{"$f":"Tidsram!$B$3","v":0},{"$f":"Blad3!G1153","v":0}]
[{"$f":"Blad3!H1154","v":"-"},{"$f":"Tidsram!$B$2","v":0},{"$f":"Tidsram!$B$3","v":0},{"$f":"Blad3!G1154","v":0}]
[{"$f":"Blad3!H1155","v":"-"},{"$f":"Tidsram!$B$2","v":0},{"$f":"Tidsram!$B$3","v":0},{"$f":"Blad3!G1155","v":0}]
[{"$f":"Blad3!H1156","v":"-"},{"$f":"Tidsram!$B$2","v":0},{"$f":"Tidsram!$B$3","v":0},{"$f":"Blad3!G1156","v":0}]
[{"$f":"Blad3!H1157","v":"-"},{"$f":"Tidsram!$B$2","v":0},{"$f":"Tidsram!$B$3","v":0},{"$f":"Blad3!G1157","v":0}]
[{"$f":"Blad3!H1158","v":"-"},{"$f":"Tidsram!$B$2","v":0},{"$f":"Tidsram!$B$3","v":0},{"$f":"Blad3!G1158","v":0}]
[{"$f":"Blad3!H1159","v":"-"},{"$f":"Tidsram!$B$2","v":0},{"$f":"Tidsram!$B$3","v":0},{"$f":"Blad3!G1159","v":0}]
[{"$f":"Blad3!H1160","v":"-"},{"$f":"Tidsram!$B$2","v":0},{"$f":"Tidsram!$B$3","v":0},{"$f":"Blad3!G1160","v":0}]
[{"$f":"Blad3!H1161","v":"-"},{"$f":"Tidsram!$B$2","v":0},{"$f":"Tidsram!$B$3","v":0},{"$f":"Blad3!G1161","v":0}]
[{"$f":"Blad3!H1162","v":"-"},{"$f":"Tidsram!$B$2","v":0},{"$f":"Tidsram!$B$3","v":0},{"$f":"Blad3!G1162","v":0}]
[{"$f":"Blad3!H1163","v":"-"},{"$f":"Tidsram!$B$2","v":0},{"$f":"Tidsram!$B$3","v":0},{"$f":"Blad3!G1163","v":0}]
[{"$f":"Blad3!H1164","v":"-"},{"$f":"Tidsram!$B$2","v":0},{"$f":"Tidsram!$B$3","v":0},{"$f":"Blad3!G1164","v":0}]
[{"$f":"Blad3!H1165","v":"-"},{"$f":"Tidsram!$B$2","v":0},{"$f":"Tidsram!$B$3","v":0},{"$f":"Blad3!G1165","v":0}]
[{"$f":"Blad3!H1166","v":"-"},{"$f":"Tidsram!$B$2","v":0},{"$f":"Tidsram!$B$3","v":0},{"$f":"Blad3!G1166","v":0}]
[{"$f":"Blad3!H1167","v":"-"},{"$f":"Tidsram!$B$2","v":0},{"$f":"Tidsram!$B$3","v":0},{"$f":"Blad3!G1167","v":0}]
[{"$f":"Blad3!H1168","v":"-"},{"$f":"Tidsram!$B$2","v":0},{"$f":"Tidsram!$B$3","v":0},{"$f":"Blad3!G1168","v":0}]
[{"$f":"Blad3!H1169","v":"-"},{"$f":"Tidsram!$B$2","v":0},{"$f":"Tidsram!$B$3","v":0},{"$f":"Blad3!G1169","v":0}]
[{"$f":"Blad3!H1170","v":"-"},{"$f":"Tidsram!$B$2","v":0},{"$f":"Tidsram!$B$3","v":0},{"$f":"Blad3!G1170","v":0}]
[{"$f":"Blad3!H1171","v":"-"},{"$f":"Tidsram!$B$2","v":0},{"$f":"Tidsram!$B$3","v":0},{"$f":"Blad3!G1171","v":0}]
[{"$f":"Blad3!H1172","v":"-"},{"$f":"Tidsram!$B$2","v":0},{"$f":"Tidsram!$B$3","v":0},{"$f":"Blad3!G1172","v":0}]
[{"$f":"Blad3!H1173","v":"-"},{"$f":"Tidsram!$B$2","v":0},{"$f":"Tidsram!$B$3","v":0},{"$f":"Blad3!G1173","v":0}]
[{"$f":"Blad3!H1174","v":"-"},{"$f":"Tidsram!$B$2","v":0},{"$f":"Tidsram!$B$3","v":0},{"$f":"Blad3!G1174","v":0}]
[{"$f":"Blad3!H1175","v":"-"},{"$f":"Tidsram!$B$2","v":0},{"$f":"Tidsram!$B$3","v":0},{"$f":"Blad3!G1175","v":0}]
[{"$f":"Blad3!H1176","v":"-"},{"$f":"Tidsram!$B$2","v":0},{"$f":"Tidsram!$B$3","v":0},{"$f":"Blad3!G1176","v":0}]
[{"$f":"Blad3!H1177","v":"-"},{"$f":"Tidsram!$B$2","v":0},{"$f":"Tidsram!$B$3","v":0},{"$f":"Blad3!G1177","v":0}]
[{"$f":"Blad3!H1178","v":"-"},{"$f":"Tidsram!$B$2","v":0},{"$f":"Tidsram!$B$3","v":0},{"$f":"Blad3!G1178","v":0}]
[{"$f":"Blad3!H1179","v":"-"},{"$f":"Tidsram!$B$2","v":0},{"$f":"Tidsram!$B$3","v":0},{"$f":"Blad3!G1179","v":0}]
[{"$f":"Blad3!H1180","v":"-"},{"$f":"Tidsram!$B$2","v":0},{"$f":"Tidsram!$B$3","v":0},{"$f":"Blad3!G1180","v":0}]
[{"$f":"Blad3!H1181","v":"-"},{"$f":"Tidsram!$B$2","v":0},{"$f":"Tidsram!$B$3","v":0},{"$f":"Blad3!G1181","v":0}]
[{"$f":"Blad3!H1182","v":"-"},{"$f":"Tidsram!$B$2","v":0},{"$f":"Tidsram!$B$3","v":0},{"$f":"Blad3!G1182","v":0}]
[{"$f":"Blad3!H1183","v":"-"},{"$f":"Tidsram!$B$2","v":0},{"$f":"Tidsram!$B$3","v":0},{"$f":"Blad3!G1183","v":0}]
[{"$f":"Blad3!H1184","v":"-"},{"$f":"Tidsram!$B$2","v":0},{"$f":"Tidsram!$B$3","v":0},{"$f":"Blad3!G1184","v":0}]
[{"$f":"Blad3!H1185","v":"-"},{"$f":"Tidsram!$B$2","v":0},{"$f":"Tidsram!$B$3","v":0},{"$f":"Blad3!G1185","v":0}]
[{"$f":"Blad3!H1186","v":"-"},{"$f":"Tidsram!$B$2","v":0},{"$f":"Tidsram!$B$3","v":0},{"$f":"Blad3!G1186","v":0}]
[{"$f":"Blad3!H1187","v":"-"},{"$f":"Tidsram!$B$2","v":0},{"$f":"Tidsram!$B$3","v":0},{"$f":"Blad3!G1187","v":0}]
[{"$f":"Blad3!H1188","v":"-"},{"$f":"Tidsram!$B$2","v":0},{"$f":"Tidsram!$B$3","v":0},{"$f":"Blad3!G1188","v":0}]
[{"$f":"Blad3!H1189","v":"-"},{"$f":"Tidsram!$B$2","v":0},{"$f":"Tidsram!$B$3","v":0},{"$f":"Blad3!G1189","v":0}]
[{"$f":"Blad3!H1190","v":"-"},{"$f":"Tidsram!$B$2","v":0},{"$f":"Tidsram!$B$3","v":0},{"$f":"Blad3!G1190","v":0}]
[{"$f":"Blad3!H1191","v":"-"},{"$f":"Tidsram!$B$2","v":0},{"$f":"Tidsram!$B$3","v":0},{"$f":"Blad3!G1191","v":0}]
[{"$f":"Blad3!H1192","v":"-"},{"$f":"Tidsram!$B$2","v":0},{"$f":"Tidsram!$B$3","v":0},{"$f":"Blad3!G1192","v":0}]
[{"$f":"Blad3!H1193","v":"-"},{"$f":"Tidsram!$B$2","v":0},{"$f":"Tidsram!$B$3","v":0},{"$f":"Blad3!G1193","v":0}]
[{"$f":"Blad3!H1194","v":"-"},{"$f":"Tidsram!$B$2","v":0},{"$f":"Tidsram!$B$3","v":0},{"$f":"Blad3!G1194","v":0}]
[{"$f":"Blad3!H1195","v":"-"},{"$f":"Tidsram!$B$2","v":0},{"$f":"Tidsram!$B$3","v":0},{"$f":"Blad3!G1195","v":0}]
[{"$f":"Blad3!H1196","v":"-"},{"$f":"Tidsram!$B$2","v":0},{"$f":"Tidsram!$B$3","v":0},{"$f":"Blad3!G1196","v":0}]
[{"$f":"Blad3!H1197","v":"-"},{"$f":"Tidsram!$B$2","v":0},{"$f":"Tidsram!$B$3","v":0},{"$f":"Blad3!G1197","v":0}]
[{"$f":"Blad3!H1198","v":"-"},{"$f":"Tidsram!$B$2","v":0},{"$f":"Tidsram!$B$3","v":0},{"$f":"Blad3!G1198","v":0}]
[{"$f":"Blad3!H1199","v":"-"},{"$f":"Tidsram!$B$2","v":0},{"$f":"Tidsram!$B$3","v":0},{"$f":"Blad3!G1199","v":0}]
[{"$f":"Blad3!H1200","v":"-"},{"$f":"Tidsram!$B$2","v":0},{"$f":"Tidsram!$B$3","v":0},{"$f":"Blad3!G1200","v":0}]
[{"$f":"Blad3!H1201","v":"-"},{"$f":"Tidsram!$B$2","v":0},{"$f":"Tidsram!$B$3","v":0},{"$f":"Blad3!G1201","v":0}]
[{"$f":"Blad3!H1202","v":"-"},{"$f":"Tidsram!$B$2","v":0},{"$f":"Tidsram!$B$3","v":0},{"$f":"Blad3!G1202","v":0}]
[{"$f":"Blad3!H1203","v":"-"},{"$f":"Tidsram!$B$2","v":0},{"$f":"Tidsram!$B$3","v":0},{"$f":"Blad3!G1203","v":0}]
[{"$f":"Blad3!H1204","v":"-"},{"$f":"Tidsram!$B$2","v":0},{"$f":"Tidsram!$B$3","v":0},{"$f":"Blad3!G1204","v":0}]
[{"$f":"Blad3!H1205","v":"-"},{"$f":"Tidsram!$B$2","v":0},{"$f":"Tidsram!$B$3","v":0},{"$f":"Blad3!G1205","v":0}]
[{"$f":"Blad3!H1206","v":"-"},{"$f":"Tidsram!$B$2","v":0},{"$f":"Tidsram!$B$3","v":0},{"$f":"Blad3!G1206","v":0}]
[{"$f":"Blad3!H1207","v":"-"},{"$f":"Tidsram!$B$2","v":0},{"$f":"Tidsram!$B$3","v":0},{"$f":"Blad3!G1207","v":0}]
[{"$f":"Blad3!H1208","v":"-"},{"$f":"Tidsram!$B$2","v":0},{"$f":"Tidsram!$B$3","v":0},{"$f":"Blad3!G1208","v":0}]
[{"$f":"Blad3!H1209","v":"-"},{"$f":"Tidsram!$B$2","v":0},{"$f":"Tidsram!$B$3","v":0},{"$f":"Blad3!G1209","v":0}]
[{"$f":"Blad3!H1210","v":"-"},{"$f":"Tidsram!$B$2","v":0},{"$f":"Tidsram!$B$3","v":0},{"$f":"Blad3!G1210","v":0}]
[{"$f":"Blad3!H1211","v":"-"},{"$f":"Tidsram!$B$2","v":0},{"$f":"Tidsram!$B$3","v":0},{"$f":"Blad3!G1211","v":0}]
[{"$f":"Blad3!H1212","v":"-"},{"$f":"Tidsram!$B$2","v":0},{"$f":"Tidsram!$B$3","v":0},{"$f":"Blad3!G1212","v":0}]
[{"$f":"Blad3!H1213","v":"-"},{"$f":"Tidsram!$B$2","v":0},{"$f":"Tidsram!$B$3","v":0},{"$f":"Blad3!G1213","v":0}]
[{"$f":"Blad3!H1214","v":"-"},{"$f":"Tidsram!$B$2","v":0},{"$f":"Tidsram!$B$3","v":0},{"$f":"Blad3!G1214","v":0}]
[{"$f":"Blad3!H1215","v":"-"},{"$f":"Tidsram!$B$2","v":0},{"$f":"Tidsram!$B$3","v":0},{"$f":"Blad3!G1215","v":0}]
[{"$f":"Blad3!H1216","v":"-"},{"$f":"Tidsram!$B$2","v":0},{"$f":"Tidsram!$B$3","v":0},{"$f":"Blad3!G1216","v":0}]
[{"$f":"Blad3!H1217","v":"-"},{"$f":"Tidsram!$B$2","v":0},{"$f":"Tidsram!$B$3","v":0},{"$f":"Blad3!G1217","v":0}]
[{"$f":"Blad3!H1218","v":"-"},{"$f":"Tidsram!$B$2","v":0},{"$f":"Tidsram!$B$3","v":0},{"$f":"Blad3!G1218","v":0}]
[{"$f":"Blad3!H1219","v":"-"},{"$f":"Tidsram!$B$2","v":0},{"$f":"Tidsram!$B$3","v":0},{"$f":"Blad3!G1219","v":0}]
[{"$f":"Blad3!H1220","v":"-"},{"$f":"Tidsram!$B$2","v":0},{"$f":"Tidsram!$B$3","v":0},{"$f":"Blad3!G1220","v":0}]
[{"$f":"Blad3!H1221","v":"-"},{"$f":"Tidsram!$B$2","v":0},{"$f":"Tidsram!$B$3","v":0},{"$f":"Blad3!G1221","v":0}]
[{"$f":"Blad3!H1222","v":"-"},{"$f":"Tidsram!$B$2","v":0},{"$f":"Tidsram!$B$3","v":0},{"$f":"Blad3!G1222","v":0}]
[{"$f":"Blad3!H1223","v":"-"},{"$f":"Tidsram!$B$2","v":0},{"$f":"Tidsram!$B$3","v":0},{"$f":"Blad3!G1223","v":0}]
[{"$f":"Blad3!H1224","v":"-"},{"$f":"Tidsram!$B$2","v":0},{"$f":"Tidsram!$B$3","v":0},{"$f":"Blad3!G1224","v":0}]
[{"$f":"Blad3!H1225","v":"-"},{"$f":"Tidsram!$B$2","v":0},{"$f":"Tidsram!$B$3","v":0},{"$f":"Blad3!G1225","v":0}]
[{"$f":"Blad3!H1226","v":"-"},{"$f":"Tidsram!$B$2","v":0},{"$f":"Tidsram!$B$3","v":0},{"$f":"Blad3!G1226","v":0}]
[{"$f":"Blad3!H1227","v":"-"},{"$f":"Tidsram!$B$2","v":0},{"$f":"Tidsram!$B$3","v":0},{"$f":"Blad3!G1227","v":0}]
[{"$f":"Blad3!H1228","v":"-"},{"$f":"Tidsram!$B$2","v":0},{"$f":"Tidsram!$B$3","v":0},{"$f":"Blad3!G1228","v":0}]
[{"$f":"Blad3!H1229","v":"-"},{"$f":"Tidsram!$B$2","v":0},{"$f":"Tidsram!$B$3","v":0},{"$f":"Blad3!G1229","v":0}]
[{"$f":"Blad3!H1230","v":"-"},{"$f":"Tidsram!$B$2","v":0},{"$f":"Tidsram!$B$3","v":0},{"$f":"Blad3!G1230","v":0}]
[{"$f":"Blad3!H1231","v":"-"},{"$f":"Tidsram!$B$2","v":0},{"$f":"Tidsram!$B$3","v":0},{"$f":"Blad3!G1231","v":0}]
[{"$f":"Blad3!H1232","v":"-"},{"$f":"Tidsram!$B$2","v":0},{"$f":"Tidsram!$B$3","v":0},{"$f":"Blad3!G1232","v":0}]
[{"$f":"Blad3!H1233","v":"-"},{"$f":"Tidsram!$B$2","v":0},{"$f":"Tidsram!$B$3","v":0},{"$f":"Blad3!G1233","v":0}]
[{"$f":"Blad3!H1234","v":"-"},{"$f":"Tidsram!$B$2","v":0},{"$f":"Tidsram!$B$3","v":0},{"$f":"Blad3!G1234","v":0}]
[{"$f":"Blad3!H1235","v":"-"},{"$f":"Tidsram!$B$2","v":0},{"$f":"Tidsram!$B$3","v":0},{"$f":"Blad3!G1235","v":0}]
[{"$f":"Blad3!H1236","v":"-"},{"$f":"Tidsram!$B$2","v":0},{"$f":"Tidsram!$B$3","v":0},{"$f":"Blad3!G1236","v":0}]
[{"$f":"Blad3!H1237","v":"-"},{"$f":"Tidsram!$B$2","v":0},{"$f":"Tidsram!$B$3","v":0},{"$f":"Blad3!G1237","v":0}]
[{"$f":"Blad3!H1238","v":"-"},{"$f":"Tidsram!$B$2","v":0},{"$f":"Tidsram!$B$3","v":0},{"$f":"Blad3!G1238","v":0}]
[{"$f":"Blad3!H1239","v":"-"},{"$f":"Tidsram!$B$2","v":0},{"$f":"Tidsram!$B$3","v":0},{"$f":"Blad3!G1239","v":0}]
[{"$f":"Blad3!H1240","v":"-"},{"$f":"Tidsram!$B$2","v":0},{"$f":"Tidsram!$B$3","v":0},{"$f":"Blad3!G1240","v":0}]
[{"$f":"Blad3!H1241","v":"-"},{"$f":"Tidsram!$B$2","v":0},{"$f":"Tidsram!$B$3","v":0},{"$f":"Blad3!G1241","v":0}]
[{"$f":"Blad3!H1242","v":"-"},{"$f":"Tidsram!$B$2","v":0},{"$f":"Tidsram!$B$3","v":0},{"$f":"Blad3!G1242","v":0}]
[{"$f":"Blad3!H1243","v":"-"},{"$f":"Tidsram!$B$2","v":0},{"$f":"Tidsram!$B$3","v":0},{"$f":"Blad3!G1243","v":0}]
[{"$f":"Blad3!H1244","v":"-"},{"$f":"Tidsram!$B$2","v":0},{"$f":"Tidsram!$B$3","v":0},{"$f":"Blad3!G1244","v":0}]
[{"$f":"Blad3!H1245","v":"-"},{"$f":"Tidsram!$B$2","v":0},{"$f":"Tidsram!$B$3","v":0},{"$f":"Blad3!G1245","v":0}]
[{"$f":"Blad3!H1246","v":"-"},{"$f":"Tidsram!$B$2","v":0},{"$f":"Tidsram!$B$3","v":0},{"$f":"Blad3!G1246","v":0}]
[{"$f":"Blad3!H1247","v":"-"},{"$f":"Tidsram!$B$2","v":0},{"$f":"Tidsram!$B$3","v":0},{"$f":"Blad3!G1247","v":0}]
[{"$f":"Blad3!H1248","v":"-"},{"$f":"Tidsram!$B$2","v":0},{"$f":"Tidsram!$B$3","v":0},{"$f":"Blad3!G1248","v":0}]
[{"$f":"Blad3!H1249","v":"-"},{"$f":"Tidsram!$B$2","v":0},{"$f":"Tidsram!$B$3","v":0},{"$f":"Blad3!G1249","v":0}]
[{"$f":"Blad3!H1250","v":"-"},{"$f":"Tidsram!$B$2","v":0},{"$f":"Tidsram!$B$3","v":0},{"$f":"Blad3!G1250","v":0}]
[{"$f":"Blad3!H1251","v":"-"},{"$f":"Tidsram!$B$2","v":0},{"$f":"Tidsram!$B$3","v":0},{"$f":"Blad3!G1251","v":0}]
[{"$f":"Blad3!H1252","v":"-"},{"$f":"Tidsram!$B$2","v":0},{"$f":"Tidsram!$B$3","v":0},{"$f":"Blad3!G1252","v":0}]
[{"$f":"Blad3!H1253","v":"-"},{"$f":"Tidsram!$B$2","v":0},{"$f":"Tidsram!$B$3","v":0},{"$f":"Blad3!G1253","v":0}]
[{"$f":"Blad3!H1254","v":"-"},{"$f":"Tidsram!$B$2","v":0},{"$f":"Tidsram!$B$3","v":0},{"$f":"Blad3!G1254","v":0}]
[{"$f":"Blad3!H1255","v":"-"},{"$f":"Tidsram!$B$2","v":0},{"$f":"Tidsram!$B$3","v":0},{"$f":"Blad3!G1255","v":0}]
[{"$f":"Blad3!H1256","v":"-"},{"$f":"Tidsram!$B$2","v":0},{"$f":"Tidsram!$B$3","v":0},{"$f":"Blad3!G1256","v":0}]
[{"$f":"Blad3!H1257","v":"-"},{"$f":"Tidsram!$B$2","v":0},{"$f":"Tidsram!$B$3","v":0},{"$f":"Blad3!G1257","v":0}]
[{"$f":"Blad3!H1258","v":"-"},{"$f":"Tidsram!$B$2","v":0},{"$f":"Tidsram!$B$3","v":0},{"$f":"Blad3!G1258","v":0}]
[{"$f":"Blad3!H1259","v":"-"},{"$f":"Tidsram!$B$2","v":0},{"$f":"Tidsram!$B$3","v":0},{"$f":"Blad3!G1259","v":0}]
[{"$f":"Blad3!H1260","v":"-"},{"$f":"Tidsram!$B$2","v":0},{"$f":"Tidsram!$B$3","v":0},{"$f":"Blad3!G1260","v":0}]
[{"$f":"Blad3!H1261","v":"-"},{"$f":"Tidsram!$B$2","v":0},{"$f":"Tidsram!$B$3","v":0},{"$f":"Blad3!G1261","v":0}]
[{"$f":"Blad3!H1262","v":"-"},{"$f":"Tidsram!$B$2","v":0},{"$f":"Tidsram!$B$3","v":0},{"$f":"Blad3!G1262","v":0}]
[{"$f":"Blad3!H1263","v":"-"},{"$f":"Tidsram!$B$2","v":0},{"$f":"Tidsram!$B$3","v":0},{"$f":"Blad3!G1263","v":0}]
[{"$f":"Blad3!H1264","v":"-"},{"$f":"Tidsram!$B$2","v":0},{"$f":"Tidsram!$B$3","v":0},{"$f":"Blad3!G1264","v":0}]
[{"$f":"Blad3!H1265","v":"-"},{"$f":"Tidsram!$B$2","v":0},{"$f":"Tidsram!$B$3","v":0},{"$f":"Blad3!G1265","v":0}]
[{"$f":"Blad3!H1266","v":"-"},{"$f":"Tidsram!$B$2","v":0},{"$f":"Tidsram!$B$3","v":0},{"$f":"Blad3!G1266","v":0}]
[{"$f":"Blad3!H1267","v":"-"},{"$f":"Tidsram!$B$2","v":0},{"$f":"Tidsram!$B$3","v":0},{"$f":"Blad3!G1267","v":0}]
[{"$f":"Blad3!H1268","v":"-"},{"$f":"Tidsram!$B$2","v":0},{"$f":"Tidsram!$B$3","v":0},{"$f":"Blad3!G1268","v":0}]
[{"$f":"Blad3!H1269","v":"-"},{"$f":"Tidsram!$B$2","v":0},{"$f":"Tidsram!$B$3","v":0},{"$f":"Blad3!G1269","v":0}]
[{"$f":"Blad3!H1270","v":"-"},{"$f":"Tidsram!$B$2","v":0},{"$f":"Tidsram!$B$3","v":0},{"$f":"Blad3!G1270","v":0}]
[{"$f":"Blad3!H1271","v":"-"},{"$f":"Tidsram!$B$2","v":0},{"$f":"Tidsram!$B$3","v":0},{"$f":"Blad3!G1271","v":0}]
[{"$f":"Blad3!H1272","v":"-"},{"$f":"Tidsram!$B$2","v":0},{"$f":"Tidsram!$B$3","v":0},{"$f":"Blad3!G1272","v":0}]
[{"$f":"Blad3!H1273","v":"-"},{"$f":"Tidsram!$B$2","v":0},{"$f":"Tidsram!$B$3","v":0},{"$f":"Blad3!G1273","v":0}]
[{"$f":"Blad3!H1274","v":"-"},{"$f":"Tidsram!$B$2","v":0},{"$f":"Tidsram!$B$3","v":0},{"$f":"Blad3!G1274","v":0}]
[{"$f":"Blad3!H1275","v":"-"},{"$f":"Tidsram!$B$2","v":0},{"$f":"Tidsram!$B$3","v":0},{"$f":"Blad3!G1275","v":0}]
[{"$f":"Blad3!H1276","v":"-"},{"$f":"Tidsram!$B$2","v":0},{"$f":"Tidsram!$B$3","v":0},{"$f":"Blad3!G1276","v":0}]
[{"$f":"Blad3!H1277","v":"-"},{"$f":"Tidsram!$B$2","v":0},{"$f":"Tidsram!$B$3","v":0},{"$f":"Blad3!G1277","v":0}]
[{"$f":"Blad3!H1278","v":"-"},{"$f":"Tidsram!$B$2","v":0},{"$f":"Tidsram!$B$3","v":0},{"$f":"Blad3!G1278","v":0}]
[{"$f":"Blad3!H1279","v":"-"},{"$f":"Tidsram!$B$2","v":0},{"$f":"Tidsram!$B$3","v":0},{"$f":"Blad3!G1279","v":0}]
[{"$f":"Blad3!H1280","v":"-"},{"$f":"Tidsram!$B$2","v":0},{"$f":"Tidsram!$B$3","v":0},{"$f":"Blad3!G1280","v":0}]
[{"$f":"Blad3!H1281","v":"-"},{"$f":"Tidsram!$B$2","v":0},{"$f":"Tidsram!$B$3","v":0},{"$f":"Blad3!G1281","v":0}]
[{"$f":"Blad3!H1282","v":"-"},{"$f":"Tidsram!$B$2","v":0},{"$f":"Tidsram!$B$3","v":0},{"$f":"Blad3!G1282","v":0}]
[{"$f":"Blad3!H1283","v":"-"},{"$f":"Tidsram!$B$2","v":0},{"$f":"Tidsram!$B$3","v":0},{"$f":"Blad3!G1283","v":0}]
[{"$f":"Blad3!H1284","v":"-"},{"$f":"Tidsram!$B$2","v":0},{"$f":"Tidsram!$B$3","v":0},{"$f":"Blad3!G1284","v":0}]
[{"$f":"Blad3!H1285","v":"-"},{"$f":"Tidsram!$B$2","v":0},{"$f":"Tidsram!$B$3","v":0},{"$f":"Blad3!G1285","v":0}]
[{"$f":"Blad3!H1286","v":"-"},{"$f":"Tidsram!$B$2","v":0},{"$f":"Tidsram!$B$3","v":0},{"$f":"Blad3!G1286","v":0}]
[{"$f":"Blad3!H1287","v":"-"},{"$f":"Tidsram!$B$2","v":0},{"$f":"Tidsram!$B$3","v":0},{"$f":"Blad3!G1287","v":0}]
[{"$f":"Blad3!H1288","v":"-"},{"$f":"Tidsram!$B$2","v":0},{"$f":"Tidsram!$B$3","v":0},{"$f":"Blad3!G1288","v":0}]
[{"$f":"Blad3!H1289","v":"-"},{"$f":"Tidsram!$B$2","v":0},{"$f":"Tidsram!$B$3","v":0},{"$f":"Blad3!G1289","v":0}]
[{"$f":"Blad3!H1290","v":"-"},{"$f":"Tidsram!$B$2","v":0},{"$f":"Tidsram!$B$3","v":0},{"$f":"Blad3!G1290","v":0}]
[{"$f":"Blad3!H1291","v":"-"},{"$f":"Tidsram!$B$2","v":0},{"$f":"Tidsram!$B$3","v":0},{"$f":"Blad3!G1291","v":0}]
[{"$f":"Blad3!H1292","v":"-"},{"$f":"Tidsram!$B$2","v":0},{"$f":"Tidsram!$B$3","v":0},{"$f":"Blad3!G1292","v":0}]
[{"$f":"Blad3!H1293","v":"-"},{"$f":"Tidsram!$B$2","v":0},{"$f":"Tidsram!$B$3","v":0},{"$f":"Blad3!G1293","v":0}]
[{"$f":"Blad3!H1294","v":"-"},{"$f":"Tidsram!$B$2","v":0},{"$f":"Tidsram!$B$3","v":0},{"$f":"Blad3!G1294","v":0}]
[{"$f":"Blad3!H1295","v":"-"},{"$f":"Tidsram!$B$2","v":0},{"$f":"Tidsram!$B$3","v":0},{"$f":"Blad3!G1295","v":0}]
[{"$f":"Blad3!H1296","v":"-"},{"$f":"Tidsram!$B$2","v":0},{"$f":"Tidsram!$B$3","v":0},{"$f":"Blad3!G1296","v":0}]
[{"$f":"Blad3!H1297","v":"-"},{"$f":"Tidsram!$B$2","v":0},{"$f":"Tidsram!$B$3","v":0},{"$f":"Blad3!G1297","v":0}]
[{"$f":"Blad3!H1298","v":"-"},{"$f":"Tidsram!$B$2","v":0},{"$f":"Tidsram!$B$3","v":0},{"$f":"Blad3!G1298","v":0}]
[{"$f":"Blad3!H1299","v":"-"},{"$f":"Tidsram!$B$2","v":0},{"$f":"Tidsram!$B$3","v":0},{"$f":"Blad3!G1299","v":0}]
[{"$f":"Blad3!H1300","v":"-"},{"$f":"Tidsram!$B$2","v":0},{"$f":"Tidsram!$B$3","v":0},{"$f":"Blad3!G1300","v":0}]
[{"$f":"Blad3!H1301","v":"-"},{"$f":"Tidsram!$B$2","v":0},{"$f":"Tidsram!$B$3","v":0},{"$f":"Blad3!G1301","v":0}]
[{"$f":"Blad3!H1302","v":"-"},{"$f":"Tidsram!$B$2","v":0},{"$f":"Tidsram!$B$3","v":0},{"$f":"Blad3!G1302","v":0}]
[{"$f":"Blad3!H1303","v":"-"},{"$f":"Tidsram!$B$2","v":0},{"$f":"Tidsram!$B$3","v":0},{"$f":"Blad3!G1303","v":0}]
[{"$f":"Blad3!H1304","v":"-"},{"$f":"Tidsram!$B$2","v":0},{"$f":"Tidsram!$B$3","v":0},{"$f":"Blad3!G1304","v":0}]
[{"$f":"Blad3!H1305","v":"-"},{"$f":"Tidsram!$B$2","v":0},{"$f":"Tidsram!$B$3","v":0},{"$f":"Blad3!G1305","v":0}]
[{"$f":"Blad3!H1306","v":"-"},{"$f":"Tidsram!$B$2","v":0},{"$f":"Tidsram!$B$3","v":0},{"$f":"Blad3!G1306","v":0}]
[{"$f":"Blad3!H1307","v":"-"},{"$f":"Tidsram!$B$2","v":0},{"$f":"Tidsram!$B$3","v":0},{"$f":"Blad3!G1307","v":0}]
[{"$f":"Blad3!H1308","v":"-"},{"$f":"Tidsram!$B$2","v":0},{"$f":"Tidsram!$B$3","v":0},{"$f":"Blad3!G1308","v":0}]
[{"$f":"Blad3!H1309","v":"-"},{"$f":"Tidsram!$B$2","v":0},{"$f":"Tidsram!$B$3","v":0},{"$f":"Blad3!G1309","v":0}]
[{"$f":"Blad3!H1310","v":"-"},{"$f":"Tidsram!$B$2","v":0},{"$f":"Tidsram!$B$3","v":0},{"$f":"Blad3!G1310","v":0}]
[{"$f":"Blad3!H1311","v":"-"},{"$f":"Tidsram!$B$2","v":0},{"$f":"Tidsram!$B$3","v":0},{"$f":"Blad3!G1311","v":0}]
[{"$f":"Blad3!H1312","v":"-"},{"$f":"Tidsram!$B$2","v":0},{"$f":"Tidsram!$B$3","v":0},{"$f":"Blad3!G1312","v":0}]
[{"$f":"Blad3!H1313","v":"-"},{"$f":"Tidsram!$B$2","v":0},{"$f":"Tidsram!$B$3","v":0},{"$f":"Blad3!G1313","v":0}]
[{"$f":"Blad3!H1314","v":"-"},{"$f":"Tidsram!$B$2","v":0},{"$f":"Tidsram!$B$3","v":0},{"$f":"Blad3!G1314","v":0}]
[{"$f":"Blad3!H1315","v":"-"},{"$f":"Tidsram!$B$2","v":0},{"$f":"Tidsram!$B$3","v":0},{"$f":"Blad3!G1315","v":0}]
[{"$f":"Blad3!H1316","v":"-"},{"$f":"Tidsram!$B$2","v":0},{"$f":"Tidsram!$B$3","v":0},{"$f":"Blad3!G1316","v":0}]
[{"$f":"Blad3!H1317","v":"-"},{"$f":"Tidsram!$B$2","v":0},{"$f":"Tidsram!$B$3","v":0},{"$f":"Blad3!G1317","v":0}]
[{"$f":"Blad3!H1318","v":"-"},{"$f":"Tidsram!$B$2","v":0},{"$f":"Tidsram!$B$3","v":0},{"$f":"Blad3!G1318","v":0}]
[{"$f":"Blad3!H1319","v":"-"},{"$f":"Tidsram!$B$2","v":0},{"$f":"Tidsram!$B$3","v":0},{"$f":"Blad3!G1319","v":0}]
[{"$f":"Blad3!H1320","v":"-"},{"$f":"Tidsram!$B$2","v":0},{"$f":"Tidsram!$B$3","v":0},{"$f":"Blad3!G1320","v":0}]
[{"$f":"Blad3!H1321","v":"-"},{"$f":"Tidsram!$B$2","v":0},{"$f":"Tidsram!$B$3","v":0},{"$f":"Blad3!G1321","v":0}]
[{"$f":"Blad3!H1322","v":"-"},{"$f":"Tidsram!$B$2","v":0},{"$f":"Tidsram!$B$3","v":0},{"$f":"Blad3!G1322","v":0}]
[{"$f":"Blad3!H1323","v":"-"},{"$f":"Tidsram!$B$2","v":0},{"$f":"Tidsram!$B$3","v":0},{"$f":"Blad3!G1323","v":0}]
[{"$f":"Blad3!H1324","v":"-"},{"$f":"Tidsram!$B$2","v":0},{"$f":"Tidsram!$B$3","v":0},{"$f":"Blad3!G1324","v":0}]
[{"$f":"Blad3!H1325","v":"-"},{"$f":"Tidsram!$B$2","v":0},{"$f":"Tidsram!$B$3","v":0},{"$f":"Blad3!G1325","v":0}]
[{"$f":"Blad3!H1326","v":"-"},{"$f":"Tidsram!$B$2","v":0},{"$f":"Tidsram!$B$3","v":0},{"$f":"Blad3!G1326","v":0}]
[{"$f":"Blad3!H1327","v":"-"},{"$f":"Tidsram!$B$2","v":0},{"$f":"Tidsram!$B$3","v":0},{"$f":"Blad3!G1327","v":0}]
[{"$f":"Blad3!H1328","v":"-"},{"$f":"Tidsram!$B$2","v":0},{"$f":"Tidsram!$B$3","v":0},{"$f":"Blad3!G1328","v":0}]
[{"$f":"Blad3!H1329","v":"-"},{"$f":"Tidsram!$B$2","v":0},{"$f":"Tidsram!$B$3","v":0},{"$f":"Blad3!G1329","v":0}]
[{"$f":"Blad3!H1330","v":"-"},{"$f":"Tidsram!$B$2","v":0},{"$f":"Tidsram!$B$3","v":0},{"$f":"Blad3!G1330","v":0}]
[{"$f":"Blad3!H1331","v":"-"},{"$f":"Tidsram!$B$2","v":0},{"$f":"Tidsram!$B$3","v":0},{"$f":"Blad3!G1331","v":0}]
[{"$f":"Blad3!H1332","v":"-"},{"$f":"Tidsram!$B$2","v":0},{"$f":"Tidsram!$B$3","v":0},{"$f":"Blad3!G1332","v":0}]
[{"$f":"Blad3!H1333","v":"-"},{"$f":"Tidsram!$B$2","v":0},{"$f":"Tidsram!$B$3","v":0},{"$f":"Blad3!G1333","v":0}]
[{"$f":"Blad3!H1334","v":"-"},{"$f":"Tidsram!$B$2","v":0},{"$f":"Tidsram!$B$3","v":0},{"$f":"Blad3!G1334","v":0}]
[{"$f":"Blad3!H1335","v":"-"},{"$f":"Tidsram!$B$2","v":0},{"$f":"Tidsram!$B$3","v":0},{"$f":"Blad3!G1335","v":0}]
[{"$f":"Blad3!H1336","v":"-"},{"$f":"Tidsram!$B$2","v":0},{"$f":"Tidsram!$B$3","v":0},{"$f":"Blad3!G1336","v":0}]
[{"$f":"Blad3!H1337","v":"-"},{"$f":"Tidsram!$B$2","v":0},{"$f":"Tidsram!$B$3","v":0},{"$f":"Blad3!G1337","v":0}]
[{"$f":"Blad3!H1338","v":"-"},{"$f":"Tidsram!$B$2","v":0},{"$f":"Tidsram!$B$3","v":0},{"$f":"Blad3!G1338","v":0}]
[{"$f":"Blad3!H1339","v":"-"},{"$f":"Tidsram!$B$2","v":0},{"$f":"Tidsram!$B$3","v":0},{"$f":"Blad3!G1339","v":0}]
[{"$f":"Blad3!H1340","v":"-"},{"$f":"Tidsram!$B$2","v":0},{"$f":"Tidsram!$B$3","v":0},{"$f":"Blad3!G1340","v":0}]
[{"$f":"Blad3!H1341","v":"-"},{"$f":"Tidsram!$B$2","v":0},{"$f":"Tidsram!$B$3","v":0},{"$f":"Blad3!G1341","v":0}]
[{"$f":"Blad3!H1342","v":"-"},{"$f":"Tidsram!$B$2","v":0},{"$f":"Tidsram!$B$3","v":0},{"$f":"Blad3!G1342","v":0}]
[{"$f":"Blad3!H1343","v":"-"},{"$f":"Tidsram!$B$2","v":0},{"$f":"Tidsram!$B$3","v":0},{"$f":"Blad3!G1343","v":0}]
[{"$f":"Blad3!H1344","v":"-"},{"$f":"Tidsram!$B$2","v":0},{"$f":"Tidsram!$B$3","v":0},{"$f":"Blad3!G1344","v":0}]
[{"$f":"Blad3!H1345","v":"-"},{"$f":"Tidsram!$B$2","v":0},{"$f":"Tidsram!$B$3","v":0},{"$f":"Blad3!G1345","v":0}]
[{"$f":"Blad3!H1346","v":"-"},{"$f":"Tidsram!$B$2","v":0},{"$f":"Tidsram!$B$3","v":0},{"$f":"Blad3!G1346","v":0}]
[{"$f":"Blad3!H1347","v":"-"},{"$f":"Tidsram!$B$2","v":0},{"$f":"Tidsram!$B$3","v":0},{"$f":"Blad3!G1347","v":0}]
[{"$f":"Blad3!H1348","v":"-"},{"$f":"Tidsram!$B$2","v":0},{"$f":"Tidsram!$B$3","v":0},{"$f":"Blad3!G1348","v":0}]
[{"$f":"Blad3!H1349","v":"-"},{"$f":"Tidsram!$B$2","v":0},{"$f":"Tidsram!$B$3","v":0},{"$f":"Blad3!G1349","v":0}]
[{"$f":"Blad3!H1350","v":"-"},{"$f":"Tidsram!$B$2","v":0},{"$f":"Tidsram!$B$3","v":0},{"$f":"Blad3!G1350","v":0}]
[{"$f":"Blad3!H1351","v":"-"},{"$f":"Tidsram!$B$2","v":0},{"$f":"Tidsram!$B$3","v":0},{"$f":"Blad3!G1351","v":0}]
[{"$f":"Blad3!H1352","v":"-"},{"$f":"Tidsram!$B$2","v":0},{"$f":"Tidsram!$B$3","v":0},{"$f":"Blad3!G1352","v":0}]
[{"$f":"Blad3!H1353","v":"-"},{"$f":"Tidsram!$B$2","v":0},{"$f":"Tidsram!$B$3","v":0},{"$f":"Blad3!G1353","v":0}]
[{"$f":"Blad3!H1354","v":"-"},{"$f":"Tidsram!$B$2","v":0},{"$f":"Tidsram!$B$3","v":0},{"$f":"Blad3!G1354","v":0}]
[{"$f":"Blad3!H1355","v":"-"},{"$f":"Tidsram!$B$2","v":0},{"$f":"Tidsram!$B$3","v":0},{"$f":"Blad3!G1355","v":0}]
[{"$f":"Blad3!H1356","v":"-"},{"$f":"Tidsram!$B$2","v":0},{"$f":"Tidsram!$B$3","v":0},{"$f":"Blad3!G1356","v":0}]
[{"$f":"Blad3!H1357","v":"-"},{"$f":"Tidsram!$B$2","v":0},{"$f":"Tidsram!$B$3","v":0},{"$f":"Blad3!G1357","v":0}]
[{"$f":"Blad3!H1358","v":"-"},{"$f":"Tidsram!$B$2","v":0},{"$f":"Tidsram!$B$3","v":0},{"$f":"Blad3!G1358","v":0}]
[{"$f":"Blad3!H1359","v":"-"},{"$f":"Tidsram!$B$2","v":0},{"$f":"Tidsram!$B$3","v":0},{"$f":"Blad3!G1359","v":0}]
[{"$f":"Blad3!H1360","v":"-"},{"$f":"Tidsram!$B$2","v":0},{"$f":"Tidsram!$B$3","v":0},{"$f":"Blad3!G1360","v":0}]
[{"$f":"Blad3!H1361","v":"-"},{"$f":"Tidsram!$B$2","v":0},{"$f":"Tidsram!$B$3","v":0},{"$f":"Blad3!G1361","v":0}]
[{"$f":"Blad3!H1362","v":"-"},{"$f":"Tidsram!$B$2","v":0},{"$f":"Tidsram!$B$3","v":0},{"$f":"Blad3!G1362","v":0}]
[{"$f":"Blad3!H1363","v":"-"},{"$f":"Tidsram!$B$2","v":0},{"$f":"Tidsram!$B$3","v":0},{"$f":"Blad3!G1363","v":0}]
[{"$f":"Blad3!H1364","v":"-"},{"$f":"Tidsram!$B$2","v":0},{"$f":"Tidsram!$B$3","v":0},{"$f":"Blad3!G1364","v":0}]
[{"$f":"Blad3!H1365","v":"-"},{"$f":"Tidsram!$B$2","v":0},{"$f":"Tidsram!$B$3","v":0},{"$f":"Blad3!G1365","v":0}]
[{"$f":"Blad3!H1366","v":"-"},{"$f":"Tidsram!$B$2","v":0},{"$f":"Tidsram!$B$3","v":0},{"$f":"Blad3!G1366","v":0}]
[{"$f":"Blad3!H1367","v":"-"},{"$f":"Tidsram!$B$2","v":0},{"$f":"Tidsram!$B$3","v":0},{"$f":"Blad3!G1367","v":0}]
[{"$f":"Blad3!H1368","v":"-"},{"$f":"Tidsram!$B$2","v":0},{"$f":"Tidsram!$B$3","v":0},{"$f":"Blad3!G1368","v":0}]
[{"$f":"Blad3!H1369","v":"-"},{"$f":"Tidsram!$B$2","v":0},{"$f":"Tidsram!$B$3","v":0},{"$f":"Blad3!G1369","v":0}]
[{"$f":"Blad3!H1370","v":"-"},{"$f":"Tidsram!$B$2","v":0},{"$f":"Tidsram!$B$3","v":0},{"$f":"Blad3!G1370","v":0}]
[{"$f":"Blad3!H1371","v":"-"},{"$f":"Tidsram!$B$2","v":0},{"$f":"Tidsram!$B$3","v":0},{"$f":"Blad3!G1371","v":0}]
[{"$f":"Blad3!H1372","v":"-"},{"$f":"Tidsram!$B$2","v":0},{"$f":"Tidsram!$B$3","v":0},{"$f":"Blad3!G1372","v":0}]
[{"$f":"Blad3!H1373","v":"-"},{"$f":"Tidsram!$B$2","v":0},{"$f":"Tidsram!$B$3","v":0},{"$f":"Blad3!G1373","v":0}]
[{"$f":"Blad3!H1374","v":"-"},{"$f":"Tidsram!$B$2","v":0},{"$f":"Tidsram!$B$3","v":0},{"$f":"Blad3!G1374","v":0}]
[{"$f":"Blad3!H1375","v":"-"},{"$f":"Tidsram!$B$2","v":0},{"$f":"Tidsram!$B$3","v":0},{"$f":"Blad3!G1375","v":0}]
[{"$f":"Blad3!H1376","v":"-"},{"$f":"Tidsram!$B$2","v":0},{"$f":"Tidsram!$B$3","v":0},{"$f":"Blad3!G1376","v":0}]
[{"$f":"Blad3!H1377","v":"-"},{"$f":"Tidsram!$B$2","v":0},{"$f":"Tidsram!$B$3","v":0},{"$f":"Blad3!G1377","v":0}]
[{"$f":"Blad3!H1378","v":"-"},{"$f":"Tidsram!$B$2","v":0},{"$f":"Tidsram!$B$3","v":0},{"$f":"Blad3!G1378","v":0}]
[{"$f":"Blad3!H1379","v":"-"},{"$f":"Tidsram!$B$2","v":0},{"$f":"Tidsram!$B$3","v":0},{"$f":"Blad3!G1379","v":0}]
[{"$f":"Blad3!H1380","v":"-"},{"$f":"Tidsram!$B$2","v":0},{"$f":"Tidsram!$B$3","v":0},{"$f":"Blad3!G1380","v":0}]
[{"$f":"Blad3!H1381","v":"-"},{"$f":"Tidsram!$B$2","v":0},{"$f":"Tidsram!$B$3","v":0},{"$f":"Blad3!G1381","v":0}]
[{"$f":"Blad3!H1382","v":"-"},{"$f":"Tidsram!$B$2","v":0},{"$f":"Tidsram!$B$3","v":0},{"$f":"Blad3!G1382","v":0}]
[{"$f":"Blad3!H1383","v":"-"},{"$f":"Tidsram!$B$2","v":0},{"$f":"Tidsram!$B$3","v":0},{"$f":"Blad3!G1383","v":0}]
[{"$f":"Blad3!H1384","v":"-"},{"$f":"Tidsram!$B$2","v":0},{"$f":"Tidsram!$B$3","v":0},{"$f":"Blad3!G1384","v":0}]
[{"$f":"Blad3!H1385","v":"-"},{"$f":"Tidsram!$B$2","v":0},{"$f":"Tidsram!$B$3","v":0},{"$f":"Blad3!G1385","v":0}]
[{"$f":"Blad3!H1386","v":"-"},{"$f":"Tidsram!$B$2","v":0},{"$f":"Tidsram!$B$3","v":0},{"$f":"Blad3!G1386","v":0}]
[{"$f":"Blad3!H1387","v":"-"},{"$f":"Tidsram!$B$2","v":0},{"$f":"Tidsram!$B$3","v":0},{"$f":"Blad3!G1387","v":0}]
[{"$f":"Blad3!H1388","v":"-"},{"$f":"Tidsram!$B$2","v":0},{"$f":"Tidsram!$B$3","v":0},{"$f":"Blad3!G1388","v":0}]
[{"$f":"Blad3!H1389","v":"-"},{"$f":"Tidsram!$B$2","v":0},{"$f":"Tidsram!$B$3","v":0},{"$f":"Blad3!G1389","v":0}]
[{"$f":"Blad3!H1390","v":"-"},{"$f":"Tidsram!$B$2","v":0},{"$f":"Tidsram!$B$3","v":0},{"$f":"Blad3!G1390","v":0}]
[{"$f":"Blad3!H1391","v":"-"},{"$f":"Tidsram!$B$2","v":0},{"$f":"Tidsram!$B$3","v":0},{"$f":"Blad3!G1391","v":0}]
[{"$f":"Blad3!H1392","v":"-"},{"$f":"Tidsram!$B$2","v":0},{"$f":"Tidsram!$B$3","v":0},{"$f":"Blad3!G1392","v":0}]
[{"$f":"Blad3!H1393","v":"-"},{"$f":"Tidsram!$B$2","v":0},{"$f":"Tidsram!$B$3","v":0},{"$f":"Blad3!G1393","v":0}]
[{"$f":"Blad3!H1394","v":"-"},{"$f":"Tidsram!$B$2","v":0},{"$f":"Tidsram!$B$3","v":0},{"$f":"Blad3!G1394","v":0}]
[{"$f":"Blad3!H1395","v":"-"},{"$f":"Tidsram!$B$2","v":0},{"$f":"Tidsram!$B$3","v":0},{"$f":"Blad3!G1395","v":0}]
[{"$f":"Blad3!H1396","v":"-"},{"$f":"Tidsram!$B$2","v":0},{"$f":"Tidsram!$B$3","v":0},{"$f":"Blad3!G1396","v":0}]
[{"$f":"Blad3!H1397","v":"-"},{"$f":"Tidsram!$B$2","v":0},{"$f":"Tidsram!$B$3","v":0},{"$f":"Blad3!G1397","v":0}]
[{"$f":"Blad3!H1398","v":"-"},{"$f":"Tidsram!$B$2","v":0},{"$f":"Tidsram!$B$3","v":0},{"$f":"Blad3!G1398","v":0}]
[{"$f":"Blad3!H1399","v":"-"},{"$f":"Tidsram!$B$2","v":0},{"$f":"Tidsram!$B$3","v":0},{"$f":"Blad3!G1399","v":0}]
[{"$f":"Blad3!H1400","v":"-"},{"$f":"Tidsram!$B$2","v":0},{"$f":"Tidsram!$B$3","v":0},{"$f":"Blad3!G1400","v":0}]
[{"$f":"Blad3!H1401","v":"-"},{"$f":"Tidsram!$B$2","v":0},{"$f":"Tidsram!$B$3","v":0},{"$f":"Blad3!G1401","v":0}]
[{"$f":"Blad3!H1402","v":"-"},{"$f":"Tidsram!$B$2","v":0},{"$f":"Tidsram!$B$3","v":0},{"$f":"Blad3!G1402","v":0}]
[{"$f":"Blad3!H1403","v":"-"},{"$f":"Tidsram!$B$2","v":0},{"$f":"Tidsram!$B$3","v":0},{"$f":"Blad3!G1403","v":0}]
[{"$f":"Blad3!H1404","v":"-"},{"$f":"Tidsram!$B$2","v":0},{"$f":"Tidsram!$B$3","v":0},{"$f":"Blad3!G1404","v":0}]
[{"$f":"Blad3!H1405","v":"-"},{"$f":"Tidsram!$B$2","v":0},{"$f":"Tidsram!$B$3","v":0},{"$f":"Blad3!G1405","v":0}]
[{"$f":"Blad3!H1406","v":"-"},{"$f":"Tidsram!$B$2","v":0},{"$f":"Tidsram!$B$3","v":0},{"$f":"Blad3!G1406","v":0}]
[{"$f":"Blad3!H1407","v":"-"},{"$f":"Tidsram!$B$2","v":0},{"$f":"Tidsram!$B$3","v":0},{"$f":"Blad3!G1407","v":0}]
[{"$f":"Blad3!H1408","v":"-"},{"$f":"Tidsram!$B$2","v":0},{"$f":"Tidsram!$B$3","v":0},{"$f":"Blad3!G1408","v":0}]
[{"$f":"Blad3!H1409","v":"-"},{"$f":"Tidsram!$B$2","v":0},{"$f":"Tidsram!$B$3","v":0},{"$f":"Blad3!G1409","v":0}]
[{"$f":"Blad3!H1410","v":"-"},{"$f":"Tidsram!$B$2","v":0},{"$f":"Tidsram!$B$3","v":0},{"$f":"Blad3!G1410","v":0}]
[{"$f":"Blad3!H1411","v":"-"},{"$f":"Tidsram!$B$2","v":0},{"$f":"Tidsram!$B$3","v":0},{"$f":"Blad3!G1411","v":0}]
[{"$f":"Blad3!H1412","v":"-"},{"$f":"Tidsram!$B$2","v":0},{"$f":"Tidsram!$B$3","v":0},{"$f":"Blad3!G1412","v":0}]
[{"$f":"Blad3!H1413","v":"-"},{"$f":"Tidsram!$B$2","v":0},{"$f":"Tidsram!$B$3","v":0},{"$f":"Blad3!G1413","v":0}]
[{"$f":"Blad3!H1414","v":"-"},{"$f":"Tidsram!$B$2","v":0},{"$f":"Tidsram!$B$3","v":0},{"$f":"Blad3!G1414","v":0}]
[{"$f":"Blad3!H1415","v":"-"},{"$f":"Tidsram!$B$2","v":0},{"$f":"Tidsram!$B$3","v":0},{"$f":"Blad3!G1415","v":0}]
[{"$f":"Blad3!H1416","v":"-"},{"$f":"Tidsram!$B$2","v":0},{"$f":"Tidsram!$B$3","v":0},{"$f":"Blad3!G1416","v":0}]
[{"$f":"Blad3!H1417","v":"-"},{"$f":"Tidsram!$B$2","v":0},{"$f":"Tidsram!$B$3","v":0},{"$f":"Blad3!G1417","v":0}]
[{"$f":"Blad3!H1418","v":"-"},{"$f":"Tidsram!$B$2","v":0},{"$f":"Tidsram!$B$3","v":0},{"$f":"Blad3!G1418","v":0}]
[{"$f":"Blad3!H1419","v":"-"},{"$f":"Tidsram!$B$2","v":0},{"$f":"Tidsram!$B$3","v":0},{"$f":"Blad3!G1419","v":0}]
[{"$f":"Blad3!H1420","v":"-"},{"$f":"Tidsram!$B$2","v":0},{"$f":"Tidsram!$B$3","v":0},{"$f":"Blad3!G1420","v":0}]
[{"$f":"Blad3!H1421","v":"-"},{"$f":"Tidsram!$B$2","v":0},{"$f":"Tidsram!$B$3","v":0},{"$f":"Blad3!G1421","v":0}]
[{"$f":"Blad3!H1422","v":"-"},{"$f":"Tidsram!$B$2","v":0},{"$f":"Tidsram!$B$3","v":0},{"$f":"Blad3!G1422","v":0}]
[{"$f":"Blad3!H1423","v":"-"},{"$f":"Tidsram!$B$2","v":0},{"$f":"Tidsram!$B$3","v":0},{"$f":"Blad3!G1423","v":0}]
[{"$f":"Blad3!H1424","v":"-"},{"$f":"Tidsram!$B$2","v":0},{"$f":"Tidsram!$B$3","v":0},{"$f":"Blad3!G1424","v":0}]
[{"$f":"Blad3!H1425","v":"-"},{"$f":"Tidsram!$B$2","v":0},{"$f":"Tidsram!$B$3","v":0},{"$f":"Blad3!G1425","v":0}]
[{"$f":"Blad3!H1426","v":"-"},{"$f":"Tidsram!$B$2","v":0},{"$f":"Tidsram!$B$3","v":0},{"$f":"Blad3!G1426","v":0}]
[{"$f":"Blad3!H1427","v":"-"},{"$f":"Tidsram!$B$2","v":0},{"$f":"Tidsram!$B$3","v":0},{"$f":"Blad3!G1427","v":0}]
[{"$f":"Blad3!H1428","v":"-"},{"$f":"Tidsram!$B$2","v":0},{"$f":"Tidsram!$B$3","v":0},{"$f":"Blad3!G1428","v":0}]
[{"$f":"Blad3!H1429","v":"-"},{"$f":"Tidsram!$B$2","v":0},{"$f":"Tidsram!$B$3","v":0},{"$f":"Blad3!G1429","v":0}]
[{"$f":"Blad3!H1430","v":"-"},{"$f":"Tidsram!$B$2","v":0},{"$f":"Tidsram!$B$3","v":0},{"$f":"Blad3!G1430","v":0}]
[{"$f":"Blad3!H1431","v":"-"},{"$f":"Tidsram!$B$2","v":0},{"$f":"Tidsram!$B$3","v":0},{"$f":"Blad3!G1431","v":0}]
[{"$f":"Blad3!H1432","v":"-"},{"$f":"Tidsram!$B$2","v":0},{"$f":"Tidsram!$B$3","v":0},{"$f":"Blad3!G1432","v":0}]
[{"$f":"Blad3!H1433","v":"-"},{"$f":"Tidsram!$B$2","v":0},{"$f":"Tidsram!$B$3","v":0},{"$f":"Blad3!G1433","v":0}]
[{"$f":"Blad3!H1434","v":"-"},{"$f":"Tidsram!$B$2","v":0},{"$f":"Tidsram!$B$3","v":0},{"$f":"Blad3!G1434","v":0}]
[{"$f":"Blad3!H1435","v":"-"},{"$f":"Tidsram!$B$2","v":0},{"$f":"Tidsram!$B$3","v":0},{"$f":"Blad3!G1435","v":0}]
[{"$f":"Blad3!H1436","v":"-"},{"$f":"Tidsram!$B$2","v":0},{"$f":"Tidsram!$B$3","v":0},{"$f":"Blad3!G1436","v":0}]
[{"$f":"Blad3!H1437","v":"-"},{"$f":"Tidsram!$B$2","v":0},{"$f":"Tidsram!$B$3","v":0},{"$f":"Blad3!G1437","v":0}]
[{"$f":"Blad3!H1438","v":"-"},{"$f":"Tidsram!$B$2","v":0},{"$f":"Tidsram!$B$3","v":0},{"$f":"Blad3!G1438","v":0}]
[{"$f":"Blad3!H1439","v":"-"},{"$f":"Tidsram!$B$2","v":0},{"$f":"Tidsram!$B$3","v":0},{"$f":"Blad3!G1439","v":0}]
[{"$f":"Blad3!H1440","v":"-"},{"$f":"Tidsram!$B$2","v":0},{"$f":"Tidsram!$B$3","v":0},{"$f":"Blad3!G1440","v":0}]
[{"$f":"Blad3!H1441","v":"-"},{"$f":"Tidsram!$B$2","v":0},{"$f":"Tidsram!$B$3","v":0},{"$f":"Blad3!G1441","v":0}]
[{"$f":"Blad3!H1442","v":"-"},{"$f":"Tidsram!$B$2","v":0},{"$f":"Tidsram!$B$3","v":0},{"$f":"Blad3!G1442","v":0}]
[{"$f":"Blad3!H1443","v":"-"},{"$f":"Tidsram!$B$2","v":0},{"$f":"Tidsram!$B$3","v":0},{"$f":"Blad3!G1443","v":0}]
[{"$f":"Blad3!H1444","v":"-"},{"$f":"Tidsram!$B$2","v":0},{"$f":"Tidsram!$B$3","v":0},{"$f":"Blad3!G1444","v":0}]
[{"$f":"Blad3!H1445","v":"-"},{"$f":"Tidsram!$B$2","v":0},{"$f":"Tidsram!$B$3","v":0},{"$f":"Blad3!G1445","v":0}]
[{"$f":"Blad3!H1446","v":"-"},{"$f":"Tidsram!$B$2","v":0},{"$f":"Tidsram!$B$3","v":0},{"$f":"Blad3!G1446","v":0}]
[{"$f":"Blad3!H1447","v":"-"},{"$f":"Tidsram!$B$2","v":0},{"$f":"Tidsram!$B$3","v":0},{"$f":"Blad3!G1447","v":0}]
[{"$f":"Blad3!H1448","v":"-"},{"$f":"Tidsram!$B$2","v":0},{"$f":"Tidsram!$B$3","v":0},{"$f":"Blad3!G1448","v":0}]
[{"$f":"Blad3!H1449","v":"-"},{"$f":"Tidsram!$B$2","v":0},{"$f":"Tidsram!$B$3","v":0},{"$f":"Blad3!G1449","v":0}]
[{"$f":"Blad3!H1450","v":"-"},{"$f":"Tidsram!$B$2","v":0},{"$f":"Tidsram!$B$3","v":0},{"$f":"Blad3!G1450","v":0}]
[{"$f":"Blad3!H1451","v":"-"},{"$f":"Tidsram!$B$2","v":0},{"$f":"Tidsram!$B$3","v":0},{"$f":"Blad3!G1451","v":0}]
[{"$f":"Blad3!H1452","v":"-"},{"$f":"Tidsram!$B$2","v":0},{"$f":"Tidsram!$B$3","v":0},{"$f":"Blad3!G1452","v":0}]
[{"$f":"Blad3!H1453","v":"-"},{"$f":"Tidsram!$B$2","v":0},{"$f":"Tidsram!$B$3","v":0},{"$f":"Blad3!G1453","v":0}]
[{"$f":"Blad3!H1454","v":"-"},{"$f":"Tidsram!$B$2","v":0},{"$f":"Tidsram!$B$3","v":0},{"$f":"Blad3!G1454","v":0}]
[{"$f":"Blad3!H1455","v":"-"},{"$f":"Tidsram!$B$2","v":0},{"$f":"Tidsram!$B$3","v":0},{"$f":"Blad3!G1455","v":0}]
[{"$f":"Blad3!H1456","v":"-"},{"$f":"Tidsram!$B$2","v":0},{"$f":"Tidsram!$B$3","v":0},{"$f":"Blad3!G1456","v":0}]
[{"$f":"Blad3!H1457","v":"-"},{"$f":"Tidsram!$B$2","v":0},{"$f":"Tidsram!$B$3","v":0},{"$f":"Blad3!G1457","v":0}]
[{"$f":"Blad3!H1458","v":"-"},{"$f":"Tidsram!$B$2","v":0},{"$f":"Tidsram!$B$3","v":0},{"$f":"Blad3!G1458","v":0}]
[{"$f":"Blad3!H1459","v":"-"},{"$f":"Tidsram!$B$2","v":0},{"$f":"Tidsram!$B$3","v":0},{"$f":"Blad3!G1459","v":0}]
[{"$f":"Blad3!H1460","v":"-"},{"$f":"Tidsram!$B$2","v":0},{"$f":"Tidsram!$B$3","v":0},{"$f":"Blad3!G1460","v":0}]
[{"$f":"Blad3!H1461","v":"-"},{"$f":"Tidsram!$B$2","v":0},{"$f":"Tidsram!$B$3","v":0},{"$f":"Blad3!G1461","v":0}]
[{"$f":"Blad3!H1462","v":"-"},{"$f":"Tidsram!$B$2","v":0},{"$f":"Tidsram!$B$3","v":0},{"$f":"Blad3!G1462","v":0}]
[{"$f":"Blad3!H1463","v":"-"},{"$f":"Tidsram!$B$2","v":0},{"$f":"Tidsram!$B$3","v":0},{"$f":"Blad3!G1463","v":0}]
[{"$f":"Blad3!H1464","v":"-"},{"$f":"Tidsram!$B$2","v":0},{"$f":"Tidsram!$B$3","v":0},{"$f":"Blad3!G1464","v":0}]
[{"$f":"Blad3!H1465","v":"-"},{"$f":"Tidsram!$B$2","v":0},{"$f":"Tidsram!$B$3","v":0},{"$f":"Blad3!G1465","v":0}]
[{"$f":"Blad3!H1466","v":"-"},{"$f":"Tidsram!$B$2","v":0},{"$f":"Tidsram!$B$3","v":0},{"$f":"Blad3!G1466","v":0}]
[{"$f":"Blad3!H1467","v":"-"},{"$f":"Tidsram!$B$2","v":0},{"$f":"Tidsram!$B$3","v":0},{"$f":"Blad3!G1467","v":0}]
[{"$f":"Blad3!H1468","v":"-"},{"$f":"Tidsram!$B$2","v":0},{"$f":"Tidsram!$B$3","v":0},{"$f":"Blad3!G1468","v":0}]
[{"$f":"Blad3!H1469","v":"-"},{"$f":"Tidsram!$B$2","v":0},{"$f":"Tidsram!$B$3","v":0},{"$f":"Blad3!G1469","v":0}]
[{"$f":"Blad3!H1470","v":"-"},{"$f":"Tidsram!$B$2","v":0},{"$f":"Tidsram!$B$3","v":0},{"$f":"Blad3!G1470","v":0}]
[{"$f":"Blad3!H1471","v":"-"},{"$f":"Tidsram!$B$2","v":0},{"$f":"Tidsram!$B$3","v":0},{"$f":"Blad3!G1471","v":0}]
[{"$f":"Blad3!H1472","v":"-"},{"$f":"Tidsram!$B$2","v":0},{"$f":"Tidsram!$B$3","v":0},{"$f":"Blad3!G1472","v":0}]
[{"$f":"Blad3!H1473","v":"-"},{"$f":"Tidsram!$B$2","v":0},{"$f":"Tidsram!$B$3","v":0},{"$f":"Blad3!G1473","v":0}]
[{"$f":"Blad3!H1474","v":"-"},{"$f":"Tidsram!$B$2","v":0},{"$f":"Tidsram!$B$3","v":0},{"$f":"Blad3!G1474","v":0}]
[{"$f":"Blad3!H1475","v":"-"},{"$f":"Tidsram!$B$2","v":0},{"$f":"Tidsram!$B$3","v":0},{"$f":"Blad3!G1475","v":0}]
[{"$f":"Blad3!H1476","v":"-"},{"$f":"Tidsram!$B$2","v":0},{"$f":"Tidsram!$B$3","v":0},{"$f":"Blad3!G1476","v":0}]
[{"$f":"Blad3!H1477","v":"-"},{"$f":"Tidsram!$B$2","v":0},{"$f":"Tidsram!$B$3","v":0},{"$f":"Blad3!G1477","v":0}]
[{"$f":"Blad3!H1478","v":"-"},{"$f":"Tidsram!$B$2","v":0},{"$f":"Tidsram!$B$3","v":0},{"$f":"Blad3!G1478","v":0}]
[{"$f":"Blad3!H1479","v":"-"},{"$f":"Tidsram!$B$2","v":0},{"$f":"Tidsram!$B$3","v":0},{"$f":"Blad3!G1479","v":0}]
[{"$f":"Blad3!H1480","v":"-"},{"$f":"Tidsram!$B$2","v":0},{"$f":"Tidsram!$B$3","v":0},{"$f":"Blad3!G1480","v":0}]
[{"$f":"Blad3!H1481","v":"-"},{"$f":"Tidsram!$B$2","v":0},{"$f":"Tidsram!$B$3","v":0},{"$f":"Blad3!G1481","v":0}]
[{"$f":"Blad3!H1482","v":"-"},{"$f":"Tidsram!$B$2","v":0},{"$f":"Tidsram!$B$3","v":0},{"$f":"Blad3!G1482","v":0}]
[{"$f":"Blad3!H1483","v":"-"},{"$f":"Tidsram!$B$2","v":0},{"$f":"Tidsram!$B$3","v":0},{"$f":"Blad3!G1483","v":0}]
[{"$f":"Blad3!H1484","v":"-"},{"$f":"Tidsram!$B$2","v":0},{"$f":"Tidsram!$B$3","v":0},{"$f":"Blad3!G1484","v":0}]
[{"$f":"Blad3!H1485","v":"-"},{"$f":"Tidsram!$B$2","v":0},{"$f":"Tidsram!$B$3","v":0},{"$f":"Blad3!G1485","v":0}]
[{"$f":"Blad3!H1486","v":"-"},{"$f":"Tidsram!$B$2","v":0},{"$f":"Tidsram!$B$3","v":0},{"$f":"Blad3!G1486","v":0}]
[{"$f":"Blad3!H1487","v":"-"},{"$f":"Tidsram!$B$2","v":0},{"$f":"Tidsram!$B$3","v":0},{"$f":"Blad3!G1487","v":0}]
[{"$f":"Blad3!H1488","v":"-"},{"$f":"Tidsram!$B$2","v":0},{"$f":"Tidsram!$B$3","v":0},{"$f":"Blad3!G1488","v":0}]
[{"$f":"Blad3!H1489","v":"-"},{"$f":"Tidsram!$B$2","v":0},{"$f":"Tidsram!$B$3","v":0},{"$f":"Blad3!G1489","v":0}]
[{"$f":"Blad3!H1490","v":"-"},{"$f":"Tidsram!$B$2","v":0},{"$f":"Tidsram!$B$3","v":0},{"$f":"Blad3!G1490","v":0}]
[{"$f":"Blad3!H1491","v":"-"},{"$f":"Tidsram!$B$2","v":0},{"$f":"Tidsram!$B$3","v":0},{"$f":"Blad3!G1491","v":0}]
[{"$f":"Blad3!H1492","v":"-"},{"$f":"Tidsram!$B$2","v":0},{"$f":"Tidsram!$B$3","v":0},{"$f":"Blad3!G1492","v":0}]
[{"$f":"Blad3!H1493","v":"-"},{"$f":"Tidsram!$B$2","v":0},{"$f":"Tidsram!$B$3","v":0},{"$f":"Blad3!G1493","v":0}]
[{"$f":"Blad3!H1494","v":"-"},{"$f":"Tidsram!$B$2","v":0},{"$f":"Tidsram!$B$3","v":0},{"$f":"Blad3!G1494","v":0}]
[{"$f":"Blad3!H1495","v":"-"},{"$f":"Tidsram!$B$2","v":0},{"$f":"Tidsram!$B$3","v":0},{"$f":"Blad3!G1495","v":0}]
[{"$f":"Blad3!H1496","v":"-"},{"$f":"Tidsram!$B$2","v":0},{"$f":"Tidsram!$B$3","v":0},{"$f":"Blad3!G1496","v":0}]
[{"$f":"Blad3!H1497","v":"-"},{"$f":"Tidsram!$B$2","v":0},{"$f":"Tidsram!$B$3","v":0},{"$f":"Blad3!G1497","v":0}]
[{"$f":"Blad3!H1498","v":"-"},{"$f":"Tidsram!$B$2","v":0},{"$f":"Tidsram!$B$3","v":0},{"$f":"Blad3!G1498","v":0}]
[{"$f":"Blad3!H1499","v":"-"},{"$f":"Tidsram!$B$2","v":0},{"$f":"Tidsram!$B$3","v":0},{"$f":"Blad3!G1499","v":0}]
[{"$f":"Blad3!H1500","v":"-"},{"$f":"Tidsram!$B$2","v":0},{"$f":"Tidsram!$B$3","v":0},{"$f":"Blad3!G1500","v":0}]
[{"$f":"Blad3!H1501","v":"-"},{"$f":"Tidsram!$B$2","v":0},{"$f":"Tidsram!$B$3","v":0},{"$f":"Blad3!G1501","v":0}]
[{"$f":"Blad3!H1502","v":"-"},{"$f":"Tidsram!$B$2","v":0},{"$f":"Tidsram!$B$3","v":0},{"$f":"Blad3!G1502","v":0}]
[{"$f":"Blad3!H1503","v":"-"},{"$f":"Tidsram!$B$2","v":0},{"$f":"Tidsram!$B$3","v":0},{"$f":"Blad3!G1503","v":0}]
[{"$f":"Blad3!H1504","v":"-"},{"$f":"Tidsram!$B$2","v":0},{"$f":"Tidsram!$B$3","v":0},{"$f":"Blad3!G1504","v":0}]
[{"$f":"Blad3!H1505","v":"-"},{"$f":"Tidsram!$B$2","v":0},{"$f":"Tidsram!$B$3","v":0},{"$f":"Blad3!G1505","v":0}]
[{"$f":"Blad3!H1506","v":"-"},{"$f":"Tidsram!$B$2","v":0},{"$f":"Tidsram!$B$3","v":0},{"$f":"Blad3!G1506","v":0}]
[{"$f":"Blad3!H1507","v":"-"},{"$f":"Tidsram!$B$2","v":0},{"$f":"Tidsram!$B$3","v":0},{"$f":"Blad3!G1507","v":0}]
[{"$f":"Blad3!H1508","v":"-"},{"$f":"Tidsram!$B$2","v":0},{"$f":"Tidsram!$B$3","v":0},{"$f":"Blad3!G1508","v":0}]
[{"$f":"Blad3!H1509","v":"-"},{"$f":"Tidsram!$B$2","v":0},{"$f":"Tidsram!$B$3","v":0},{"$f":"Blad3!G1509","v":0}]
[{"$f":"Blad3!H1510","v":"-"},{"$f":"Tidsram!$B$2","v":0},{"$f":"Tidsram!$B$3","v":0},{"$f":"Blad3!G1510","v":0}]
[{"$f":"Blad3!H1511","v":"-"},{"$f":"Tidsram!$B$2","v":0},{"$f":"Tidsram!$B$3","v":0},{"$f":"Blad3!G1511","v":0}]
[{"$f":"Blad3!H1512","v":"-"},{"$f":"Tidsram!$B$2","v":0},{"$f":"Tidsram!$B$3","v":0},{"$f":"Blad3!G1512","v":0}]
[{"$f":"Blad3!H1513","v":"-"},{"$f":"Tidsram!$B$2","v":0},{"$f":"Tidsram!$B$3","v":0},{"$f":"Blad3!G1513","v":0}]
[{"$f":"Blad3!H1514","v":"-"},{"$f":"Tidsram!$B$2","v":0},{"$f":"Tidsram!$B$3","v":0},{"$f":"Blad3!G1514","v":0}]
[{"$f":"Blad3!H1515","v":"-"},{"$f":"Tidsram!$B$2","v":0},{"$f":"Tidsram!$B$3","v":0},{"$f":"Blad3!G1515","v":0}]
[{"$f":"Blad3!H1516","v":"-"},{"$f":"Tidsram!$B$2","v":0},{"$f":"Tidsram!$B$3","v":0},{"$f":"Blad3!G1516","v":0}]
[{"$f":"Blad3!H1517","v":"-"},{"$f":"Tidsram!$B$2","v":0},{"$f":"Tidsram!$B$3","v":0},{"$f":"Blad3!G1517","v":0}]
[{"$f":"Blad3!H1518","v":"-"},{"$f":"Tidsram!$B$2","v":0},{"$f":"Tidsram!$B$3","v":0},{"$f":"Blad3!G1518","v":0}]
[{"$f":"Blad3!H1519","v":"-"},{"$f":"Tidsram!$B$2","v":0},{"$f":"Tidsram!$B$3","v":0},{"$f":"Blad3!G1519","v":0}]
[{"$f":"Blad3!H1520","v":"-"},{"$f":"Tidsram!$B$2","v":0},{"$f":"Tidsram!$B$3","v":0},{"$f":"Blad3!G1520","v":0}]
[{"$f":"Blad3!H1521","v":"-"},{"$f":"Tidsram!$B$2","v":0},{"$f":"Tidsram!$B$3","v":0},{"$f":"Blad3!G1521","v":0}]
[{"$f":"Blad3!H1522","v":"-"},{"$f":"Tidsram!$B$2","v":0},{"$f":"Tidsram!$B$3","v":0},{"$f":"Blad3!G1522","v":0}]
[{"$f":"Blad3!H1523","v":"-"},{"$f":"Tidsram!$B$2","v":0},{"$f":"Tidsram!$B$3","v":0},{"$f":"Blad3!G1523","v":0}]
[{"$f":"Blad3!H1524","v":"-"},{"$f":"Tidsram!$B$2","v":0},{"$f":"Tidsram!$B$3","v":0},{"$f":"Blad3!G1524","v":0}]
[{"$f":"Blad3!H1525","v":"-"},{"$f":"Tidsram!$B$2","v":0},{"$f":"Tidsram!$B$3","v":0},{"$f":"Blad3!G1525","v":0}]
[{"$f":"Blad3!H1526","v":"-"},{"$f":"Tidsram!$B$2","v":0},{"$f":"Tidsram!$B$3","v":0},{"$f":"Blad3!G1526","v":0}]
[{"$f":"Blad3!H1527","v":"-"},{"$f":"Tidsram!$B$2","v":0},{"$f":"Tidsram!$B$3","v":0},{"$f":"Blad3!G1527","v":0}]
[{"$f":"Blad3!H1528","v":"-"},{"$f":"Tidsram!$B$2","v":0},{"$f":"Tidsram!$B$3","v":0},{"$f":"Blad3!G1528","v":0}]
[{"$f":"Blad3!H1529","v":"-"},{"$f":"Tidsram!$B$2","v":0},{"$f":"Tidsram!$B$3","v":0},{"$f":"Blad3!G1529","v":0}]
[{"$f":"Blad3!H1530","v":"-"},{"$f":"Tidsram!$B$2","v":0},{"$f":"Tidsram!$B$3","v":0},{"$f":"Blad3!G1530","v":0}]
[{"$f":"Blad3!H1531","v":"-"},{"$f":"Tidsram!$B$2","v":0},{"$f":"Tidsram!$B$3","v":0},{"$f":"Blad3!G1531","v":0}]
[{"$f":"Blad3!H1532","v":"-"},{"$f":"Tidsram!$B$2","v":0},{"$f":"Tidsram!$B$3","v":0},{"$f":"Blad3!G1532","v":0}]
[{"$f":"Blad3!H1533","v":"-"},{"$f":"Tidsram!$B$2","v":0},{"$f":"Tidsram!$B$3","v":0},{"$f":"Blad3!G1533","v":0}]
[{"$f":"Blad3!H1534","v":"-"},{"$f":"Tidsram!$B$2","v":0},{"$f":"Tidsram!$B$3","v":0},{"$f":"Blad3!G1534","v":0}]
[{"$f":"Blad3!H1535","v":"-"},{"$f":"Tidsram!$B$2","v":0},{"$f":"Tidsram!$B$3","v":0},{"$f":"Blad3!G1535","v":0}]
[{"$f":"Blad3!H1536","v":"-"},{"$f":"Tidsram!$B$2","v":0},{"$f":"Tidsram!$B$3","v":0},{"$f":"Blad3!G1536","v":0}]
[{"$f":"Blad3!H1537","v":"-"},{"$f":"Tidsram!$B$2","v":0},{"$f":"Tidsram!$B$3","v":0},{"$f":"Blad3!G1537","v":0}]
[{"$f":"Blad3!H1538","v":"-"},{"$f":"Tidsram!$B$2","v":0},{"$f":"Tidsram!$B$3","v":0},{"$f":"Blad3!G1538","v":0}]
[{"$f":"Blad3!H1539","v":"-"},{"$f":"Tidsram!$B$2","v":0},{"$f":"Tidsram!$B$3","v":0},{"$f":"Blad3!G1539","v":0}]
[{"$f":"Blad3!H1540","v":"-"},{"$f":"Tidsram!$B$2","v":0},{"$f":"Tidsram!$B$3","v":0},{"$f":"Blad3!G1540","v":0}]
[{"$f":"Blad3!H1541","v":"-"},{"$f":"Tidsram!$B$2","v":0},{"$f":"Tidsram!$B$3","v":0},{"$f":"Blad3!G1541","v":0}]
[{"$f":"Blad3!H1542","v":"-"},{"$f":"Tidsram!$B$2","v":0},{"$f":"Tidsram!$B$3","v":0},{"$f":"Blad3!G1542","v":0}]
[{"$f":"Blad3!H1543","v":"-"},{"$f":"Tidsram!$B$2","v":0},{"$f":"Tidsram!$B$3","v":0},{"$f":"Blad3!G1543","v":0}]
[{"$f":"Blad3!H1544","v":"-"},{"$f":"Tidsram!$B$2","v":0},{"$f":"Tidsram!$B$3","v":0},{"$f":"Blad3!G1544","v":0}]
[{"$f":"Blad3!H1545","v":"-"},{"$f":"Tidsram!$B$2","v":0},{"$f":"Tidsram!$B$3","v":0},{"$f":"Blad3!G1545","v":0}]
[{"$f":"Blad3!H1546","v":"-"},{"$f":"Tidsram!$B$2","v":0},{"$f":"Tidsram!$B$3","v":0},{"$f":"Blad3!G1546","v":0}]
[{"$f":"Blad3!H1547","v":"-"},{"$f":"Tidsram!$B$2","v":0},{"$f":"Tidsram!$B$3","v":0},{"$f":"Blad3!G1547","v":0}]
[{"$f":"Blad3!H1548","v":"-"},{"$f":"Tidsram!$B$2","v":0},{"$f":"Tidsram!$B$3","v":0},{"$f":"Blad3!G1548","v":0}]
[{"$f":"Blad3!H1549","v":"-"},{"$f":"Tidsram!$B$2","v":0},{"$f":"Tidsram!$B$3","v":0},{"$f":"Blad3!G1549","v":0}]
[{"$f":"Blad3!H1550","v":"-"},{"$f":"Tidsram!$B$2","v":0},{"$f":"Tidsram!$B$3","v":0},{"$f":"Blad3!G1550","v":0}]
[{"$f":"Blad3!H1551","v":"-"},{"$f":"Tidsram!$B$2","v":0},{"$f":"Tidsram!$B$3","v":0},{"$f":"Blad3!G1551","v":0}]
[{"$f":"Blad3!H1552","v":"-"},{"$f":"Tidsram!$B$2","v":0},{"$f":"Tidsram!$B$3","v":0},{"$f":"Blad3!G1552","v":0}]
[{"$f":"Blad3!H1553","v":"-"},{"$f":"Tidsram!$B$2","v":0},{"$f":"Tidsram!$B$3","v":0},{"$f":"Blad3!G1553","v":0}]
[{"$f":"Blad3!H1554","v":"-"},{"$f":"Tidsram!$B$2","v":0},{"$f":"Tidsram!$B$3","v":0},{"$f":"Blad3!G1554","v":0}]
[{"$f":"Blad3!H1555","v":"-"},{"$f":"Tidsram!$B$2","v":0},{"$f":"Tidsram!$B$3","v":0},{"$f":"Blad3!G1555","v":0}]
[{"$f":"Blad3!H1556","v":"-"},{"$f":"Tidsram!$B$2","v":0},{"$f":"Tidsram!$B$3","v":0},{"$f":"Blad3!G1556","v":0}]
[{"$f":"Blad3!H1557","v":"-"},{"$f":"Tidsram!$B$2","v":0},{"$f":"Tidsram!$B$3","v":0},{"$f":"Blad3!G1557","v":0}]
[{"$f":"Blad3!H1558","v":"-"},{"$f":"Tidsram!$B$2","v":0},{"$f":"Tidsram!$B$3","v":0},{"$f":"Blad3!G1558","v":0}]
[{"$f":"Blad3!H1559","v":"-"},{"$f":"Tidsram!$B$2","v":0},{"$f":"Tidsram!$B$3","v":0},{"$f":"Blad3!G1559","v":0}]
[{"$f":"Blad3!H1560","v":"-"},{"$f":"Tidsram!$B$2","v":0},{"$f":"Tidsram!$B$3","v":0},{"$f":"Blad3!G1560","v":0}]
[{"$f":"Blad3!H1561","v":"-"},{"$f":"Tidsram!$B$2","v":0},{"$f":"Tidsram!$B$3","v":0},{"$f":"Blad3!G1561","v":0}]
[{"$f":"Blad3!H1562","v":"-"},{"$f":"Tidsram!$B$2","v":0},{"$f":"Tidsram!$B$3","v":0},{"$f":"Blad3!G1562","v":0}]
[{"$f":"Blad3!H1563","v":"-"},{"$f":"Tidsram!$B$2","v":0},{"$f":"Tidsram!$B$3","v":0},{"$f":"Blad3!G1563","v":0}]
[{"$f":"Blad3!H1564","v":"-"},{"$f":"Tidsram!$B$2","v":0},{"$f":"Tidsram!$B$3","v":0},{"$f":"Blad3!G1564","v":0}]
[{"$f":"Blad3!H1565","v":"-"},{"$f":"Tidsram!$B$2","v":0},{"$f":"Tidsram!$B$3","v":0},{"$f":"Blad3!G1565","v":0}]
[{"$f":"Blad3!H1566","v":"-"},{"$f":"Tidsram!$B$2","v":0},{"$f":"Tidsram!$B$3","v":0},{"$f":"Blad3!G1566","v":0}]
[{"$f":"Blad3!H1567","v":"-"},{"$f":"Tidsram!$B$2","v":0},{"$f":"Tidsram!$B$3","v":0},{"$f":"Blad3!G1567","v":0}]
[{"$f":"Blad3!H1568","v":"-"},{"$f":"Tidsram!$B$2","v":0},{"$f":"Tidsram!$B$3","v":0},{"$f":"Blad3!G1568","v":0}]
[{"$f":"Blad3!H1569","v":"-"},{"$f":"Tidsram!$B$2","v":0},{"$f":"Tidsram!$B$3","v":0},{"$f":"Blad3!G1569","v":0}]
[{"$f":"Blad3!H1570","v":"-"},{"$f":"Tidsram!$B$2","v":0},{"$f":"Tidsram!$B$3","v":0},{"$f":"Blad3!G1570","v":0}]
[{"$f":"Blad3!H1571","v":"-"},{"$f":"Tidsram!$B$2","v":0},{"$f":"Tidsram!$B$3","v":0},{"$f":"Blad3!G1571","v":0}]
[{"$f":"Blad3!H1572","v":"-"},{"$f":"Tidsram!$B$2","v":0},{"$f":"Tidsram!$B$3","v":0},{"$f":"Blad3!G1572","v":0}]
[{"$f":"Blad3!H1573","v":"-"},{"$f":"Tidsram!$B$2","v":0},{"$f":"Tidsram!$B$3","v":0},{"$f":"Blad3!G1573","v":0}]
[{"$f":"Blad3!H1574","v":"-"},{"$f":"Tidsram!$B$2","v":0},{"$f":"Tidsram!$B$3","v":0},{"$f":"Blad3!G1574","v":0}]
[{"$f":"Blad3!H1575","v":"-"},{"$f":"Tidsram!$B$2","v":0},{"$f":"Tidsram!$B$3","v":0},{"$f":"Blad3!G1575","v":0}]
[{"$f":"Blad3!H1576","v":"-"},{"$f":"Tidsram!$B$2","v":0},{"$f":"Tidsram!$B$3","v":0},{"$f":"Blad3!G1576","v":0}]
[{"$f":"Blad3!H1577","v":"-"},{"$f":"Tidsram!$B$2","v":0},{"$f":"Tidsram!$B$3","v":0},{"$f":"Blad3!G1577","v":0}]
[{"$f":"Blad3!H1578","v":"-"},{"$f":"Tidsram!$B$2","v":0},{"$f":"Tidsram!$B$3","v":0},{"$f":"Blad3!G1578","v":0}]
[{"$f":"Blad3!H1579","v":"-"},{"$f":"Tidsram!$B$2","v":0},{"$f":"Tidsram!$B$3","v":0},{"$f":"Blad3!G1579","v":0}]
[{"$f":"Blad3!H1580","v":"-"},{"$f":"Tidsram!$B$2","v":0},{"$f":"Tidsram!$B$3","v":0},{"$f":"Blad3!G1580","v":0}]
[{"$f":"Blad3!H1581","v":"-"},{"$f":"Tidsram!$B$2","v":0},{"$f":"Tidsram!$B$3","v":0},{"$f":"Blad3!G1581","v":0}]
[{"$f":"Blad3!H1582","v":"-"},{"$f":"Tidsram!$B$2","v":0},{"$f":"Tidsram!$B$3","v":0},{"$f":"Blad3!G1582","v":0}]
[{"$f":"Blad3!H1583","v":"-"},{"$f":"Tidsram!$B$2","v":0},{"$f":"Tidsram!$B$3","v":0},{"$f":"Blad3!G1583","v":0}]
[{"$f":"Blad3!H1584","v":"-"},{"$f":"Tidsram!$B$2","v":0},{"$f":"Tidsram!$B$3","v":0},{"$f":"Blad3!G1584","v":0}]
[{"$f":"Blad3!H1585","v":"-"},{"$f":"Tidsram!$B$2","v":0},{"$f":"Tidsram!$B$3","v":0},{"$f":"Blad3!G1585","v":0}]
[{"$f":"Blad3!H1586","v":"-"},{"$f":"Tidsram!$B$2","v":0},{"$f":"Tidsram!$B$3","v":0},{"$f":"Blad3!G1586","v":0}]
[{"$f":"Blad3!H1587","v":"-"},{"$f":"Tidsram!$B$2","v":0},{"$f":"Tidsram!$B$3","v":0},{"$f":"Blad3!G1587","v":0}]
[{"$f":"Blad3!H1588","v":"-"},{"$f":"Tidsram!$B$2","v":0},{"$f":"Tidsram!$B$3","v":0},{"$f":"Blad3!G1588","v":0}]
[{"$f":"Blad3!H1589","v":"-"},{"$f":"Tidsram!$B$2","v":0},{"$f":"Tidsram!$B$3","v":0},{"$f":"Blad3!G1589","v":0}]
[{"$f":"Blad3!H1590","v":"-"},{"$f":"Tidsram!$B$2","v":0},{"$f":"Tidsram!$B$3","v":0},{"$f":"Blad3!G1590","v":0}]
[{"$f":"Blad3!H1591","v":"-"},{"$f":"Tidsram!$B$2","v":0},{"$f":"Tidsram!$B$3","v":0},{"$f":"Blad3!G1591","v":0}]
[{"$f":"Blad3!H1592","v":"-"},{"$f":"Tidsram!$B$2","v":0},{"$f":"Tidsram!$B$3","v":0},{"$f":"Blad3!G1592","v":0}]
[{"$f":"Blad3!H1593","v":"-"},{"$f":"Tidsram!$B$2","v":0},{"$f":"Tidsram!$B$3","v":0},{"$f":"Blad3!G1593","v":0}]
[{"$f":"Blad3!H1594","v":"-"},{"$f":"Tidsram!$B$2","v":0},{"$f":"Tidsram!$B$3","v":0},{"$f":"Blad3!G1594","v":0}]
[{"$f":"Blad3!H1595","v":"-"},{"$f":"Tidsram!$B$2","v":0},{"$f":"Tidsram!$B$3","v":0},{"$f":"Blad3!G1595","v":0}]
[{"$f":"Blad3!H1596","v":"-"},{"$f":"Tidsram!$B$2","v":0},{"$f":"Tidsram!$B$3","v":0},{"$f":"Blad3!G1596","v":0}]
[{"$f":"Blad3!H1597","v":"-"},{"$f":"Tidsram!$B$2","v":0},{"$f":"Tidsram!$B$3","v":0},{"$f":"Blad3!G1597","v":0}]
[{"$f":"Blad3!H1598","v":"-"},{"$f":"Tidsram!$B$2","v":0},{"$f":"Tidsram!$B$3","v":0},{"$f":"Blad3!G1598","v":0}]
[{"$f":"Blad3!H1599","v":"-"},{"$f":"Tidsram!$B$2","v":0},{"$f":"Tidsram!$B$3","v":0},{"$f":"Blad3!G1599","v":0}]
[{"$f":"Blad3!H1600","v":"-"},{"$f":"Tidsram!$B$2","v":0},{"$f":"Tidsram!$B$3","v":0},{"$f":"Blad3!G1600","v":0}]
[{"$f":"Blad3!H1601","v":"-"},{"$f":"Tidsram!$B$2","v":0},{"$f":"Tidsram!$B$3","v":0},{"$f":"Blad3!G1601","v":0}]
[{"$f":"Blad3!H1602","v":"-"},{"$f":"Tidsram!$B$2","v":0},{"$f":"Tidsram!$B$3","v":0},{"$f":"Blad3!G1602","v":0}]
[{"$f":"Blad3!H1603","v":"-"},{"$f":"Tidsram!$B$2","v":0},{"$f":"Tidsram!$B$3","v":0},{"$f":"Blad3!G1603","v":0}]
[{"$f":"Blad3!H1604","v":"-"},{"$f":"Tidsram!$B$2","v":0},{"$f":"Tidsram!$B$3","v":0},{"$f":"Blad3!G1604","v":0}]
[{"$f":"Blad3!H1605","v":"-"},{"$f":"Tidsram!$B$2","v":0},{"$f":"Tidsram!$B$3","v":0},{"$f":"Blad3!G1605","v":0}]
[{"$f":"Blad3!H1606","v":"-"},{"$f":"Tidsram!$B$2","v":0},{"$f":"Tidsram!$B$3","v":0},{"$f":"Blad3!G1606","v":0}]
[{"$f":"Blad3!H1607","v":"-"},{"$f":"Tidsram!$B$2","v":0},{"$f":"Tidsram!$B$3","v":0},{"$f":"Blad3!G1607","v":0}]
[{"$f":"Blad3!H1608","v":"-"},{"$f":"Tidsram!$B$2","v":0},{"$f":"Tidsram!$B$3","v":0},{"$f":"Blad3!G1608","v":0}]
[{"$f":"Blad3!H1609","v":"-"},{"$f":"Tidsram!$B$2","v":0},{"$f":"Tidsram!$B$3","v":0},{"$f":"Blad3!G1609","v":0}]
[{"$f":"Blad3!H1610","v":"-"},{"$f":"Tidsram!$B$2","v":0},{"$f":"Tidsram!$B$3","v":0},{"$f":"Blad3!G1610","v":0}]
[{"$f":"Blad3!H1611","v":"-"},{"$f":"Tidsram!$B$2","v":0},{"$f":"Tidsram!$B$3","v":0},{"$f":"Blad3!G1611","v":0}]
[{"$f":"Blad3!H1612","v":"-"},{"$f":"Tidsram!$B$2","v":0},{"$f":"Tidsram!$B$3","v":0},{"$f":"Blad3!G1612","v":0}]
[{"$f":"Blad3!H1613","v":"-"},{"$f":"Tidsram!$B$2","v":0},{"$f":"Tidsram!$B$3","v":0},{"$f":"Blad3!G1613","v":0}]
[{"$f":"Blad3!H1614","v":"-"},{"$f":"Tidsram!$B$2","v":0},{"$f":"Tidsram!$B$3","v":0},{"$f":"Blad3!G1614","v":0}]
[{"$f":"Blad3!H1615","v":"-"},{"$f":"Tidsram!$B$2","v":0},{"$f":"Tidsram!$B$3","v":0},{"$f":"Blad3!G1615","v":0}]
[{"$f":"Blad3!H1616","v":"-"},{"$f":"Tidsram!$B$2","v":0},{"$f":"Tidsram!$B$3","v":0},{"$f":"Blad3!G1616","v":0}]
[{"$f":"Blad3!H1617","v":"-"},{"$f":"Tidsram!$B$2","v":0},{"$f":"Tidsram!$B$3","v":0},{"$f":"Blad3!G1617","v":0}]
[{"$f":"Blad3!H1618","v":"-"},{"$f":"Tidsram!$B$2","v":0},{"$f":"Tidsram!$B$3","v":0},{"$f":"Blad3!G1618","v":0}]
[{"$f":"Blad3!H1619","v":"-"},{"$f":"Tidsram!$B$2","v":0},{"$f":"Tidsram!$B$3","v":0},{"$f":"Blad3!G1619","v":0}]
[{"$f":"Blad3!H1620","v":"-"},{"$f":"Tidsram!$B$2","v":0},{"$f":"Tidsram!$B$3","v":0},{"$f":"Blad3!G1620","v":0}]
[{"$f":"Blad3!H1621","v":"-"},{"$f":"Tidsram!$B$2","v":0},{"$f":"Tidsram!$B$3","v":0},{"$f":"Blad3!G1621","v":0}]
[{"$f":"Blad3!H1622","v":"-"},{"$f":"Tidsram!$B$2","v":0},{"$f":"Tidsram!$B$3","v":0},{"$f":"Blad3!G1622","v":0}]
[{"$f":"Blad3!H1623","v":"-"},{"$f":"Tidsram!$B$2","v":0},{"$f":"Tidsram!$B$3","v":0},{"$f":"Blad3!G1623","v":0}]
[{"$f":"Blad3!H1624","v":"-"},{"$f":"Tidsram!$B$2","v":0},{"$f":"Tidsram!$B$3","v":0},{"$f":"Blad3!G1624","v":0}]
[{"$f":"Blad3!H1625","v":"-"},{"$f":"Tidsram!$B$2","v":0},{"$f":"Tidsram!$B$3","v":0},{"$f":"Blad3!G1625","v":0}]
[{"$f":"Blad3!H1626","v":"-"},{"$f":"Tidsram!$B$2","v":0},{"$f":"Tidsram!$B$3","v":0},{"$f":"Blad3!G1626","v":0}]
[{"$f":"Blad3!H1627","v":"-"},{"$f":"Tidsram!$B$2","v":0},{"$f":"Tidsram!$B$3","v":0},{"$f":"Blad3!G1627","v":0}]
[{"$f":"Blad3!H1628","v":"-"},{"$f":"Tidsram!$B$2","v":0},{"$f":"Tidsram!$B$3","v":0},{"$f":"Blad3!G1628","v":0}]
[{"$f":"Blad3!H1629","v":"-"},{"$f":"Tidsram!$B$2","v":0},{"$f":"Tidsram!$B$3","v":0},{"$f":"Blad3!G1629","v":0}]
[{"$f":"Blad3!H1630","v":"-"},{"$f":"Tidsram!$B$2","v":0},{"$f":"Tidsram!$B$3","v":0},{"$f":"Blad3!G1630","v":0}]
[{"$f":"Blad3!H1631","v":"-"},{"$f":"Tidsram!$B$2","v":0},{"$f":"Tidsram!$B$3","v":0},{"$f":"Blad3!G1631","v":0}]
[{"$f":"Blad3!H1632","v":"-"},{"$f":"Tidsram!$B$2","v":0},{"$f":"Tidsram!$B$3","v":0},{"$f":"Blad3!G1632","v":0}]
[{"$f":"Blad3!H1633","v":"-"},{"$f":"Tidsram!$B$2","v":0},{"$f":"Tidsram!$B$3","v":0},{"$f":"Blad3!G1633","v":0}]
[{"$f":"Blad3!H1634","v":"-"},{"$f":"Tidsram!$B$2","v":0},{"$f":"Tidsram!$B$3","v":0},{"$f":"Blad3!G1634","v":0}]
[{"$f":"Blad3!H1635","v":"-"},{"$f":"Tidsram!$B$2","v":0},{"$f":"Tidsram!$B$3","v":0},{"$f":"Blad3!G1635","v":0}]
[{"$f":"Blad3!H1636","v":"-"},{"$f":"Tidsram!$B$2","v":0},{"$f":"Tidsram!$B$3","v":0},{"$f":"Blad3!G1636","v":0}]
[{"$f":"Blad3!H1637","v":"-"},{"$f":"Tidsram!$B$2","v":0},{"$f":"Tidsram!$B$3","v":0},{"$f":"Blad3!G1637","v":0}]
[{"$f":"Blad3!H1638","v":"-"},{"$f":"Tidsram!$B$2","v":0},{"$f":"Tidsram!$B$3","v":0},{"$f":"Blad3!G1638","v":0}]
[{"$f":"Blad3!H1639","v":"-"},{"$f":"Tidsram!$B$2","v":0},{"$f":"Tidsram!$B$3","v":0},{"$f":"Blad3!G1639","v":0}]
[{"$f":"Blad3!H1640","v":"-"},{"$f":"Tidsram!$B$2","v":0},{"$f":"Tidsram!$B$3","v":0},{"$f":"Blad3!G1640","v":0}]
[{"$f":"Blad3!H1641","v":"-"},{"$f":"Tidsram!$B$2","v":0},{"$f":"Tidsram!$B$3","v":0},{"$f":"Blad3!G1641","v":0}]
[{"$f":"Blad3!H1642","v":"-"},{"$f":"Tidsram!$B$2","v":0},{"$f":"Tidsram!$B$3","v":0},{"$f":"Blad3!G1642","v":0}]
[{"$f":"Blad3!H1643","v":"-"},{"$f":"Tidsram!$B$2","v":0},{"$f":"Tidsram!$B$3","v":0},{"$f":"Blad3!G1643","v":0}]
[{"$f":"Blad3!H1644","v":"-"},{"$f":"Tidsram!$B$2","v":0},{"$f":"Tidsram!$B$3","v":0},{"$f":"Blad3!G1644","v":0}]
[{"$f":"Blad3!H1645","v":"-"},{"$f":"Tidsram!$B$2","v":0},{"$f":"Tidsram!$B$3","v":0},{"$f":"Blad3!G1645","v":0}]
[{"$f":"Blad3!H1646","v":"-"},{"$f":"Tidsram!$B$2","v":0},{"$f":"Tidsram!$B$3","v":0},{"$f":"Blad3!G1646","v":0}]
[{"$f":"Blad3!H1647","v":"-"},{"$f":"Tidsram!$B$2","v":0},{"$f":"Tidsram!$B$3","v":0},{"$f":"Blad3!G1647","v":0}]
[{"$f":"Blad3!H1648","v":"-"},{"$f":"Tidsram!$B$2","v":0},{"$f":"Tidsram!$B$3","v":0},{"$f":"Blad3!G1648","v":0}]
[{"$f":"Blad3!H1649","v":"-"},{"$f":"Tidsram!$B$2","v":0},{"$f":"Tidsram!$B$3","v":0},{"$f":"Blad3!G1649","v":0}]
[{"$f":"Blad3!H1650","v":"-"},{"$f":"Tidsram!$B$2","v":0},{"$f":"Tidsram!$B$3","v":0},{"$f":"Blad3!G1650","v":0}]
[{"$f":"Blad3!H1651","v":"-"},{"$f":"Tidsram!$B$2","v":0},{"$f":"Tidsram!$B$3","v":0},{"$f":"Blad3!G1651","v":0}]
[{"$f":"Blad3!H1652","v":"-"},{"$f":"Tidsram!$B$2","v":0},{"$f":"Tidsram!$B$3","v":0},{"$f":"Blad3!G1652","v":0}]
[{"$f":"Blad3!H1653","v":"-"},{"$f":"Tidsram!$B$2","v":0},{"$f":"Tidsram!$B$3","v":0},{"$f":"Blad3!G1653","v":0}]
[{"$f":"Blad3!H1654","v":"-"},{"$f":"Tidsram!$B$2","v":0},{"$f":"Tidsram!$B$3","v":0},{"$f":"Blad3!G1654","v":0}]
[{"$f":"Blad3!H1655","v":"-"},{"$f":"Tidsram!$B$2","v":0},{"$f":"Tidsram!$B$3","v":0},{"$f":"Blad3!G1655","v":0}]
[{"$f":"Blad3!H1656","v":"-"},{"$f":"Tidsram!$B$2","v":0},{"$f":"Tidsram!$B$3","v":0},{"$f":"Blad3!G1656","v":0}]
[{"$f":"Blad3!H1657","v":"-"},{"$f":"Tidsram!$B$2","v":0},{"$f":"Tidsram!$B$3","v":0},{"$f":"Blad3!G1657","v":0}]
[{"$f":"Blad3!H1658","v":"-"},{"$f":"Tidsram!$B$2","v":0},{"$f":"Tidsram!$B$3","v":0},{"$f":"Blad3!G1658","v":0}]
[{"$f":"Blad3!H1659","v":"-"},{"$f":"Tidsram!$B$2","v":0},{"$f":"Tidsram!$B$3","v":0},{"$f":"Blad3!G1659","v":0}]
[{"$f":"Blad3!H1660","v":"-"},{"$f":"Tidsram!$B$2","v":0},{"$f":"Tidsram!$B$3","v":0},{"$f":"Blad3!G1660","v":0}]
[{"$f":"Blad3!H1661","v":"-"},{"$f":"Tidsram!$B$2","v":0},{"$f":"Tidsram!$B$3","v":0},{"$f":"Blad3!G1661","v":0}]
[{"$f":"Blad3!H1662","v":"-"},{"$f":"Tidsram!$B$2","v":0},{"$f":"Tidsram!$B$3","v":0},{"$f":"Blad3!G1662","v":0}]
[{"$f":"Blad3!H1663","v":"-"},{"$f":"Tidsram!$B$2","v":0},{"$f":"Tidsram!$B$3","v":0},{"$f":"Blad3!G1663","v":0}]
[{"$f":"Blad3!H1664","v":"-"},{"$f":"Tidsram!$B$2","v":0},{"$f":"Tidsram!$B$3","v":0},{"$f":"Blad3!G1664","v":0}]
[{"$f":"Blad3!H1665","v":"-"},{"$f":"Tidsram!$B$2","v":0},{"$f":"Tidsram!$B$3","v":0},{"$f":"Blad3!G1665","v":0}]
[{"$f":"Blad3!H1666","v":"-"},{"$f":"Tidsram!$B$2","v":0},{"$f":"Tidsram!$B$3","v":0},{"$f":"Blad3!G1666","v":0}]
[{"$f":"Blad3!H1667","v":"-"},{"$f":"Tidsram!$B$2","v":0},{"$f":"Tidsram!$B$3","v":0},{"$f":"Blad3!G1667","v":0}]
[{"$f":"Blad3!H1668","v":"-"},{"$f":"Tidsram!$B$2","v":0},{"$f":"Tidsram!$B$3","v":0},{"$f":"Blad3!G1668","v":0}]
[{"$f":"Blad3!H1669","v":"-"},{"$f":"Tidsram!$B$2","v":0},{"$f":"Tidsram!$B$3","v":0},{"$f":"Blad3!G1669","v":0}]
[{"$f":"Blad3!H1670","v":"-"},{"$f":"Tidsram!$B$2","v":0},{"$f":"Tidsram!$B$3","v":0},{"$f":"Blad3!G1670","v":0}]
[{"$f":"Blad3!H1671","v":"-"},{"$f":"Tidsram!$B$2","v":0},{"$f":"Tidsram!$B$3","v":0},{"$f":"Blad3!G1671","v":0}]
[{"$f":"Blad3!H1672","v":"-"},{"$f":"Tidsram!$B$2","v":0},{"$f":"Tidsram!$B$3","v":0},{"$f":"Blad3!G1672","v":0}]
[{"$f":"Blad3!H1673","v":"-"},{"$f":"Tidsram!$B$2","v":0},{"$f":"Tidsram!$B$3","v":0},{"$f":"Blad3!G1673","v":0}]
[{"$f":"Blad3!H1674","v":"-"},{"$f":"Tidsram!$B$2","v":0},{"$f":"Tidsram!$B$3","v":0},{"$f":"Blad3!G1674","v":0}]
[{"$f":"Blad3!H1675","v":"-"},{"$f":"Tidsram!$B$2","v":0},{"$f":"Tidsram!$B$3","v":0},{"$f":"Blad3!G1675","v":0}]
[{"$f":"Blad3!H1676","v":"-"},{"$f":"Tidsram!$B$2","v":0},{"$f":"Tidsram!$B$3","v":0},{"$f":"Blad3!G1676","v":0}]
[{"$f":"Blad3!H1677","v":"-"},{"$f":"Tidsram!$B$2","v":0},{"$f":"Tidsram!$B$3","v":0},{"$f":"Blad3!G1677","v":0}]
[{"$f":"Blad3!H1678","v":"-"},{"$f":"Tidsram!$B$2","v":0},{"$f":"Tidsram!$B$3","v":0},{"$f":"Blad3!G1678","v":0}]
[{"$f":"Blad3!H1679","v":"-"},{"$f":"Tidsram!$B$2","v":0},{"$f":"Tidsram!$B$3","v":0},{"$f":"Blad3!G1679","v":0}]
[{"$f":"Blad3!H1680","v":"-"},{"$f":"Tidsram!$B$2","v":0},{"$f":"Tidsram!$B$3","v":0},{"$f":"Blad3!G1680","v":0}]
[{"$f":"Blad3!H1681","v":"-"},{"$f":"Tidsram!$B$2","v":0},{"$f":"Tidsram!$B$3","v":0},{"$f":"Blad3!G1681","v":0}]
[{"$f":"Blad3!H1682","v":"-"},{"$f":"Tidsram!$B$2","v":0},{"$f":"Tidsram!$B$3","v":0},{"$f":"Blad3!G1682","v":0}]
[{"$f":"Blad3!H1683","v":"-"},{"$f":"Tidsram!$B$2","v":0},{"$f":"Tidsram!$B$3","v":0},{"$f":"Blad3!G1683","v":0}]
[{"$f":"Blad3!H1684","v":"-"},{"$f":"Tidsram!$B$2","v":0},{"$f":"Tidsram!$B$3","v":0},{"$f":"Blad3!G1684","v":0}]
[{"$f":"Blad3!H1685","v":"-"},{"$f":"Tidsram!$B$2","v":0},{"$f":"Tidsram!$B$3","v":0},{"$f":"Blad3!G1685","v":0}]
[{"$f":"Blad3!H1686","v":"-"},{"$f":"Tidsram!$B$2","v":0},{"$f":"Tidsram!$B$3","v":0},{"$f":"Blad3!G1686","v":0}]
[{"$f":"Blad3!H1687","v":"-"},{"$f":"Tidsram!$B$2","v":0},{"$f":"Tidsram!$B$3","v":0},{"$f":"Blad3!G1687","v":0}]
[{"$f":"Blad3!H1688","v":"-"},{"$f":"Tidsram!$B$2","v":0},{"$f":"Tidsram!$B$3","v":0},{"$f":"Blad3!G1688","v":0}]
[{"$f":"Blad3!H1689","v":"-"},{"$f":"Tidsram!$B$2","v":0},{"$f":"Tidsram!$B$3","v":0},{"$f":"Blad3!G1689","v":0}]
[{"$f":"Blad3!H1690","v":"-"},{"$f":"Tidsram!$B$2","v":0},{"$f":"Tidsram!$B$3","v":0},{"$f":"Blad3!G1690","v":0}]
[{"$f":"Blad3!H1691","v":"-"},{"$f":"Tidsram!$B$2","v":0},{"$f":"Tidsram!$B$3","v":0},{"$f":"Blad3!G1691","v":0}]
[{"$f":"Blad3!H1692","v":"-"},{"$f":"Tidsram!$B$2","v":0},{"$f":"Tidsram!$B$3","v":0},{"$f":"Blad3!G1692","v":0}]
[{"$f":"Blad3!H1693","v":"-"},{"$f":"Tidsram!$B$2","v":0},{"$f":"Tidsram!$B$3","v":0},{"$f":"Blad3!G1693","v":0}]
[{"$f":"Blad3!H1694","v":"-"},{"$f":"Tidsram!$B$2","v":0},{"$f":"Tidsram!$B$3","v":0},{"$f":"Blad3!G1694","v":0}]
[{"$f":"Blad3!H1695","v":"-"},{"$f":"Tidsram!$B$2","v":0},{"$f":"Tidsram!$B$3","v":0},{"$f":"Blad3!G1695","v":0}]
[{"$f":"Blad3!H1696","v":"-"},{"$f":"Tidsram!$B$2","v":0},{"$f":"Tidsram!$B$3","v":0},{"$f":"Blad3!G1696","v":0}]
[{"$f":"Blad3!H1697","v":"-"},{"$f":"Tidsram!$B$2","v":0},{"$f":"Tidsram!$B$3","v":0},{"$f":"Blad3!G1697","v":0}]
[{"$f":"Blad3!H1698","v":"-"},{"$f":"Tidsram!$B$2","v":0},{"$f":"Tidsram!$B$3","v":0},{"$f":"Blad3!G1698","v":0}]
[{"$f":"Blad3!H1699","v":"-"},{"$f":"Tidsram!$B$2","v":0},{"$f":"Tidsram!$B$3","v":0},{"$f":"Blad3!G1699","v":0}]
[{"$f":"Blad3!H1700","v":"-"},{"$f":"Tidsram!$B$2","v":0},{"$f":"Tidsram!$B$3","v":0},{"$f":"Blad3!G1700","v":0}]
[{"$f":"Blad3!H1701","v":"-"},{"$f":"Tidsram!$B$2","v":0},{"$f":"Tidsram!$B$3","v":0},{"$f":"Blad3!G1701","v":0}]
[{"$f":"Blad3!H1702","v":"-"},{"$f":"Tidsram!$B$2","v":0},{"$f":"Tidsram!$B$3","v":0},{"$f":"Blad3!G1702","v":0}]
[{"$f":"Blad3!H1703","v":"-"},{"$f":"Tidsram!$B$2","v":0},{"$f":"Tidsram!$B$3","v":0},{"$f":"Blad3!G1703","v":0}]
[{"$f":"Blad3!H1704","v":"-"},{"$f":"Tidsram!$B$2","v":0},{"$f":"Tidsram!$B$3","v":0},{"$f":"Blad3!G1704","v":0}]
[{"$f":"Blad3!H1705","v":"-"},{"$f":"Tidsram!$B$2","v":0},{"$f":"Tidsram!$B$3","v":0},{"$f":"Blad3!G1705","v":0}]
[{"$f":"Blad3!H1706","v":"-"},{"$f":"Tidsram!$B$2","v":0},{"$f":"Tidsram!$B$3","v":0},{"$f":"Blad3!G1706","v":0}]
[{"$f":"Blad3!H1707","v":"-"},{"$f":"Tidsram!$B$2","v":0},{"$f":"Tidsram!$B$3","v":0},{"$f":"Blad3!G1707","v":0}]
[{"$f":"Blad3!H1708","v":"-"},{"$f":"Tidsram!$B$2","v":0},{"$f":"Tidsram!$B$3","v":0},{"$f":"Blad3!G1708","v":0}]
[{"$f":"Blad3!H1709","v":"-"},{"$f":"Tidsram!$B$2","v":0},{"$f":"Tidsram!$B$3","v":0},{"$f":"Blad3!G1709","v":0}]
[{"$f":"Blad3!H1710","v":"-"},{"$f":"Tidsram!$B$2","v":0},{"$f":"Tidsram!$B$3","v":0},{"$f":"Blad3!G1710","v":0}]
[{"$f":"Blad3!H1711","v":"-"},{"$f":"Tidsram!$B$2","v":0},{"$f":"Tidsram!$B$3","v":0},{"$f":"Blad3!G1711","v":0}]
[{"$f":"Blad3!H1712","v":"-"},{"$f":"Tidsram!$B$2","v":0},{"$f":"Tidsram!$B$3","v":0},{"$f":"Blad3!G1712","v":0}]
[{"$f":"Blad3!H1713","v":"-"},{"$f":"Tidsram!$B$2","v":0},{"$f":"Tidsram!$B$3","v":0},{"$f":"Blad3!G1713","v":0}]
[{"$f":"Blad3!H1714","v":"-"},{"$f":"Tidsram!$B$2","v":0},{"$f":"Tidsram!$B$3","v":0},{"$f":"Blad3!G1714","v":0}]
[{"$f":"Blad3!H1715","v":"-"},{"$f":"Tidsram!$B$2","v":0},{"$f":"Tidsram!$B$3","v":0},{"$f":"Blad3!G1715","v":0}]
[{"$f":"Blad3!H1716","v":"-"},{"$f":"Tidsram!$B$2","v":0},{"$f":"Tidsram!$B$3","v":0},{"$f":"Blad3!G1716","v":0}]
[{"$f":"Blad3!H1717","v":"-"},{"$f":"Tidsram!$B$2","v":0},{"$f":"Tidsram!$B$3","v":0},{"$f":"Blad3!G1717","v":0}]
[{"$f":"Blad3!H1718","v":"-"},{"$f":"Tidsram!$B$2","v":0},{"$f":"Tidsram!$B$3","v":0},{"$f":"Blad3!G1718","v":0}]
[{"$f":"Blad3!H1719","v":"-"},{"$f":"Tidsram!$B$2","v":0},{"$f":"Tidsram!$B$3","v":0},{"$f":"Blad3!G1719","v":0}]
[{"$f":"Blad3!H1720","v":"-"},{"$f":"Tidsram!$B$2","v":0},{"$f":"Tidsram!$B$3","v":0},{"$f":"Blad3!G1720","v":0}]
[{"$f":"Blad3!H1721","v":"-"},{"$f":"Tidsram!$B$2","v":0},{"$f":"Tidsram!$B$3","v":0},{"$f":"Blad3!G1721","v":0}]
[{"$f":"Blad3!H1722","v":"-"},{"$f":"Tidsram!$B$2","v":0},{"$f":"Tidsram!$B$3","v":0},{"$f":"Blad3!G1722","v":0}]
[{"$f":"Blad3!H1723","v":"-"},{"$f":"Tidsram!$B$2","v":0},{"$f":"Tidsram!$B$3","v":0},{"$f":"Blad3!G1723","v":0}]
[{"$f":"Blad3!H1724","v":"-"},{"$f":"Tidsram!$B$2","v":0},{"$f":"Tidsram!$B$3","v":0},{"$f":"Blad3!G1724","v":0}]
[{"$f":"Blad3!H1725","v":"-"},{"$f":"Tidsram!$B$2","v":0},{"$f":"Tidsram!$B$3","v":0},{"$f":"Blad3!G1725","v":0}]
[{"$f":"Blad3!H1726","v":"-"},{"$f":"Tidsram!$B$2","v":0},{"$f":"Tidsram!$B$3","v":0},{"$f":"Blad3!G1726","v":0}]
[{"$f":"Blad3!H1727","v":"-"},{"$f":"Tidsram!$B$2","v":0},{"$f":"Tidsram!$B$3","v":0},{"$f":"Blad3!G1727","v":0}]
[{"$f":"Blad3!H1728","v":"-"},{"$f":"Tidsram!$B$2","v":0},{"$f":"Tidsram!$B$3","v":0},{"$f":"Blad3!G1728","v":0}]
[{"$f":"Blad3!H1729","v":"-"},{"$f":"Tidsram!$B$2","v":0},{"$f":"Tidsram!$B$3","v":0},{"$f":"Blad3!G1729","v":0}]
[{"$f":"Blad3!H1730","v":"-"},{"$f":"Tidsram!$B$2","v":0},{"$f":"Tidsram!$B$3","v":0},{"$f":"Blad3!G1730","v":0}]
[{"$f":"Blad3!H1731","v":"-"},{"$f":"Tidsram!$B$2","v":0},{"$f":"Tidsram!$B$3","v":0},{"$f":"Blad3!G1731","v":0}]
[{"$f":"Blad3!H1732","v":"-"},{"$f":"Tidsram!$B$2","v":0},{"$f":"Tidsram!$B$3","v":0},{"$f":"Blad3!G1732","v":0}]
[{"$f":"Blad3!H1733","v":"-"},{"$f":"Tidsram!$B$2","v":0},{"$f":"Tidsram!$B$3","v":0},{"$f":"Blad3!G1733","v":0}]
[{"$f":"Blad3!H1734","v":"-"},{"$f":"Tidsram!$B$2","v":0},{"$f":"Tidsram!$B$3","v":0},{"$f":"Blad3!G1734","v":0}]
[{"$f":"Blad3!H1735","v":"-"},{"$f":"Tidsram!$B$2","v":0},{"$f":"Tidsram!$B$3","v":0},{"$f":"Blad3!G1735","v":0}]
[{"$f":"Blad3!H1736","v":"-"},{"$f":"Tidsram!$B$2","v":0},{"$f":"Tidsram!$B$3","v":0},{"$f":"Blad3!G1736","v":0}]
[{"$f":"Blad3!H1737","v":"-"},{"$f":"Tidsram!$B$2","v":0},{"$f":"Tidsram!$B$3","v":0},{"$f":"Blad3!G1737","v":0}]
[{"$f":"Blad3!H1738","v":"-"},{"$f":"Tidsram!$B$2","v":0},{"$f":"Tidsram!$B$3","v":0},{"$f":"Blad3!G1738","v":0}]
[{"$f":"Blad3!H1739","v":"-"},{"$f":"Tidsram!$B$2","v":0},{"$f":"Tidsram!$B$3","v":0},{"$f":"Blad3!G1739","v":0}]
[{"$f":"Blad3!H1740","v":"-"},{"$f":"Tidsram!$B$2","v":0},{"$f":"Tidsram!$B$3","v":0},{"$f":"Blad3!G1740","v":0}]
[{"$f":"Blad3!H1741","v":"-"},{"$f":"Tidsram!$B$2","v":0},{"$f":"Tidsram!$B$3","v":0},{"$f":"Blad3!G1741","v":0}]
[{"$f":"Blad3!H1742","v":"-"},{"$f":"Tidsram!$B$2","v":0},{"$f":"Tidsram!$B$3","v":0},{"$f":"Blad3!G1742","v":0}]
[{"$f":"Blad3!H1743","v":"-"},{"$f":"Tidsram!$B$2","v":0},{"$f":"Tidsram!$B$3","v":0},{"$f":"Blad3!G1743","v":0}]
[{"$f":"Blad3!H1744","v":"-"},{"$f":"Tidsram!$B$2","v":0},{"$f":"Tidsram!$B$3","v":0},{"$f":"Blad3!G1744","v":0}]
[{"$f":"Blad3!H1745","v":"-"},{"$f":"Tidsram!$B$2","v":0},{"$f":"Tidsram!$B$3","v":0},{"$f":"Blad3!G1745","v":0}]
[{"$f":"Blad3!H1746","v":"-"},{"$f":"Tidsram!$B$2","v":0},{"$f":"Tidsram!$B$3","v":0},{"$f":"Blad3!G1746","v":0}]
[{"$f":"Blad3!H1747","v":"-"},{"$f":"Tidsram!$B$2","v":0},{"$f":"Tidsram!$B$3","v":0},{"$f":"Blad3!G1747","v":0}]
[{"$f":"Blad3!H1748","v":"-"},{"$f":"Tidsram!$B$2","v":0},{"$f":"Tidsram!$B$3","v":0},{"$f":"Blad3!G1748","v":0}]
[{"$f":"Blad3!H1749","v":"-"},{"$f":"Tidsram!$B$2","v":0},{"$f":"Tidsram!$B$3","v":0},{"$f":"Blad3!G1749","v":0}]
[{"$f":"Blad3!H1750","v":"-"},{"$f":"Tidsram!$B$2","v":0},{"$f":"Tidsram!$B$3","v":0},{"$f":"Blad3!G1750","v":0}]
[{"$f":"Blad3!H1751","v":"-"},{"$f":"Tidsram!$B$2","v":0},{"$f":"Tidsram!$B$3","v":0},{"$f":"Blad3!G1751","v":0}]
[{"$f":"Blad3!H1752","v":"-"},{"$f":"Tidsram!$B$2","v":0},{"$f":"Tidsram!$B$3","v":0},{"$f":"Blad3!G1752","v":0}]
[{"$f":"Blad3!H1753","v":"-"},{"$f":"Tidsram!$B$2","v":0},{"$f":"Tidsram!$B$3","v":0},{"$f":"Blad3!G1753","v":0}]
[{"$f":"Blad3!H1754","v":"-"},{"$f":"Tidsram!$B$2","v":0},{"$f":"Tidsram!$B$3","v":0},{"$f":"Blad3!G1754","v":0}]
[{"$f":"Blad3!H1755","v":"-"},{"$f":"Tidsram!$B$2","v":0},{"$f":"Tidsram!$B$3","v":0},{"$f":"Blad3!G1755","v":0}]
[{"$f":"Blad3!H1756","v":"-"},{"$f":"Tidsram!$B$2","v":0},{"$f":"Tidsram!$B$3","v":0},{"$f":"Blad3!G1756","v":0}]
[{"$f":"Blad3!H1757","v":"-"},{"$f":"Tidsram!$B$2","v":0},{"$f":"Tidsram!$B$3","v":0},{"$f":"Blad3!G1757","v":0}]
[{"$f":"Blad3!H1758","v":"-"},{"$f":"Tidsram!$B$2","v":0},{"$f":"Tidsram!$B$3","v":0},{"$f":"Blad3!G1758","v":0}]
[{"$f":"Blad3!H1759","v":"-"},{"$f":"Tidsram!$B$2","v":0},{"$f":"Tidsram!$B$3","v":0},{"$f":"Blad3!G1759","v":0}]
[{"$f":"Blad3!H1760","v":"-"},{"$f":"Tidsram!$B$2","v":0},{"$f":"Tidsram!$B$3","v":0},{"$f":"Blad3!G1760","v":0}]
[{"$f":"Blad3!H1761","v":"-"},{"$f":"Tidsram!$B$2","v":0},{"$f":"Tidsram!$B$3","v":0},{"$f":"Blad3!G1761","v":0}]
[{"$f":"Blad3!H1762","v":"-"},{"$f":"Tidsram!$B$2","v":0},{"$f":"Tidsram!$B$3","v":0},{"$f":"Blad3!G1762","v":0}]
[{"$f":"Blad3!H1763","v":"-"},{"$f":"Tidsram!$B$2","v":0},{"$f":"Tidsram!$B$3","v":0},{"$f":"Blad3!G1763","v":0}]
[{"$f":"Blad3!H1764","v":"-"},{"$f":"Tidsram!$B$2","v":0},{"$f":"Tidsram!$B$3","v":0},{"$f":"Blad3!G1764","v":0}]
[{"$f":"Blad3!H1765","v":"-"},{"$f":"Tidsram!$B$2","v":0},{"$f":"Tidsram!$B$3","v":0},{"$f":"Blad3!G1765","v":0}]
[{"$f":"Blad3!H1766","v":"-"},{"$f":"Tidsram!$B$2","v":0},{"$f":"Tidsram!$B$3","v":0},{"$f":"Blad3!G1766","v":0}]
[{"$f":"Blad3!H1767","v":"-"},{"$f":"Tidsram!$B$2","v":0},{"$f":"Tidsram!$B$3","v":0},{"$f":"Blad3!G1767","v":0}]
[{"$f":"Blad3!H1768","v":"-"},{"$f":"Tidsram!$B$2","v":0},{"$f":"Tidsram!$B$3","v":0},{"$f":"Blad3!G1768","v":0}]
[{"$f":"Blad3!H1769","v":"-"},{"$f":"Tidsram!$B$2","v":0},{"$f":"Tidsram!$B$3","v":0},{"$f":"Blad3!G1769","v":0}]
[{"$f":"Blad3!H1770","v":"-"},{"$f":"Tidsram!$B$2","v":0},{"$f":"Tidsram!$B$3","v":0},{"$f":"Blad3!G1770","v":0}]
[{"$f":"Blad3!H1771","v":"-"},{"$f":"Tidsram!$B$2","v":0},{"$f":"Tidsram!$B$3","v":0},{"$f":"Blad3!G1771","v":0}]
[{"$f":"Blad3!H1772","v":"-"},{"$f":"Tidsram!$B$2","v":0},{"$f":"Tidsram!$B$3","v":0},{"$f":"Blad3!G1772","v":0}]
[{"$f":"Blad3!H1773","v":"-"},{"$f":"Tidsram!$B$2","v":0},{"$f":"Tidsram!$B$3","v":0},{"$f":"Blad3!G1773","v":0}]
[{"$f":"Blad3!H1774","v":"-"},{"$f":"Tidsram!$B$2","v":0},{"$f":"Tidsram!$B$3","v":0},{"$f":"Blad3!G1774","v":0}]
[{"$f":"Blad3!H1775","v":"-"},{"$f":"Tidsram!$B$2","v":0},{"$f":"Tidsram!$B$3","v":0},{"$f":"Blad3!G1775","v":0}]
[{"$f":"Blad3!H1776","v":"-"},{"$f":"Tidsram!$B$2","v":0},{"$f":"Tidsram!$B$3","v":0},{"$f":"Blad3!G1776","v":0}]
[{"$f":"Blad3!H1777","v":"-"},{"$f":"Tidsram!$B$2","v":0},{"$f":"Tidsram!$B$3","v":0},{"$f":"Blad3!G1777","v":0}]
[{"$f":"Blad3!H1778","v":"-"},{"$f":"Tidsram!$B$2","v":0},{"$f":"Tidsram!$B$3","v":0},{"$f":"Blad3!G1778","v":0}]
[{"$f":"Blad3!H1779","v":"-"},{"$f":"Tidsram!$B$2","v":0},{"$f":"Tidsram!$B$3","v":0},{"$f":"Blad3!G1779","v":0}]
[{"$f":"Blad3!H1780","v":"-"},{"$f":"Tidsram!$B$2","v":0},{"$f":"Tidsram!$B$3","v":0},{"$f":"Blad3!G1780","v":0}]
[{"$f":"Blad3!H1781","v":"-"},{"$f":"Tidsram!$B$2","v":0},{"$f":"Tidsram!$B$3","v":0},{"$f":"Blad3!G1781","v":0}]
[{"$f":"Blad3!H1782","v":"-"},{"$f":"Tidsram!$B$2","v":0},{"$f":"Tidsram!$B$3","v":0},{"$f":"Blad3!G1782","v":0}]
[{"$f":"Blad3!H1783","v":"-"},{"$f":"Tidsram!$B$2","v":0},{"$f":"Tidsram!$B$3","v":0},{"$f":"Blad3!G1783","v":0}]
[{"$f":"Blad3!H1784","v":"-"},{"$f":"Tidsram!$B$2","v":0},{"$f":"Tidsram!$B$3","v":0},{"$f":"Blad3!G1784","v":0}]
[{"$f":"Blad3!H1785","v":"-"},{"$f":"Tidsram!$B$2","v":0},{"$f":"Tidsram!$B$3","v":0},{"$f":"Blad3!G1785","v":0}]
[{"$f":"Blad3!H1786","v":"-"},{"$f":"Tidsram!$B$2","v":0},{"$f":"Tidsram!$B$3","v":0},{"$f":"Blad3!G1786","v":0}]
[{"$f":"Blad3!H1787","v":"-"},{"$f":"Tidsram!$B$2","v":0},{"$f":"Tidsram!$B$3","v":0},{"$f":"Blad3!G1787","v":0}]
[{"$f":"Blad3!H1788","v":"-"},{"$f":"Tidsram!$B$2","v":0},{"$f":"Tidsram!$B$3","v":0},{"$f":"Blad3!G1788","v":0}]
[{"$f":"Blad3!H1789","v":"-"},{"$f":"Tidsram!$B$2","v":0},{"$f":"Tidsram!$B$3","v":0},{"$f":"Blad3!G1789","v":0}]
[{"$f":"Blad3!H1790","v":"-"},{"$f":"Tidsram!$B$2","v":0},{"$f":"Tidsram!$B$3","v":0},{"$f":"Blad3!G1790","v":0}]
[{"$f":"Blad3!H1791","v":"-"},{"$f":"Tidsram!$B$2","v":0},{"$f":"Tidsram!$B$3","v":0},{"$f":"Blad3!G1791","v":0}]
[{"$f":"Blad3!H1792","v":"-"},{"$f":"Tidsram!$B$2","v":0},{"$f":"Tidsram!$B$3","v":0},{"$f":"Blad3!G1792","v":0}]
[{"$f":"Blad3!H1793","v":"-"},{"$f":"Tidsram!$B$2","v":0},{"$f":"Tidsram!$B$3","v":0},{"$f":"Blad3!G1793","v":0}]
[{"$f":"Blad3!H1794","v":"-"},{"$f":"Tidsram!$B$2","v":0},{"$f":"Tidsram!$B$3","v":0},{"$f":"Blad3!G1794","v":0}]
[{"$f":"Blad3!H1795","v":"-"},{"$f":"Tidsram!$B$2","v":0},{"$f":"Tidsram!$B$3","v":0},{"$f":"Blad3!G1795","v":0}]
[{"$f":"Blad3!H1796","v":"-"},{"$f":"Tidsram!$B$2","v":0},{"$f":"Tidsram!$B$3","v":0},{"$f":"Blad3!G1796","v":0}]
[{"$f":"Blad3!H1797","v":"-"},{"$f":"Tidsram!$B$2","v":0},{"$f":"Tidsram!$B$3","v":0},{"$f":"Blad3!G1797","v":0}]
[{"$f":"Blad3!H1798","v":"-"},{"$f":"Tidsram!$B$2","v":0},{"$f":"Tidsram!$B$3","v":0},{"$f":"Blad3!G1798","v":0}]
[{"$f":"Blad3!H1799","v":"-"},{"$f":"Tidsram!$B$2","v":0},{"$f":"Tidsram!$B$3","v":0},{"$f":"Blad3!G1799","v":0}]
[{"$f":"Blad3!H1800","v":"-"},{"$f":"Tidsram!$B$2","v":0},{"$f":"Tidsram!$B$3","v":0},{"$f":"Blad3!G1800","v":0}]
[{"$f":"Blad3!H1801","v":"-"},{"$f":"Tidsram!$B$2","v":0},{"$f":"Tidsram!$B$3","v":0},{"$f":"Blad3!G1801","v":0}]
[{"$f":"Blad3!H1802","v":"-"},{"$f":"Tidsram!$B$2","v":0},{"$f":"Tidsram!$B$3","v":0},{"$f":"Blad3!G1802","v":0}]
[{"$f":"Blad3!H1803","v":"-"},{"$f":"Tidsram!$B$2","v":0},{"$f":"Tidsram!$B$3","v":0},{"$f":"Blad3!G1803","v":0}]
[{"$f":"Blad3!H1804","v":"-"},{"$f":"Tidsram!$B$2","v":0},{"$f":"Tidsram!$B$3","v":0},{"$f":"Blad3!G1804","v":0}]
[{"$f":"Blad3!H1805","v":"-"},{"$f":"Tidsram!$B$2","v":0},{"$f":"Tidsram!$B$3","v":0},{"$f":"Blad3!G1805","v":0}]
[{"$f":"Blad3!H1806","v":"-"},{"$f":"Tidsram!$B$2","v":0},{"$f":"Tidsram!$B$3","v":0},{"$f":"Blad3!G1806","v":0}]
[{"$f":"Blad3!H1807","v":"-"},{"$f":"Tidsram!$B$2","v":0},{"$f":"Tidsram!$B$3","v":0},{"$f":"Blad3!G1807","v":0}]
[{"$f":"Blad3!H1808","v":"-"},{"$f":"Tidsram!$B$2","v":0},{"$f":"Tidsram!$B$3","v":0},{"$f":"Blad3!G1808","v":0}]
[{"$f":"Blad3!H1809","v":"-"},{"$f":"Tidsram!$B$2","v":0},{"$f":"Tidsram!$B$3","v":0},{"$f":"Blad3!G1809","v":0}]
[{"$f":"Blad3!H1810","v":"-"},{"$f":"Tidsram!$B$2","v":0},{"$f":"Tidsram!$B$3","v":0},{"$f":"Blad3!G1810","v":0}]
[{"$f":"Blad3!H1811","v":"-"},{"$f":"Tidsram!$B$2","v":0},{"$f":"Tidsram!$B$3","v":0},{"$f":"Blad3!G1811","v":0}]
[{"$f":"Blad3!H1812","v":"-"},{"$f":"Tidsram!$B$2","v":0},{"$f":"Tidsram!$B$3","v":0},{"$f":"Blad3!G1812","v":0}]
[{"$f":"Blad3!H1813","v":"-"},{"$f":"Tidsram!$B$2","v":0},{"$f":"Tidsram!$B$3","v":0},{"$f":"Blad3!G1813","v":0}]
[{"$f":"Blad3!H1814","v":"-"},{"$f":"Tidsram!$B$2","v":0},{"$f":"Tidsram!$B$3","v":0},{"$f":"Blad3!G1814","v":0}]
[{"$f":"Blad3!H1815","v":"-"},{"$f":"Tidsram!$B$2","v":0},{"$f":"Tidsram!$B$3","v":0},{"$f":"Blad3!G1815","v":0}]
[{"$f":"Blad3!H1816","v":"-"},{"$f":"Tidsram!$B$2","v":0},{"$f":"Tidsram!$B$3","v":0},{"$f":"Blad3!G1816","v":0}]
[{"$f":"Blad3!H1817","v":"-"},{"$f":"Tidsram!$B$2","v":0},{"$f":"Tidsram!$B$3","v":0},{"$f":"Blad3!G1817","v":0}]
[{"$f":"Blad3!H1818","v":"-"},{"$f":"Tidsram!$B$2","v":0},{"$f":"Tidsram!$B$3","v":0},{"$f":"Blad3!G1818","v":0}]
[{"$f":"Blad3!H1819","v":"-"},{"$f":"Tidsram!$B$2","v":0},{"$f":"Tidsram!$B$3","v":0},{"$f":"Blad3!G1819","v":0}]
[{"$f":"Blad3!H1820","v":"-"},{"$f":"Tidsram!$B$2","v":0},{"$f":"Tidsram!$B$3","v":0},{"$f":"Blad3!G1820","v":0}]
[{"$f":"Blad3!H1821","v":"-"},{"$f":"Tidsram!$B$2","v":0},{"$f":"Tidsram!$B$3","v":0},{"$f":"Blad3!G1821","v":0}]
[{"$f":"Blad3!H1822","v":"-"},{"$f":"Tidsram!$B$2","v":0},{"$f":"Tidsram!$B$3","v":0},{"$f":"Blad3!G1822","v":0}]
[{"$f":"Blad3!H1823","v":"-"},{"$f":"Tidsram!$B$2","v":0},{"$f":"Tidsram!$B$3","v":0},{"$f":"Blad3!G1823","v":0}]
[{"$f":"Blad3!H1824","v":"-"},{"$f":"Tidsram!$B$2","v":0},{"$f":"Tidsram!$B$3","v":0},{"$f":"Blad3!G1824","v":0}]
[{"$f":"Blad3!H1825","v":"-"},{"$f":"Tidsram!$B$2","v":0},{"$f":"Tidsram!$B$3","v":0},{"$f":"Blad3!G1825","v":0}]
[{"$f":"Blad3!H1826","v":"-"},{"$f":"Tidsram!$B$2","v":0},{"$f":"Tidsram!$B$3","v":0},{"$f":"Blad3!G1826","v":0}]
[{"$f":"Blad3!H1827","v":"-"},{"$f":"Tidsram!$B$2","v":0},{"$f":"Tidsram!$B$3","v":0},{"$f":"Blad3!G1827","v":0}]
[{"$f":"Blad3!H1828","v":"-"},{"$f":"Tidsram!$B$2","v":0},{"$f":"Tidsram!$B$3","v":0},{"$f":"Blad3!G1828","v":0}]
[{"$f":"Blad3!H1829","v":"-"},{"$f":"Tidsram!$B$2","v":0},{"$f":"Tidsram!$B$3","v":0},{"$f":"Blad3!G1829","v":0}]
[{"$f":"Blad3!H1830","v":"-"},{"$f":"Tidsram!$B$2","v":0},{"$f":"Tidsram!$B$3","v":0},{"$f":"Blad3!G1830","v":0}]
[{"$f":"Blad3!H1831","v":"-"},{"$f":"Tidsram!$B$2","v":0},{"$f":"Tidsram!$B$3","v":0},{"$f":"Blad3!G1831","v":0}]
[{"$f":"Blad3!H1832","v":"-"},{"$f":"Tidsram!$B$2","v":0},{"$f":"Tidsram!$B$3","v":0},{"$f":"Blad3!G1832","v":0}]
[{"$f":"Blad3!H1833","v":"-"},{"$f":"Tidsram!$B$2","v":0},{"$f":"Tidsram!$B$3","v":0},{"$f":"Blad3!G1833","v":0}]
[{"$f":"Blad3!H1834","v":"-"},{"$f":"Tidsram!$B$2","v":0},{"$f":"Tidsram!$B$3","v":0},{"$f":"Blad3!G1834","v":0}]
[{"$f":"Blad3!H1835","v":"-"},{"$f":"Tidsram!$B$2","v":0},{"$f":"Tidsram!$B$3","v":0},{"$f":"Blad3!G1835","v":0}]
[{"$f":"Blad3!H1836","v":"-"},{"$f":"Tidsram!$B$2","v":0},{"$f":"Tidsram!$B$3","v":0},{"$f":"Blad3!G1836","v":0}]
[{"$f":"Blad3!H1837","v":"-"},{"$f":"Tidsram!$B$2","v":0},{"$f":"Tidsram!$B$3","v":0},{"$f":"Blad3!G1837","v":0}]
[{"$f":"Blad3!H1838","v":"-"},{"$f":"Tidsram!$B$2","v":0},{"$f":"Tidsram!$B$3","v":0},{"$f":"Blad3!G1838","v":0}]
[{"$f":"Blad3!H1839","v":"-"},{"$f":"Tidsram!$B$2","v":0},{"$f":"Tidsram!$B$3","v":0},{"$f":"Blad3!G1839","v":0}]
[{"$f":"Blad3!H1840","v":"-"},{"$f":"Tidsram!$B$2","v":0},{"$f":"Tidsram!$B$3","v":0},{"$f":"Blad3!G1840","v":0}]
[{"$f":"Blad3!H1841","v":"-"},{"$f":"Tidsram!$B$2","v":0},{"$f":"Tidsram!$B$3","v":0},{"$f":"Blad3!G1841","v":0}]
[{"$f":"Blad3!H1842","v":"-"},{"$f":"Tidsram!$B$2","v":0},{"$f":"Tidsram!$B$3","v":0},{"$f":"Blad3!G1842","v":0}]
[{"$f":"Blad3!H1843","v":"-"},{"$f":"Tidsram!$B$2","v":0},{"$f":"Tidsram!$B$3","v":0},{"$f":"Blad3!G1843","v":0}]
[{"$f":"Blad3!H1844","v":"-"},{"$f":"Tidsram!$B$2","v":0},{"$f":"Tidsram!$B$3","v":0},{"$f":"Blad3!G1844","v":0}]
[{"$f":"Blad3!H1845","v":"-"},{"$f":"Tidsram!$B$2","v":0},{"$f":"Tidsram!$B$3","v":0},{"$f":"Blad3!G1845","v":0}]
[{"$f":"Blad3!H1846","v":"-"},{"$f":"Tidsram!$B$2","v":0},{"$f":"Tidsram!$B$3","v":0},{"$f":"Blad3!G1846","v":0}]
[{"$f":"Blad3!H1847","v":"-"},{"$f":"Tidsram!$B$2","v":0},{"$f":"Tidsram!$B$3","v":0},{"$f":"Blad3!G1847","v":0}]
[{"$f":"Blad3!H1848","v":"-"},{"$f":"Tidsram!$B$2","v":0},{"$f":"Tidsram!$B$3","v":0},{"$f":"Blad3!G1848","v":0}]
[{"$f":"Blad3!H1849","v":"-"},{"$f":"Tidsram!$B$2","v":0},{"$f":"Tidsram!$B$3","v":0},{"$f":"Blad3!G1849","v":0}]
[{"$f":"Blad3!H1850","v":"-"},{"$f":"Tidsram!$B$2","v":0},{"$f":"Tidsram!$B$3","v":0},{"$f":"Blad3!G1850","v":0}]
[{"$f":"Blad3!H1851","v":"-"},{"$f":"Tidsram!$B$2","v":0},{"$f":"Tidsram!$B$3","v":0},{"$f":"Blad3!G1851","v":0}]
[{"$f":"Blad3!H1852","v":"-"},{"$f":"Tidsram!$B$2","v":0},{"$f":"Tidsram!$B$3","v":0},{"$f":"Blad3!G1852","v":0}]
[{"$f":"Blad3!H1853","v":"-"},{"$f":"Tidsram!$B$2","v":0},{"$f":"Tidsram!$B$3","v":0},{"$f":"Blad3!G1853","v":0}]
[{"$f":"Blad3!H1854","v":"-"},{"$f":"Tidsram!$B$2","v":0},{"$f":"Tidsram!$B$3","v":0},{"$f":"Blad3!G1854","v":0}]
[{"$f":"Blad3!H1855","v":"-"},{"$f":"Tidsram!$B$2","v":0},{"$f":"Tidsram!$B$3","v":0},{"$f":"Blad3!G1855","v":0}]
[{"$f":"Blad3!H1856","v":"-"},{"$f":"Tidsram!$B$2","v":0},{"$f":"Tidsram!$B$3","v":0},{"$f":"Blad3!G1856","v":0}]
[{"$f":"Blad3!H1857","v":"-"},{"$f":"Tidsram!$B$2","v":0},{"$f":"Tidsram!$B$3","v":0},{"$f":"Blad3!G1857","v":0}]
[{"$f":"Blad3!H1858","v":"-"},{"$f":"Tidsram!$B$2","v":0},{"$f":"Tidsram!$B$3","v":0},{"$f":"Blad3!G1858","v":0}]
[{"$f":"Blad3!H1859","v":"-"},{"$f":"Tidsram!$B$2","v":0},{"$f":"Tidsram!$B$3","v":0},{"$f":"Blad3!G1859","v":0}]
[{"$f":"Blad3!H1860","v":"-"},{"$f":"Tidsram!$B$2","v":0},{"$f":"Tidsram!$B$3","v":0},{"$f":"Blad3!G1860","v":0}]
[{"$f":"Blad3!H1861","v":"-"},{"$f":"Tidsram!$B$2","v":0},{"$f":"Tidsram!$B$3","v":0},{"$f":"Blad3!G1861","v":0}]
[{"$f":"Blad3!H1862","v":"-"},{"$f":"Tidsram!$B$2","v":0},{"$f":"Tidsram!$B$3","v":0},{"$f":"Blad3!G1862","v":0}]
[{"$f":"Blad3!H1863","v":"-"},{"$f":"Tidsram!$B$2","v":0},{"$f":"Tidsram!$B$3","v":0},{"$f":"Blad3!G1863","v":0}]
[{"$f":"Blad3!H1864","v":"-"},{"$f":"Tidsram!$B$2","v":0},{"$f":"Tidsram!$B$3","v":0},{"$f":"Blad3!G1864","v":0}]
[{"$f":"Blad3!H1865","v":"-"},{"$f":"Tidsram!$B$2","v":0},{"$f":"Tidsram!$B$3","v":0},{"$f":"Blad3!G1865","v":0}]
[{"$f":"Blad3!H1866","v":"-"},{"$f":"Tidsram!$B$2","v":0},{"$f":"Tidsram!$B$3","v":0},{"$f":"Blad3!G1866","v":0}]
[{"$f":"Blad3!H1867","v":"-"},{"$f":"Tidsram!$B$2","v":0},{"$f":"Tidsram!$B$3","v":0},{"$f":"Blad3!G1867","v":0}]
[{"$f":"Blad3!H1868","v":"-"},{"$f":"Tidsram!$B$2","v":0},{"$f":"Tidsram!$B$3","v":0},{"$f":"Blad3!G1868","v":0}]
[{"$f":"Blad3!H1869","v":"-"},{"$f":"Tidsram!$B$2","v":0},{"$f":"Tidsram!$B$3","v":0},{"$f":"Blad3!G1869","v":0}]
[{"$f":"Blad3!H1870","v":"-"},{"$f":"Tidsram!$B$2","v":0},{"$f":"Tidsram!$B$3","v":0},{"$f":"Blad3!G1870","v":0}]
[{"$f":"Blad3!H1871","v":"-"},{"$f":"Tidsram!$B$2","v":0},{"$f":"Tidsram!$B$3","v":0},{"$f":"Blad3!G1871","v":0}]
[{"$f":"Blad3!H1872","v":"-"},{"$f":"Tidsram!$B$2","v":0},{"$f":"Tidsram!$B$3","v":0},{"$f":"Blad3!G1872","v":0}]
[{"$f":"Blad3!H1873","v":"-"},{"$f":"Tidsram!$B$2","v":0},{"$f":"Tidsram!$B$3","v":0},{"$f":"Blad3!G1873","v":0}]
[{"$f":"Blad3!H1874","v":"-"},{"$f":"Tidsram!$B$2","v":0},{"$f":"Tidsram!$B$3","v":0},{"$f":"Blad3!G1874","v":0}]
[{"$f":"Blad3!H1875","v":"-"},{"$f":"Tidsram!$B$2","v":0},{"$f":"Tidsram!$B$3","v":0},{"$f":"Blad3!G1875","v":0}]
[{"$f":"Blad3!H1876","v":"-"},{"$f":"Tidsram!$B$2","v":0},{"$f":"Tidsram!$B$3","v":0},{"$f":"Blad3!G1876","v":0}]
[{"$f":"Blad3!H1877","v":"-"},{"$f":"Tidsram!$B$2","v":0},{"$f":"Tidsram!$B$3","v":0},{"$f":"Blad3!G1877","v":0}]
[{"$f":"Blad3!H1878","v":"-"},{"$f":"Tidsram!$B$2","v":0},{"$f":"Tidsram!$B$3","v":0},{"$f":"Blad3!G1878","v":0}]
[{"$f":"Blad3!H1879","v":"-"},{"$f":"Tidsram!$B$2","v":0},{"$f":"Tidsram!$B$3","v":0},{"$f":"Blad3!G1879","v":0}]
[{"$f":"Blad3!H1880","v":"-"},{"$f":"Tidsram!$B$2","v":0},{"$f":"Tidsram!$B$3","v":0},{"$f":"Blad3!G1880","v":0}]
[{"$f":"Blad3!H1881","v":"-"},{"$f":"Tidsram!$B$2","v":0},{"$f":"Tidsram!$B$3","v":0},{"$f":"Blad3!G1881","v":0}]
[{"$f":"Blad3!H1882","v":"-"},{"$f":"Tidsram!$B$2","v":0},{"$f":"Tidsram!$B$3","v":0},{"$f":"Blad3!G1882","v":0}]
[{"$f":"Blad3!H1883","v":"-"},{"$f":"Tidsram!$B$2","v":0},{"$f":"Tidsram!$B$3","v":0},{"$f":"Blad3!G1883","v":0}]
[{"$f":"Blad3!H1884","v":"-"},{"$f":"Tidsram!$B$2","v":0},{"$f":"Tidsram!$B$3","v":0},{"$f":"Blad3!G1884","v":0}]
[{"$f":"Blad3!H1885","v":"-"},{"$f":"Tidsram!$B$2","v":0},{"$f":"Tidsram!$B$3","v":0},{"$f":"Blad3!G1885","v":0}]
[{"$f":"Blad3!H1886","v":"-"},{"$f":"Tidsram!$B$2","v":0},{"$f":"Tidsram!$B$3","v":0},{"$f":"Blad3!G1886","v":0}]
[{"$f":"Blad3!H1887","v":"-"},{"$f":"Tidsram!$B$2","v":0},{"$f":"Tidsram!$B$3","v":0},{"$f":"Blad3!G1887","v":0}]
[{"$f":"Blad3!H1888","v":"-"},{"$f":"Tidsram!$B$2","v":0},{"$f":"Tidsram!$B$3","v":0},{"$f":"Blad3!G1888","v":0}]
[{"$f":"Blad3!H1889","v":"-"},{"$f":"Tidsram!$B$2","v":0},{"$f":"Tidsram!$B$3","v":0},{"$f":"Blad3!G1889","v":0}]
[{"$f":"Blad3!H1890","v":"-"},{"$f":"Tidsram!$B$2","v":0},{"$f":"Tidsram!$B$3","v":0},{"$f":"Blad3!G1890","v":0}]
[{"$f":"Blad3!H1891","v":"-"},{"$f":"Tidsram!$B$2","v":0},{"$f":"Tidsram!$B$3","v":0},{"$f":"Blad3!G1891","v":0}]
[{"$f":"Blad3!H1892","v":"-"},{"$f":"Tidsram!$B$2","v":0},{"$f":"Tidsram!$B$3","v":0},{"$f":"Blad3!G1892","v":0}]
[{"$f":"Blad3!H1893","v":"-"},{"$f":"Tidsram!$B$2","v":0},{"$f":"Tidsram!$B$3","v":0},{"$f":"Blad3!G1893","v":0}]
[{"$f":"Blad3!H1894","v":"-"},{"$f":"Tidsram!$B$2","v":0},{"$f":"Tidsram!$B$3","v":0},{"$f":"Blad3!G1894","v":0}]
[{"$f":"Blad3!H1895","v":"-"},{"$f":"Tidsram!$B$2","v":0},{"$f":"Tidsram!$B$3","v":0},{"$f":"Blad3!G1895","v":0}]
[{"$f":"Blad3!H1896","v":"-"},{"$f":"Tidsram!$B$2","v":0},{"$f":"Tidsram!$B$3","v":0},{"$f":"Blad3!G1896","v":0}]
[{"$f":"Blad3!H1897","v":"-"},{"$f":"Tidsram!$B$2","v":0},{"$f":"Tidsram!$B$3","v":0},{"$f":"Blad3!G1897","v":0}]
[{"$f":"Blad3!H1898","v":"-"},{"$f":"Tidsram!$B$2","v":0},{"$f":"Tidsram!$B$3","v":0},{"$f":"Blad3!G1898","v":0}]
[{"$f":"Blad3!H1899","v":"-"},{"$f":"Tidsram!$B$2","v":0},{"$f":"Tidsram!$B$3","v":0},{"$f":"Blad3!G1899","v":0}]
[{"$f":"Blad3!H1900","v":"-"},{"$f":"Tidsram!$B$2","v":0},{"$f":"Tidsram!$B$3","v":0},{"$f":"Blad3!G1900","v":0}]
[{"$f":"Blad3!H1901","v":"-"},{"$f":"Tidsram!$B$2","v":0},{"$f":"Tidsram!$B$3","v":0},{"$f":"Blad3!G1901","v":0}]
[{"$f":"Blad3!H1902","v":"-"},{"$f":"Tidsram!$B$2","v":0},{"$f":"Tidsram!$B$3","v":0},{"$f":"Blad3!G1902","v":0}]
[{"$f":"Blad3!H1903","v":"-"},{"$f":"Tidsram!$B$2","v":0},{"$f":"Tidsram!$B$3","v":0},{"$f":"Blad3!G1903","v":0}]
[{"$f":"Blad3!H1904","v":"-"},{"$f":"Tidsram!$B$2","v":0},{"$f":"Tidsram!$B$3","v":0},{"$f":"Blad3!G1904","v":0}]
[{"$f":"Blad3!H1905","v":"-"},{"$f":"Tidsram!$B$2","v":0},{"$f":"Tidsram!$B$3","v":0},{"$f":"Blad3!G1905","v":0}]
[{"$f":"Blad3!H1906","v":"-"},{"$f":"Tidsram!$B$2","v":0},{"$f":"Tidsram!$B$3","v":0},{"$f":"Blad3!G1906","v":0}]
[{"$f":"Blad3!H1907","v":"-"},{"$f":"Tidsram!$B$2","v":0},{"$f":"Tidsram!$B$3","v":0},{"$f":"Blad3!G1907","v":0}]
[{"$f":"Blad3!H1908","v":"-"},{"$f":"Tidsram!$B$2","v":0},{"$f":"Tidsram!$B$3","v":0},{"$f":"Blad3!G1908","v":0}]
[{"$f":"Blad3!H1909","v":"-"},{"$f":"Tidsram!$B$2","v":0},{"$f":"Tidsram!$B$3","v":0},{"$f":"Blad3!G1909","v":0}]
[{"$f":"Blad3!H1910","v":"-"},{"$f":"Tidsram!$B$2","v":0},{"$f":"Tidsram!$B$3","v":0},{"$f":"Blad3!G1910","v":0}]
[{"$f":"Blad3!H1911","v":"-"},{"$f":"Tidsram!$B$2","v":0},{"$f":"Tidsram!$B$3","v":0},{"$f":"Blad3!G1911","v":0}]
[{"$f":"Blad3!H1912","v":"-"},{"$f":"Tidsram!$B$2","v":0},{"$f":"Tidsram!$B$3","v":0},{"$f":"Blad3!G1912","v":0}]
[{"$f":"Blad3!H1913","v":"-"},{"$f":"Tidsram!$B$2","v":0},{"$f":"Tidsram!$B$3","v":0},{"$f":"Blad3!G1913","v":0}]
[{"$f":"Blad3!H1914","v":"-"},{"$f":"Tidsram!$B$2","v":0},{"$f":"Tidsram!$B$3","v":0},{"$f":"Blad3!G1914","v":0}]
[{"$f":"Blad3!H1915","v":"-"},{"$f":"Tidsram!$B$2","v":0},{"$f":"Tidsram!$B$3","v":0},{"$f":"Blad3!G1915","v":0}]
[{"$f":"Blad3!H1916","v":"-"},{"$f":"Tidsram!$B$2","v":0},{"$f":"Tidsram!$B$3","v":0},{"$f":"Blad3!G1916","v":0}]
[{"$f":"Blad3!H1917","v":"-"},{"$f":"Tidsram!$B$2","v":0},{"$f":"Tidsram!$B$3","v":0},{"$f":"Blad3!G1917","v":0}]
[{"$f":"Blad3!H1918","v":"-"},{"$f":"Tidsram!$B$2","v":0},{"$f":"Tidsram!$B$3","v":0},{"$f":"Blad3!G1918","v":0}]
[{"$f":"Blad3!H1919","v":"-"},{"$f":"Tidsram!$B$2","v":0},{"$f":"Tidsram!$B$3","v":0},{"$f":"Blad3!G1919","v":0}]
[{"$f":"Blad3!H1920","v":"-"},{"$f":"Tidsram!$B$2","v":0},{"$f":"Tidsram!$B$3","v":0},{"$f":"Blad3!G1920","v":0}]
[{"$f":"Blad3!H1921","v":"-"},{"$f":"Tidsram!$B$2","v":0},{"$f":"Tidsram!$B$3","v":0},{"$f":"Blad3!G1921","v":0}]
[{"$f":"Blad3!H1922","v":"-"},{"$f":"Tidsram!$B$2","v":0},{"$f":"Tidsram!$B$3","v":0},{"$f":"Blad3!G1922","v":0}]
[{"$f":"Blad3!H1923","v":"-"},{"$f":"Tidsram!$B$2","v":0},{"$f":"Tidsram!$B$3","v":0},{"$f":"Blad3!G1923","v":0}]
[{"$f":"Blad3!H1924","v":"-"},{"$f":"Tidsram!$B$2","v":0},{"$f":"Tidsram!$B$3","v":0},{"$f":"Blad3!G1924","v":0}]
[{"$f":"Blad3!H1925","v":"-"},{"$f":"Tidsram!$B$2","v":0},{"$f":"Tidsram!$B$3","v":0},{"$f":"Blad3!G1925","v":0}]
[{"$f":"Blad3!H1926","v":"-"},{"$f":"Tidsram!$B$2","v":0},{"$f":"Tidsram!$B$3","v":0},{"$f":"Blad3!G1926","v":0}]
[{"$f":"Blad3!H1927","v":"-"},{"$f":"Tidsram!$B$2","v":0},{"$f":"Tidsram!$B$3","v":0},{"$f":"Blad3!G1927","v":0}]
[{"$f":"Blad3!H1928","v":"-"},{"$f":"Tidsram!$B$2","v":0},{"$f":"Tidsram!$B$3","v":0},{"$f":"Blad3!G1928","v":0}]
[{"$f":"Blad3!H1929","v":"-"},{"$f":"Tidsram!$B$2","v":0},{"$f":"Tidsram!$B$3","v":0},{"$f":"Blad3!G1929","v":0}]
[{"$f":"Blad3!H1930","v":"-"},{"$f":"Tidsram!$B$2","v":0},{"$f":"Tidsram!$B$3","v":0},{"$f":"Blad3!G1930","v":0}]
[{"$f":"Blad3!H1931","v":"-"},{"$f":"Tidsram!$B$2","v":0},{"$f":"Tidsram!$B$3","v":0},{"$f":"Blad3!G1931","v":0}]
[{"$f":"Blad3!H1932","v":"-"},{"$f":"Tidsram!$B$2","v":0},{"$f":"Tidsram!$B$3","v":0},{"$f":"Blad3!G1932","v":0}]
[{"$f":"Blad3!H1933","v":"-"},{"$f":"Tidsram!$B$2","v":0},{"$f":"Tidsram!$B$3","v":0},{"$f":"Blad3!G1933","v":0}]
[{"$f":"Blad3!H1934","v":"-"},{"$f":"Tidsram!$B$2","v":0},{"$f":"Tidsram!$B$3","v":0},{"$f":"Blad3!G1934","v":0}]
[{"$f":"Blad3!H1935","v":"-"},{"$f":"Tidsram!$B$2","v":0},{"$f":"Tidsram!$B$3","v":0},{"$f":"Blad3!G1935","v":0}]
[{"$f":"Blad3!H1936","v":"-"},{"$f":"Tidsram!$B$2","v":0},{"$f":"Tidsram!$B$3","v":0},{"$f":"Blad3!G1936","v":0}]
[{"$f":"Blad3!H1937","v":"-"},{"$f":"Tidsram!$B$2","v":0},{"$f":"Tidsram!$B$3","v":0},{"$f":"Blad3!G1937","v":0}]
[{"$f":"Blad3!H1938","v":"-"},{"$f":"Tidsram!$B$2","v":0},{"$f":"Tidsram!$B$3","v":0},{"$f":"Blad3!G1938","v":0}]
[{"$f":"Blad3!H1939","v":"-"},{"$f":"Tidsram!$B$2","v":0},{"$f":"Tidsram!$B$3","v":0},{"$f":"Blad3!G1939","v":0}]
[{"$f":"Blad3!H1940","v":"-"},{"$f":"Tidsram!$B$2","v":0},{"$f":"Tidsram!$B$3","v":0},{"$f":"Blad3!G1940","v":0}]
[{"$f":"Blad3!H1941","v":"-"},{"$f":"Tidsram!$B$2","v":0},{"$f":"Tidsram!$B$3","v":0},{"$f":"Blad3!G1941","v":0}]
[{"$f":"Blad3!H1942","v":"-"},{"$f":"Tidsram!$B$2","v":0},{"$f":"Tidsram!$B$3","v":0},{"$f":"Blad3!G1942","v":0}]
[{"$f":"Blad3!H1943","v":"-"},{"$f":"Tidsram!$B$2","v":0},{"$f":"Tidsram!$B$3","v":0},{"$f":"Blad3!G1943","v":0}]
[{"$f":"Blad3!H1944","v":"-"},{"$f":"Tidsram!$B$2","v":0},{"$f":"Tidsram!$B$3","v":0},{"$f":"Blad3!G1944","v":0}]
[{"$f":"Blad3!H1945","v":"-"},{"$f":"Tidsram!$B$2","v":0},{"$f":"Tidsram!$B$3","v":0},{"$f":"Blad3!G1945","v":0}]
[{"$f":"Blad3!H1946","v":"-"},{"$f":"Tidsram!$B$2","v":0},{"$f":"Tidsram!$B$3","v":0},{"$f":"Blad3!G1946","v":0}]
[{"$f":"Blad3!H1947","v":"-"},{"$f":"Tidsram!$B$2","v":0},{"$f":"Tidsram!$B$3","v":0},{"$f":"Blad3!G1947","v":0}]
[{"$f":"Blad3!H1948","v":"-"},{"$f":"Tidsram!$B$2","v":0},{"$f":"Tidsram!$B$3","v":0},{"$f":"Blad3!G1948","v":0}]
[{"$f":"Blad3!H1949","v":"-"},{"$f":"Tidsram!$B$2","v":0},{"$f":"Tidsram!$B$3","v":0},{"$f":"Blad3!G1949","v":0}]
[{"$f":"Blad3!H1950","v":"-"},{"$f":"Tidsram!$B$2","v":0},{"$f":"Tidsram!$B$3","v":0},{"$f":"Blad3!G1950","v":0}]
[{"$f":"Blad3!H1951","v":"-"},{"$f":"Tidsram!$B$2","v":0},{"$f":"Tidsram!$B$3","v":0},{"$f":"Blad3!G1951","v":0}]
[{"$f":"Blad3!H1952","v":"-"},{"$f":"Tidsram!$B$2","v":0},{"$f":"Tidsram!$B$3","v":0},{"$f":"Blad3!G1952","v":0}]
[{"$f":"Blad3!H1953","v":"-"},{"$f":"Tidsram!$B$2","v":0},{"$f":"Tidsram!$B$3","v":0},{"$f":"Blad3!G1953","v":0}]
[{"$f":"Blad3!H1954","v":"-"},{"$f":"Tidsram!$B$2","v":0},{"$f":"Tidsram!$B$3","v":0},{"$f":"Blad3!G1954","v":0}]
[{"$f":"Blad3!H1955","v":"-"},{"$f":"Tidsram!$B$2","v":0},{"$f":"Tidsram!$B$3","v":0},{"$f":"Blad3!G1955","v":0}]
[{"$f":"Blad3!H1956","v":"-"},{"$f":"Tidsram!$B$2","v":0},{"$f":"Tidsram!$B$3","v":0},{"$f":"Blad3!G1956","v":0}]
[{"$f":"Blad3!H1957","v":"-"},{"$f":"Tidsram!$B$2","v":0},{"$f":"Tidsram!$B$3","v":0},{"$f":"Blad3!G1957","v":0}]
[{"$f":"Blad3!H1958","v":"-"},{"$f":"Tidsram!$B$2","v":0},{"$f":"Tidsram!$B$3","v":0},{"$f":"Blad3!G1958","v":0}]
[{"$f":"Blad3!H1959","v":"-"},{"$f":"Tidsram!$B$2","v":0},{"$f":"Tidsram!$B$3","v":0},{"$f":"Blad3!G1959","v":0}]
[{"$f":"Blad3!H1960","v":"-"},{"$f":"Tidsram!$B$2","v":0},{"$f":"Tidsram!$B$3","v":0},{"$f":"Blad3!G1960","v":0}]
[{"$f":"Blad3!H1961","v":"-"},{"$f":"Tidsram!$B$2","v":0},{"$f":"Tidsram!$B$3","v":0},{"$f":"Blad3!G1961","v":0}]
[{"$f":"Blad3!H1962","v":"-"},{"$f":"Tidsram!$B$2","v":0},{"$f":"Tidsram!$B$3","v":0},{"$f":"Blad3!G1962","v":0}]
[{"$f":"Blad3!H1963","v":"-"},{"$f":"Tidsram!$B$2","v":0},{"$f":"Tidsram!$B$3","v":0},{"$f":"Blad3!G1963","v":0}]
[{"$f":"Blad3!H1964","v":"-"},{"$f":"Tidsram!$B$2","v":0},{"$f":"Tidsram!$B$3","v":0},{"$f":"Blad3!G1964","v":0}]
[{"$f":"Blad3!H1965","v":"-"},{"$f":"Tidsram!$B$2","v":0},{"$f":"Tidsram!$B$3","v":0},{"$f":"Blad3!G1965","v":0}]
[{"$f":"Blad3!H1966","v":"-"},{"$f":"Tidsram!$B$2","v":0},{"$f":"Tidsram!$B$3","v":0},{"$f":"Blad3!G1966","v":0}]
[{"$f":"Blad3!H1967","v":"-"},{"$f":"Tidsram!$B$2","v":0},{"$f":"Tidsram!$B$3","v":0},{"$f":"Blad3!G1967","v":0}]
[{"$f":"Blad3!H1968","v":"-"},{"$f":"Tidsram!$B$2","v":0},{"$f":"Tidsram!$B$3","v":0},{"$f":"Blad3!G1968","v":0}]
[{"$f":"Blad3!H1969","v":"-"},{"$f":"Tidsram!$B$2","v":0},{"$f":"Tidsram!$B$3","v":0},{"$f":"Blad3!G1969","v":0}]
[{"$f":"Blad3!H1970","v":"-"},{"$f":"Tidsram!$B$2","v":0},{"$f":"Tidsram!$B$3","v":0},{"$f":"Blad3!G1970","v":0}]
[{"$f":"Blad3!H1971","v":"-"},{"$f":"Tidsram!$B$2","v":0},{"$f":"Tidsram!$B$3","v":0},{"$f":"Blad3!G1971","v":0}]
[{"$f":"Blad3!H1972","v":"-"},{"$f":"Tidsram!$B$2","v":0},{"$f":"Tidsram!$B$3","v":0},{"$f":"Blad3!G1972","v":0}]
[{"$f":"Blad3!H1973","v":"-"},{"$f":"Tidsram!$B$2","v":0},{"$f":"Tidsram!$B$3","v":0},{"$f":"Blad3!G1973","v":0}]
[{"$f":"Blad3!H1974","v":"-"},{"$f":"Tidsram!$B$2","v":0},{"$f":"Tidsram!$B$3","v":0},{"$f":"Blad3!G1974","v":0}]
[{"$f":"Blad3!H1975","v":"-"},{"$f":"Tidsram!$B$2","v":0},{"$f":"Tidsram!$B$3","v":0},{"$f":"Blad3!G1975","v":0}]
[{"$f":"Blad3!H1976","v":"-"},{"$f":"Tidsram!$B$2","v":0},{"$f":"Tidsram!$B$3","v":0},{"$f":"Blad3!G1976","v":0}]
[{"$f":"Blad3!H1977","v":"-"},{"$f":"Tidsram!$B$2","v":0},{"$f":"Tidsram!$B$3","v":0},{"$f":"Blad3!G1977","v":0}]
[{"$f":"Blad3!H1978","v":"-"},{"$f":"Tidsram!$B$2","v":0},{"$f":"Tidsram!$B$3","v":0},{"$f":"Blad3!G1978","v":0}]
[{"$f":"Blad3!H1979","v":"-"},{"$f":"Tidsram!$B$2","v":0},{"$f":"Tidsram!$B$3","v":0},{"$f":"Blad3!G1979","v":0}]
[{"$f":"Blad3!H1980","v":"-"},{"$f":"Tidsram!$B$2","v":0},{"$f":"Tidsram!$B$3","v":0},{"$f":"Blad3!G1980","v":0}]
[{"$f":"Blad3!H1981","v":"-"},{"$f":"Tidsram!$B$2","v":0},{"$f":"Tidsram!$B$3","v":0},{"$f":"Blad3!G1981","v":0}]
[{"$f":"Blad3!H1982","v":"-"},{"$f":"Tidsram!$B$2","v":0},{"$f":"Tidsram!$B$3","v":0},{"$f":"Blad3!G1982","v":0}]
[{"$f":"Blad3!H1983","v":"-"},{"$f":"Tidsram!$B$2","v":0},{"$f":"Tidsram!$B$3","v":0},{"$f":"Blad3!G1983","v":0}]
[{"$f":"Blad3!H1984","v":"-"},{"$f":"Tidsram!$B$2","v":0},{"$f":"Tidsram!$B$3","v":0},{"$f":"Blad3!G1984","v":0}]
[{"$f":"Blad3!H1985","v":"-"},{"$f":"Tidsram!$B$2","v":0},{"$f":"Tidsram!$B$3","v":0},{"$f":"Blad3!G1985","v":0}]
[{"$f":"Blad3!H1986","v":"-"},{"$f":"Tidsram!$B$2","v":0},{"$f":"Tidsram!$B$3","v":0},{"$f":"Blad3!G1986","v":0}]
[{"$f":"Blad3!H1987","v":"-"},{"$f":"Tidsram!$B$2","v":0},{"$f":"Tidsram!$B$3","v":0},{"$f":"Blad3!G1987","v":0}]
[{"$f":"Blad3!H1988","v":"-"},{"$f":"Tidsram!$B$2","v":0},{"$f":"Tidsram!$B$3","v":0},{"$f":"Blad3!G1988","v":0}]
[{"$f":"Blad3!H1989","v":"-"},{"$f":"Tidsram!$B$2","v":0},{"$f":"Tidsram!$B$3","v":0},{"$f":"Blad3!G1989","v":0}]
[{"$f":"Blad3!H1990","v":"-"},{"$f":"Tidsram!$B$2","v":0},{"$f":"Tidsram!$B$3","v":0},{"$f":"Blad3!G1990","v":0}]
[{"$f":"Blad3!H1991","v":"-"},{"$f":"Tidsram!$B$2","v":0},{"$f":"Tidsram!$B$3","v":0},{"$f":"Blad3!G1991","v":0}]
[{"$f":"Blad3!H1992","v":"-"},{"$f":"Tidsram!$B$2","v":0},{"$f":"Tidsram!$B$3","v":0},{"$f":"Blad3!G1992","v":0}]
[{"$f":"Blad3!H1993","v":"-"},{"$f":"Tidsram!$B$2","v":0},{"$f":"Tidsram!$B$3","v":0},{"$f":"Blad3!G1993","v":0}]
[{"$f":"Blad3!H1994","v":"-"},{"$f":"Tidsram!$B$2","v":0},{"$f":"Tidsram!$B$3","v":0},{"$f":"Blad3!G1994","v":0}]
[{"$f":"Blad3!H1995","v":"-"},{"$f":"Tidsram!$B$2","v":0},{"$f":"Tidsram!$B$3","v":0},{"$f":"Blad3!G1995","v":0}]
[{"$f":"Blad3!H1996","v":"-"},{"$f":"Tidsram!$B$2","v":0},{"$f":"Tidsram!$B$3","v":0},{"$f":"Blad3!G1996","v":0}]
[{"$f":"Blad3!H1997","v":"-"},{"$f":"Tidsram!$B$2","v":0},{"$f":"Tidsram!$B$3","v":0},{"$f":"Blad3!G1997","v":0}]
[{"$f":"Blad3!H1998","v":"-"},{"$f":"Tidsram!$B$2","v":0},{"$f":"Tidsram!$B$3","v":0},{"$f":"Blad3!G1998","v":0}]
[{"$f":"Blad3!H1999","v":"-"},{"$f":"Tidsram!$B$2","v":0},{"$f":"Tidsram!$B$3","v":0},{"$f":"Blad3!G1999","v":0}]
[{"$f":"Blad3!H2000","v":"-"},{"$f":"Tidsram!$B$2","v":0},{"$f":"Tidsram!$B$3","v":0},{"$f":"Blad3!G2000","v":0}]
[{"$f":"Blad3!H2001","v":"-"},{"$f":"Tidsram!$B$2","v":0},{"$f":"Tidsram!$B$3","v":0},{"$f":"Blad3!G2001","v":0}]
[{"$f":"Blad3!H2002","v":"-"},{"$f":"Tidsram!$B$2","v":0},{"$f":"Tidsram!$B$3","v":0},{"$f":"Blad3!G2002","v":0}]
[{"$f":"Blad3!H2003","v":"-"},{"$f":"Tidsram!$B$2","v":0},{"$f":"Tidsram!$B$3","v":0},{"$f":"Blad3!G2003","v":0}]
[{"$f":"Blad3!H2004","v":"-"},{"$f":"Tidsram!$B$2","v":0},{"$f":"Tidsram!$B$3","v":0},{"$f":"Blad3!G2004","v":0}]
[{"$f":"Blad3!H2005","v":"-"},{"$f":"Tidsram!$B$2","v":0},{"$f":"Tidsram!$B$3","v":0},{"$f":"Blad3!G2005","v":0}]
[{"$f":"Blad3!H2006","v":"-"},{"$f":"Tidsram!$B$2","v":0},{"$f":"Tidsram!$B$3","v":0},{"$f":"Blad3!G2006","v":0}]
[{"$f":"Blad3!H2007","v":"-"},{"$f":"Tidsram!$B$2","v":0},{"$f":"Tidsram!$B$3","v":0},{"$f":"Blad3!G2007","v":0}]
[{"$f":"Blad3!H2008","v":"-"},{"$f":"Tidsram!$B$2","v":0},{"$f":"Tidsram!$B$3","v":0},{"$f":"Blad3!G2008","v":0}]
[{"$f":"Blad3!H2009","v":"-"},{"$f":"Tidsram!$B$2","v":0},{"$f":"Tidsram!$B$3","v":0},{"$f":"Blad3!G2009","v":0}]
[{"$f":"Blad3!H2010","v":"-"},{"$f":"Tidsram!$B$2","v":0},{"$f":"Tidsram!$B$3","v":0},{"$f":"Blad3!G2010","v":0}]
[{"$f":"Blad3!H2011","v":"-"},{"$f":"Tidsram!$B$2","v":0},{"$f":"Tidsram!$B$3","v":0},{"$f":"Blad3!G2011","v":0}]
[{"$f":"Blad3!H2012","v":"-"},{"$f":"Tidsram!$B$2","v":0},{"$f":"Tidsram!$B$3","v":0},{"$f":"Blad3!G2012","v":0}]
[{"$f":"Blad3!H2013","v":"-"},{"$f":"Tidsram!$B$2","v":0},{"$f":"Tidsram!$B$3","v":0},{"$f":"Blad3!G2013","v":0}]
[{"$f":"Blad3!H2014","v":"-"},{"$f":"Tidsram!$B$2","v":0},{"$f":"Tidsram!$B$3","v":0},{"$f":"Blad3!G2014","v":0}]
[{"$f":"Blad3!H2015","v":"-"},{"$f":"Tidsram!$B$2","v":0},{"$f":"Tidsram!$B$3","v":0},{"$f":"Blad3!G2015","v":0}]
[{"$f":"Blad3!H2016","v":"-"},{"$f":"Tidsram!$B$2","v":0},{"$f":"Tidsram!$B$3","v":0},{"$f":"Blad3!G2016","v":0}]
[{"$f":"Blad3!H2017","v":"-"},{"$f":"Tidsram!$B$2","v":0},{"$f":"Tidsram!$B$3","v":0},{"$f":"Blad3!G2017","v":0}]
[{"$f":"Blad3!H2018","v":"-"},{"$f":"Tidsram!$B$2","v":0},{"$f":"Tidsram!$B$3","v":0},{"$f":"Blad3!G2018","v":0}]
[{"$f":"Blad3!H2019","v":"-"},{"$f":"Tidsram!$B$2","v":0},{"$f":"Tidsram!$B$3","v":0},{"$f":"Blad3!G2019","v":0}]
[{"$f":"Blad3!H2020","v":"-"},{"$f":"Tidsram!$B$2","v":0},{"$f":"Tidsram!$B$3","v":0},{"$f":"Blad3!G2020","v":0}]
[{"$f":"Blad3!H2021","v":"-"},{"$f":"Tidsram!$B$2","v":0},{"$f":"Tidsram!$B$3","v":0},{"$f":"Blad3!G2021","v":0}]
[{"$f":"Blad3!H2022","v":"-"},{"$f":"Tidsram!$B$2","v":0},{"$f":"Tidsram!$B$3","v":0},{"$f":"Blad3!G2022","v":0}]
[{"$f":"Blad3!H2023","v":"-"},{"$f":"Tidsram!$B$2","v":0},{"$f":"Tidsram!$B$3","v":0},{"$f":"Blad3!G2023","v":0}]
[{"$f":"Blad3!H2024","v":"-"},{"$f":"Tidsram!$B$2","v":0},{"$f":"Tidsram!$B$3","v":0},{"$f":"Blad3!G2024","v":0}]
[{"$f":"Blad3!H2025","v":"-"},{"$f":"Tidsram!$B$2","v":0},{"$f":"Tidsram!$B$3","v":0},{"$f":"Blad3!G2025","v":0}]
[{"$f":"Blad3!H2026","v":"-"},{"$f":"Tidsram!$B$2","v":0},{"$f":"Tidsram!$B$3","v":0},{"$f":"Blad3!G2026","v":0}]
[{"$f":"Blad3!H2027","v":"-"},{"$f":"Tidsram!$B$2","v":0},{"$f":"Tidsram!$B$3","v":0},{"$f":"Blad3!G2027","v":0}]
[{"$f":"Blad3!H2028","v":"-"},{"$f":"Tidsram!$B$2","v":0},{"$f":"Tidsram!$B$3","v":0},{"$f":"Blad3!G2028","v":0}]
[{"$f":"Blad3!H2029","v":"-"},{"$f":"Tidsram!$B$2","v":0},{"$f":"Tidsram!$B$3","v":0},{"$f":"Blad3!G2029","v":0}]
[{"$f":"Blad3!H2030","v":"-"},{"$f":"Tidsram!$B$2","v":0},{"$f":"Tidsram!$B$3","v":0},{"$f":"Blad3!G2030","v":0}]
[{"$f":"Blad3!H2031","v":"-"},{"$f":"Tidsram!$B$2","v":0},{"$f":"Tidsram!$B$3","v":0},{"$f":"Blad3!G2031","v":0}]
[{"$f":"Blad3!H2032","v":"-"},{"$f":"Tidsram!$B$2","v":0},{"$f":"Tidsram!$B$3","v":0},{"$f":"Blad3!G2032","v":0}]
[{"$f":"Blad3!H2033","v":"-"},{"$f":"Tidsram!$B$2","v":0},{"$f":"Tidsram!$B$3","v":0},{"$f":"Blad3!G2033","v":0}]
[{"$f":"Blad3!H2034","v":"-"},{"$f":"Tidsram!$B$2","v":0},{"$f":"Tidsram!$B$3","v":0},{"$f":"Blad3!G2034","v":0}]
[{"$f":"Blad3!H2035","v":"-"},{"$f":"Tidsram!$B$2","v":0},{"$f":"Tidsram!$B$3","v":0},{"$f":"Blad3!G2035","v":0}]
[{"$f":"Blad3!H2036","v":"-"},{"$f":"Tidsram!$B$2","v":0},{"$f":"Tidsram!$B$3","v":0},{"$f":"Blad3!G2036","v":0}]
[{"$f":"Blad3!H2037","v":"-"},{"$f":"Tidsram!$B$2","v":0},{"$f":"Tidsram!$B$3","v":0},{"$f":"Blad3!G2037","v":0}]
[{"$f":"Blad3!H2038","v":"-"},{"$f":"Tidsram!$B$2","v":0},{"$f":"Tidsram!$B$3","v":0},{"$f":"Blad3!G2038","v":0}]
[{"$f":"Blad3!H2039","v":"-"},{"$f":"Tidsram!$B$2","v":0},{"$f":"Tidsram!$B$3","v":0},{"$f":"Blad3!G2039","v":0}]
[{"$f":"Blad3!H2040","v":"-"},{"$f":"Tidsram!$B$2","v":0},{"$f":"Tidsram!$B$3","v":0},{"$f":"Blad3!G2040","v":0}]
[{"$f":"Blad3!H2041","v":"-"},{"$f":"Tidsram!$B$2","v":0},{"$f":"Tidsram!$B$3","v":0},{"$f":"Blad3!G2041","v":0}]
[{"$f":"Blad3!H2042","v":"-"},{"$f":"Tidsram!$B$2","v":0},{"$f":"Tidsram!$B$3","v":0},{"$f":"Blad3!G2042","v":0}]
[{"$f":"Blad3!H2043","v":"-"},{"$f":"Tidsram!$B$2","v":0},{"$f":"Tidsram!$B$3","v":0},{"$f":"Blad3!G2043","v":0}]
[{"$f":"Blad3!H2044","v":"-"},{"$f":"Tidsram!$B$2","v":0},{"$f":"Tidsram!$B$3","v":0},{"$f":"Blad3!G2044","v":0}]
[{"$f":"Blad3!H2045","v":"-"},{"$f":"Tidsram!$B$2","v":0},{"$f":"Tidsram!$B$3","v":0},{"$f":"Blad3!G2045","v":0}]
[{"$f":"Blad3!H2046","v":"-"},{"$f":"Tidsram!$B$2","v":0},{"$f":"Tidsram!$B$3","v":0},{"$f":"Blad3!G2046","v":0}]
[{"$f":"Blad3!H2047","v":"-"},{"$f":"Tidsram!$B$2","v":0},{"$f":"Tidsram!$B$3","v":0},{"$f":"Blad3!G2047","v":0}]
[{"$f":"Blad3!H2048","v":"-"},{"$f":"Tidsram!$B$2","v":0},{"$f":"Tidsram!$B$3","v":0},{"$f":"Blad3!G2048","v":0}]
[{"$f":"Blad3!H2049","v":"-"},{"$f":"Tidsram!$B$2","v":0},{"$f":"Tidsram!$B$3","v":0},{"$f":"Blad3!G2049","v":0}]
[{"$f":"Blad3!H2050","v":"-"},{"$f":"Tidsram!$B$2","v":0},{"$f":"Tidsram!$B$3","v":0},{"$f":"Blad3!G2050","v":0}]
[{"$f":"Blad3!H2051","v":"-"},{"$f":"Tidsram!$B$2","v":0},{"$f":"Tidsram!$B$3","v":0},{"$f":"Blad3!G2051","v":0}]
[{"$f":"Blad3!H2052","v":"-"},{"$f":"Tidsram!$B$2","v":0},{"$f":"Tidsram!$B$3","v":0},{"$f":"Blad3!G2052","v":0}]
[{"$f":"Blad3!H2053","v":"-"},{"$f":"Tidsram!$B$2","v":0},{"$f":"Tidsram!$B$3","v":0},{"$f":"Blad3!G2053","v":0}]
[{"$f":"Blad3!H2054","v":"-"},{"$f":"Tidsram!$B$2","v":0},{"$f":"Tidsram!$B$3","v":0},{"$f":"Blad3!G2054","v":0}]
[{"$f":"Blad3!H2055","v":"-"},{"$f":"Tidsram!$B$2","v":0},{"$f":"Tidsram!$B$3","v":0},{"$f":"Blad3!G2055","v":0}]
[{"$f":"Blad3!H2056","v":"-"},{"$f":"Tidsram!$B$2","v":0},{"$f":"Tidsram!$B$3","v":0},{"$f":"Blad3!G2056","v":0}]
[{"$f":"Blad3!H2057","v":"-"},{"$f":"Tidsram!$B$2","v":0},{"$f":"Tidsram!$B$3","v":0},{"$f":"Blad3!G2057","v":0}]
[{"$f":"Blad3!H2058","v":"-"},{"$f":"Tidsram!$B$2","v":0},{"$f":"Tidsram!$B$3","v":0},{"$f":"Blad3!G2058","v":0}]
[{"$f":"Blad3!H2059","v":"-"},{"$f":"Tidsram!$B$2","v":0},{"$f":"Tidsram!$B$3","v":0},{"$f":"Blad3!G2059","v":0}]
[{"$f":"Blad3!H2060","v":"-"},{"$f":"Tidsram!$B$2","v":0},{"$f":"Tidsram!$B$3","v":0},{"$f":"Blad3!G2060","v":0}]
[{"$f":"Blad3!H2061","v":"-"},{"$f":"Tidsram!$B$2","v":0},{"$f":"Tidsram!$B$3","v":0},{"$f":"Blad3!G2061","v":0}]
[{"$f":"Blad3!H2062","v":"-"},{"$f":"Tidsram!$B$2","v":0},{"$f":"Tidsram!$B$3","v":0},{"$f":"Blad3!G2062","v":0}]
[{"$f":"Blad3!H2063","v":"-"},{"$f":"Tidsram!$B$2","v":0},{"$f":"Tidsram!$B$3","v":0},{"$f":"Blad3!G2063","v":0}]
[{"$f":"Blad3!H2064","v":"-"},{"$f":"Tidsram!$B$2","v":0},{"$f":"Tidsram!$B$3","v":0},{"$f":"Blad3!G2064","v":0}]
[{"$f":"Blad3!H2065","v":"-"},{"$f":"Tidsram!$B$2","v":0},{"$f":"Tidsram!$B$3","v":0},{"$f":"Blad3!G2065","v":0}]
[{"$f":"Blad3!H2066","v":"-"},{"$f":"Tidsram!$B$2","v":0},{"$f":"Tidsram!$B$3","v":0},{"$f":"Blad3!G2066","v":0}]
[{"$f":"Blad3!H2067","v":"-"},{"$f":"Tidsram!$B$2","v":0},{"$f":"Tidsram!$B$3","v":0},{"$f":"Blad3!G2067","v":0}]
[{"$f":"Blad3!H2068","v":"-"},{"$f":"Tidsram!$B$2","v":0},{"$f":"Tidsram!$B$3","v":0},{"$f":"Blad3!G2068","v":0}]
[{"$f":"Blad3!H2069","v":"-"},{"$f":"Tidsram!$B$2","v":0},{"$f":"Tidsram!$B$3","v":0},{"$f":"Blad3!G2069","v":0}]
[{"$f":"Blad3!H2070","v":"-"},{"$f":"Tidsram!$B$2","v":0},{"$f":"Tidsram!$B$3","v":0},{"$f":"Blad3!G2070","v":0}]
[{"$f":"Blad3!H2071","v":"-"},{"$f":"Tidsram!$B$2","v":0},{"$f":"Tidsram!$B$3","v":0},{"$f":"Blad3!G2071","v":0}]
[{"$f":"Blad3!H2072","v":"-"},{"$f":"Tidsram!$B$2","v":0},{"$f":"Tidsram!$B$3","v":0},{"$f":"Blad3!G2072","v":0}]
[{"$f":"Blad3!H2073","v":"-"},{"$f":"Tidsram!$B$2","v":0},{"$f":"Tidsram!$B$3","v":0},{"$f":"Blad3!G2073","v":0}]
[{"$f":"Blad3!H2074","v":"-"},{"$f":"Tidsram!$B$2","v":0},{"$f":"Tidsram!$B$3","v":0},{"$f":"Blad3!G2074","v":0}]
[{"$f":"Blad3!H2075","v":"-"},{"$f":"Tidsram!$B$2","v":0},{"$f":"Tidsram!$B$3","v":0},{"$f":"Blad3!G2075","v":0}]
[{"$f":"Blad3!H2076","v":"-"},{"$f":"Tidsram!$B$2","v":0},{"$f":"Tidsram!$B$3","v":0},{"$f":"Blad3!G2076","v":0}]
[{"$f":"Blad3!H2077","v":"-"},{"$f":"Tidsram!$B$2","v":0},{"$f":"Tidsram!$B$3","v":0},{"$f":"Blad3!G2077","v":0}]
[{"$f":"Blad3!H2078","v":"-"},{"$f":"Tidsram!$B$2","v":0},{"$f":"Tidsram!$B$3","v":0},{"$f":"Blad3!G2078","v":0}]
[{"$f":"Blad3!H2079","v":"-"},{"$f":"Tidsram!$B$2","v":0},{"$f":"Tidsram!$B$3","v":0},{"$f":"Blad3!G2079","v":0}]
[{"$f":"Blad3!H2080","v":"-"},{"$f":"Tidsram!$B$2","v":0},{"$f":"Tidsram!$B$3","v":0},{"$f":"Blad3!G2080","v":0}]
[{"$f":"Blad3!H2081","v":"-"},{"$f":"Tidsram!$B$2","v":0},{"$f":"Tidsram!$B$3","v":0},{"$f":"Blad3!G2081","v":0}]
[{"$f":"Blad3!H2082","v":"-"},{"$f":"Tidsram!$B$2","v":0},{"$f":"Tidsram!$B$3","v":0},{"$f":"Blad3!G2082","v":0}]
[{"$f":"Blad3!H2083","v":"-"},{"$f":"Tidsram!$B$2","v":0},{"$f":"Tidsram!$B$3","v":0},{"$f":"Blad3!G2083","v":0}]
[{"$f":"Blad3!H2084","v":"-"},{"$f":"Tidsram!$B$2","v":0},{"$f":"Tidsram!$B$3","v":0},{"$f":"Blad3!G2084","v":0}]
[{"$f":"Blad3!H2085","v":"-"},{"$f":"Tidsram!$B$2","v":0},{"$f":"Tidsram!$B$3","v":0},{"$f":"Blad3!G2085","v":0}]
[{"$f":"Blad3!H2086","v":"-"},{"$f":"Tidsram!$B$2","v":0},{"$f":"Tidsram!$B$3","v":0},{"$f":"Blad3!G2086","v":0}]
[{"$f":"Blad3!H2087","v":"-"},{"$f":"Tidsram!$B$2","v":0},{"$f":"Tidsram!$B$3","v":0},{"$f":"Blad3!G2087","v":0}]
[{"$f":"Blad3!H2088","v":"-"},{"$f":"Tidsram!$B$2","v":0},{"$f":"Tidsram!$B$3","v":0},{"$f":"Blad3!G2088","v":0}]
[{"$f":"Blad3!H2089","v":"-"},{"$f":"Tidsram!$B$2","v":0},{"$f":"Tidsram!$B$3","v":0},{"$f":"Blad3!G2089","v":0}]
[{"$f":"Blad3!H2090","v":"-"},{"$f":"Tidsram!$B$2","v":0},{"$f":"Tidsram!$B$3","v":0},{"$f":"Blad3!G2090","v":0}]
[{"$f":"Blad3!H2091","v":"-"},{"$f":"Tidsram!$B$2","v":0},{"$f":"Tidsram!$B$3","v":0},{"$f":"Blad3!G2091","v":0}]
[{"$f":"Blad3!H2092","v":"-"},{"$f":"Tidsram!$B$2","v":0},{"$f":"Tidsram!$B$3","v":0},{"$f":"Blad3!G2092","v":0}]
[{"$f":"Blad3!H2093","v":"-"},{"$f":"Tidsram!$B$2","v":0},{"$f":"Tidsram!$B$3","v":0},{"$f":"Blad3!G2093","v":0}]
[{"$f":"Blad3!H2094","v":"-"},{"$f":"Tidsram!$B$2","v":0},{"$f":"Tidsram!$B$3","v":0},{"$f":"Blad3!G2094","v":0}]
[{"$f":"Blad3!H2095","v":"-"},{"$f":"Tidsram!$B$2","v":0},{"$f":"Tidsram!$B$3","v":0},{"$f":"Blad3!G2095","v":0}]
[{"$f":"Blad3!H2096","v":"-"},{"$f":"Tidsram!$B$2","v":0},{"$f":"Tidsram!$B$3","v":0},{"$f":"Blad3!G2096","v":0}]
[{"$f":"Blad3!H2097","v":"-"},{"$f":"Tidsram!$B$2","v":0},{"$f":"Tidsram!$B$3","v":0},{"$f":"Blad3!G2097","v":0}]
[{"$f":"Blad3!H2098","v":"-"},{"$f":"Tidsram!$B$2","v":0},{"$f":"Tidsram!$B$3","v":0},{"$f":"Blad3!G2098","v":0}]
[{"$f":"Blad3!H2099","v":"-"},{"$f":"Tidsram!$B$2","v":0},{"$f":"Tidsram!$B$3","v":0},{"$f":"Blad3!G2099","v":0}]
[{"$f":"Blad3!H2100","v":"-"},{"$f":"Tidsram!$B$2","v":0},{"$f":"Tidsram!$B$3","v":0},{"$f":"Blad3!G2100","v":0}]
[{"$f":"Blad3!H2101","v":"-"},{"$f":"Tidsram!$B$2","v":0},{"$f":"Tidsram!$B$3","v":0},{"$f":"Blad3!G2101","v":0}]
[{"$f":"Blad3!H2102","v":"-"},{"$f":"Tidsram!$B$2","v":0},{"$f":"Tidsram!$B$3","v":0},{"$f":"Blad3!G2102","v":0}]
[{"$f":"Blad3!H2103","v":"-"},{"$f":"Tidsram!$B$2","v":0},{"$f":"Tidsram!$B$3","v":0},{"$f":"Blad3!G2103","v":0}]
[{"$f":"Blad3!H2104","v":"-"},{"$f":"Tidsram!$B$2","v":0},{"$f":"Tidsram!$B$3","v":0},{"$f":"Blad3!G2104","v":0}]
[{"$f":"Blad3!H2105","v":"-"},{"$f":"Tidsram!$B$2","v":0},{"$f":"Tidsram!$B$3","v":0},{"$f":"Blad3!G2105","v":0}]
[{"$f":"Blad3!H2106","v":"-"},{"$f":"Tidsram!$B$2","v":0},{"$f":"Tidsram!$B$3","v":0},{"$f":"Blad3!G2106","v":0}]
[{"$f":"Blad3!H2107","v":"-"},{"$f":"Tidsram!$B$2","v":0},{"$f":"Tidsram!$B$3","v":0},{"$f":"Blad3!G2107","v":0}]
[{"$f":"Blad3!H2108","v":"-"},{"$f":"Tidsram!$B$2","v":0},{"$f":"Tidsram!$B$3","v":0},{"$f":"Blad3!G2108","v":0}]
[{"$f":"Blad3!H2109","v":"-"},{"$f":"Tidsram!$B$2","v":0},{"$f":"Tidsram!$B$3","v":0},{"$f":"Blad3!G2109","v":0}]
[{"$f":"Blad3!H2110","v":"-"},{"$f":"Tidsram!$B$2","v":0},{"$f":"Tidsram!$B$3","v":0},{"$f":"Blad3!G2110","v":0}]
[{"$f":"Blad3!H2111","v":"-"},{"$f":"Tidsram!$B$2","v":0},{"$f":"Tidsram!$B$3","v":0},{"$f":"Blad3!G2111","v":0}]
[{"$f":"Blad3!H2112","v":"-"},{"$f":"Tidsram!$B$2","v":0},{"$f":"Tidsram!$B$3","v":0},{"$f":"Blad3!G2112","v":0}]
[{"$f":"Blad3!H2113","v":"-"},{"$f":"Tidsram!$B$2","v":0},{"$f":"Tidsram!$B$3","v":0},{"$f":"Blad3!G2113","v":0}]
[{"$f":"Blad3!H2114","v":"-"},{"$f":"Tidsram!$B$2","v":0},{"$f":"Tidsram!$B$3","v":0},{"$f":"Blad3!G2114","v":0}]
[{"$f":"Blad3!H2115","v":"-"},{"$f":"Tidsram!$B$2","v":0},{"$f":"Tidsram!$B$3","v":0},{"$f":"Blad3!G2115","v":0}]
[{"$f":"Blad3!H2116","v":"-"},{"$f":"Tidsram!$B$2","v":0},{"$f":"Tidsram!$B$3","v":0},{"$f":"Blad3!G2116","v":0}]
[{"$f":"Blad3!H2117","v":"-"},{"$f":"Tidsram!$B$2","v":0},{"$f":"Tidsram!$B$3","v":0},{"$f":"Blad3!G2117","v":0}]
[{"$f":"Blad3!H2118","v":"-"},{"$f":"Tidsram!$B$2","v":0},{"$f":"Tidsram!$B$3","v":0},{"$f":"Blad3!G2118","v":0}]
[{"$f":"Blad3!H2119","v":"-"},{"$f":"Tidsram!$B$2","v":0},{"$f":"Tidsram!$B$3","v":0},{"$f":"Blad3!G2119","v":0}]
[{"$f":"Blad3!H2120","v":"-"},{"$f":"Tidsram!$B$2","v":0},{"$f":"Tidsram!$B$3","v":0},{"$f":"Blad3!G2120","v":0}]
[{"$f":"Blad3!H2121","v":"-"},{"$f":"Tidsram!$B$2","v":0},{"$f":"Tidsram!$B$3","v":0},{"$f":"Blad3!G2121","v":0}]
[{"$f":"Blad3!H2122","v":"-"},{"$f":"Tidsram!$B$2","v":0},{"$f":"Tidsram!$B$3","v":0},{"$f":"Blad3!G2122","v":0}]
[{"$f":"Blad3!H2123","v":"-"},{"$f":"Tidsram!$B$2","v":0},{"$f":"Tidsram!$B$3","v":0},{"$f":"Blad3!G2123","v":0}]
[{"$f":"Blad3!H2124","v":"-"},{"$f":"Tidsram!$B$2","v":0},{"$f":"Tidsram!$B$3","v":0},{"$f":"Blad3!G2124","v":0}]
[{"$f":"Blad3!H2125","v":"-"},{"$f":"Tidsram!$B$2","v":0},{"$f":"Tidsram!$B$3","v":0},{"$f":"Blad3!G2125","v":0}]
[{"$f":"Blad3!H2126","v":"-"},{"$f":"Tidsram!$B$2","v":0},{"$f":"Tidsram!$B$3","v":0},{"$f":"Blad3!G2126","v":0}]
[{"$f":"Blad3!H2127","v":"-"},{"$f":"Tidsram!$B$2","v":0},{"$f":"Tidsram!$B$3","v":0},{"$f":"Blad3!G2127","v":0}]
[{"$f":"Blad3!H2128","v":"-"},{"$f":"Tidsram!$B$2","v":0},{"$f":"Tidsram!$B$3","v":0},{"$f":"Blad3!G2128","v":0}]
[{"$f":"Blad3!H2129","v":"-"},{"$f":"Tidsram!$B$2","v":0},{"$f":"Tidsram!$B$3","v":0},{"$f":"Blad3!G2129","v":0}]
[{"$f":"Blad3!H2130","v":"-"},{"$f":"Tidsram!$B$2","v":0},{"$f":"Tidsram!$B$3","v":0},{"$f":"Blad3!G2130","v":0}]
[{"$f":"Blad3!H2131","v":"-"},{"$f":"Tidsram!$B$2","v":0},{"$f":"Tidsram!$B$3","v":0},{"$f":"Blad3!G2131","v":0}]
[{"$f":"Blad3!H2132","v":"-"},{"$f":"Tidsram!$B$2","v":0},{"$f":"Tidsram!$B$3","v":0},{"$f":"Blad3!G2132","v":0}]
[{"$f":"Blad3!H2133","v":"-"},{"$f":"Tidsram!$B$2","v":0},{"$f":"Tidsram!$B$3","v":0},{"$f":"Blad3!G2133","v":0}]
[{"$f":"Blad3!H2134","v":"-"},{"$f":"Tidsram!$B$2","v":0},{"$f":"Tidsram!$B$3","v":0},{"$f":"Blad3!G2134","v":0}]
[{"$f":"Blad3!H2135","v":"-"},{"$f":"Tidsram!$B$2","v":0},{"$f":"Tidsram!$B$3","v":0},{"$f":"Blad3!G2135","v":0}]
[{"$f":"Blad3!H2136","v":"-"},{"$f":"Tidsram!$B$2","v":0},{"$f":"Tidsram!$B$3","v":0},{"$f":"Blad3!G2136","v":0}]
[{"$f":"Blad3!H2137","v":"-"},{"$f":"Tidsram!$B$2","v":0},{"$f":"Tidsram!$B$3","v":0},{"$f":"Blad3!G2137","v":0}]
[{"$f":"Blad3!H2138","v":"-"},{"$f":"Tidsram!$B$2","v":0},{"$f":"Tidsram!$B$3","v":0},{"$f":"Blad3!G2138","v":0}]
[{"$f":"Blad3!H2139","v":"-"},{"$f":"Tidsram!$B$2","v":0},{"$f":"Tidsram!$B$3","v":0},{"$f":"Blad3!G2139","v":0}]
[{"$f":"Blad3!H2140","v":"-"},{"$f":"Tidsram!$B$2","v":0},{"$f":"Tidsram!$B$3","v":0},{"$f":"Blad3!G2140","v":0}]
[{"$f":"Blad3!H2141","v":"-"},{"$f":"Tidsram!$B$2","v":0},{"$f":"Tidsram!$B$3","v":0},{"$f":"Blad3!G2141","v":0}]
[{"$f":"Blad3!H2142","v":"-"},{"$f":"Tidsram!$B$2","v":0},{"$f":"Tidsram!$B$3","v":0},{"$f":"Blad3!G2142","v":0}]
[{"$f":"Blad3!H2143","v":"-"},{"$f":"Tidsram!$B$2","v":0},{"$f":"Tidsram!$B$3","v":0},{"$f":"Blad3!G2143","v":0}]
[{"$f":"Blad3!H2144","v":"-"},{"$f":"Tidsram!$B$2","v":0},{"$f":"Tidsram!$B$3","v":0},{"$f":"Blad3!G2144","v":0}]
[{"$f":"Blad3!H2145","v":"-"},{"$f":"Tidsram!$B$2","v":0},{"$f":"Tidsram!$B$3","v":0},{"$f":"Blad3!G2145","v":0}]
[{"$f":"Blad3!H2146","v":"-"},{"$f":"Tidsram!$B$2","v":0},{"$f":"Tidsram!$B$3","v":0},{"$f":"Blad3!G2146","v":0}]
[{"$f":"Blad3!H2147","v":"-"},{"$f":"Tidsram!$B$2","v":0},{"$f":"Tidsram!$B$3","v":0},{"$f":"Blad3!G2147","v":0}]
[{"$f":"Blad3!H2148","v":"-"},{"$f":"Tidsram!$B$2","v":0},{"$f":"Tidsram!$B$3","v":0},{"$f":"Blad3!G2148","v":0}]
[{"$f":"Blad3!H2149","v":"-"},{"$f":"Tidsram!$B$2","v":0},{"$f":"Tidsram!$B$3","v":0},{"$f":"Blad3!G2149","v":0}]
[{"$f":"Blad3!H2150","v":"-"},{"$f":"Tidsram!$B$2","v":0},{"$f":"Tidsram!$B$3","v":0},{"$f":"Blad3!G2150","v":0}]
[{"$f":"Blad3!H2151","v":"-"},{"$f":"Tidsram!$B$2","v":0},{"$f":"Tidsram!$B$3","v":0},{"$f":"Blad3!G2151","v":0}]
[{"$f":"Blad3!H2152","v":"-"},{"$f":"Tidsram!$B$2","v":0},{"$f":"Tidsram!$B$3","v":0},{"$f":"Blad3!G2152","v":0}]
[{"$f":"Blad3!H2153","v":"-"},{"$f":"Tidsram!$B$2","v":0},{"$f":"Tidsram!$B$3","v":0},{"$f":"Blad3!G2153","v":0}]
[{"$f":"Blad3!H2154","v":"-"},{"$f":"Tidsram!$B$2","v":0},{"$f":"Tidsram!$B$3","v":0},{"$f":"Blad3!G2154","v":0}]
[{"$f":"Blad3!H2155","v":"-"},{"$f":"Tidsram!$B$2","v":0},{"$f":"Tidsram!$B$3","v":0},{"$f":"Blad3!G2155","v":0}]
[{"$f":"Blad3!H2156","v":"-"},{"$f":"Tidsram!$B$2","v":0},{"$f":"Tidsram!$B$3","v":0},{"$f":"Blad3!G2156","v":0}]
[{"$f":"Blad3!H2157","v":"-"},{"$f":"Tidsram!$B$2","v":0},{"$f":"Tidsram!$B$3","v":0},{"$f":"Blad3!G2157","v":0}]
[{"$f":"Blad3!H2158","v":"-"},{"$f":"Tidsram!$B$2","v":0},{"$f":"Tidsram!$B$3","v":0},{"$f":"Blad3!G2158","v":0}]
[{"$f":"Blad3!H2159","v":"-"},{"$f":"Tidsram!$B$2","v":0},{"$f":"Tidsram!$B$3","v":0},{"$f":"Blad3!G2159","v":0}]
[{"$f":"Blad3!H2160","v":"-"},{"$f":"Tidsram!$B$2","v":0},{"$f":"Tidsram!$B$3","v":0},{"$f":"Blad3!G2160","v":0}]
[{"$f":"Blad3!H2161","v":"-"},{"$f":"Tidsram!$B$2","v":0},{"$f":"Tidsram!$B$3","v":0},{"$f":"Blad3!G2161","v":0}]
[{"$f":"Blad3!H2162","v":"-"},{"$f":"Tidsram!$B$2","v":0},{"$f":"Tidsram!$B$3","v":0},{"$f":"Blad3!G2162","v":0}]
[{"$f":"Blad3!H2163","v":"-"},{"$f":"Tidsram!$B$2","v":0},{"$f":"Tidsram!$B$3","v":0},{"$f":"Blad3!G2163","v":0}]
[{"$f":"Blad3!H2164","v":"-"},{"$f":"Tidsram!$B$2","v":0},{"$f":"Tidsram!$B$3","v":0},{"$f":"Blad3!G2164","v":0}]
[{"$f":"Blad3!H2165","v":"-"},{"$f":"Tidsram!$B$2","v":0},{"$f":"Tidsram!$B$3","v":0},{"$f":"Blad3!G2165","v":0}]
[{"$f":"Blad3!H2166","v":"-"},{"$f":"Tidsram!$B$2","v":0},{"$f":"Tidsram!$B$3","v":0},{"$f":"Blad3!G2166","v":0}]
[{"$f":"Blad3!H2167","v":"-"},{"$f":"Tidsram!$B$2","v":0},{"$f":"Tidsram!$B$3","v":0},{"$f":"Blad3!G2167","v":0}]
[{"$f":"Blad3!H2168","v":"-"},{"$f":"Tidsram!$B$2","v":0},{"$f":"Tidsram!$B$3","v":0},{"$f":"Blad3!G2168","v":0}]
[{"$f":"Blad3!H2169","v":"-"},{"$f":"Tidsram!$B$2","v":0},{"$f":"Tidsram!$B$3","v":0},{"$f":"Blad3!G2169","v":0}]
[{"$f":"Blad3!H2170","v":"-"},{"$f":"Tidsram!$B$2","v":0},{"$f":"Tidsram!$B$3","v":0},{"$f":"Blad3!G2170","v":0}]
[{"$f":"Blad3!H2171","v":"-"},{"$f":"Tidsram!$B$2","v":0},{"$f":"Tidsram!$B$3","v":0},{"$f":"Blad3!G2171","v":0}]
[{"$f":"Blad3!H2172","v":"-"},{"$f":"Tidsram!$B$2","v":0},{"$f":"Tidsram!$B$3","v":0},{"$f":"Blad3!G2172","v":0}]
[{"$f":"Blad3!H2173","v":"-"},{"$f":"Tidsram!$B$2","v":0},{"$f":"Tidsram!$B$3","v":0},{"$f":"Blad3!G2173","v":0}]
[{"$f":"Blad3!H2174","v":"-"},{"$f":"Tidsram!$B$2","v":0},{"$f":"Tidsram!$B$3","v":0},{"$f":"Blad3!G2174","v":0}]
[{"$f":"Blad3!H2175","v":"-"},{"$f":"Tidsram!$B$2","v":0},{"$f":"Tidsram!$B$3","v":0},{"$f":"Blad3!G2175","v":0}]
[{"$f":"Blad3!H2176","v":"-"},{"$f":"Tidsram!$B$2","v":0},{"$f":"Tidsram!$B$3","v":0},{"$f":"Blad3!G2176","v":0}]
[{"$f":"Blad3!H2177","v":"-"},{"$f":"Tidsram!$B$2","v":0},{"$f":"Tidsram!$B$3","v":0},{"$f":"Blad3!G2177","v":0}]
[{"$f":"Blad3!H2178","v":"-"},{"$f":"Tidsram!$B$2","v":0},{"$f":"Tidsram!$B$3","v":0},{"$f":"Blad3!G2178","v":0}]
[{"$f":"Blad3!H2179","v":"-"},{"$f":"Tidsram!$B$2","v":0},{"$f":"Tidsram!$B$3","v":0},{"$f":"Blad3!G2179","v":0}]
[{"$f":"Blad3!H2180","v":"-"},{"$f":"Tidsram!$B$2","v":0},{"$f":"Tidsram!$B$3","v":0},{"$f":"Blad3!G2180","v":0}]
[{"$f":"Blad3!H2181","v":"-"},{"$f":"Tidsram!$B$2","v":0},{"$f":"Tidsram!$B$3","v":0},{"$f":"Blad3!G2181","v":0}]
[{"$f":"Blad3!H2182","v":"-"},{"$f":"Tidsram!$B$2","v":0},{"$f":"Tidsram!$B$3","v":0},{"$f":"Blad3!G2182","v":0}]
[{"$f":"Blad3!H2183","v":"-"},{"$f":"Tidsram!$B$2","v":0},{"$f":"Tidsram!$B$3","v":0},{"$f":"Blad3!G2183","v":0}]
[{"$f":"Blad3!H2184","v":"-"},{"$f":"Tidsram!$B$2","v":0},{"$f":"Tidsram!$B$3","v":0},{"$f":"Blad3!G2184","v":0}]
[{"$f":"Blad3!H2185","v":"-"},{"$f":"Tidsram!$B$2","v":0},{"$f":"Tidsram!$B$3","v":0},{"$f":"Blad3!G2185","v":0}]
[{"$f":"Blad3!H2186","v":"-"},{"$f":"Tidsram!$B$2","v":0},{"$f":"Tidsram!$B$3","v":0},{"$f":"Blad3!G2186","v":0}]
[{"$f":"Blad3!H2187","v":"-"},{"$f":"Tidsram!$B$2","v":0},{"$f":"Tidsram!$B$3","v":0},{"$f":"Blad3!G2187","v":0}]
[{"$f":"Blad3!H2188","v":"-"},{"$f":"Tidsram!$B$2","v":0},{"$f":"Tidsram!$B$3","v":0},{"$f":"Blad3!G2188","v":0}]
[{"$f":"Blad3!H2189","v":"-"},{"$f":"Tidsram!$B$2","v":0},{"$f":"Tidsram!$B$3","v":0},{"$f":"Blad3!G2189","v":0}]
[{"$f":"Blad3!H2190","v":"-"},{"$f":"Tidsram!$B$2","v":0},{"$f":"Tidsram!$B$3","v":0},{"$f":"Blad3!G2190","v":0}]
[{"$f":"Blad3!H2191","v":"-"},{"$f":"Tidsram!$B$2","v":0},{"$f":"Tidsram!$B$3","v":0},{"$f":"Blad3!G2191","v":0}]
[{"$f":"Blad3!H2192","v":"-"},{"$f":"Tidsram!$B$2","v":0},{"$f":"Tidsram!$B$3","v":0},{"$f":"Blad3!G2192","v":0}]
[{"$f":"Blad3!H2193","v":"-"},{"$f":"Tidsram!$B$2","v":0},{"$f":"Tidsram!$B$3","v":0},{"$f":"Blad3!G2193","v":0}]
[{"$f":"Blad3!H2194","v":"-"},{"$f":"Tidsram!$B$2","v":0},{"$f":"Tidsram!$B$3","v":0},{"$f":"Blad3!G2194","v":0}]
[{"$f":"Blad3!H2195","v":"-"},{"$f":"Tidsram!$B$2","v":0},{"$f":"Tidsram!$B$3","v":0},{"$f":"Blad3!G2195","v":0}]
[{"$f":"Blad3!H2196","v":"-"},{"$f":"Tidsram!$B$2","v":0},{"$f":"Tidsram!$B$3","v":0},{"$f":"Blad3!G2196","v":0}]
[{"$f":"Blad3!H2197","v":"-"},{"$f":"Tidsram!$B$2","v":0},{"$f":"Tidsram!$B$3","v":0},{"$f":"Blad3!G2197","v":0}]
[{"$f":"Blad3!H2198","v":"-"},{"$f":"Tidsram!$B$2","v":0},{"$f":"Tidsram!$B$3","v":0},{"$f":"Blad3!G2198","v":0}]
[{"$f":"Blad3!H2199","v":"-"},{"$f":"Tidsram!$B$2","v":0},{"$f":"Tidsram!$B$3","v":0},{"$f":"Blad3!G2199","v":0}]
[{"$f":"Blad3!H2200","v":"-"},{"$f":"Tidsram!$B$2","v":0},{"$f":"Tidsram!$B$3","v":0},{"$f":"Blad3!G2200","v":0}]
[{"$f":"Blad3!H2201","v":"-"},{"$f":"Tidsram!$B$2","v":0},{"$f":"Tidsram!$B$3","v":0},{"$f":"Blad3!G2201","v":0}]
[{"$f":"Blad3!H2202","v":"-"},{"$f":"Tidsram!$B$2","v":0},{"$f":"Tidsram!$B$3","v":0},{"$f":"Blad3!G2202","v":0}]
[{"$f":"Blad3!H2203","v":"-"},{"$f":"Tidsram!$B$2","v":0},{"$f":"Tidsram!$B$3","v":0},{"$f":"Blad3!G2203","v":0}]
[{"$f":"Blad3!H2204","v":"-"},{"$f":"Tidsram!$B$2","v":0},{"$f":"Tidsram!$B$3","v":0},{"$f":"Blad3!G2204","v":0}]
[{"$f":"Blad3!H2205","v":"-"},{"$f":"Tidsram!$B$2","v":0},{"$f":"Tidsram!$B$3","v":0},{"$f":"Blad3!G2205","v":0}]
[{"$f":"Blad3!H2206","v":"-"},{"$f":"Tidsram!$B$2","v":0},{"$f":"Tidsram!$B$3","v":0},{"$f":"Blad3!G2206","v":0}]
[{"$f":"Blad3!H2207","v":"-"},{"$f":"Tidsram!$B$2","v":0},{"$f":"Tidsram!$B$3","v":0},{"$f":"Blad3!G2207","v":0}]
[{"$f":"Blad3!H2208","v":"-"},{"$f":"Tidsram!$B$2","v":0},{"$f":"Tidsram!$B$3","v":0},{"$f":"Blad3!G2208","v":0}]
[{"$f":"Blad3!H2209","v":"-"},{"$f":"Tidsram!$B$2","v":0},{"$f":"Tidsram!$B$3","v":0},{"$f":"Blad3!G2209","v":0}]
[{"$f":"Blad3!H2210","v":"-"},{"$f":"Tidsram!$B$2","v":0},{"$f":"Tidsram!$B$3","v":0},{"$f":"Blad3!G2210","v":0}]
[{"$f":"Blad3!H2211","v":"-"},{"$f":"Tidsram!$B$2","v":0},{"$f":"Tidsram!$B$3","v":0},{"$f":"Blad3!G2211","v":0}]
[{"$f":"Blad3!H2212","v":"-"},{"$f":"Tidsram!$B$2","v":0},{"$f":"Tidsram!$B$3","v":0},{"$f":"Blad3!G2212","v":0}]
[{"$f":"Blad3!H2213","v":"-"},{"$f":"Tidsram!$B$2","v":0},{"$f":"Tidsram!$B$3","v":0},{"$f":"Blad3!G2213","v":0}]
[{"$f":"Blad3!H2214","v":"-"},{"$f":"Tidsram!$B$2","v":0},{"$f":"Tidsram!$B$3","v":0},{"$f":"Blad3!G2214","v":0}]
[{"$f":"Blad3!H2215","v":"-"},{"$f":"Tidsram!$B$2","v":0},{"$f":"Tidsram!$B$3","v":0},{"$f":"Blad3!G2215","v":0}]
[{"$f":"Blad3!H2216","v":"-"},{"$f":"Tidsram!$B$2","v":0},{"$f":"Tidsram!$B$3","v":0},{"$f":"Blad3!G2216","v":0}]
[{"$f":"Blad3!H2217","v":"-"},{"$f":"Tidsram!$B$2","v":0},{"$f":"Tidsram!$B$3","v":0},{"$f":"Blad3!G2217","v":0}]
[{"$f":"Blad3!H2218","v":"-"},{"$f":"Tidsram!$B$2","v":0},{"$f":"Tidsram!$B$3","v":0},{"$f":"Blad3!G2218","v":0}]
[{"$f":"Blad3!H2219","v":"-"},{"$f":"Tidsram!$B$2","v":0},{"$f":"Tidsram!$B$3","v":0},{"$f":"Blad3!G2219","v":0}]
[{"$f":"Blad3!H2220","v":"-"},{"$f":"Tidsram!$B$2","v":0},{"$f":"Tidsram!$B$3","v":0},{"$f":"Blad3!G2220","v":0}]
[{"$f":"Blad3!H2221","v":"-"},{"$f":"Tidsram!$B$2","v":0},{"$f":"Tidsram!$B$3","v":0},{"$f":"Blad3!G2221","v":0}]
[{"$f":"Blad3!H2222","v":"-"},{"$f":"Tidsram!$B$2","v":0},{"$f":"Tidsram!$B$3","v":0},{"$f":"Blad3!G2222","v":0}]
[{"$f":"Blad3!H2223","v":"-"},{"$f":"Tidsram!$B$2","v":0},{"$f":"Tidsram!$B$3","v":0},{"$f":"Blad3!G2223","v":0}]
[{"$f":"Blad3!H2224","v":"-"},{"$f":"Tidsram!$B$2","v":0},{"$f":"Tidsram!$B$3","v":0},{"$f":"Blad3!G2224","v":0}]
[{"$f":"Blad3!H2225","v":"-"},{"$f":"Tidsram!$B$2","v":0},{"$f":"Tidsram!$B$3","v":0},{"$f":"Blad3!G2225","v":0}]
[{"$f":"Blad3!H2226","v":"-"},{"$f":"Tidsram!$B$2","v":0},{"$f":"Tidsram!$B$3","v":0},{"$f":"Blad3!G2226","v":0}]
[{"$f":"Blad3!H2227","v":"-"},{"$f":"Tidsram!$B$2","v":0},{"$f":"Tidsram!$B$3","v":0},{"$f":"Blad3!G2227","v":0}]
[{"$f":"Blad3!H2228","v":"-"},{"$f":"Tidsram!$B$2","v":0},{"$f":"Tidsram!$B$3","v":0},{"$f":"Blad3!G2228","v":0}]
[{"$f":"Blad3!H2229","v":"-"},{"$f":"Tidsram!$B$2","v":0},{"$f":"Tidsram!$B$3","v":0},{"$f":"Blad3!G2229","v":0}]
[{"$f":"Blad3!H2230","v":"-"},{"$f":"Tidsram!$B$2","v":0},{"$f":"Tidsram!$B$3","v":0},{"$f":"Blad3!G2230","v":0}]
[{"$f":"Blad3!H2231","v":"-"},{"$f":"Tidsram!$B$2","v":0},{"$f":"Tidsram!$B$3","v":0},{"$f":"Blad3!G2231","v":0}]
[{"$f":"Blad3!H2232","v":"-"},{"$f":"Tidsram!$B$2","v":0},{"$f":"Tidsram!$B$3","v":0},{"$f":"Blad3!G2232","v":0}]
[{"$f":"Blad3!H2233","v":"-"},{"$f":"Tidsram!$B$2","v":0},{"$f":"Tidsram!$B$3","v":0},{"$f":"Blad3!G2233","v":0}]
[{"$f":"Blad3!H2234","v":"-"},{"$f":"Tidsram!$B$2","v":0},{"$f":"Tidsram!$B$3","v":0},{"$f":"Blad3!G2234","v":0}]
[{"$f":"Blad3!H2235","v":"-"},{"$f":"Tidsram!$B$2","v":0},{"$f":"Tidsram!$B$3","v":0},{"$f":"Blad3!G2235","v":0}]
[{"$f":"Blad3!H2236","v":"-"},{"$f":"Tidsram!$B$2","v":0},{"$f":"Tidsram!$B$3","v":0},{"$f":"Blad3!G2236","v":0}]
[{"$f":"Blad3!H2237","v":"-"},{"$f":"Tidsram!$B$2","v":0},{"$f":"Tidsram!$B$3","v":0},{"$f":"Blad3!G2237","v":0}]
[{"$f":"Blad3!H2238","v":"-"},{"$f":"Tidsram!$B$2","v":0},{"$f":"Tidsram!$B$3","v":0},{"$f":"Blad3!G2238","v":0}]
[{"$f":"Blad3!H2239","v":"-"},{"$f":"Tidsram!$B$2","v":0},{"$f":"Tidsram!$B$3","v":0},{"$f":"Blad3!G2239","v":0}]
[{"$f":"Blad3!H2240","v":"-"},{"$f":"Tidsram!$B$2","v":0},{"$f":"Tidsram!$B$3","v":0},{"$f":"Blad3!G2240","v":0}]
[{"$f":"Blad3!H2241","v":"-"},{"$f":"Tidsram!$B$2","v":0},{"$f":"Tidsram!$B$3","v":0},{"$f":"Blad3!G2241","v":0}]
[{"$f":"Blad3!H2242","v":"-"},{"$f":"Tidsram!$B$2","v":0},{"$f":"Tidsram!$B$3","v":0},{"$f":"Blad3!G2242","v":0}]
[{"$f":"Blad3!H2243","v":"-"},{"$f":"Tidsram!$B$2","v":0},{"$f":"Tidsram!$B$3","v":0},{"$f":"Blad3!G2243","v":0}]
[{"$f":"Blad3!H2244","v":"-"},{"$f":"Tidsram!$B$2","v":0},{"$f":"Tidsram!$B$3","v":0},{"$f":"Blad3!G2244","v":0}]
[{"$f":"Blad3!H2245","v":"-"},{"$f":"Tidsram!$B$2","v":0},{"$f":"Tidsram!$B$3","v":0},{"$f":"Blad3!G2245","v":0}]
[{"$f":"Blad3!H2246","v":"-"},{"$f":"Tidsram!$B$2","v":0},{"$f":"Tidsram!$B$3","v":0},{"$f":"Blad3!G2246","v":0}]
[{"$f":"Blad3!H2247","v":"-"},{"$f":"Tidsram!$B$2","v":0},{"$f":"Tidsram!$B$3","v":0},{"$f":"Blad3!G2247","v":0}]
[{"$f":"Blad3!H2248","v":"-"},{"$f":"Tidsram!$B$2","v":0},{"$f":"Tidsram!$B$3","v":0},{"$f":"Blad3!G2248","v":0}]
[{"$f":"Blad3!H2249","v":"-"},{"$f":"Tidsram!$B$2","v":0},{"$f":"Tidsram!$B$3","v":0},{"$f":"Blad3!G2249","v":0}]
[{"$f":"Blad3!H2250","v":"-"},{"$f":"Tidsram!$B$2","v":0},{"$f":"Tidsram!$B$3","v":0},{"$f":"Blad3!G2250","v":0}]
[{"$f":"Blad3!H2251","v":"-"},{"$f":"Tidsram!$B$2","v":0},{"$f":"Tidsram!$B$3","v":0},{"$f":"Blad3!G2251","v":0}]
[{"$f":"Blad3!H2252","v":"-"},{"$f":"Tidsram!$B$2","v":0},{"$f":"Tidsram!$B$3","v":0},{"$f":"Blad3!G2252","v":0}]
[{"$f":"Blad3!H2253","v":"-"},{"$f":"Tidsram!$B$2","v":0},{"$f":"Tidsram!$B$3","v":0},{"$f":"Blad3!G2253","v":0}]
[{"$f":"Blad3!H2254","v":"-"},{"$f":"Tidsram!$B$2","v":0},{"$f":"Tidsram!$B$3","v":0},{"$f":"Blad3!G2254","v":0}]
[{"$f":"Blad3!H2255","v":"-"},{"$f":"Tidsram!$B$2","v":0},{"$f":"Tidsram!$B$3","v":0},{"$f":"Blad3!G2255","v":0}]
[{"$f":"Blad3!H2256","v":"-"},{"$f":"Tidsram!$B$2","v":0},{"$f":"Tidsram!$B$3","v":0},{"$f":"Blad3!G2256","v":0}]
[{"$f":"Blad3!H2257","v":"-"},{"$f":"Tidsram!$B$2","v":0},{"$f":"Tidsram!$B$3","v":0},{"$f":"Blad3!G2257","v":0}]
[{"$f":"Blad3!H2258","v":"-"},{"$f":"Tidsram!$B$2","v":0},{"$f":"Tidsram!$B$3","v":0},{"$f":"Blad3!G2258","v":0}]
[{"$f":"Blad3!H2259","v":"-"},{"$f":"Tidsram!$B$2","v":0},{"$f":"Tidsram!$B$3","v":0},{"$f":"Blad3!G2259","v":0}]
[{"$f":"Blad3!H2260","v":"-"},{"$f":"Tidsram!$B$2","v":0},{"$f":"Tidsram!$B$3","v":0},{"$f":"Blad3!G2260","v":0}]
[{"$f":"Blad3!H2261","v":"-"},{"$f":"Tidsram!$B$2","v":0},{"$f":"Tidsram!$B$3","v":0},{"$f":"Blad3!G2261","v":0}]
[{"$f":"Blad3!H2262","v":"-"},{"$f":"Tidsram!$B$2","v":0},{"$f":"Tidsram!$B$3","v":0},{"$f":"Blad3!G2262","v":0}]
[{"$f":"Blad3!H2263","v":"-"},{"$f":"Tidsram!$B$2","v":0},{"$f":"Tidsram!$B$3","v":0},{"$f":"Blad3!G2263","v":0}]
[{"$f":"Blad3!H2264","v":"-"},{"$f":"Tidsram!$B$2","v":0},{"$f":"Tidsram!$B$3","v":0},{"$f":"Blad3!G2264","v":0}]
[{"$f":"Blad3!H2265","v":"-"},{"$f":"Tidsram!$B$2","v":0},{"$f":"Tidsram!$B$3","v":0},{"$f":"Blad3!G2265","v":0}]
[{"$f":"Blad3!H2266","v":"-"},{"$f":"Tidsram!$B$2","v":0},{"$f":"Tidsram!$B$3","v":0},{"$f":"Blad3!G2266","v":0}]
[{"$f":"Blad3!H2267","v":"-"},{"$f":"Tidsram!$B$2","v":0},{"$f":"Tidsram!$B$3","v":0},{"$f":"Blad3!G2267","v":0}]
[{"$f":"Blad3!H2268","v":"-"},{"$f":"Tidsram!$B$2","v":0},{"$f":"Tidsram!$B$3","v":0},{"$f":"Blad3!G2268","v":0}]
[{"$f":"Blad3!H2269","v":"-"},{"$f":"Tidsram!$B$2","v":0},{"$f":"Tidsram!$B$3","v":0},{"$f":"Blad3!G2269","v":0}]
[{"$f":"Blad3!H2270","v":"-"},{"$f":"Tidsram!$B$2","v":0},{"$f":"Tidsram!$B$3","v":0},{"$f":"Blad3!G2270","v":0}]
[{"$f":"Blad3!H2271","v":"-"},{"$f":"Tidsram!$B$2","v":0},{"$f":"Tidsram!$B$3","v":0},{"$f":"Blad3!G2271","v":0}]
[{"$f":"Blad3!H2272","v":"-"},{"$f":"Tidsram!$B$2","v":0},{"$f":"Tidsram!$B$3","v":0},{"$f":"Blad3!G2272","v":0}]
[{"$f":"Blad3!H2273","v":"-"},{"$f":"Tidsram!$B$2","v":0},{"$f":"Tidsram!$B$3","v":0},{"$f":"Blad3!G2273","v":0}]
[{"$f":"Blad3!H2274","v":"-"},{"$f":"Tidsram!$B$2","v":0},{"$f":"Tidsram!$B$3","v":0},{"$f":"Blad3!G2274","v":0}]
[{"$f":"Blad3!H2275","v":"-"},{"$f":"Tidsram!$B$2","v":0},{"$f":"Tidsram!$B$3","v":0},{"$f":"Blad3!G2275","v":0}]
[{"$f":"Blad3!H2276","v":"-"},{"$f":"Tidsram!$B$2","v":0},{"$f":"Tidsram!$B$3","v":0},{"$f":"Blad3!G2276","v":0}]
[{"$f":"Blad3!H2277","v":"-"},{"$f":"Tidsram!$B$2","v":0},{"$f":"Tidsram!$B$3","v":0},{"$f":"Blad3!G2277","v":0}]
[{"$f":"Blad3!H2278","v":"-"},{"$f":"Tidsram!$B$2","v":0},{"$f":"Tidsram!$B$3","v":0},{"$f":"Blad3!G2278","v":0}]
[{"$f":"Blad3!H2279","v":"-"},{"$f":"Tidsram!$B$2","v":0},{"$f":"Tidsram!$B$3","v":0},{"$f":"Blad3!G2279","v":0}]
[{"$f":"Blad3!H2280","v":"-"},{"$f":"Tidsram!$B$2","v":0},{"$f":"Tidsram!$B$3","v":0},{"$f":"Blad3!G2280","v":0}]
[{"$f":"Blad3!H2281","v":"-"},{"$f":"Tidsram!$B$2","v":0},{"$f":"Tidsram!$B$3","v":0},{"$f":"Blad3!G2281","v":0}]
[{"$f":"Blad3!H2282","v":"-"},{"$f":"Tidsram!$B$2","v":0},{"$f":"Tidsram!$B$3","v":0},{"$f":"Blad3!G2282","v":0}]
[{"$f":"Blad3!H2283","v":"-"},{"$f":"Tidsram!$B$2","v":0},{"$f":"Tidsram!$B$3","v":0},{"$f":"Blad3!G2283","v":0}]
[{"$f":"Blad3!H2284","v":"-"},{"$f":"Tidsram!$B$2","v":0},{"$f":"Tidsram!$B$3","v":0},{"$f":"Blad3!G2284","v":0}]
[{"$f":"Blad3!H2285","v":"-"},{"$f":"Tidsram!$B$2","v":0},{"$f":"Tidsram!$B$3","v":0},{"$f":"Blad3!G2285","v":0}]
[{"$f":"Blad3!H2286","v":"-"},{"$f":"Tidsram!$B$2","v":0},{"$f":"Tidsram!$B$3","v":0},{"$f":"Blad3!G2286","v":0}]
[{"$f":"Blad3!H2287","v":"-"},{"$f":"Tidsram!$B$2","v":0},{"$f":"Tidsram!$B$3","v":0},{"$f":"Blad3!G2287","v":0}]
[{"$f":"Blad3!H2288","v":"-"},{"$f":"Tidsram!$B$2","v":0},{"$f":"Tidsram!$B$3","v":0},{"$f":"Blad3!G2288","v":0}]
[{"$f":"Blad3!H2289","v":"-"},{"$f":"Tidsram!$B$2","v":0},{"$f":"Tidsram!$B$3","v":0},{"$f":"Blad3!G2289","v":0}]
[{"$f":"Blad3!H2290","v":"-"},{"$f":"Tidsram!$B$2","v":0},{"$f":"Tidsram!$B$3","v":0},{"$f":"Blad3!G2290","v":0}]
[{"$f":"Blad3!H2291","v":"-"},{"$f":"Tidsram!$B$2","v":0},{"$f":"Tidsram!$B$3","v":0},{"$f":"Blad3!G2291","v":0}]
[{"$f":"Blad3!H2292","v":"-"},{"$f":"Tidsram!$B$2","v":0},{"$f":"Tidsram!$B$3","v":0},{"$f":"Blad3!G2292","v":0}]
[{"$f":"Blad3!H2293","v":"-"},{"$f":"Tidsram!$B$2","v":0},{"$f":"Tidsram!$B$3","v":0},{"$f":"Blad3!G2293","v":0}]
[{"$f":"Blad3!H2294","v":"-"},{"$f":"Tidsram!$B$2","v":0},{"$f":"Tidsram!$B$3","v":0},{"$f":"Blad3!G2294","v":0}]
[{"$f":"Blad3!H2295","v":"-"},{"$f":"Tidsram!$B$2","v":0},{"$f":"Tidsram!$B$3","v":0},{"$f":"Blad3!G2295","v":0}]
[{"$f":"Blad3!H2296","v":"-"},{"$f":"Tidsram!$B$2","v":0},{"$f":"Tidsram!$B$3","v":0},{"$f":"Blad3!G2296","v":0}]
[{"$f":"Blad3!H2297","v":"-"},{"$f":"Tidsram!$B$2","v":0},{"$f":"Tidsram!$B$3","v":0},{"$f":"Blad3!G2297","v":0}]
[{"$f":"Blad3!H2298","v":"-"},{"$f":"Tidsram!$B$2","v":0},{"$f":"Tidsram!$B$3","v":0},{"$f":"Blad3!G2298","v":0}]
[{"$f":"Blad3!H2299","v":"-"},{"$f":"Tidsram!$B$2","v":0},{"$f":"Tidsram!$B$3","v":0},{"$f":"Blad3!G2299","v":0}]
[{"$f":"Blad3!H2300","v":"-"},{"$f":"Tidsram!$B$2","v":0},{"$f":"Tidsram!$B$3","v":0},{"$f":"Blad3!G2300","v":0}]
[{"$f":"Blad3!H2301","v":"-"},{"$f":"Tidsram!$B$2","v":0},{"$f":"Tidsram!$B$3","v":0},{"$f":"Blad3!G2301","v":0}]
[{"$f":"Blad3!H2302","v":"-"},{"$f":"Tidsram!$B$2","v":0},{"$f":"Tidsram!$B$3","v":0},{"$f":"Blad3!G2302","v":0}]
[{"$f":"Blad3!H2303","v":"-"},{"$f":"Tidsram!$B$2","v":0},{"$f":"Tidsram!$B$3","v":0},{"$f":"Blad3!G2303","v":0}]
[{"$f":"Blad3!H2304","v":"-"},{"$f":"Tidsram!$B$2","v":0},{"$f":"Tidsram!$B$3","v":0},{"$f":"Blad3!G2304","v":0}]
[{"$f":"Blad3!H2305","v":"-"},{"$f":"Tidsram!$B$2","v":0},{"$f":"Tidsram!$B$3","v":0},{"$f":"Blad3!G2305","v":0}]
[{"$f":"Blad3!H2306","v":"-"},{"$f":"Tidsram!$B$2","v":0},{"$f":"Tidsram!$B$3","v":0},{"$f":"Blad3!G2306","v":0}]
[{"$f":"Blad3!H2307","v":"-"},{"$f":"Tidsram!$B$2","v":0},{"$f":"Tidsram!$B$3","v":0},{"$f":"Blad3!G2307","v":0}]
[{"$f":"Blad3!H2308","v":"-"},{"$f":"Tidsram!$B$2","v":0},{"$f":"Tidsram!$B$3","v":0},{"$f":"Blad3!G2308","v":0}]
[{"$f":"Blad3!H2309","v":"-"},{"$f":"Tidsram!$B$2","v":0},{"$f":"Tidsram!$B$3","v":0},{"$f":"Blad3!G2309","v":0}]
[{"$f":"Blad3!H2310","v":"-"},{"$f":"Tidsram!$B$2","v":0},{"$f":"Tidsram!$B$3","v":0},{"$f":"Blad3!G2310","v":0}]
[{"$f":"Blad3!H2311","v":"-"},{"$f":"Tidsram!$B$2","v":0},{"$f":"Tidsram!$B$3","v":0},{"$f":"Blad3!G2311","v":0}]
[{"$f":"Blad3!H2312","v":"-"},{"$f":"Tidsram!$B$2","v":0},{"$f":"Tidsram!$B$3","v":0},{"$f":"Blad3!G2312","v":0}]
[{"$f":"Blad3!H2313","v":"-"},{"$f":"Tidsram!$B$2","v":0},{"$f":"Tidsram!$B$3","v":0},{"$f":"Blad3!G2313","v":0}]
[{"$f":"Blad3!H2314","v":"-"},{"$f":"Tidsram!$B$2","v":0},{"$f":"Tidsram!$B$3","v":0},{"$f":"Blad3!G2314","v":0}]
[{"$f":"Blad3!H2315","v":"-"},{"$f":"Tidsram!$B$2","v":0},{"$f":"Tidsram!$B$3","v":0},{"$f":"Blad3!G2315","v":0}]
[{"$f":"Blad3!H2316","v":"-"},{"$f":"Tidsram!$B$2","v":0},{"$f":"Tidsram!$B$3","v":0},{"$f":"Blad3!G2316","v":0}]
[{"$f":"Blad3!H2317","v":"-"},{"$f":"Tidsram!$B$2","v":0},{"$f":"Tidsram!$B$3","v":0},{"$f":"Blad3!G2317","v":0}]
[{"$f":"Blad3!H2318","v":"-"},{"$f":"Tidsram!$B$2","v":0},{"$f":"Tidsram!$B$3","v":0},{"$f":"Blad3!G2318","v":0}]
[{"$f":"Blad3!H2319","v":"-"},{"$f":"Tidsram!$B$2","v":0},{"$f":"Tidsram!$B$3","v":0},{"$f":"Blad3!G2319","v":0}]
[{"$f":"Blad3!H2320","v":"-"},{"$f":"Tidsram!$B$2","v":0},{"$f":"Tidsram!$B$3","v":0},{"$f":"Blad3!G2320","v":0}]
[{"$f":"Blad3!H2321","v":"-"},{"$f":"Tidsram!$B$2","v":0},{"$f":"Tidsram!$B$3","v":0},{"$f":"Blad3!G2321","v":0}]
[{"$f":"Blad3!H2322","v":"-"},{"$f":"Tidsram!$B$2","v":0},{"$f":"Tidsram!$B$3","v":0},{"$f":"Blad3!G2322","v":0}]
[{"$f":"Blad3!H2323","v":"-"},{"$f":"Tidsram!$B$2","v":0},{"$f":"Tidsram!$B$3","v":0},{"$f":"Blad3!G2323","v":0}]
[{"$f":"Blad3!H2324","v":"-"},{"$f":"Tidsram!$B$2","v":0},{"$f":"Tidsram!$B$3","v":0},{"$f":"Blad3!G2324","v":0}]
[{"$f":"Blad3!H2325","v":"-"},{"$f":"Tidsram!$B$2","v":0},{"$f":"Tidsram!$B$3","v":0},{"$f":"Blad3!G2325","v":0}]
[{"$f":"Blad3!H2326","v":"-"},{"$f":"Tidsram!$B$2","v":0},{"$f":"Tidsram!$B$3","v":0},{"$f":"Blad3!G2326","v":0}]
[{"$f":"Blad3!H2327","v":"-"},{"$f":"Tidsram!$B$2","v":0},{"$f":"Tidsram!$B$3","v":0},{"$f":"Blad3!G2327","v":0}]
[{"$f":"Blad3!H2328","v":"-"},{"$f":"Tidsram!$B$2","v":0},{"$f":"Tidsram!$B$3","v":0},{"$f":"Blad3!G2328","v":0}]
[{"$f":"Blad3!H2329","v":"-"},{"$f":"Tidsram!$B$2","v":0},{"$f":"Tidsram!$B$3","v":0},{"$f":"Blad3!G2329","v":0}]
[{"$f":"Blad3!H2330","v":"-"},{"$f":"Tidsram!$B$2","v":0},{"$f":"Tidsram!$B$3","v":0},{"$f":"Blad3!G2330","v":0}]
[{"$f":"Blad3!H2331","v":"-"},{"$f":"Tidsram!$B$2","v":0},{"$f":"Tidsram!$B$3","v":0},{"$f":"Blad3!G2331","v":0}]
[{"$f":"Blad3!H2332","v":"-"},{"$f":"Tidsram!$B$2","v":0},{"$f":"Tidsram!$B$3","v":0},{"$f":"Blad3!G2332","v":0}]
[{"$f":"Blad3!H2333","v":"-"},{"$f":"Tidsram!$B$2","v":0},{"$f":"Tidsram!$B$3","v":0},{"$f":"Blad3!G2333","v":0}]
[{"$f":"Blad3!H2334","v":"-"},{"$f":"Tidsram!$B$2","v":0},{"$f":"Tidsram!$B$3","v":0},{"$f":"Blad3!G2334","v":0}]
[{"$f":"Blad3!H2335","v":"-"},{"$f":"Tidsram!$B$2","v":0},{"$f":"Tidsram!$B$3","v":0},{"$f":"Blad3!G2335","v":0}]
[{"$f":"Blad3!H2336","v":"-"},{"$f":"Tidsram!$B$2","v":0},{"$f":"Tidsram!$B$3","v":0},{"$f":"Blad3!G2336","v":0}]
[{"$f":"Blad3!H2337","v":"-"},{"$f":"Tidsram!$B$2","v":0},{"$f":"Tidsram!$B$3","v":0},{"$f":"Blad3!G2337","v":0}]
[{"$f":"Blad3!H2338","v":"-"},{"$f":"Tidsram!$B$2","v":0},{"$f":"Tidsram!$B$3","v":0},{"$f":"Blad3!G2338","v":0}]
[{"$f":"Blad3!H2339","v":"-"},{"$f":"Tidsram!$B$2","v":0},{"$f":"Tidsram!$B$3","v":0},{"$f":"Blad3!G2339","v":0}]
[{"$f":"Blad3!H2340","v":"-"},{"$f":"Tidsram!$B$2","v":0},{"$f":"Tidsram!$B$3","v":0},{"$f":"Blad3!G2340","v":0}]
[{"$f":"Blad3!H2341","v":"-"},{"$f":"Tidsram!$B$2","v":0},{"$f":"Tidsram!$B$3","v":0},{"$f":"Blad3!G2341","v":0}]
[{"$f":"Blad3!H2342","v":"-"},{"$f":"Tidsram!$B$2","v":0},{"$f":"Tidsram!$B$3","v":0},{"$f":"Blad3!G2342","v":0}]
[{"$f":"Blad3!H2343","v":"-"},{"$f":"Tidsram!$B$2","v":0},{"$f":"Tidsram!$B$3","v":0},{"$f":"Blad3!G2343","v":0}]
[{"$f":"Blad3!H2344","v":"-"},{"$f":"Tidsram!$B$2","v":0},{"$f":"Tidsram!$B$3","v":0},{"$f":"Blad3!G2344","v":0}]
[{"$f":"Blad3!H2345","v":"-"},{"$f":"Tidsram!$B$2","v":0},{"$f":"Tidsram!$B$3","v":0},{"$f":"Blad3!G2345","v":0}]
[{"$f":"Blad3!H2346","v":"-"},{"$f":"Tidsram!$B$2","v":0},{"$f":"Tidsram!$B$3","v":0},{"$f":"Blad3!G2346","v":0}]
[{"$f":"Blad3!H2347","v":"-"},{"$f":"Tidsram!$B$2","v":0},{"$f":"Tidsram!$B$3","v":0},{"$f":"Blad3!G2347","v":0}]
[{"$f":"Blad3!H2348","v":"-"},{"$f":"Tidsram!$B$2","v":0},{"$f":"Tidsram!$B$3","v":0},{"$f":"Blad3!G2348","v":0}]
[{"$f":"Blad3!H2349","v":"-"},{"$f":"Tidsram!$B$2","v":0},{"$f":"Tidsram!$B$3","v":0},{"$f":"Blad3!G2349","v":0}]
[{"$f":"Blad3!H2350","v":"-"},{"$f":"Tidsram!$B$2","v":0},{"$f":"Tidsram!$B$3","v":0},{"$f":"Blad3!G2350","v":0}]
[{"$f":"Blad3!H2351","v":"-"},{"$f":"Tidsram!$B$2","v":0},{"$f":"Tidsram!$B$3","v":0},{"$f":"Blad3!G2351","v":0}]
[{"$f":"Blad3!H2352","v":"-"},{"$f":"Tidsram!$B$2","v":0},{"$f":"Tidsram!$B$3","v":0},{"$f":"Blad3!G2352","v":0}]
[{"$f":"Blad3!H2353","v":"-"},{"$f":"Tidsram!$B$2","v":0},{"$f":"Tidsram!$B$3","v":0},{"$f":"Blad3!G2353","v":0}]
[{"$f":"Blad3!H2354","v":"-"},{"$f":"Tidsram!$B$2","v":0},{"$f":"Tidsram!$B$3","v":0},{"$f":"Blad3!G2354","v":0}]
[{"$f":"Blad3!H2355","v":"-"},{"$f":"Tidsram!$B$2","v":0},{"$f":"Tidsram!$B$3","v":0},{"$f":"Blad3!G2355","v":0}]
[{"$f":"Blad3!H2356","v":"-"},{"$f":"Tidsram!$B$2","v":0},{"$f":"Tidsram!$B$3","v":0},{"$f":"Blad3!G2356","v":0}]
[{"$f":"Blad3!H2357","v":"-"},{"$f":"Tidsram!$B$2","v":0},{"$f":"Tidsram!$B$3","v":0},{"$f":"Blad3!G2357","v":0}]
[{"$f":"Blad3!H2358","v":"-"},{"$f":"Tidsram!$B$2","v":0},{"$f":"Tidsram!$B$3","v":0},{"$f":"Blad3!G2358","v":0}]
[{"$f":"Blad3!H2359","v":"-"},{"$f":"Tidsram!$B$2","v":0},{"$f":"Tidsram!$B$3","v":0},{"$f":"Blad3!G2359","v":0}]
[{"$f":"Blad3!H2360","v":"-"},{"$f":"Tidsram!$B$2","v":0},{"$f":"Tidsram!$B$3","v":0},{"$f":"Blad3!G2360","v":0}]
[{"$f":"Blad3!H2361","v":"-"},{"$f":"Tidsram!$B$2","v":0},{"$f":"Tidsram!$B$3","v":0},{"$f":"Blad3!G2361","v":0}]
[{"$f":"Blad3!H2362","v":"-"},{"$f":"Tidsram!$B$2","v":0},{"$f":"Tidsram!$B$3","v":0},{"$f":"Blad3!G2362","v":0}]
[{"$f":"Blad3!H2363","v":"-"},{"$f":"Tidsram!$B$2","v":0},{"$f":"Tidsram!$B$3","v":0},{"$f":"Blad3!G2363","v":0}]
[{"$f":"Blad3!H2364","v":"-"},{"$f":"Tidsram!$B$2","v":0},{"$f":"Tidsram!$B$3","v":0},{"$f":"Blad3!G2364","v":0}]
[{"$f":"Blad3!H2365","v":"-"},{"$f":"Tidsram!$B$2","v":0},{"$f":"Tidsram!$B$3","v":0},{"$f":"Blad3!G2365","v":0}]
[{"$f":"Blad3!H2366","v":"-"},{"$f":"Tidsram!$B$2","v":0},{"$f":"Tidsram!$B$3","v":0},{"$f":"Blad3!G2366","v":0}]
[{"$f":"Blad3!H2367","v":"-"},{"$f":"Tidsram!$B$2","v":0},{"$f":"Tidsram!$B$3","v":0},{"$f":"Blad3!G2367","v":0}]
[{"$f":"Blad3!H2368","v":"-"},{"$f":"Tidsram!$B$2","v":0},{"$f":"Tidsram!$B$3","v":0},{"$f":"Blad3!G2368","v":0}]
[{"$f":"Blad3!H2369","v":"-"},{"$f":"Tidsram!$B$2","v":0},{"$f":"Tidsram!$B$3","v":0},{"$f":"Blad3!G2369","v":0}]
[{"$f":"Blad3!H2370","v":"-"},{"$f":"Tidsram!$B$2","v":0},{"$f":"Tidsram!$B$3","v":0},{"$f":"Blad3!G2370","v":0}]
[{"$f":"Blad3!H2371","v":"-"},{"$f":"Tidsram!$B$2","v":0},{"$f":"Tidsram!$B$3","v":0},{"$f":"Blad3!G2371","v":0}]
[{"$f":"Blad3!H2372","v":"-"},{"$f":"Tidsram!$B$2","v":0},{"$f":"Tidsram!$B$3","v":0},{"$f":"Blad3!G2372","v":0}]
[{"$f":"Blad3!H2373","v":"-"},{"$f":"Tidsram!$B$2","v":0},{"$f":"Tidsram!$B$3","v":0},{"$f":"Blad3!G2373","v":0}]
[{"$f":"Blad3!H2374","v":"-"},{"$f":"Tidsram!$B$2","v":0},{"$f":"Tidsram!$B$3","v":0},{"$f":"Blad3!G2374","v":0}]
[{"$f":"Blad3!H2375","v":"-"},{"$f":"Tidsram!$B$2","v":0},{"$f":"Tidsram!$B$3","v":0},{"$f":"Blad3!G2375","v":0}]
[{"$f":"Blad3!H2376","v":"-"},{"$f":"Tidsram!$B$2","v":0},{"$f":"Tidsram!$B$3","v":0},{"$f":"Blad3!G2376","v":0}]
[{"$f":"Blad3!H2377","v":"-"},{"$f":"Tidsram!$B$2","v":0},{"$f":"Tidsram!$B$3","v":0},{"$f":"Blad3!G2377","v":0}]
[{"$f":"Blad3!H2378","v":"-"},{"$f":"Tidsram!$B$2","v":0},{"$f":"Tidsram!$B$3","v":0},{"$f":"Blad3!G2378","v":0}]
[{"$f":"Blad3!H2379","v":"-"},{"$f":"Tidsram!$B$2","v":0},{"$f":"Tidsram!$B$3","v":0},{"$f":"Blad3!G2379","v":0}]
[{"$f":"Blad3!H2380","v":"-"},{"$f":"Tidsram!$B$2","v":0},{"$f":"Tidsram!$B$3","v":0},{"$f":"Blad3!G2380","v":0}]
[{"$f":"Blad3!H2381","v":"-"},{"$f":"Tidsram!$B$2","v":0},{"$f":"Tidsram!$B$3","v":0},{"$f":"Blad3!G2381","v":0}]
[{"$f":"Blad3!H2382","v":"-"},{"$f":"Tidsram!$B$2","v":0},{"$f":"Tidsram!$B$3","v":0},{"$f":"Blad3!G2382","v":0}]
[{"$f":"Blad3!H2383","v":"-"},{"$f":"Tidsram!$B$2","v":0},{"$f":"Tidsram!$B$3","v":0},{"$f":"Blad3!G2383","v":0}]
[{"$f":"Blad3!H2384","v":"-"},{"$f":"Tidsram!$B$2","v":0},{"$f":"Tidsram!$B$3","v":0},{"$f":"Blad3!G2384","v":0}]
[{"$f":"Blad3!H2385","v":"-"},{"$f":"Tidsram!$B$2","v":0},{"$f":"Tidsram!$B$3","v":0},{"$f":"Blad3!G2385","v":0}]
[{"$f":"Blad3!H2386","v":"-"},{"$f":"Tidsram!$B$2","v":0},{"$f":"Tidsram!$B$3","v":0},{"$f":"Blad3!G2386","v":0}]
[{"$f":"Blad3!H2387","v":"-"},{"$f":"Tidsram!$B$2","v":0},{"$f":"Tidsram!$B$3","v":0},{"$f":"Blad3!G2387","v":0}]
[{"$f":"Blad3!H2388","v":"-"},{"$f":"Tidsram!$B$2","v":0},{"$f":"Tidsram!$B$3","v":0},{"$f":"Blad3!G2388","v":0}]
[{"$f":"Blad3!H2389","v":"-"},{"$f":"Tidsram!$B$2","v":0},{"$f":"Tidsram!$B$3","v":0},{"$f":"Blad3!G2389","v":0}]
[{"$f":"Blad3!H2390","v":"-"},{"$f":"Tidsram!$B$2","v":0},{"$f":"Tidsram!$B$3","v":0},{"$f":"Blad3!G2390","v":0}]
[{"$f":"Blad3!H2391","v":"-"},{"$f":"Tidsram!$B$2","v":0},{"$f":"Tidsram!$B$3","v":0},{"$f":"Blad3!G2391","v":0}]
[{"$f":"Blad3!H2392","v":"-"},{"$f":"Tidsram!$B$2","v":0},{"$f":"Tidsram!$B$3","v":0},{"$f":"Blad3!G2392","v":0}]
[{"$f":"Blad3!H2393","v":"-"},{"$f":"Tidsram!$B$2","v":0},{"$f":"Tidsram!$B$3","v":0},{"$f":"Blad3!G2393","v":0}]
[{"$f":"Blad3!H2394","v":"-"},{"$f":"Tidsram!$B$2","v":0},{"$f":"Tidsram!$B$3","v":0},{"$f":"Blad3!G2394","v":0}]
[{"$f":"Blad3!H2395","v":"-"},{"$f":"Tidsram!$B$2","v":0},{"$f":"Tidsram!$B$3","v":0},{"$f":"Blad3!G2395","v":0}]
[{"$f":"Blad3!H2396","v":"-"},{"$f":"Tidsram!$B$2","v":0},{"$f":"Tidsram!$B$3","v":0},{"$f":"Blad3!G2396","v":0}]
[{"$f":"Blad3!H2397","v":"-"},{"$f":"Tidsram!$B$2","v":0},{"$f":"Tidsram!$B$3","v":0},{"$f":"Blad3!G2397","v":0}]
[{"$f":"Blad3!H2398","v":"-"},{"$f":"Tidsram!$B$2","v":0},{"$f":"Tidsram!$B$3","v":0},{"$f":"Blad3!G2398","v":0}]
[{"$f":"Blad3!H2399","v":"-"},{"$f":"Tidsram!$B$2","v":0},{"$f":"Tidsram!$B$3","v":0},{"$f":"Blad3!G2399","v":0}]
[{"$f":"Blad3!H2400","v":"-"},{"$f":"Tidsram!$B$2","v":0},{"$f":"Tidsram!$B$3","v":0},{"$f":"Blad3!G2400","v":0}]
[{"$f":"Blad3!H2401","v":"-"},{"$f":"Tidsram!$B$2","v":0},{"$f":"Tidsram!$B$3","v":0},{"$f":"Blad3!G2401","v":0}]
[{"$f":"Blad3!H2402","v":"-"},{"$f":"Tidsram!$B$2","v":0},{"$f":"Tidsram!$B$3","v":0},{"$f":"Blad3!G2402","v":0}]
[{"$f":"Blad3!H2403","v":"-"},{"$f":"Tidsram!$B$2","v":0},{"$f":"Tidsram!$B$3","v":0},{"$f":"Blad3!G2403","v":0}]
[{"$f":"Blad3!H2404","v":"-"},{"$f":"Tidsram!$B$2","v":0},{"$f":"Tidsram!$B$3","v":0},{"$f":"Blad3!G2404","v":0}]
[{"$f":"Blad3!H2405","v":"-"},{"$f":"Tidsram!$B$2","v":0},{"$f":"Tidsram!$B$3","v":0},{"$f":"Blad3!G2405","v":0}]
[{"$f":"Blad3!H2406","v":"-"},{"$f":"Tidsram!$B$2","v":0},{"$f":"Tidsram!$B$3","v":0},{"$f":"Blad3!G2406","v":0}]
[{"$f":"Blad3!H2407","v":"-"},{"$f":"Tidsram!$B$2","v":0},{"$f":"Tidsram!$B$3","v":0},{"$f":"Blad3!G2407","v":0}]
[{"$f":"Blad3!H2408","v":"-"},{"$f":"Tidsram!$B$2","v":0},{"$f":"Tidsram!$B$3","v":0},{"$f":"Blad3!G2408","v":0}]
[{"$f":"Blad3!H2409","v":"-"},{"$f":"Tidsram!$B$2","v":0},{"$f":"Tidsram!$B$3","v":0},{"$f":"Blad3!G2409","v":0}]
[{"$f":"Blad3!H2410","v":"-"},{"$f":"Tidsram!$B$2","v":0},{"$f":"Tidsram!$B$3","v":0},{"$f":"Blad3!G2410","v":0}]
[{"$f":"Blad3!H2411","v":"-"},{"$f":"Tidsram!$B$2","v":0},{"$f":"Tidsram!$B$3","v":0},{"$f":"Blad3!G2411","v":0}]
[{"$f":"Blad3!H2412","v":"-"},{"$f":"Tidsram!$B$2","v":0},{"$f":"Tidsram!$B$3","v":0},{"$f":"Blad3!G2412","v":0}]
[{"$f":"Blad3!H2413","v":"-"},{"$f":"Tidsram!$B$2","v":0},{"$f":"Tidsram!$B$3","v":0},{"$f":"Blad3!G2413","v":0}]
[{"$f":"Blad3!H2414","v":"-"},{"$f":"Tidsram!$B$2","v":0},{"$f":"Tidsram!$B$3","v":0},{"$f":"Blad3!G2414","v":0}]
[{"$f":"Blad3!H2415","v":"-"},{"$f":"Tidsram!$B$2","v":0},{"$f":"Tidsram!$B$3","v":0},{"$f":"Blad3!G2415","v":0}]
[{"$f":"Blad3!H2416","v":"-"},{"$f":"Tidsram!$B$2","v":0},{"$f":"Tidsram!$B$3","v":0},{"$f":"Blad3!G2416","v":0}]
[{"$f":"Blad3!H2417","v":"-"},{"$f":"Tidsram!$B$2","v":0},{"$f":"Tidsram!$B$3","v":0},{"$f":"Blad3!G2417","v":0}]
[{"$f":"Blad3!H2418","v":"-"},{"$f":"Tidsram!$B$2","v":0},{"$f":"Tidsram!$B$3","v":0},{"$f":"Blad3!G2418","v":0}]
[{"$f":"Blad3!H2419","v":"-"},{"$f":"Tidsram!$B$2","v":0},{"$f":"Tidsram!$B$3","v":0},{"$f":"Blad3!G2419","v":0}]
[{"$f":"Blad3!H2420","v":"-"},{"$f":"Tidsram!$B$2","v":0},{"$f":"Tidsram!$B$3","v":0},{"$f":"Blad3!G2420","v":0}]
[{"$f":"Blad3!H2421","v":"-"},{"$f":"Tidsram!$B$2","v":0},{"$f":"Tidsram!$B$3","v":0},{"$f":"Blad3!G2421","v":0}]
[{"$f":"Blad3!H2422","v":"-"},{"$f":"Tidsram!$B$2","v":0},{"$f":"Tidsram!$B$3","v":0},{"$f":"Blad3!G2422","v":0}]
[{"$f":"Blad3!H2423","v":"-"},{"$f":"Tidsram!$B$2","v":0},{"$f":"Tidsram!$B$3","v":0},{"$f":"Blad3!G2423","v":0}]
[{"$f":"Blad3!H2424","v":"-"},{"$f":"Tidsram!$B$2","v":0},{"$f":"Tidsram!$B$3","v":0},{"$f":"Blad3!G2424","v":0}]
[{"$f":"Blad3!H2425","v":"-"},{"$f":"Tidsram!$B$2","v":0},{"$f":"Tidsram!$B$3","v":0},{"$f":"Blad3!G2425","v":0}]
[{"$f":"Blad3!H2426","v":"-"},{"$f":"Tidsram!$B$2","v":0},{"$f":"Tidsram!$B$3","v":0},{"$f":"Blad3!G2426","v":0}]
[{"$f":"Blad3!H2427","v":"-"},{"$f":"Tidsram!$B$2","v":0},{"$f":"Tidsram!$B$3","v":0},{"$f":"Blad3!G2427","v":0}]
[{"$f":"Blad3!H2428","v":"-"},{"$f":"Tidsram!$B$2","v":0},{"$f":"Tidsram!$B$3","v":0},{"$f":"Blad3!G2428","v":0}]
[{"$f":"Blad3!H2429","v":"-"},{"$f":"Tidsram!$B$2","v":0},{"$f":"Tidsram!$B$3","v":0},{"$f":"Blad3!G2429","v":0}]
[{"$f":"Blad3!H2430","v":"-"},{"$f":"Tidsram!$B$2","v":0},{"$f":"Tidsram!$B$3","v":0},{"$f":"Blad3!G2430","v":0}]
[{"$f":"Blad3!H2431","v":"-"},{"$f":"Tidsram!$B$2","v":0},{"$f":"Tidsram!$B$3","v":0},{"$f":"Blad3!G2431","v":0}]
[{"$f":"Blad3!H2432","v":"-"},{"$f":"Tidsram!$B$2","v":0},{"$f":"Tidsram!$B$3","v":0},{"$f":"Blad3!G2432","v":0}]
[{"$f":"Blad3!H2433","v":"-"},{"$f":"Tidsram!$B$2","v":0},{"$f":"Tidsram!$B$3","v":0},{"$f":"Blad3!G2433","v":0}]
[{"$f":"Blad3!H2434","v":"-"},{"$f":"Tidsram!$B$2","v":0},{"$f":"Tidsram!$B$3","v":0},{"$f":"Blad3!G2434","v":0}]
[{"$f":"Blad3!H2435","v":"-"},{"$f":"Tidsram!$B$2","v":0},{"$f":"Tidsram!$B$3","v":0},{"$f":"Blad3!G2435","v":0}]
[{"$f":"Blad3!H2436","v":"-"},{"$f":"Tidsram!$B$2","v":0},{"$f":"Tidsram!$B$3","v":0},{"$f":"Blad3!G2436","v":0}]
[{"$f":"Blad3!H2437","v":"-"},{"$f":"Tidsram!$B$2","v":0},{"$f":"Tidsram!$B$3","v":0},{"$f":"Blad3!G2437","v":0}]
[{"$f":"Blad3!H2438","v":"-"},{"$f":"Tidsram!$B$2","v":0},{"$f":"Tidsram!$B$3","v":0},{"$f":"Blad3!G2438","v":0}]
[{"$f":"Blad3!H2439","v":"-"},{"$f":"Tidsram!$B$2","v":0},{"$f":"Tidsram!$B$3","v":0},{"$f":"Blad3!G2439","v":0}]
[{"$f":"Blad3!H2440","v":"-"},{"$f":"Tidsram!$B$2","v":0},{"$f":"Tidsram!$B$3","v":0},{"$f":"Blad3!G2440","v":0}]
[{"$f":"Blad3!H2441","v":"-"},{"$f":"Tidsram!$B$2","v":0},{"$f":"Tidsram!$B$3","v":0},{"$f":"Blad3!G2441","v":0}]
[{"$f":"Blad3!H2442","v":"-"},{"$f":"Tidsram!$B$2","v":0},{"$f":"Tidsram!$B$3","v":0},{"$f":"Blad3!G2442","v":0}]
[{"$f":"Blad3!H2443","v":"-"},{"$f":"Tidsram!$B$2","v":0},{"$f":"Tidsram!$B$3","v":0},{"$f":"Blad3!G2443","v":0}]
[{"$f":"Blad3!H2444","v":"-"},{"$f":"Tidsram!$B$2","v":0},{"$f":"Tidsram!$B$3","v":0},{"$f":"Blad3!G2444","v":0}]
[{"$f":"Blad3!H2445","v":"-"},{"$f":"Tidsram!$B$2","v":0},{"$f":"Tidsram!$B$3","v":0},{"$f":"Blad3!G2445","v":0}]
[{"$f":"Blad3!H2446","v":"-"},{"$f":"Tidsram!$B$2","v":0},{"$f":"Tidsram!$B$3","v":0},{"$f":"Blad3!G2446","v":0}]
[{"$f":"Blad3!H2447","v":"-"},{"$f":"Tidsram!$B$2","v":0},{"$f":"Tidsram!$B$3","v":0},{"$f":"Blad3!G2447","v":0}]
[{"$f":"Blad3!H2448","v":"-"},{"$f":"Tidsram!$B$2","v":0},{"$f":"Tidsram!$B$3","v":0},{"$f":"Blad3!G2448","v":0}]
[{"$f":"Blad3!H2449","v":"-"},{"$f":"Tidsram!$B$2","v":0},{"$f":"Tidsram!$B$3","v":0},{"$f":"Blad3!G2449","v":0}]
[{"$f":"Blad3!H2450","v":"-"},{"$f":"Tidsram!$B$2","v":0},{"$f":"Tidsram!$B$3","v":0},{"$f":"Blad3!G2450","v":0}]
[{"$f":"Blad3!H2451","v":"-"},{"$f":"Tidsram!$B$2","v":0},{"$f":"Tidsram!$B$3","v":0},{"$f":"Blad3!G2451","v":0}]
[{"$f":"Blad3!H2452","v":"-"},{"$f":"Tidsram!$B$2","v":0},{"$f":"Tidsram!$B$3","v":0},{"$f":"Blad3!G2452","v":0}]
[{"$f":"Blad3!H2453","v":"-"},{"$f":"Tidsram!$B$2","v":0},{"$f":"Tidsram!$B$3","v":0},{"$f":"Blad3!G2453","v":0}]
[{"$f":"Blad3!H2454","v":"-"},{"$f":"Tidsram!$B$2","v":0},{"$f":"Tidsram!$B$3","v":0},{"$f":"Blad3!G2454","v":0}]
[{"$f":"Blad3!H2455","v":"-"},{"$f":"Tidsram!$B$2","v":0},{"$f":"Tidsram!$B$3","v":0},{"$f":"Blad3!G2455","v":0}]
[{"$f":"Blad3!H2456","v":"-"},{"$f":"Tidsram!$B$2","v":0},{"$f":"Tidsram!$B$3","v":0},{"$f":"Blad3!G2456","v":0}]
[{"$f":"Blad3!H2457","v":"-"},{"$f":"Tidsram!$B$2","v":0},{"$f":"Tidsram!$B$3","v":0},{"$f":"Blad3!G2457","v":0}]
[{"$f":"Blad3!H2458","v":"-"},{"$f":"Tidsram!$B$2","v":0},{"$f":"Tidsram!$B$3","v":0},{"$f":"Blad3!G2458","v":0}]
[{"$f":"Blad3!H2459","v":"-"},{"$f":"Tidsram!$B$2","v":0},{"$f":"Tidsram!$B$3","v":0},{"$f":"Blad3!G2459","v":0}]
[{"$f":"Blad3!H2460","v":"-"},{"$f":"Tidsram!$B$2","v":0},{"$f":"Tidsram!$B$3","v":0},{"$f":"Blad3!G2460","v":0}]
[{"$f":"Blad3!H2461","v":"-"},{"$f":"Tidsram!$B$2","v":0},{"$f":"Tidsram!$B$3","v":0},{"$f":"Blad3!G2461","v":0}]
[{"$f":"Blad3!H2462","v":"-"},{"$f":"Tidsram!$B$2","v":0},{"$f":"Tidsram!$B$3","v":0},{"$f":"Blad3!G2462","v":0}]
[{"$f":"Blad3!H2463","v":"-"},{"$f":"Tidsram!$B$2","v":0},{"$f":"Tidsram!$B$3","v":0},{"$f":"Blad3!G2463","v":0}]
[{"$f":"Blad3!H2464","v":"-"},{"$f":"Tidsram!$B$2","v":0},{"$f":"Tidsram!$B$3","v":0},{"$f":"Blad3!G2464","v":0}]
[{"$f":"Blad3!H2465","v":"-"},{"$f":"Tidsram!$B$2","v":0},{"$f":"Tidsram!$B$3","v":0},{"$f":"Blad3!G2465","v":0}]
[{"$f":"Blad3!H2466","v":"-"},{"$f":"Tidsram!$B$2","v":0},{"$f":"Tidsram!$B$3","v":0},{"$f":"Blad3!G2466","v":0}]
[{"$f":"Blad3!H2467","v":"-"},{"$f":"Tidsram!$B$2","v":0},{"$f":"Tidsram!$B$3","v":0},{"$f":"Blad3!G2467","v":0}]
[{"$f":"Blad3!H2468","v":"-"},{"$f":"Tidsram!$B$2","v":0},{"$f":"Tidsram!$B$3","v":0},{"$f":"Blad3!G2468","v":0}]
[{"$f":"Blad3!H2469","v":"-"},{"$f":"Tidsram!$B$2","v":0},{"$f":"Tidsram!$B$3","v":0},{"$f":"Blad3!G2469","v":0}]
[{"$f":"Blad3!H2470","v":"-"},{"$f":"Tidsram!$B$2","v":0},{"$f":"Tidsram!$B$3","v":0},{"$f":"Blad3!G2470","v":0}]
[{"$f":"Blad3!H2471","v":"-"},{"$f":"Tidsram!$B$2","v":0},{"$f":"Tidsram!$B$3","v":0},{"$f":"Blad3!G2471","v":0}]
[{"$f":"Blad3!H2472","v":"-"},{"$f":"Tidsram!$B$2","v":0},{"$f":"Tidsram!$B$3","v":0},{"$f":"Blad3!G2472","v":0}]
[{"$f":"Blad3!H2473","v":"-"},{"$f":"Tidsram!$B$2","v":0},{"$f":"Tidsram!$B$3","v":0},{"$f":"Blad3!G2473","v":0}]
[{"$f":"Blad3!H2474","v":"-"},{"$f":"Tidsram!$B$2","v":0},{"$f":"Tidsram!$B$3","v":0},{"$f":"Blad3!G2474","v":0}]
[{"$f":"Blad3!H2475","v":"-"},{"$f":"Tidsram!$B$2","v":0},{"$f":"Tidsram!$B$3","v":0},{"$f":"Blad3!G2475","v":0}]
[{"$f":"Blad3!H2476","v":"-"},{"$f":"Tidsram!$B$2","v":0},{"$f":"Tidsram!$B$3","v":0},{"$f":"Blad3!G2476","v":0}]
[{"$f":"Blad3!H2477","v":"-"},{"$f":"Tidsram!$B$2","v":0},{"$f":"Tidsram!$B$3","v":0},{"$f":"Blad3!G2477","v":0}]
[{"$f":"Blad3!H2478","v":"-"},{"$f":"Tidsram!$B$2","v":0},{"$f":"Tidsram!$B$3","v":0},{"$f":"Blad3!G2478","v":0}]
[{"$f":"Blad3!H2479","v":"-"},{"$f":"Tidsram!$B$2","v":0},{"$f":"Tidsram!$B$3","v":0},{"$f":"Blad3!G2479","v":0}]
[{"$f":"Blad3!H2480","v":"-"},{"$f":"Tidsram!$B$2","v":0},{"$f":"Tidsram!$B$3","v":0},{"$f":"Blad3!G2480","v":0}]
[{"$f":"Blad3!H2481","v":"-"},{"$f":"Tidsram!$B$2","v":0},{"$f":"Tidsram!$B$3","v":0},{"$f":"Blad3!G2481","v":0}]
[{"$f":"Blad3!H2482","v":"-"},{"$f":"Tidsram!$B$2","v":0},{"$f":"Tidsram!$B$3","v":0},{"$f":"Blad3!G2482","v":0}]
[{"$f":"Blad3!H2483","v":"-"},{"$f":"Tidsram!$B$2","v":0},{"$f":"Tidsram!$B$3","v":0},{"$f":"Blad3!G2483","v":0}]
[{"$f":"Blad3!H2484","v":"-"},{"$f":"Tidsram!$B$2","v":0},{"$f":"Tidsram!$B$3","v":0},{"$f":"Blad3!G2484","v":0}]
[{"$f":"Blad3!H2485","v":"-"},{"$f":"Tidsram!$B$2","v":0},{"$f":"Tidsram!$B$3","v":0},{"$f":"Blad3!G2485","v":0}]
[{"$f":"Blad3!H2486","v":"-"},{"$f":"Tidsram!$B$2","v":0},{"$f":"Tidsram!$B$3","v":0},{"$f":"Blad3!G2486","v":0}]
[{"$f":"Blad3!H2487","v":"-"},{"$f":"Tidsram!$B$2","v":0},{"$f":"Tidsram!$B$3","v":0},{"$f":"Blad3!G2487","v":0}]
[{"$f":"Blad3!H2488","v":"-"},{"$f":"Tidsram!$B$2","v":0},{"$f":"Tidsram!$B$3","v":0},{"$f":"Blad3!G2488","v":0}]
[{"$f":"Blad3!H2489","v":"-"},{"$f":"Tidsram!$B$2","v":0},{"$f":"Tidsram!$B$3","v":0},{"$f":"Blad3!G2489","v":0}]
[{"$f":"Blad3!H2490","v":"-"},{"$f":"Tidsram!$B$2","v":0},{"$f":"Tidsram!$B$3","v":0},{"$f":"Blad3!G2490","v":0}]
[{"$f":"Blad3!H2491","v":"-"},{"$f":"Tidsram!$B$2","v":0},{"$f":"Tidsram!$B$3","v":0},{"$f":"Blad3!G2491","v":0}]
[{"$f":"Blad3!H2492","v":"-"},{"$f":"Tidsram!$B$2","v":0},{"$f":"Tidsram!$B$3","v":0},{"$f":"Blad3!G2492","v":0}]
[{"$f":"Blad3!H2493","v":"-"},{"$f":"Tidsram!$B$2","v":0},{"$f":"Tidsram!$B$3","v":0},{"$f":"Blad3!G2493","v":0}]
[{"$f":"Blad3!H2494","v":"-"},{"$f":"Tidsram!$B$2","v":0},{"$f":"Tidsram!$B$3","v":0},{"$f":"Blad3!G2494","v":0}]
[{"$f":"Blad3!H2495","v":"-"},{"$f":"Tidsram!$B$2","v":0},{"$f":"Tidsram!$B$3","v":0},{"$f":"Blad3!G2495","v":0}]
[{"$f":"Blad3!H2496","v":"-"},{"$f":"Tidsram!$B$2","v":0},{"$f":"Tidsram!$B$3","v":0},{"$f":"Blad3!G2496","v":0}]
[{"$f":"Blad3!H2497","v":"-"},{"$f":"Tidsram!$B$2","v":0},{"$f":"Tidsram!$B$3","v":0},{"$f":"Blad3!G2497","v":0}]
[{"$f":"Blad3!H2498","v":"-"},{"$f":"Tidsram!$B$2","v":0},{"$f":"Tidsram!$B$3","v":0},{"$f":"Blad3!G2498","v":0}]
[{"$f":"Blad3!H2499","v":"-"},{"$f":"Tidsram!$B$2","v":0},{"$f":"Tidsram!$B$3","v":0},{"$f":"Blad3!G2499","v":0}]
[{"$f":"Blad3!H2500","v":"-"},{"$f":"Tidsram!$B$2","v":0},{"$f":"Tidsram!$B$3","v":0},{"$f":"Blad3!G2500","v":0}]
[{"$f":"Blad3!H2501","v":"-"},{"$f":"Tidsram!$B$2","v":0},{"$f":"Tidsram!$B$3","v":0},{"$f":"Blad3!G2501","v":0}]
[{"$f":"Blad3!H2502","v":"-"},{"$f":"Tidsram!$B$2","v":0},{"$f":"Tidsram!$B$3","v":0},{"$f":"Blad3!G2502","v":0}]
[{"$f":"Blad3!H2503","v":"-"},{"$f":"Tidsram!$B$2","v":0},{"$f":"Tidsram!$B$3","v":0},{"$f":"Blad3!G2503","v":0}]
[{"$f":"Blad3!H2504","v":"-"},{"$f":"Tidsram!$B$2","v":0},{"$f":"Tidsram!$B$3","v":0},{"$f":"Blad3!G2504","v":0}]
[{"$f":"Blad3!H2505","v":"-"},{"$f":"Tidsram!$B$2","v":0},{"$f":"Tidsram!$B$3","v":0},{"$f":"Blad3!G2505","v":0}]
[{"$f":"Blad3!H2506","v":"-"},{"$f":"Tidsram!$B$2","v":0},{"$f":"Tidsram!$B$3","v":0},{"$f":"Blad3!G2506","v":0}]
[{"$f":"Blad3!H2507","v":"-"},{"$f":"Tidsram!$B$2","v":0},{"$f":"Tidsram!$B$3","v":0},{"$f":"Blad3!G2507","v":0}]
[{"$f":"Blad3!H2508","v":"-"},{"$f":"Tidsram!$B$2","v":0},{"$f":"Tidsram!$B$3","v":0},{"$f":"Blad3!G2508","v":0}]
[{"$f":"Blad3!H2509","v":"-"},{"$f":"Tidsram!$B$2","v":0},{"$f":"Tidsram!$B$3","v":0},{"$f":"Blad3!G2509","v":0}]
[{"$f":"Blad3!H2510","v":"-"},{"$f":"Tidsram!$B$2","v":0},{"$f":"Tidsram!$B$3","v":0},{"$f":"Blad3!G2510","v":0}]
[{"$f":"Blad3!H2511","v":"-"},{"$f":"Tidsram!$B$2","v":0},{"$f":"Tidsram!$B$3","v":0},{"$f":"Blad3!G2511","v":0}]
[{"$f":"Blad3!H2512","v":"-"},{"$f":"Tidsram!$B$2","v":0},{"$f":"Tidsram!$B$3","v":0},{"$f":"Blad3!G2512","v":0}]
[{"$f":"Blad3!H2513","v":"-"},{"$f":"Tidsram!$B$2","v":0},{"$f":"Tidsram!$B$3","v":0},{"$f":"Blad3!G2513","v":0}]
[{"$f":"Blad3!H2514","v":"-"},{"$f":"Tidsram!$B$2","v":0},{"$f":"Tidsram!$B$3","v":0},{"$f":"Blad3!G2514","v":0}]
[{"$f":"Blad3!H2515","v":"-"},{"$f":"Tidsram!$B$2","v":0},{"$f":"Tidsram!$B$3","v":0},{"$f":"Blad3!G2515","v":0}]
[{"$f":"Blad3!H2516","v":"-"},{"$f":"Tidsram!$B$2","v":0},{"$f":"Tidsram!$B$3","v":0},{"$f":"Blad3!G2516","v":0}]
[{"$f":"Blad3!H2517","v":"-"},{"$f":"Tidsram!$B$2","v":0},{"$f":"Tidsram!$B$3","v":0},{"$f":"Blad3!G2517","v":0}]
[{"$f":"Blad3!H2518","v":"-"},{"$f":"Tidsram!$B$2","v":0},{"$f":"Tidsram!$B$3","v":0},{"$f":"Blad3!G2518","v":0}]
[{"$f":"Blad3!H2519","v":"-"},{"$f":"Tidsram!$B$2","v":0},{"$f":"Tidsram!$B$3","v":0},{"$f":"Blad3!G2519","v":0}]
[{"$f":"Blad3!H2520","v":"-"},{"$f":"Tidsram!$B$2","v":0},{"$f":"Tidsram!$B$3","v":0},{"$f":"Blad3!G2520","v":0}]
[{"$f":"Blad3!H2521","v":"-"},{"$f":"Tidsram!$B$2","v":0},{"$f":"Tidsram!$B$3","v":0},{"$f":"Blad3!G2521","v":0}]
[{"$f":"Blad3!H2522","v":"-"},{"$f":"Tidsram!$B$2","v":0},{"$f":"Tidsram!$B$3","v":0},{"$f":"Blad3!G2522","v":0}]
[{"$f":"Blad3!H2523","v":"-"},{"$f":"Tidsram!$B$2","v":0},{"$f":"Tidsram!$B$3","v":0},{"$f":"Blad3!G2523","v":0}]
[{"$f":"Blad3!H2524","v":"-"},{"$f":"Tidsram!$B$2","v":0},{"$f":"Tidsram!$B$3","v":0},{"$f":"Blad3!G2524","v":0}]
[{"$f":"Blad3!H2525","v":"-"},{"$f":"Tidsram!$B$2","v":0},{"$f":"Tidsram!$B$3","v":0},{"$f":"Blad3!G2525","v":0}]
[{"$f":"Blad3!H2526","v":"-"},{"$f":"Tidsram!$B$2","v":0},{"$f":"Tidsram!$B$3","v":0},{"$f":"Blad3!G2526","v":0}]
[{"$f":"Blad3!H2527","v":"-"},{"$f":"Tidsram!$B$2","v":0},{"$f":"Tidsram!$B$3","v":0},{"$f":"Blad3!G2527","v":0}]
[{"$f":"Blad3!H2528","v":"-"},{"$f":"Tidsram!$B$2","v":0},{"$f":"Tidsram!$B$3","v":0},{"$f":"Blad3!G2528","v":0}]
[{"$f":"Blad3!H2529","v":"-"},{"$f":"Tidsram!$B$2","v":0},{"$f":"Tidsram!$B$3","v":0},{"$f":"Blad3!G2529","v":0}]
[{"$f":"Blad3!H2530","v":"-"},{"$f":"Tidsram!$B$2","v":0},{"$f":"Tidsram!$B$3","v":0},{"$f":"Blad3!G2530","v":0}]
[{"$f":"Blad3!H2531","v":"-"},{"$f":"Tidsram!$B$2","v":0},{"$f":"Tidsram!$B$3","v":0},{"$f":"Blad3!G2531","v":0}]
[{"$f":"Blad3!H2532","v":"-"},{"$f":"Tidsram!$B$2","v":0},{"$f":"Tidsram!$B$3","v":0},{"$f":"Blad3!G2532","v":0}]
[{"$f":"Blad3!H2533","v":"-"},{"$f":"Tidsram!$B$2","v":0},{"$f":"Tidsram!$B$3","v":0},{"$f":"Blad3!G2533","v":0}]
[{"$f":"Blad3!H2534","v":"-"},{"$f":"Tidsram!$B$2","v":0},{"$f":"Tidsram!$B$3","v":0},{"$f":"Blad3!G2534","v":0}]
[{"$f":"Blad3!H2535","v":"-"},{"$f":"Tidsram!$B$2","v":0},{"$f":"Tidsram!$B$3","v":0},{"$f":"Blad3!G2535","v":0}]
[{"$f":"Blad3!H2536","v":"-"},{"$f":"Tidsram!$B$2","v":0},{"$f":"Tidsram!$B$3","v":0},{"$f":"Blad3!G2536","v":0}]
[{"$f":"Blad3!H2537","v":"-"},{"$f":"Tidsram!$B$2","v":0},{"$f":"Tidsram!$B$3","v":0},{"$f":"Blad3!G2537","v":0}]
[{"$f":"Blad3!H2538","v":"-"},{"$f":"Tidsram!$B$2","v":0},{"$f":"Tidsram!$B$3","v":0},{"$f":"Blad3!G2538","v":0}]
[{"$f":"Blad3!H2539","v":"-"},{"$f":"Tidsram!$B$2","v":0},{"$f":"Tidsram!$B$3","v":0},{"$f":"Blad3!G2539","v":0}]
[{"$f":"Blad3!H2540","v":"-"},{"$f":"Tidsram!$B$2","v":0},{"$f":"Tidsram!$B$3","v":0},{"$f":"Blad3!G2540","v":0}]
[{"$f":"Blad3!H2541","v":"-"},{"$f":"Tidsram!$B$2","v":0},{"$f":"Tidsram!$B$3","v":0},{"$f":"Blad3!G2541","v":0}]
[{"$f":"Blad3!H2542","v":"-"},{"$f":"Tidsram!$B$2","v":0},{"$f":"Tidsram!$B$3","v":0},{"$f":"Blad3!G2542","v":0}]
[{"$f":"Blad3!H2543","v":"-"},{"$f":"Tidsram!$B$2","v":0},{"$f":"Tidsram!$B$3","v":0},{"$f":"Blad3!G2543","v":0}]
[{"$f":"Blad3!H2544","v":"-"},{"$f":"Tidsram!$B$2","v":0},{"$f":"Tidsram!$B$3","v":0},{"$f":"Blad3!G2544","v":0}]
[{"$f":"Blad3!H2545","v":"-"},{"$f":"Tidsram!$B$2","v":0},{"$f":"Tidsram!$B$3","v":0},{"$f":"Blad3!G2545","v":0}]
[{"$f":"Blad3!H2546","v":"-"},{"$f":"Tidsram!$B$2","v":0},{"$f":"Tidsram!$B$3","v":0},{"$f":"Blad3!G2546","v":0}]
[{"$f":"Blad3!H2547","v":"-"},{"$f":"Tidsram!$B$2","v":0},{"$f":"Tidsram!$B$3","v":0},{"$f":"Blad3!G2547","v":0}]
[{"$f":"Blad3!H2548","v":"-"},{"$f":"Tidsram!$B$2","v":0},{"$f":"Tidsram!$B$3","v":0},{"$f":"Blad3!G2548","v":0}]
[{"$f":"Blad3!H2549","v":"-"},{"$f":"Tidsram!$B$2","v":0},{"$f":"Tidsram!$B$3","v":0},{"$f":"Blad3!G2549","v":0}]
[{"$f":"Blad3!H2550","v":"-"},{"$f":"Tidsram!$B$2","v":0},{"$f":"Tidsram!$B$3","v":0},{"$f":"Blad3!G2550","v":0}]
[{"$f":"Blad3!H2551","v":"-"},{"$f":"Tidsram!$B$2","v":0},{"$f":"Tidsram!$B$3","v":0},{"$f":"Blad3!G2551","v":0}]
[{"$f":"Blad3!H2552","v":"-"},{"$f":"Tidsram!$B$2","v":0},{"$f":"Tidsram!$B$3","v":0},{"$f":"Blad3!G2552","v":0}]
[{"$f":"Blad3!H2553","v":"-"},{"$f":"Tidsram!$B$2","v":0},{"$f":"Tidsram!$B$3","v":0},{"$f":"Blad3!G2553","v":0}]
[{"$f":"Blad3!H2554","v":"-"},{"$f":"Tidsram!$B$2","v":0},{"$f":"Tidsram!$B$3","v":0},{"$f":"Blad3!G2554","v":0}]
[{"$f":"Blad3!H2555","v":"-"},{"$f":"Tidsram!$B$2","v":0},{"$f":"Tidsram!$B$3","v":0},{"$f":"Blad3!G2555","v":0}]
[{"$f":"Blad3!H2556","v":"-"},{"$f":"Tidsram!$B$2","v":0},{"$f":"Tidsram!$B$3","v":0},{"$f":"Blad3!G2556","v":0}]
[{"$f":"Blad3!H2557","v":"-"},{"$f":"Tidsram!$B$2","v":0},{"$f":"Tidsram!$B$3","v":0},{"$f":"Blad3!G2557","v":0}]
[{"$f":"Blad3!H2558","v":"-"},{"$f":"Tidsram!$B$2","v":0},{"$f":"Tidsram!$B$3","v":0},{"$f":"Blad3!G2558","v":0}]
[{"$f":"Blad3!H2559","v":"-"},{"$f":"Tidsram!$B$2","v":0},{"$f":"Tidsram!$B$3","v":0},{"$f":"Blad3!G2559","v":0}]
[{"$f":"Blad3!H2560","v":"-"},{"$f":"Tidsram!$B$2","v":0},{"$f":"Tidsram!$B$3","v":0},{"$f":"Blad3!G2560","v":0}]
[{"$f":"Blad3!H2561","v":"-"},{"$f":"Tidsram!$B$2","v":0},{"$f":"Tidsram!$B$3","v":0},{"$f":"Blad3!G2561","v":0}]
[{"$f":"Blad3!H2562","v":"-"},{"$f":"Tidsram!$B$2","v":0},{"$f":"Tidsram!$B$3","v":0},{"$f":"Blad3!G2562","v":0}]
[{"$f":"Blad3!H2563","v":"-"},{"$f":"Tidsram!$B$2","v":0},{"$f":"Tidsram!$B$3","v":0},{"$f":"Blad3!G2563","v":0}]
[{"$f":"Blad3!H2564","v":"-"},{"$f":"Tidsram!$B$2","v":0},{"$f":"Tidsram!$B$3","v":0},{"$f":"Blad3!G2564","v":0}]
[{"$f":"Blad3!H2565","v":"-"},{"$f":"Tidsram!$B$2","v":0},{"$f":"Tidsram!$B$3","v":0},{"$f":"Blad3!G2565","v":0}]
[{"$f":"Blad3!H2566","v":"-"},{"$f":"Tidsram!$B$2","v":0},{"$f":"Tidsram!$B$3","v":0},{"$f":"Blad3!G2566","v":0}]
[{"$f":"Blad3!H2567","v":"-"},{"$f":"Tidsram!$B$2","v":0},{"$f":"Tidsram!$B$3","v":0},{"$f":"Blad3!G2567","v":0}]
[{"$f":"Blad3!H2568","v":"-"},{"$f":"Tidsram!$B$2","v":0},{"$f":"Tidsram!$B$3","v":0},{"$f":"Blad3!G2568","v":0}]
[{"$f":"Blad3!H2569","v":"-"},{"$f":"Tidsram!$B$2","v":0},{"$f":"Tidsram!$B$3","v":0},{"$f":"Blad3!G2569","v":0}]
[{"$f":"Blad3!H2570","v":"-"},{"$f":"Tidsram!$B$2","v":0},{"$f":"Tidsram!$B$3","v":0},{"$f":"Blad3!G2570","v":0}]
[{"$f":"Blad3!H2571","v":"-"},{"$f":"Tidsram!$B$2","v":0},{"$f":"Tidsram!$B$3","v":0},{"$f":"Blad3!G2571","v":0}]
[{"$f":"Blad3!H2572","v":"-"},{"$f":"Tidsram!$B$2","v":0},{"$f":"Tidsram!$B$3","v":0},{"$f":"Blad3!G2572","v":0}]
[{"$f":"Blad3!H2573","v":"-"},{"$f":"Tidsram!$B$2","v":0},{"$f":"Tidsram!$B$3","v":0},{"$f":"Blad3!G2573","v":0}]
[{"$f":"Blad3!H2574","v":"-"},{"$f":"Tidsram!$B$2","v":0},{"$f":"Tidsram!$B$3","v":0},{"$f":"Blad3!G2574","v":0}]
[{"$f":"Blad3!H2575","v":"-"},{"$f":"Tidsram!$B$2","v":0},{"$f":"Tidsram!$B$3","v":0},{"$f":"Blad3!G2575","v":0}]
[{"$f":"Blad3!H2576","v":"-"},{"$f":"Tidsram!$B$2","v":0},{"$f":"Tidsram!$B$3","v":0},{"$f":"Blad3!G2576","v":0}]
[{"$f":"Blad3!H2577","v":"-"},{"$f":"Tidsram!$B$2","v":0},{"$f":"Tidsram!$B$3","v":0},{"$f":"Blad3!G2577","v":0}]
[{"$f":"Blad3!H2578","v":"-"},{"$f":"Tidsram!$B$2","v":0},{"$f":"Tidsram!$B$3","v":0},{"$f":"Blad3!G2578","v":0}]
[{"$f":"Blad3!H2579","v":"-"},{"$f":"Tidsram!$B$2","v":0},{"$f":"Tidsram!$B$3","v":0},{"$f":"Blad3!G2579","v":0}]
[{"$f":"Blad3!H2580","v":"-"},{"$f":"Tidsram!$B$2","v":0},{"$f":"Tidsram!$B$3","v":0},{"$f":"Blad3!G2580","v":0}]
[{"$f":"Blad3!H2581","v":"-"},{"$f":"Tidsram!$B$2","v":0},{"$f":"Tidsram!$B$3","v":0},{"$f":"Blad3!G2581","v":0}]
[{"$f":"Blad3!H2582","v":"-"},{"$f":"Tidsram!$B$2","v":0},{"$f":"Tidsram!$B$3","v":0},{"$f":"Blad3!G2582","v":0}]
[{"$f":"Blad3!H2583","v":"-"},{"$f":"Tidsram!$B$2","v":0},{"$f":"Tidsram!$B$3","v":0},{"$f":"Blad3!G2583","v":0}]
[{"$f":"Blad3!H2584","v":"-"},{"$f":"Tidsram!$B$2","v":0},{"$f":"Tidsram!$B$3","v":0},{"$f":"Blad3!G2584","v":0}]
[{"$f":"Blad3!H2585","v":"-"},{"$f":"Tidsram!$B$2","v":0},{"$f":"Tidsram!$B$3","v":0},{"$f":"Blad3!G2585","v":0}]
[{"$f":"Blad3!H2586","v":"-"},{"$f":"Tidsram!$B$2","v":0},{"$f":"Tidsram!$B$3","v":0},{"$f":"Blad3!G2586","v":0}]
[{"$f":"Blad3!H2587","v":"-"},{"$f":"Tidsram!$B$2","v":0},{"$f":"Tidsram!$B$3","v":0},{"$f":"Blad3!G2587","v":0}]
[{"$f":"Blad3!H2588","v":"-"},{"$f":"Tidsram!$B$2","v":0},{"$f":"Tidsram!$B$3","v":0},{"$f":"Blad3!G2588","v":0}]
[{"$f":"Blad3!H2589","v":"-"},{"$f":"Tidsram!$B$2","v":0},{"$f":"Tidsram!$B$3","v":0},{"$f":"Blad3!G2589","v":0}]
[{"$f":"Blad3!H2590","v":"-"},{"$f":"Tidsram!$B$2","v":0},{"$f":"Tidsram!$B$3","v":0},{"$f":"Blad3!G2590","v":0}]
[{"$f":"Blad3!H2591","v":"-"},{"$f":"Tidsram!$B$2","v":0},{"$f":"Tidsram!$B$3","v":0},{"$f":"Blad3!G2591","v":0}]
[{"$f":"Blad3!H2592","v":"-"},{"$f":"Tidsram!$B$2","v":0},{"$f":"Tidsram!$B$3","v":0},{"$f":"Blad3!G2592","v":0}]
[{"$f":"Blad3!H2593","v":"-"},{"$f":"Tidsram!$B$2","v":0},{"$f":"Tidsram!$B$3","v":0},{"$f":"Blad3!G2593","v":0}]
[{"$f":"Blad3!H2594","v":"-"},{"$f":"Tidsram!$B$2","v":0},{"$f":"Tidsram!$B$3","v":0},{"$f":"Blad3!G2594","v":0}]
[{"$f":"Blad3!H2595","v":"-"},{"$f":"Tidsram!$B$2","v":0},{"$f":"Tidsram!$B$3","v":0},{"$f":"Blad3!G2595","v":0}]
[{"$f":"Blad3!H2596","v":"-"},{"$f":"Tidsram!$B$2","v":0},{"$f":"Tidsram!$B$3","v":0},{"$f":"Blad3!G2596","v":0}]
[{"$f":"Blad3!H2597","v":"-"},{"$f":"Tidsram!$B$2","v":0},{"$f":"Tidsram!$B$3","v":0},{"$f":"Blad3!G2597","v":0}]
[{"$f":"Blad3!H2598","v":"-"},{"$f":"Tidsram!$B$2","v":0},{"$f":"Tidsram!$B$3","v":0},{"$f":"Blad3!G2598","v":0}]
[{"$f":"Blad3!H2599","v":"-"},{"$f":"Tidsram!$B$2","v":0},{"$f":"Tidsram!$B$3","v":0},{"$f":"Blad3!G2599","v":0}]
[{"$f":"Blad3!H2600","v":"-"},{"$f":"Tidsram!$B$2","v":0},{"$f":"Tidsram!$B$3","v":0},{"$f":"Blad3!G2600","v":0}]
[{"$f":"Blad3!H2601","v":"-"},{"$f":"Tidsram!$B$2","v":0},{"$f":"Tidsram!$B$3","v":0},{"$f":"Blad3!G2601","v":0}]
[{"$f":"Blad3!H2602","v":"-"},{"$f":"Tidsram!$B$2","v":0},{"$f":"Tidsram!$B$3","v":0},{"$f":"Blad3!G2602","v":0}]
[{"$f":"Blad3!H2603","v":"-"},{"$f":"Tidsram!$B$2","v":0},{"$f":"Tidsram!$B$3","v":0},{"$f":"Blad3!G2603","v":0}]
[{"$f":"Blad3!H2604","v":"-"},{"$f":"Tidsram!$B$2","v":0},{"$f":"Tidsram!$B$3","v":0},{"$f":"Blad3!G2604","v":0}]
[{"$f":"Blad3!H2605","v":"-"},{"$f":"Tidsram!$B$2","v":0},{"$f":"Tidsram!$B$3","v":0},{"$f":"Blad3!G2605","v":0}]
[{"$f":"Blad3!H2606","v":"-"},{"$f":"Tidsram!$B$2","v":0},{"$f":"Tidsram!$B$3","v":0},{"$f":"Blad3!G2606","v":0}]
[{"$f":"Blad3!H2607","v":"-"},{"$f":"Tidsram!$B$2","v":0},{"$f":"Tidsram!$B$3","v":0},{"$f":"Blad3!G2607","v":0}]
[{"$f":"Blad3!H2608","v":"-"},{"$f":"Tidsram!$B$2","v":0},{"$f":"Tidsram!$B$3","v":0},{"$f":"Blad3!G2608","v":0}]
[{"$f":"Blad3!H2609","v":"-"},{"$f":"Tidsram!$B$2","v":0},{"$f":"Tidsram!$B$3","v":0},{"$f":"Blad3!G2609","v":0}]
[{"$f":"Blad3!H2610","v":"-"},{"$f":"Tidsram!$B$2","v":0},{"$f":"Tidsram!$B$3","v":0},{"$f":"Blad3!G2610","v":0}]
[{"$f":"Blad3!H2611","v":"-"},{"$f":"Tidsram!$B$2","v":0},{"$f":"Tidsram!$B$3","v":0},{"$f":"Blad3!G2611","v":0}]
[{"$f":"Blad3!H2612","v":"-"},{"$f":"Tidsram!$B$2","v":0},{"$f":"Tidsram!$B$3","v":0},{"$f":"Blad3!G2612","v":0}]
[{"$f":"Blad3!H2613","v":"-"},{"$f":"Tidsram!$B$2","v":0},{"$f":"Tidsram!$B$3","v":0},{"$f":"Blad3!G2613","v":0}]
[{"$f":"Blad3!H2614","v":"-"},{"$f":"Tidsram!$B$2","v":0},{"$f":"Tidsram!$B$3","v":0},{"$f":"Blad3!G2614","v":0}]
[{"$f":"Blad3!H2615","v":"-"},{"$f":"Tidsram!$B$2","v":0},{"$f":"Tidsram!$B$3","v":0},{"$f":"Blad3!G2615","v":0}]
[{"$f":"Blad3!H2616","v":"-"},{"$f":"Tidsram!$B$2","v":0},{"$f":"Tidsram!$B$3","v":0},{"$f":"Blad3!G2616","v":0}]
[{"$f":"Blad3!H2617","v":"-"},{"$f":"Tidsram!$B$2","v":0},{"$f":"Tidsram!$B$3","v":0},{"$f":"Blad3!G2617","v":0}]
[{"$f":"Blad3!H2618","v":"-"},{"$f":"Tidsram!$B$2","v":0},{"$f":"Tidsram!$B$3","v":0},{"$f":"Blad3!G2618","v":0}]
[{"$f":"Blad3!H2619","v":"-"},{"$f":"Tidsram!$B$2","v":0},{"$f":"Tidsram!$B$3","v":0},{"$f":"Blad3!G2619","v":0}]
[{"$f":"Blad3!H2620","v":"-"},{"$f":"Tidsram!$B$2","v":0},{"$f":"Tidsram!$B$3","v":0},{"$f":"Blad3!G2620","v":0}]
[{"$f":"Blad3!H2621","v":"-"},{"$f":"Tidsram!$B$2","v":0},{"$f":"Tidsram!$B$3","v":0},{"$f":"Blad3!G2621","v":0}]
[{"$f":"Blad3!H2622","v":"-"},{"$f":"Tidsram!$B$2","v":0},{"$f":"Tidsram!$B$3","v":0},{"$f":"Blad3!G2622","v":0}]
[{"$f":"Blad3!H2623","v":"-"},{"$f":"Tidsram!$B$2","v":0},{"$f":"Tidsram!$B$3","v":0},{"$f":"Blad3!G2623","v":0}]
[{"$f":"Blad3!H2624","v":"-"},{"$f":"Tidsram!$B$2","v":0},{"$f":"Tidsram!$B$3","v":0},{"$f":"Blad3!G2624","v":0}]
[{"$f":"Blad3!H2625","v":"-"},{"$f":"Tidsram!$B$2","v":0},{"$f":"Tidsram!$B$3","v":0},{"$f":"Blad3!G2625","v":0}]
[{"$f":"Blad3!H2626","v":"-"},{"$f":"Tidsram!$B$2","v":0},{"$f":"Tidsram!$B$3","v":0},{"$f":"Blad3!G2626","v":0}]
[{"$f":"Blad3!H2627","v":"-"},{"$f":"Tidsram!$B$2","v":0},{"$f":"Tidsram!$B$3","v":0},{"$f":"Blad3!G2627","v":0}]
[{"$f":"Blad3!H2628","v":"-"},{"$f":"Tidsram!$B$2","v":0},{"$f":"Tidsram!$B$3","v":0},{"$f":"Blad3!G2628","v":0}]
[{"$f":"Blad3!H2629","v":"-"},{"$f":"Tidsram!$B$2","v":0},{"$f":"Tidsram!$B$3","v":0},{"$f":"Blad3!G2629","v":0}]
[{"$f":"Blad3!H2630","v":"-"},{"$f":"Tidsram!$B$2","v":0},{"$f":"Tidsram!$B$3","v":0},{"$f":"Blad3!G2630","v":0}]
[{"$f":"Blad3!H2631","v":"-"},{"$f":"Tidsram!$B$2","v":0},{"$f":"Tidsram!$B$3","v":0},{"$f":"Blad3!G2631","v":0}]
[{"$f":"Blad3!H2632","v":"-"},{"$f":"Tidsram!$B$2","v":0},{"$f":"Tidsram!$B$3","v":0},{"$f":"Blad3!G2632","v":0}]
[{"$f":"Blad3!H2633","v":"-"},{"$f":"Tidsram!$B$2","v":0},{"$f":"Tidsram!$B$3","v":0},{"$f":"Blad3!G2633","v":0}]
[{"$f":"Blad3!H2634","v":"-"},{"$f":"Tidsram!$B$2","v":0},{"$f":"Tidsram!$B$3","v":0},{"$f":"Blad3!G2634","v":0}]
[{"$f":"Blad3!H2635","v":"-"},{"$f":"Tidsram!$B$2","v":0},{"$f":"Tidsram!$B$3","v":0},{"$f":"Blad3!G2635","v":0}]
[{"$f":"Blad3!H2636","v":"-"},{"$f":"Tidsram!$B$2","v":0},{"$f":"Tidsram!$B$3","v":0},{"$f":"Blad3!G2636","v":0}]
[{"$f":"Blad3!H2637","v":"-"},{"$f":"Tidsram!$B$2","v":0},{"$f":"Tidsram!$B$3","v":0},{"$f":"Blad3!G2637","v":0}]
[{"$f":"Blad3!H2638","v":"-"},{"$f":"Tidsram!$B$2","v":0},{"$f":"Tidsram!$B$3","v":0},{"$f":"Blad3!G2638","v":0}]
[{"$f":"Blad3!H2639","v":"-"},{"$f":"Tidsram!$B$2","v":0},{"$f":"Tidsram!$B$3","v":0},{"$f":"Blad3!G2639","v":0}]
[{"$f":"Blad3!H2640","v":"-"},{"$f":"Tidsram!$B$2","v":0},{"$f":"Tidsram!$B$3","v":0},{"$f":"Blad3!G2640","v":0}]
[{"$f":"Blad3!H2641","v":"-"},{"$f":"Tidsram!$B$2","v":0},{"$f":"Tidsram!$B$3","v":0},{"$f":"Blad3!G2641","v":0}]
[{"$f":"Blad3!H2642","v":"-"},{"$f":"Tidsram!$B$2","v":0},{"$f":"Tidsram!$B$3","v":0},{"$f":"Blad3!G2642","v":0}]
[{"$f":"Blad3!H2643","v":"-"},{"$f":"Tidsram!$B$2","v":0},{"$f":"Tidsram!$B$3","v":0},{"$f":"Blad3!G2643","v":0}]
[{"$f":"Blad3!H2644","v":"-"},{"$f":"Tidsram!$B$2","v":0},{"$f":"Tidsram!$B$3","v":0},{"$f":"Blad3!G2644","v":0}]
[{"$f":"Blad3!H2645","v":"-"},{"$f":"Tidsram!$B$2","v":0},{"$f":"Tidsram!$B$3","v":0},{"$f":"Blad3!G2645","v":0}]
[{"$f":"Blad3!H2646","v":"-"},{"$f":"Tidsram!$B$2","v":0},{"$f":"Tidsram!$B$3","v":0},{"$f":"Blad3!G2646","v":0}]
[{"$f":"Blad3!H2647","v":"-"},{"$f":"Tidsram!$B$2","v":0},{"$f":"Tidsram!$B$3","v":0},{"$f":"Blad3!G2647","v":0}]
[{"$f":"Blad3!H2648","v":"-"},{"$f":"Tidsram!$B$2","v":0},{"$f":"Tidsram!$B$3","v":0},{"$f":"Blad3!G2648","v":0}]
[{"$f":"Blad3!H2649","v":"-"},{"$f":"Tidsram!$B$2","v":0},{"$f":"Tidsram!$B$3","v":0},{"$f":"Blad3!G2649","v":0}]
[{"$f":"Blad3!H2650","v":"-"},{"$f":"Tidsram!$B$2","v":0},{"$f":"Tidsram!$B$3","v":0},{"$f":"Blad3!G2650","v":0}]
[{"$f":"Blad3!H2651","v":"-"},{"$f":"Tidsram!$B$2","v":0},{"$f":"Tidsram!$B$3","v":0},{"$f":"Blad3!G2651","v":0}]
[{"$f":"Blad3!H2652","v":"-"},{"$f":"Tidsram!$B$2","v":0},{"$f":"Tidsram!$B$3","v":0},{"$f":"Blad3!G2652","v":0}]
[{"$f":"Blad3!H2653","v":"-"},{"$f":"Tidsram!$B$2","v":0},{"$f":"Tidsram!$B$3","v":0},{"$f":"Blad3!G2653","v":0}]
[{"$f":"Blad3!H2654","v":"-"},{"$f":"Tidsram!$B$2","v":0},{"$f":"Tidsram!$B$3","v":0},{"$f":"Blad3!G2654","v":0}]
[{"$f":"Blad3!H2655","v":"-"},{"$f":"Tidsram!$B$2","v":0},{"$f":"Tidsram!$B$3","v":0},{"$f":"Blad3!G2655","v":0}]
[{"$f":"Blad3!H2656","v":"-"},{"$f":"Tidsram!$B$2","v":0},{"$f":"Tidsram!$B$3","v":0},{"$f":"Blad3!G2656","v":0}]
[{"$f":"Blad3!H2657","v":"-"},{"$f":"Tidsram!$B$2","v":0},{"$f":"Tidsram!$B$3","v":0},{"$f":"Blad3!G2657","v":0}]
[{"$f":"Blad3!H2658","v":"-"},{"$f":"Tidsram!$B$2","v":0},{"$f":"Tidsram!$B$3","v":0},{"$f":"Blad3!G2658","v":0}]
[{"$f":"Blad3!H2659","v":"-"},{"$f":"Tidsram!$B$2","v":0},{"$f":"Tidsram!$B$3","v":0},{"$f":"Blad3!G2659","v":0}]
[{"$f":"Blad3!H2660","v":"-"},{"$f":"Tidsram!$B$2","v":0},{"$f":"Tidsram!$B$3","v":0},{"$f":"Blad3!G2660","v":0}]
[{"$f":"Blad3!H2661","v":"-"},{"$f":"Tidsram!$B$2","v":0},{"$f":"Tidsram!$B$3","v":0},{"$f":"Blad3!G2661","v":0}]
[{"$f":"Blad3!H2662","v":"-"},{"$f":"Tidsram!$B$2","v":0},{"$f":"Tidsram!$B$3","v":0},{"$f":"Blad3!G2662","v":0}]
[{"$f":"Blad3!H2663","v":"-"},{"$f":"Tidsram!$B$2","v":0},{"$f":"Tidsram!$B$3","v":0},{"$f":"Blad3!G2663","v":0}]
[{"$f":"Blad3!H2664","v":"-"},{"$f":"Tidsram!$B$2","v":0},{"$f":"Tidsram!$B$3","v":0},{"$f":"Blad3!G2664","v":0}]
[{"$f":"Blad3!H2665","v":"-"},{"$f":"Tidsram!$B$2","v":0},{"$f":"Tidsram!$B$3","v":0},{"$f":"Blad3!G2665","v":0}]
[{"$f":"Blad3!H2666","v":"-"},{"$f":"Tidsram!$B$2","v":0},{"$f":"Tidsram!$B$3","v":0},{"$f":"Blad3!G2666","v":0}]
[{"$f":"Blad3!H2667","v":"-"},{"$f":"Tidsram!$B$2","v":0},{"$f":"Tidsram!$B$3","v":0},{"$f":"Blad3!G2667","v":0}]
[{"$f":"Blad3!H2668","v":"-"},{"$f":"Tidsram!$B$2","v":0},{"$f":"Tidsram!$B$3","v":0},{"$f":"Blad3!G2668","v":0}]
[{"$f":"Blad3!H2669","v":"-"},{"$f":"Tidsram!$B$2","v":0},{"$f":"Tidsram!$B$3","v":0},{"$f":"Blad3!G2669","v":0}]
[{"$f":"Blad3!H2670","v":"-"},{"$f":"Tidsram!$B$2","v":0},{"$f":"Tidsram!$B$3","v":0},{"$f":"Blad3!G2670","v":0}]
[{"$f":"Blad3!H2671","v":"-"},{"$f":"Tidsram!$B$2","v":0},{"$f":"Tidsram!$B$3","v":0},{"$f":"Blad3!G2671","v":0}]
[{"$f":"Blad3!H2672","v":"-"},{"$f":"Tidsram!$B$2","v":0},{"$f":"Tidsram!$B$3","v":0},{"$f":"Blad3!G2672","v":0}]
[{"$f":"Blad3!H2673","v":"-"},{"$f":"Tidsram!$B$2","v":0},{"$f":"Tidsram!$B$3","v":0},{"$f":"Blad3!G2673","v":0}]
[{"$f":"Blad3!H2674","v":"-"},{"$f":"Tidsram!$B$2","v":0},{"$f":"Tidsram!$B$3","v":0},{"$f":"Blad3!G2674","v":0}]
[{"$f":"Blad3!H2675","v":"-"},{"$f":"Tidsram!$B$2","v":0},{"$f":"Tidsram!$B$3","v":0},{"$f":"Blad3!G2675","v":0}]
[{"$f":"Blad3!H2676","v":"-"},{"$f":"Tidsram!$B$2","v":0},{"$f":"Tidsram!$B$3","v":0},{"$f":"Blad3!G2676","v":0}]
[{"$f":"Blad3!H2677","v":"-"},{"$f":"Tidsram!$B$2","v":0},{"$f":"Tidsram!$B$3","v":0},{"$f":"Blad3!G2677","v":0}]
[{"$f":"Blad3!H2678","v":"-"},{"$f":"Tidsram!$B$2","v":0},{"$f":"Tidsram!$B$3","v":0},{"$f":"Blad3!G2678","v":0}]
[{"$f":"Blad3!H2679","v":"-"},{"$f":"Tidsram!$B$2","v":0},{"$f":"Tidsram!$B$3","v":0},{"$f":"Blad3!G2679","v":0}]
[{"$f":"Blad3!H2680","v":"-"},{"$f":"Tidsram!$B$2","v":0},{"$f":"Tidsram!$B$3","v":0},{"$f":"Blad3!G2680","v":0}]
[{"$f":"Blad3!H2681","v":"-"},{"$f":"Tidsram!$B$2","v":0},{"$f":"Tidsram!$B$3","v":0},{"$f":"Blad3!G2681","v":0}]
[{"$f":"Blad3!H2682","v":"-"},{"$f":"Tidsram!$B$2","v":0},{"$f":"Tidsram!$B$3","v":0},{"$f":"Blad3!G2682","v":0}]
[{"$f":"Blad3!H2683","v":"-"},{"$f":"Tidsram!$B$2","v":0},{"$f":"Tidsram!$B$3","v":0},{"$f":"Blad3!G2683","v":0}]
[{"$f":"Blad3!H2684","v":"-"},{"$f":"Tidsram!$B$2","v":0},{"$f":"Tidsram!$B$3","v":0},{"$f":"Blad3!G2684","v":0}]
[{"$f":"Blad3!H2685","v":"-"},{"$f":"Tidsram!$B$2","v":0},{"$f":"Tidsram!$B$3","v":0},{"$f":"Blad3!G2685","v":0}]
[{"$f":"Blad3!H2686","v":"-"},{"$f":"Tidsram!$B$2","v":0},{"$f":"Tidsram!$B$3","v":0},{"$f":"Blad3!G2686","v":0}]
[{"$f":"Blad3!H2687","v":"-"},{"$f":"Tidsram!$B$2","v":0},{"$f":"Tidsram!$B$3","v":0},{"$f":"Blad3!G2687","v":0}]
[{"$f":"Blad3!H2688","v":"-"},{"$f":"Tidsram!$B$2","v":0},{"$f":"Tidsram!$B$3","v":0},{"$f":"Blad3!G2688","v":0}]
[{"$f":"Blad3!H2689","v":"-"},{"$f":"Tidsram!$B$2","v":0},{"$f":"Tidsram!$B$3","v":0},{"$f":"Blad3!G2689","v":0}]
[{"$f":"Blad3!H2690","v":"-"},{"$f":"Tidsram!$B$2","v":0},{"$f":"Tidsram!$B$3","v":0},{"$f":"Blad3!G2690","v":0}]
[{"$f":"Blad3!H2691","v":"-"},{"$f":"Tidsram!$B$2","v":0},{"$f":"Tidsram!$B$3","v":0},{"$f":"Blad3!G2691","v":0}]
[{"$f":"Blad3!H2692","v":"-"},{"$f":"Tidsram!$B$2","v":0},{"$f":"Tidsram!$B$3","v":0},{"$f":"Blad3!G2692","v":0}]
[{"$f":"Blad3!H2693","v":"-"},{"$f":"Tidsram!$B$2","v":0},{"$f":"Tidsram!$B$3","v":0},{"$f":"Blad3!G2693","v":0}]
[{"$f":"Blad3!H2694","v":"-"},{"$f":"Tidsram!$B$2","v":0},{"$f":"Tidsram!$B$3","v":0},{"$f":"Blad3!G2694","v":0}]
[{"$f":"Blad3!H2695","v":"-"},{"$f":"Tidsram!$B$2","v":0},{"$f":"Tidsram!$B$3","v":0},{"$f":"Blad3!G2695","v":0}]
[{"$f":"Blad3!H2696","v":"-"},{"$f":"Tidsram!$B$2","v":0},{"$f":"Tidsram!$B$3","v":0},{"$f":"Blad3!G2696","v":0}]
[{"$f":"Blad3!H2697","v":"-"},{"$f":"Tidsram!$B$2","v":0},{"$f":"Tidsram!$B$3","v":0},{"$f":"Blad3!G2697","v":0}]
[{"$f":"Blad3!H2698","v":"-"},{"$f":"Tidsram!$B$2","v":0},{"$f":"Tidsram!$B$3","v":0},{"$f":"Blad3!G2698","v":0}]
[{"$f":"Blad3!H2699","v":"-"},{"$f":"Tidsram!$B$2","v":0},{"$f":"Tidsram!$B$3","v":0},{"$f":"Blad3!G2699","v":0}]
[{"$f":"Blad3!H2700","v":"-"},{"$f":"Tidsram!$B$2","v":0},{"$f":"Tidsram!$B$3","v":0},{"$f":"Blad3!G2700","v":0}]
[{"$f":"Blad3!H2701","v":"-"},{"$f":"Tidsram!$B$2","v":0},{"$f":"Tidsram!$B$3","v":0},{"$f":"Blad3!G2701","v":0}]
[{"$f":"Blad3!H2702","v":"-"},{"$f":"Tidsram!$B$2","v":0},{"$f":"Tidsram!$B$3","v":0},{"$f":"Blad3!G2702","v":0}]
[{"$f":"Blad3!H2703","v":"-"},{"$f":"Tidsram!$B$2","v":0},{"$f":"Tidsram!$B$3","v":0},{"$f":"Blad3!G2703","v":0}]
[{"$f":"Blad3!H2704","v":"-"},{"$f":"Tidsram!$B$2","v":0},{"$f":"Tidsram!$B$3","v":0},{"$f":"Blad3!G2704","v":0}]
[{"$f":"Blad3!H2705","v":"-"},{"$f":"Tidsram!$B$2","v":0},{"$f":"Tidsram!$B$3","v":0},{"$f":"Blad3!G2705","v":0}]
[{"$f":"Blad3!H2706","v":"-"},{"$f":"Tidsram!$B$2","v":0},{"$f":"Tidsram!$B$3","v":0},{"$f":"Blad3!G2706","v":0}]
[{"$f":"Blad3!H2707","v":"-"},{"$f":"Tidsram!$B$2","v":0},{"$f":"Tidsram!$B$3","v":0},{"$f":"Blad3!G2707","v":0}]
[{"$f":"Blad3!H2708","v":"-"},{"$f":"Tidsram!$B$2","v":0},{"$f":"Tidsram!$B$3","v":0},{"$f":"Blad3!G2708","v":0}]
[{"$f":"Blad3!H2709","v":"-"},{"$f":"Tidsram!$B$2","v":0},{"$f":"Tidsram!$B$3","v":0},{"$f":"Blad3!G2709","v":0}]
[{"$f":"Blad3!H2710","v":"-"},{"$f":"Tidsram!$B$2","v":0},{"$f":"Tidsram!$B$3","v":0},{"$f":"Blad3!G2710","v":0}]
[{"$f":"Blad3!H2711","v":"-"},{"$f":"Tidsram!$B$2","v":0},{"$f":"Tidsram!$B$3","v":0},{"$f":"Blad3!G2711","v":0}]
[{"$f":"Blad3!H2712","v":"-"},{"$f":"Tidsram!$B$2","v":0},{"$f":"Tidsram!$B$3","v":0},{"$f":"Blad3!G2712","v":0}]
[{"$f":"Blad3!H2713","v":"-"},{"$f":"Tidsram!$B$2","v":0},{"$f":"Tidsram!$B$3","v":0},{"$f":"Blad3!G2713","v":0}]
[{"$f":"Blad3!H2714","v":"-"},{"$f":"Tidsram!$B$2","v":0},{"$f":"Tidsram!$B$3","v":0},{"$f":"Blad3!G2714","v":0}]
[{"$f":"Blad3!H2715","v":"-"},{"$f":"Tidsram!$B$2","v":0},{"$f":"Tidsram!$B$3","v":0},{"$f":"Blad3!G2715","v":0}]
[{"$f":"Blad3!H2716","v":"-"},{"$f":"Tidsram!$B$2","v":0},{"$f":"Tidsram!$B$3","v":0},{"$f":"Blad3!G2716","v":0}]
[{"$f":"Blad3!H2717","v":"-"},{"$f":"Tidsram!$B$2","v":0},{"$f":"Tidsram!$B$3","v":0},{"$f":"Blad3!G2717","v":0}]
[{"$f":"Blad3!H2718","v":"-"},{"$f":"Tidsram!$B$2","v":0},{"$f":"Tidsram!$B$3","v":0},{"$f":"Blad3!G2718","v":0}]
[{"$f":"Blad3!H2719","v":"-"},{"$f":"Tidsram!$B$2","v":0},{"$f":"Tidsram!$B$3","v":0},{"$f":"Blad3!G2719","v":0}]
[{"$f":"Blad3!H2720","v":"-"},{"$f":"Tidsram!$B$2","v":0},{"$f":"Tidsram!$B$3","v":0},{"$f":"Blad3!G2720","v":0}]
[{"$f":"Blad3!H2721","v":"-"},{"$f":"Tidsram!$B$2","v":0},{"$f":"Tidsram!$B$3","v":0},{"$f":"Blad3!G2721","v":0}]
[{"$f":"Blad3!H2722","v":"-"},{"$f":"Tidsram!$B$2","v":0},{"$f":"Tidsram!$B$3","v":0},{"$f":"Blad3!G2722","v":0}]
[{"$f":"Blad3!H2723","v":"-"},{"$f":"Tidsram!$B$2","v":0},{"$f":"Tidsram!$B$3","v":0},{"$f":"Blad3!G2723","v":0}]
[{"$f":"Blad3!H2724","v":"-"},{"$f":"Tidsram!$B$2","v":0},{"$f":"Tidsram!$B$3","v":0},{"$f":"Blad3!G2724","v":0}]
[{"$f":"Blad3!H2725","v":"-"},{"$f":"Tidsram!$B$2","v":0},{"$f":"Tidsram!$B$3","v":0},{"$f":"Blad3!G2725","v":0}]
[{"$f":"Blad3!H2726","v":"-"},{"$f":"Tidsram!$B$2","v":0},{"$f":"Tidsram!$B$3","v":0},{"$f":"Blad3!G2726","v":0}]
[{"$f":"Blad3!H2727","v":"-"},{"$f":"Tidsram!$B$2","v":0},{"$f":"Tidsram!$B$3","v":0},{"$f":"Blad3!G2727","v":0}]
[{"$f":"Blad3!H2728","v":"-"},{"$f":"Tidsram!$B$2","v":0},{"$f":"Tidsram!$B$3","v":0},{"$f":"Blad3!G2728","v":0}]
[{"$f":"Blad3!H2729","v":"-"},{"$f":"Tidsram!$B$2","v":0},{"$f":"Tidsram!$B$3","v":0},{"$f":"Blad3!G2729","v":0}]
[{"$f":"Blad3!H2730","v":"-"},{"$f":"Tidsram!$B$2","v":0},{"$f":"Tidsram!$B$3","v":0},{"$f":"Blad3!G2730","v":0}]
[{"$f":"Blad3!H2731","v":"-"},{"$f":"Tidsram!$B$2","v":0},{"$f":"Tidsram!$B$3","v":0},{"$f":"Blad3!G2731","v":0}]
[{"$f":"Blad3!H2732","v":"-"},{"$f":"Tidsram!$B$2","v":0},{"$f":"Tidsram!$B$3","v":0},{"$f":"Blad3!G2732","v":0}]
[{"$f":"Blad3!H2733","v":"-"},{"$f":"Tidsram!$B$2","v":0},{"$f":"Tidsram!$B$3","v":0},{"$f":"Blad3!G2733","v":0}]
[{"$f":"Blad3!H2734","v":"-"},{"$f":"Tidsram!$B$2","v":0},{"$f":"Tidsram!$B$3","v":0},{"$f":"Blad3!G2734","v":0}]
[{"$f":"Blad3!H2735","v":"-"},{"$f":"Tidsram!$B$2","v":0},{"$f":"Tidsram!$B$3","v":0},{"$f":"Blad3!G2735","v":0}]
[{"$f":"Blad3!H2736","v":"-"},{"$f":"Tidsram!$B$2","v":0},{"$f":"Tidsram!$B$3","v":0},{"$f":"Blad3!G2736","v":0}]
[{"$f":"Blad3!H2737","v":"-"},{"$f":"Tidsram!$B$2","v":0},{"$f":"Tidsram!$B$3","v":0},{"$f":"Blad3!G2737","v":0}]
[{"$f":"Blad3!H2738","v":"-"},{"$f":"Tidsram!$B$2","v":0},{"$f":"Tidsram!$B$3","v":0},{"$f":"Blad3!G2738","v":0}]
[{"$f":"Blad3!H2739","v":"-"},{"$f":"Tidsram!$B$2","v":0},{"$f":"Tidsram!$B$3","v":0},{"$f":"Blad3!G2739","v":0}]
[{"$f":"Blad3!H2740","v":"-"},{"$f":"Tidsram!$B$2","v":0},{"$f":"Tidsram!$B$3","v":0},{"$f":"Blad3!G2740","v":0}]
[{"$f":"Blad3!H2741","v":"-"},{"$f":"Tidsram!$B$2","v":0},{"$f":"Tidsram!$B$3","v":0},{"$f":"Blad3!G2741","v":0}]
[{"$f":"Blad3!H2742","v":"-"},{"$f":"Tidsram!$B$2","v":0},{"$f":"Tidsram!$B$3","v":0},{"$f":"Blad3!G2742","v":0}]
[{"$f":"Blad3!H2743","v":"-"},{"$f":"Tidsram!$B$2","v":0},{"$f":"Tidsram!$B$3","v":0},{"$f":"Blad3!G2743","v":0}]
[{"$f":"Blad3!H2744","v":"-"},{"$f":"Tidsram!$B$2","v":0},{"$f":"Tidsram!$B$3","v":0},{"$f":"Blad3!G2744","v":0}]
[{"$f":"Blad3!H2745","v":"-"},{"$f":"Tidsram!$B$2","v":0},{"$f":"Tidsram!$B$3","v":0},{"$f":"Blad3!G2745","v":0}]
[{"$f":"Blad3!H2746","v":"-"},{"$f":"Tidsram!$B$2","v":0},{"$f":"Tidsram!$B$3","v":0},{"$f":"Blad3!G2746","v":0}]
[{"$f":"Blad3!H2747","v":"-"},{"$f":"Tidsram!$B$2","v":0},{"$f":"Tidsram!$B$3","v":0},{"$f":"Blad3!G2747","v":0}]
[{"$f":"Blad3!H2748","v":"-"},{"$f":"Tidsram!$B$2","v":0},{"$f":"Tidsram!$B$3","v":0},{"$f":"Blad3!G2748","v":0}]
[{"$f":"Blad3!H2749","v":"-"},{"$f":"Tidsram!$B$2","v":0},{"$f":"Tidsram!$B$3","v":0},{"$f":"Blad3!G2749","v":0}]
[{"$f":"Blad3!H2750","v":"-"},{"$f":"Tidsram!$B$2","v":0},{"$f":"Tidsram!$B$3","v":0},{"$f":"Blad3!G2750","v":0}]
[{"$f":"Blad3!H2751","v":"-"},{"$f":"Tidsram!$B$2","v":0},{"$f":"Tidsram!$B$3","v":0},{"$f":"Blad3!G2751","v":0}]
[{"$f":"Blad3!H2752","v":"-"},{"$f":"Tidsram!$B$2","v":0},{"$f":"Tidsram!$B$3","v":0},{"$f":"Blad3!G2752","v":0}]
[{"$f":"Blad3!H2753","v":"-"},{"$f":"Tidsram!$B$2","v":0},{"$f":"Tidsram!$B$3","v":0},{"$f":"Blad3!G2753","v":0}]
[{"$f":"Blad3!H2754","v":"-"},{"$f":"Tidsram!$B$2","v":0},{"$f":"Tidsram!$B$3","v":0},{"$f":"Blad3!G2754","v":0}]
[{"$f":"Blad3!H2755","v":"-"},{"$f":"Tidsram!$B$2","v":0},{"$f":"Tidsram!$B$3","v":0},{"$f":"Blad3!G2755","v":0}]
[{"$f":"Blad3!H2756","v":"-"},{"$f":"Tidsram!$B$2","v":0},{"$f":"Tidsram!$B$3","v":0},{"$f":"Blad3!G2756","v":0}]
[{"$f":"Blad3!H2757","v":"-"},{"$f":"Tidsram!$B$2","v":0},{"$f":"Tidsram!$B$3","v":0},{"$f":"Blad3!G2757","v":0}]
[{"$f":"Blad3!H2758","v":"-"},{"$f":"Tidsram!$B$2","v":0},{"$f":"Tidsram!$B$3","v":0},{"$f":"Blad3!G2758","v":0}]
[{"$f":"Blad3!H2759","v":"-"},{"$f":"Tidsram!$B$2","v":0},{"$f":"Tidsram!$B$3","v":0},{"$f":"Blad3!G2759","v":0}]
[{"$f":"Blad3!H2760","v":"-"},{"$f":"Tidsram!$B$2","v":0},{"$f":"Tidsram!$B$3","v":0},{"$f":"Blad3!G2760","v":0}]
[{"$f":"Blad3!H2761","v":"-"},{"$f":"Tidsram!$B$2","v":0},{"$f":"Tidsram!$B$3","v":0},{"$f":"Blad3!G2761","v":0}]
[{"$f":"Blad3!H2762","v":"-"},{"$f":"Tidsram!$B$2","v":0},{"$f":"Tidsram!$B$3","v":0},{"$f":"Blad3!G2762","v":0}]
[{"$f":"Blad3!H2763","v":"-"},{"$f":"Tidsram!$B$2","v":0},{"$f":"Tidsram!$B$3","v":0},{"$f":"Blad3!G2763","v":0}]
[{"$f":"Blad3!H2764","v":"-"},{"$f":"Tidsram!$B$2","v":0},{"$f":"Tidsram!$B$3","v":0},{"$f":"Blad3!G2764","v":0}]
[{"$f":"Blad3!H2765","v":"-"},{"$f":"Tidsram!$B$2","v":0},{"$f":"Tidsram!$B$3","v":0},{"$f":"Blad3!G2765","v":0}]
[{"$f":"Blad3!H2766","v":"-"},{"$f":"Tidsram!$B$2","v":0},{"$f":"Tidsram!$B$3","v":0},{"$f":"Blad3!G2766","v":0}]
[{"$f":"Blad3!H2767","v":"-"},{"$f":"Tidsram!$B$2","v":0},{"$f":"Tidsram!$B$3","v":0},{"$f":"Blad3!G2767","v":0}]
[{"$f":"Blad3!H2768","v":"-"},{"$f":"Tidsram!$B$2","v":0},{"$f":"Tidsram!$B$3","v":0},{"$f":"Blad3!G2768","v":0}]
[{"$f":"Blad3!H2769","v":"-"},{"$f":"Tidsram!$B$2","v":0},{"$f":"Tidsram!$B$3","v":0},{"$f":"Blad3!G2769","v":0}]
[{"$f":"Blad3!H2770","v":"-"},{"$f":"Tidsram!$B$2","v":0},{"$f":"Tidsram!$B$3","v":0},{"$f":"Blad3!G2770","v":0}]
[{"$f":"Blad3!H2771","v":"-"},{"$f":"Tidsram!$B$2","v":0},{"$f":"Tidsram!$B$3","v":0},{"$f":"Blad3!G2771","v":0}]
[{"$f":"Blad3!H2772","v":"-"},{"$f":"Tidsram!$B$2","v":0},{"$f":"Tidsram!$B$3","v":0},{"$f":"Blad3!G2772","v":0}]
[{"$f":"Blad3!H2773","v":"-"},{"$f":"Tidsram!$B$2","v":0},{"$f":"Tidsram!$B$3","v":0},{"$f":"Blad3!G2773","v":0}]
[{"$f":"Blad3!H2774","v":"-"},{"$f":"Tidsram!$B$2","v":0},{"$f":"Tidsram!$B$3","v":0},{"$f":"Blad3!G2774","v":0}]
[{"$f":"Blad3!H2775","v":"-"},{"$f":"Tidsram!$B$2","v":0},{"$f":"Tidsram!$B$3","v":0},{"$f":"Blad3!G2775","v":0}]
[{"$f":"Blad3!H2776","v":"-"},{"$f":"Tidsram!$B$2","v":0},{"$f":"Tidsram!$B$3","v":0},{"$f":"Blad3!G2776","v":0}]
[{"$f":"Blad3!H2777","v":"-"},{"$f":"Tidsram!$B$2","v":0},{"$f":"Tidsram!$B$3","v":0},{"$f":"Blad3!G2777","v":0}]
[{"$f":"Blad3!H2778","v":"-"},{"$f":"Tidsram!$B$2","v":0},{"$f":"Tidsram!$B$3","v":0},{"$f":"Blad3!G2778","v":0}]
[{"$f":"Blad3!H2779","v":"-"},{"$f":"Tidsram!$B$2","v":0},{"$f":"Tidsram!$B$3","v":0},{"$f":"Blad3!G2779","v":0}]
[{"$f":"Blad3!H2780","v":"-"},{"$f":"Tidsram!$B$2","v":0},{"$f":"Tidsram!$B$3","v":0},{"$f":"Blad3!G2780","v":0}]
[{"$f":"Blad3!H2781","v":"-"},{"$f":"Tidsram!$B$2","v":0},{"$f":"Tidsram!$B$3","v":0},{"$f":"Blad3!G2781","v":0}]
[{"$f":"Blad3!H2782","v":"-"},{"$f":"Tidsram!$B$2","v":0},{"$f":"Tidsram!$B$3","v":0},{"$f":"Blad3!G2782","v":0}]
[{"$f":"Blad3!H2783","v":"-"},{"$f":"Tidsram!$B$2","v":0},{"$f":"Tidsram!$B$3","v":0},{"$f":"Blad3!G2783","v":0}]
[{"$f":"Blad3!H2784","v":"-"},{"$f":"Tidsram!$B$2","v":0},{"$f":"Tidsram!$B$3","v":0},{"$f":"Blad3!G2784","v":0}]
[{"$f":"Blad3!H2785","v":"-"},{"$f":"Tidsram!$B$2","v":0},{"$f":"Tidsram!$B$3","v":0},{"$f":"Blad3!G2785","v":0}]
[{"$f":"Blad3!H2786","v":"-"},{"$f":"Tidsram!$B$2","v":0},{"$f":"Tidsram!$B$3","v":0},{"$f":"Blad3!G2786","v":0}]
[{"$f":"Blad3!H2787","v":"-"},{"$f":"Tidsram!$B$2","v":0},{"$f":"Tidsram!$B$3","v":0},{"$f":"Blad3!G2787","v":0}]
[{"$f":"Blad3!H2788","v":"-"},{"$f":"Tidsram!$B$2","v":0},{"$f":"Tidsram!$B$3","v":0},{"$f":"Blad3!G2788","v":0}]
[{"$f":"Blad3!H2789","v":"-"},{"$f":"Tidsram!$B$2","v":0},{"$f":"Tidsram!$B$3","v":0},{"$f":"Blad3!G2789","v":0}]
[{"$f":"Blad3!H2790","v":"-"},{"$f":"Tidsram!$B$2","v":0},{"$f":"Tidsram!$B$3","v":0},{"$f":"Blad3!G2790","v":0}]
[{"$f":"Blad3!H2791","v":"-"},{"$f":"Tidsram!$B$2","v":0},{"$f":"Tidsram!$B$3","v":0},{"$f":"Blad3!G2791","v":0}]
[{"$f":"Blad3!H2792","v":"-"},{"$f":"Tidsram!$B$2","v":0},{"$f":"Tidsram!$B$3","v":0},{"$f":"Blad3!G2792","v":0}]
[{"$f":"Blad3!H2793","v":"-"},{"$f":"Tidsram!$B$2","v":0},{"$f":"Tidsram!$B$3","v":0},{"$f":"Blad3!G2793","v":0}]
[{"$f":"Blad3!H2794","v":"-"},{"$f":"Tidsram!$B$2","v":0},{"$f":"Tidsram!$B$3","v":0},{"$f":"Blad3!G2794","v":0}]
[{"$f":"Blad3!H2795","v":"-"},{"$f":"Tidsram!$B$2","v":0},{"$f":"Tidsram!$B$3","v":0},{"$f":"Blad3!G2795","v":0}]
[{"$f":"Blad3!H2796","v":"-"},{"$f":"Tidsram!$B$2","v":0},{"$f":"Tidsram!$B$3","v":0},{"$f":"Blad3!G2796","v":0}]
[{"$f":"Blad3!H2797","v":"-"},{"$f":"Tidsram!$B$2","v":0},{"$f":"Tidsram!$B$3","v":0},{"$f":"Blad3!G2797","v":0}]
[{"$f":"Blad3!H2798","v":"-"},{"$f":"Tidsram!$B$2","v":0},{"$f":"Tidsram!$B$3","v":0},{"$f":"Blad3!G2798","v":0}]
[{"$f":"Blad3!H2799","v":"-"},{"$f":"Tidsram!$B$2","v":0},{"$f":"Tidsram!$B$3","v":0},{"$f":"Blad3!G2799","v":0}]
[{"$f":"Blad3!H2800","v":"-"},{"$f":"Tidsram!$B$2","v":0},{"$f":"Tidsram!$B$3","v":0},{"$f":"Blad3!G2800","v":0}]
[{"$f":"Blad3!H2801","v":"-"},{"$f":"Tidsram!$B$2","v":0},{"$f":"Tidsram!$B$3","v":0},{"$f":"Blad3!G2801","v":0}]
[{"$f":"Blad3!H2802","v":"-"},{"$f":"Tidsram!$B$2","v":0},{"$f":"Tidsram!$B$3","v":0},{"$f":"Blad3!G2802","v":0}]
[{"$f":"Blad3!H2803","v":"-"},{"$f":"Tidsram!$B$2","v":0},{"$f":"Tidsram!$B$3","v":0},{"$f":"Blad3!G2803","v":0}]
[{"$f":"Blad3!H2804","v":"-"},{"$f":"Tidsram!$B$2","v":0},{"$f":"Tidsram!$B$3","v":0},{"$f":"Blad3!G2804","v":0}]
[{"$f":"Blad3!H2805","v":"-"},{"$f":"Tidsram!$B$2","v":0},{"$f":"Tidsram!$B$3","v":0},{"$f":"Blad3!G2805","v":0}]
[{"$f":"Blad3!H2806","v":"-"},{"$f":"Tidsram!$B$2","v":0},{"$f":"Tidsram!$B$3","v":0},{"$f":"Blad3!G2806","v":0}]
[{"$f":"Blad3!H2807","v":"-"},{"$f":"Tidsram!$B$2","v":0},{"$f":"Tidsram!$B$3","v":0},{"$f":"Blad3!G2807","v":0}]
[{"$f":"Blad3!H2808","v":"-"},{"$f":"Tidsram!$B$2","v":0},{"$f":"Tidsram!$B$3","v":0},{"$f":"Blad3!G2808","v":0}]
[{"$f":"Blad3!H2809","v":"-"},{"$f":"Tidsram!$B$2","v":0},{"$f":"Tidsram!$B$3","v":0},{"$f":"Blad3!G2809","v":0}]
[{"$f":"Blad3!H2810","v":"-"},{"$f":"Tidsram!$B$2","v":0},{"$f":"Tidsram!$B$3","v":0},{"$f":"Blad3!G2810","v":0}]
[{"$f":"Blad3!H2811","v":"-"},{"$f":"Tidsram!$B$2","v":0},{"$f":"Tidsram!$B$3","v":0},{"$f":"Blad3!G2811","v":0}]
[{"$f":"Blad3!H2812","v":"-"},{"$f":"Tidsram!$B$2","v":0},{"$f":"Tidsram!$B$3","v":0},{"$f":"Blad3!G2812","v":0}]
[{"$f":"Blad3!H2813","v":"-"},{"$f":"Tidsram!$B$2","v":0},{"$f":"Tidsram!$B$3","v":0},{"$f":"Blad3!G2813","v":0}]
[{"$f":"Blad3!H2814","v":"-"},{"$f":"Tidsram!$B$2","v":0},{"$f":"Tidsram!$B$3","v":0},{"$f":"Blad3!G2814","v":0}]
[{"$f":"Blad3!H2815","v":"-"},{"$f":"Tidsram!$B$2","v":0},{"$f":"Tidsram!$B$3","v":0},{"$f":"Blad3!G2815","v":0}]
[{"$f":"Blad3!H2816","v":"-"},{"$f":"Tidsram!$B$2","v":0},{"$f":"Tidsram!$B$3","v":0},{"$f":"Blad3!G2816","v":0}]
[{"$f":"Blad3!H2817","v":"-"},{"$f":"Tidsram!$B$2","v":0},{"$f":"Tidsram!$B$3","v":0},{"$f":"Blad3!G2817","v":0}]
[{"$f":"Blad3!H2818","v":"-"},{"$f":"Tidsram!$B$2","v":0},{"$f":"Tidsram!$B$3","v":0},{"$f":"Blad3!G2818","v":0}]
[{"$f":"Blad3!H2819","v":"-"},{"$f":"Tidsram!$B$2","v":0},{"$f":"Tidsram!$B$3","v":0},{"$f":"Blad3!G2819","v":0}]
[{"$f":"Blad3!H2820","v":"-"},{"$f":"Tidsram!$B$2","v":0},{"$f":"Tidsram!$B$3","v":0},{"$f":"Blad3!G2820","v":0}]
[{"$f":"Blad3!H2821","v":"-"},{"$f":"Tidsram!$B$2","v":0},{"$f":"Tidsram!$B$3","v":0},{"$f":"Blad3!G2821","v":0}]
[{"$f":"Blad3!H2822","v":"-"},{"$f":"Tidsram!$B$2","v":0},{"$f":"Tidsram!$B$3","v":0},{"$f":"Blad3!G2822","v":0}]
[{"$f":"Blad3!H2823","v":"-"},{"$f":"Tidsram!$B$2","v":0},{"$f":"Tidsram!$B$3","v":0},{"$f":"Blad3!G2823","v":0}]
[{"$f":"Blad3!H2824","v":"-"},{"$f":"Tidsram!$B$2","v":0},{"$f":"Tidsram!$B$3","v":0},{"$f":"Blad3!G2824","v":0}]
[{"$f":"Blad3!H2825","v":"-"},{"$f":"Tidsram!$B$2","v":0},{"$f":"Tidsram!$B$3","v":0},{"$f":"Blad3!G2825","v":0}]
[{"$f":"Blad3!H2826","v":"-"},{"$f":"Tidsram!$B$2","v":0},{"$f":"Tidsram!$B$3","v":0},{"$f":"Blad3!G2826","v":0}]
[{"$f":"Blad3!H2827","v":"-"},{"$f":"Tidsram!$B$2","v":0},{"$f":"Tidsram!$B$3","v":0},{"$f":"Blad3!G2827","v":0}]
[{"$f":"Blad3!H2828","v":"-"},{"$f":"Tidsram!$B$2","v":0},{"$f":"Tidsram!$B$3","v":0},{"$f":"Blad3!G2828","v":0}]
[{"$f":"Blad3!H2829","v":"-"},{"$f":"Tidsram!$B$2","v":0},{"$f":"Tidsram!$B$3","v":0},{"$f":"Blad3!G2829","v":0}]
[{"$f":"Blad3!H2830","v":"-"},{"$f":"Tidsram!$B$2","v":0},{"$f":"Tidsram!$B$3","v":0},{"$f":"Blad3!G2830","v":0}]
[{"$f":"Blad3!H2831","v":"-"},{"$f":"Tidsram!$B$2","v":0},{"$f":"Tidsram!$B$3","v":0},{"$f":"Blad3!G2831","v":0}]
[{"$f":"Blad3!H2832","v":"-"},{"$f":"Tidsram!$B$2","v":0},{"$f":"Tidsram!$B$3","v":0},{"$f":"Blad3!G2832","v":0}]
[{"$f":"Blad3!H2833","v":"-"},{"$f":"Tidsram!$B$2","v":0},{"$f":"Tidsram!$B$3","v":0},{"$f":"Blad3!G2833","v":0}]
[{"$f":"Blad3!H2834","v":"-"},{"$f":"Tidsram!$B$2","v":0},{"$f":"Tidsram!$B$3","v":0},{"$f":"Blad3!G2834","v":0}]
[{"$f":"Blad3!H2835","v":"-"},{"$f":"Tidsram!$B$2","v":0},{"$f":"Tidsram!$B$3","v":0},{"$f":"Blad3!G2835","v":0}]
[{"$f":"Blad3!H2836","v":"-"},{"$f":"Tidsram!$B$2","v":0},{"$f":"Tidsram!$B$3","v":0},{"$f":"Blad3!G2836","v":0}]
[{"$f":"Blad3!H2837","v":"-"},{"$f":"Tidsram!$B$2","v":0},{"$f":"Tidsram!$B$3","v":0},{"$f":"Blad3!G2837","v":0}]
[{"$f":"Blad3!H2838","v":"-"},{"$f":"Tidsram!$B$2","v":0},{"$f":"Tidsram!$B$3","v":0},{"$f":"Blad3!G2838","v":0}]
[{"$f":"Blad3!H2839","v":"-"},{"$f":"Tidsram!$B$2","v":0},{"$f":"Tidsram!$B$3","v":0},{"$f":"Blad3!G2839","v":0}]
[{"$f":"Blad3!H2840","v":"-"},{"$f":"Tidsram!$B$2","v":0},{"$f":"Tidsram!$B$3","v":0},{"$f":"Blad3!G2840","v":0}]
[{"$f":"Blad3!H2841","v":"-"},{"$f":"Tidsram!$B$2","v":0},{"$f":"Tidsram!$B$3","v":0},{"$f":"Blad3!G2841","v":0}]
[{"$f":"Blad3!H2842","v":"-"},{"$f":"Tidsram!$B$2","v":0},{"$f":"Tidsram!$B$3","v":0},{"$f":"Blad3!G2842","v":0}]
[{"$f":"Blad3!H2843","v":"-"},{"$f":"Tidsram!$B$2","v":0},{"$f":"Tidsram!$B$3","v":0},{"$f":"Blad3!G2843","v":0}]
[{"$f":"Blad3!H2844","v":"-"},{"$f":"Tidsram!$B$2","v":0},{"$f":"Tidsram!$B$3","v":0},{"$f":"Blad3!G2844","v":0}]
[{"$f":"Blad3!H2845","v":"-"},{"$f":"Tidsram!$B$2","v":0},{"$f":"Tidsram!$B$3","v":0},{"$f":"Blad3!G2845","v":0}]
[{"$f":"Blad3!H2846","v":"-"},{"$f":"Tidsram!$B$2","v":0},{"$f":"Tidsram!$B$3","v":0},{"$f":"Blad3!G2846","v":0}]
[{"$f":"Blad3!H2847","v":"-"},{"$f":"Tidsram!$B$2","v":0},{"$f":"Tidsram!$B$3","v":0},{"$f":"Blad3!G2847","v":0}]
[{"$f":"Blad3!H2848","v":"-"},{"$f":"Tidsram!$B$2","v":0},{"$f":"Tidsram!$B$3","v":0},{"$f":"Blad3!G2848","v":0}]
[{"$f":"Blad3!H2849","v":"-"},{"$f":"Tidsram!$B$2","v":0},{"$f":"Tidsram!$B$3","v":0},{"$f":"Blad3!G2849","v":0}]
[{"$f":"Blad3!H2850","v":"-"},{"$f":"Tidsram!$B$2","v":0},{"$f":"Tidsram!$B$3","v":0},{"$f":"Blad3!G2850","v":0}]
[{"$f":"Blad3!H2851","v":"-"},{"$f":"Tidsram!$B$2","v":0},{"$f":"Tidsram!$B$3","v":0},{"$f":"Blad3!G2851","v":0}]
[{"$f":"Blad3!H2852","v":"-"},{"$f":"Tidsram!$B$2","v":0},{"$f":"Tidsram!$B$3","v":0},{"$f":"Blad3!G2852","v":0}]
[{"$f":"Blad3!H2853","v":"-"},{"$f":"Tidsram!$B$2","v":0},{"$f":"Tidsram!$B$3","v":0},{"$f":"Blad3!G2853","v":0}]
[{"$f":"Blad3!H2854","v":"-"},{"$f":"Tidsram!$B$2","v":0},{"$f":"Tidsram!$B$3","v":0},{"$f":"Blad3!G2854","v":0}]
[{"$f":"Blad3!H2855","v":"-"},{"$f":"Tidsram!$B$2","v":0},{"$f":"Tidsram!$B$3","v":0},{"$f":"Blad3!G2855","v":0}]
[{"$f":"Blad3!H2856","v":"-"},{"$f":"Tidsram!$B$2","v":0},{"$f":"Tidsram!$B$3","v":0},{"$f":"Blad3!G2856","v":0}]
[{"$f":"Blad3!H2857","v":"-"},{"$f":"Tidsram!$B$2","v":0},{"$f":"Tidsram!$B$3","v":0},{"$f":"Blad3!G2857","v":0}]
[{"$f":"Blad3!H2858","v":"-"},{"$f":"Tidsram!$B$2","v":0},{"$f":"Tidsram!$B$3","v":0},{"$f":"Blad3!G2858","v":0}]
[{"$f":"Blad3!H2859","v":"-"},{"$f":"Tidsram!$B$2","v":0},{"$f":"Tidsram!$B$3","v":0},{"$f":"Blad3!G2859","v":0}]
[{"$f":"Blad3!H2860","v":"-"},{"$f":"Tidsram!$B$2","v":0},{"$f":"Tidsram!$B$3","v":0},{"$f":"Blad3!G2860","v":0}]
[{"$f":"Blad3!H2861","v":"-"},{"$f":"Tidsram!$B$2","v":0},{"$f":"Tidsram!$B$3","v":0},{"$f":"Blad3!G2861","v":0}]
[{"$f":"Blad3!H2862","v":"-"},{"$f":"Tidsram!$B$2","v":0},{"$f":"Tidsram!$B$3","v":0},{"$f":"Blad3!G2862","v":0}]
[{"$f":"Blad3!H2863","v":"-"},{"$f":"Tidsram!$B$2","v":0},{"$f":"Tidsram!$B$3","v":0},{"$f":"Blad3!G2863","v":0}]
[{"$f":"Blad3!H2864","v":"-"},{"$f":"Tidsram!$B$2","v":0},{"$f":"Tidsram!$B$3","v":0},{"$f":"Blad3!G2864","v":0}]
[{"$f":"Blad3!H2865","v":"-"},{"$f":"Tidsram!$B$2","v":0},{"$f":"Tidsram!$B$3","v":0},{"$f":"Blad3!G2865","v":0}]
[{"$f":"Blad3!H2866","v":"-"},{"$f":"Tidsram!$B$2","v":0},{"$f":"Tidsram!$B$3","v":0},{"$f":"Blad3!G2866","v":0}]
[{"$f":"Blad3!H2867","v":"-"},{"$f":"Tidsram!$B$2","v":0},{"$f":"Tidsram!$B$3","v":0},{"$f":"Blad3!G2867","v":0}]
[{"$f":"Blad3!H2868","v":"-"},{"$f":"Tidsram!$B$2","v":0},{"$f":"Tidsram!$B$3","v":0},{"$f":"Blad3!G2868","v":0}]
[{"$f":"Blad3!H2869","v":"-"},{"$f":"Tidsram!$B$2","v":0},{"$f":"Tidsram!$B$3","v":0},{"$f":"Blad3!G2869","v":0}]
[{"$f":"Blad3!H2870","v":"-"},{"$f":"Tidsram!$B$2","v":0},{"$f":"Tidsram!$B$3","v":0},{"$f":"Blad3!G2870","v":0}]
[{"$f":"Blad3!H2871","v":"-"},{"$f":"Tidsram!$B$2","v":0},{"$f":"Tidsram!$B$3","v":0},{"$f":"Blad3!G2871","v":0}]
[{"$f":"Blad3!H2872","v":"-"},{"$f":"Tidsram!$B$2","v":0},{"$f":"Tidsram!$B$3","v":0},{"$f":"Blad3!G2872","v":0}]
[{"$f":"Blad3!H2873","v":"-"},{"$f":"Tidsram!$B$2","v":0},{"$f":"Tidsram!$B$3","v":0},{"$f":"Blad3!G2873","v":0}]
[{"$f":"Blad3!H2874","v":"-"},{"$f":"Tidsram!$B$2","v":0},{"$f":"Tidsram!$B$3","v":0},{"$f":"Blad3!G2874","v":0}]
[{"$f":"Blad3!H2875","v":"-"},{"$f":"Tidsram!$B$2","v":0},{"$f":"Tidsram!$B$3","v":0},{"$f":"Blad3!G2875","v":0}]
[{"$f":"Blad3!H2876","v":"-"},{"$f":"Tidsram!$B$2","v":0},{"$f":"Tidsram!$B$3","v":0},{"$f":"Blad3!G2876","v":0}]
[{"$f":"Blad3!H2877","v":"-"},{"$f":"Tidsram!$B$2","v":0},{"$f":"Tidsram!$B$3","v":0},{"$f":"Blad3!G2877","v":0}]
[{"$f":"Blad3!H2878","v":"-"},{"$f":"Tidsram!$B$2","v":0},{"$f":"Tidsram!$B$3","v":0},{"$f":"Blad3!G2878","v":0}]
[{"$f":"Blad3!H2879","v":"-"},{"$f":"Tidsram!$B$2","v":0},{"$f":"Tidsram!$B$3","v":0},{"$f":"Blad3!G2879","v":0}]
[{"$f":"Blad3!H2880","v":"-"},{"$f":"Tidsram!$B$2","v":0},{"$f":"Tidsram!$B$3","v":0},{"$f":"Blad3!G2880","v":0}]
[{"$f":"Blad3!H2881","v":"-"},{"$f":"Tidsram!$B$2","v":0},{"$f":"Tidsram!$B$3","v":0},{"$f":"Blad3!G2881","v":0}]
[{"$f":"Blad3!H2882","v":"-"},{"$f":"Tidsram!$B$2","v":0},{"$f":"Tidsram!$B$3","v":0},{"$f":"Blad3!G2882","v":0}]
[{"$f":"Blad3!H2883","v":"-"},{"$f":"Tidsram!$B$2","v":0},{"$f":"Tidsram!$B$3","v":0},{"$f":"Blad3!G2883","v":0}]
[{"$f":"Blad3!H2884","v":"-"},{"$f":"Tidsram!$B$2","v":0},{"$f":"Tidsram!$B$3","v":0},{"$f":"Blad3!G2884","v":0}]
[{"$f":"Blad3!H2885","v":"-"},{"$f":"Tidsram!$B$2","v":0},{"$f":"Tidsram!$B$3","v":0},{"$f":"Blad3!G2885","v":0}]
[{"$f":"Blad3!H2886","v":"-"},{"$f":"Tidsram!$B$2","v":0},{"$f":"Tidsram!$B$3","v":0},{"$f":"Blad3!G2886","v":0}]
[{"$f":"Blad3!H2887","v":"-"},{"$f":"Tidsram!$B$2","v":0},{"$f":"Tidsram!$B$3","v":0},{"$f":"Blad3!G2887","v":0}]
[{"$f":"Blad3!H2888","v":"-"},{"$f":"Tidsram!$B$2","v":0},{"$f":"Tidsram!$B$3","v":0},{"$f":"Blad3!G2888","v":0}]
[{"$f":"Blad3!H2889","v":"-"},{"$f":"Tidsram!$B$2","v":0},{"$f":"Tidsram!$B$3","v":0},{"$f":"Blad3!G2889","v":0}]
[{"$f":"Blad3!H2890","v":"-"},{"$f":"Tidsram!$B$2","v":0},{"$f":"Tidsram!$B$3","v":0},{"$f":"Blad3!G2890","v":0}]
[{"$f":"Blad3!H2891","v":"-"},{"$f":"Tidsram!$B$2","v":0},{"$f":"Tidsram!$B$3","v":0},{"$f":"Blad3!G2891","v":0}]
[{"$f":"Blad3!H2892","v":"-"},{"$f":"Tidsram!$B$2","v":0},{"$f":"Tidsram!$B$3","v":0},{"$f":"Blad3!G2892","v":0}]
[{"$f":"Blad3!H2893","v":"-"},{"$f":"Tidsram!$B$2","v":0},{"$f":"Tidsram!$B$3","v":0},{"$f":"Blad3!G2893","v":0}]
[{"$f":"Blad3!H2894","v":"-"},{"$f":"Tidsram!$B$2","v":0},{"$f":"Tidsram!$B$3","v":0},{"$f":"Blad3!G2894","v":0}]
[{"$f":"Blad3!H2895","v":"-"},{"$f":"Tidsram!$B$2","v":0},{"$f":"Tidsram!$B$3","v":0},{"$f":"Blad3!G2895","v":0}]
[{"$f":"Blad3!H2896","v":"-"},{"$f":"Tidsram!$B$2","v":0},{"$f":"Tidsram!$B$3","v":0},{"$f":"Blad3!G2896","v":0}]
[{"$f":"Blad3!H2897","v":"-"},{"$f":"Tidsram!$B$2","v":0},{"$f":"Tidsram!$B$3","v":0},{"$f":"Blad3!G2897","v":0}]
[{"$f":"Blad3!H2898","v":"-"},{"$f":"Tidsram!$B$2","v":0},{"$f":"Tidsram!$B$3","v":0},{"$f":"Blad3!G2898","v":0}]
[{"$f":"Blad3!H2899","v":"-"},{"$f":"Tidsram!$B$2","v":0},{"$f":"Tidsram!$B$3","v":0},{"$f":"Blad3!G2899","v":0}]
[{"$f":"Blad3!H2900","v":"-"},{"$f":"Tidsram!$B$2","v":0},{"$f":"Tidsram!$B$3","v":0},{"$f":"Blad3!G2900","v":0}]
[{"$f":"Blad3!H2901","v":"-"},{"$f":"Tidsram!$B$2","v":0},{"$f":"Tidsram!$B$3","v":0},{"$f":"Blad3!G2901","v":0}]
[{"$f":"Blad3!H2902","v":"-"},{"$f":"Tidsram!$B$2","v":0},{"$f":"Tidsram!$B$3","v":0},{"$f":"Blad3!G2902","v":0}]
[{"$f":"Blad3!H2903","v":"-"},{"$f":"Tidsram!$B$2","v":0},{"$f":"Tidsram!$B$3","v":0},{"$f":"Blad3!G2903","v":0}]
[{"$f":"Blad3!H2904","v":"-"},{"$f":"Tidsram!$B$2","v":0},{"$f":"Tidsram!$B$3","v":0},{"$f":"Blad3!G2904","v":0}]
[{"$f":"Blad3!H2905","v":"-"},{"$f":"Tidsram!$B$2","v":0},{"$f":"Tidsram!$B$3","v":0},{"$f":"Blad3!G2905","v":0}]
[{"$f":"Blad3!H2906","v":"-"},{"$f":"Tidsram!$B$2","v":0},{"$f":"Tidsram!$B$3","v":0},{"$f":"Blad3!G2906","v":0}]
[{"$f":"Blad3!H2907","v":"-"},{"$f":"Tidsram!$B$2","v":0},{"$f":"Tidsram!$B$3","v":0},{"$f":"Blad3!G2907","v":0}]
[{"$f":"Blad3!H2908","v":"-"},{"$f":"Tidsram!$B$2","v":0},{"$f":"Tidsram!$B$3","v":0},{"$f":"Blad3!G2908","v":0}]
[{"$f":"Blad3!H2909","v":"-"},{"$f":"Tidsram!$B$2","v":0},{"$f":"Tidsram!$B$3","v":0},{"$f":"Blad3!G2909","v":0}]
[{"$f":"Blad3!H2910","v":"-"},{"$f":"Tidsram!$B$2","v":0},{"$f":"Tidsram!$B$3","v":0},{"$f":"Blad3!G2910","v":0}]
[{"$f":"Blad3!H2911","v":"-"},{"$f":"Tidsram!$B$2","v":0},{"$f":"Tidsram!$B$3","v":0},{"$f":"Blad3!G2911","v":0}]
[{"$f":"Blad3!H2912","v":"-"},{"$f":"Tidsram!$B$2","v":0},{"$f":"Tidsram!$B$3","v":0},{"$f":"Blad3!G2912","v":0}]
[{"$f":"Blad3!H2913","v":"-"},{"$f":"Tidsram!$B$2","v":0},{"$f":"Tidsram!$B$3","v":0},{"$f":"Blad3!G2913","v":0}]
[{"$f":"Blad3!H2914","v":"-"},{"$f":"Tidsram!$B$2","v":0},{"$f":"Tidsram!$B$3","v":0},{"$f":"Blad3!G2914","v":0}]
[{"$f":"Blad3!H2915","v":"-"},{"$f":"Tidsram!$B$2","v":0},{"$f":"Tidsram!$B$3","v":0},{"$f":"Blad3!G2915","v":0}]
[{"$f":"Blad3!H2916","v":"-"},{"$f":"Tidsram!$B$2","v":0},{"$f":"Tidsram!$B$3","v":0},{"$f":"Blad3!G2916","v":0}]
[{"$f":"Blad3!H2917","v":"-"},{"$f":"Tidsram!$B$2","v":0},{"$f":"Tidsram!$B$3","v":0},{"$f":"Blad3!G2917","v":0}]
[{"$f":"Blad3!H2918","v":"-"},{"$f":"Tidsram!$B$2","v":0},{"$f":"Tidsram!$B$3","v":0},{"$f":"Blad3!G2918","v":0}]
[{"$f":"Blad3!H2919","v":"-"},{"$f":"Tidsram!$B$2","v":0},{"$f":"Tidsram!$B$3","v":0},{"$f":"Blad3!G2919","v":0}]
[{"$f":"Blad3!H2920","v":"-"},{"$f":"Tidsram!$B$2","v":0},{"$f":"Tidsram!$B$3","v":0},{"$f":"Blad3!G2920","v":0}]
[{"$f":"Blad3!H2921","v":"-"},{"$f":"Tidsram!$B$2","v":0},{"$f":"Tidsram!$B$3","v":0},{"$f":"Blad3!G2921","v":0}]
[{"$f":"Blad3!H2922","v":"-"},{"$f":"Tidsram!$B$2","v":0},{"$f":"Tidsram!$B$3","v":0},{"$f":"Blad3!G2922","v":0}]
[{"$f":"Blad3!H2923","v":"-"},{"$f":"Tidsram!$B$2","v":0},{"$f":"Tidsram!$B$3","v":0},{"$f":"Blad3!G2923","v":0}]
[{"$f":"Blad3!H2924","v":"-"},{"$f":"Tidsram!$B$2","v":0},{"$f":"Tidsram!$B$3","v":0},{"$f":"Blad3!G2924","v":0}]
[{"$f":"Blad3!H2925","v":"-"},{"$f":"Tidsram!$B$2","v":0},{"$f":"Tidsram!$B$3","v":0},{"$f":"Blad3!G2925","v":0}]
[{"$f":"Blad3!H2926","v":"-"},{"$f":"Tidsram!$B$2","v":0},{"$f":"Tidsram!$B$3","v":0},{"$f":"Blad3!G2926","v":0}]
[{"$f":"Blad3!H2927","v":"-"},{"$f":"Tidsram!$B$2","v":0},{"$f":"Tidsram!$B$3","v":0},{"$f":"Blad3!G2927","v":0}]
[{"$f":"Blad3!H2928","v":"-"},{"$f":"Tidsram!$B$2","v":0},{"$f":"Tidsram!$B$3","v":0},{"$f":"Blad3!G2928","v":0}]
[{"$f":"Blad3!H2929","v":"-"},{"$f":"Tidsram!$B$2","v":0},{"$f":"Tidsram!$B$3","v":0},{"$f":"Blad3!G2929","v":0}]
[{"$f":"Blad3!H2930","v":"-"},{"$f":"Tidsram!$B$2","v":0},{"$f":"Tidsram!$B$3","v":0},{"$f":"Blad3!G2930","v":0}]
[{"$f":"Blad3!H2931","v":"-"},{"$f":"Tidsram!$B$2","v":0},{"$f":"Tidsram!$B$3","v":0},{"$f":"Blad3!G2931","v":0}]
[{"$f":"Blad3!H2932","v":"-"},{"$f":"Tidsram!$B$2","v":0},{"$f":"Tidsram!$B$3","v":0},{"$f":"Blad3!G2932","v":0}]
[{"$f":"Blad3!H2933","v":"-"},{"$f":"Tidsram!$B$2","v":0},{"$f":"Tidsram!$B$3","v":0},{"$f":"Blad3!G2933","v":0}]
[{"$f":"Blad3!H2934","v":"-"},{"$f":"Tidsram!$B$2","v":0},{"$f":"Tidsram!$B$3","v":0},{"$f":"Blad3!G2934","v":0}]
[{"$f":"Blad3!H2935","v":"-"},{"$f":"Tidsram!$B$2","v":0},{"$f":"Tidsram!$B$3","v":0},{"$f":"Blad3!G2935","v":0}]
[{"$f":"Blad3!H2936","v":"-"},{"$f":"Tidsram!$B$2","v":0},{"$f":"Tidsram!$B$3","v":0},{"$f":"Blad3!G2936","v":0}]
[{"$f":"Blad3!H2937","v":"-"},{"$f":"Tidsram!$B$2","v":0},{"$f":"Tidsram!$B$3","v":0},{"$f":"Blad3!G2937","v":0}]
[{"$f":"Blad3!H2938","v":"-"},{"$f":"Tidsram!$B$2","v":0},{"$f":"Tidsram!$B$3","v":0},{"$f":"Blad3!G2938","v":0}]
[{"$f":"Blad3!H2939","v":"-"},{"$f":"Tidsram!$B$2","v":0},{"$f":"Tidsram!$B$3","v":0},{"$f":"Blad3!G2939","v":0}]
[{"$f":"Blad3!H2940","v":"-"},{"$f":"Tidsram!$B$2","v":0},{"$f":"Tidsram!$B$3","v":0},{"$f":"Blad3!G2940","v":0}]
[{"$f":"Blad3!H2941","v":"-"},{"$f":"Tidsram!$B$2","v":0},{"$f":"Tidsram!$B$3","v":0},{"$f":"Blad3!G2941","v":0}]
[{"$f":"Blad3!H2942","v":"-"},{"$f":"Tidsram!$B$2","v":0},{"$f":"Tidsram!$B$3","v":0},{"$f":"Blad3!G2942","v":0}]
[{"$f":"Blad3!H2943","v":"-"},{"$f":"Tidsram!$B$2","v":0},{"$f":"Tidsram!$B$3","v":0},{"$f":"Blad3!G2943","v":0}]
[{"$f":"Blad3!H2944","v":"-"},{"$f":"Tidsram!$B$2","v":0},{"$f":"Tidsram!$B$3","v":0},{"$f":"Blad3!G2944","v":0}]
[{"$f":"Blad3!H2945","v":"-"},{"$f":"Tidsram!$B$2","v":0},{"$f":"Tidsram!$B$3","v":0},{"$f":"Blad3!G2945","v":0}]
[{"$f":"Blad3!H2946","v":"-"},{"$f":"Tidsram!$B$2","v":0},{"$f":"Tidsram!$B$3","v":0},{"$f":"Blad3!G2946","v":0}]
[{"$f":"Blad3!H2947","v":"-"},{"$f":"Tidsram!$B$2","v":0},{"$f":"Tidsram!$B$3","v":0},{"$f":"Blad3!G2947","v":0}]
[{"$f":"Blad3!H2948","v":"-"},{"$f":"Tidsram!$B$2","v":0},{"$f":"Tidsram!$B$3","v":0},{"$f":"Blad3!G2948","v":0}]
[{"$f":"Blad3!H2949","v":"-"},{"$f":"Tidsram!$B$2","v":0},{"$f":"Tidsram!$B$3","v":0},{"$f":"Blad3!G2949","v":0}]
[{"$f":"Blad3!H2950","v":"-"},{"$f":"Tidsram!$B$2","v":0},{"$f":"Tidsram!$B$3","v":0},{"$f":"Blad3!G2950","v":0}]
[{"$f":"Blad3!H2951","v":"-"},{"$f":"Tidsram!$B$2","v":0},{"$f":"Tidsram!$B$3","v":0},{"$f":"Blad3!G2951","v":0}]
[{"$f":"Blad3!H2952","v":"-"},{"$f":"Tidsram!$B$2","v":0},{"$f":"Tidsram!$B$3","v":0},{"$f":"Blad3!G2952","v":0}]
[{"$f":"Blad3!H2953","v":"-"},{"$f":"Tidsram!$B$2","v":0},{"$f":"Tidsram!$B$3","v":0},{"$f":"Blad3!G2953","v":0}]
[{"$f":"Blad3!H2954","v":"-"},{"$f":"Tidsram!$B$2","v":0},{"$f":"Tidsram!$B$3","v":0},{"$f":"Blad3!G2954","v":0}]
[{"$f":"Blad3!H2955","v":"-"},{"$f":"Tidsram!$B$2","v":0},{"$f":"Tidsram!$B$3","v":0},{"$f":"Blad3!G2955","v":0}]
[{"$f":"Blad3!H2956","v":"-"},{"$f":"Tidsram!$B$2","v":0},{"$f":"Tidsram!$B$3","v":0},{"$f":"Blad3!G2956","v":0}]
[{"$f":"Blad3!H2957","v":"-"},{"$f":"Tidsram!$B$2","v":0},{"$f":"Tidsram!$B$3","v":0},{"$f":"Blad3!G2957","v":0}]
[{"$f":"Blad3!H2958","v":"-"},{"$f":"Tidsram!$B$2","v":0},{"$f":"Tidsram!$B$3","v":0},{"$f":"Blad3!G2958","v":0}]
[{"$f":"Blad3!H2959","v":"-"},{"$f":"Tidsram!$B$2","v":0},{"$f":"Tidsram!$B$3","v":0},{"$f":"Blad3!G2959","v":0}]
[{"$f":"Blad3!H2960","v":"-"},{"$f":"Tidsram!$B$2","v":0},{"$f":"Tidsram!$B$3","v":0},{"$f":"Blad3!G2960","v":0}]
[{"$f":"Blad3!H2961","v":"-"},{"$f":"Tidsram!$B$2","v":0},{"$f":"Tidsram!$B$3","v":0},{"$f":"Blad3!G2961","v":0}]
[{"$f":"Blad3!H2962","v":"-"},{"$f":"Tidsram!$B$2","v":0},{"$f":"Tidsram!$B$3","v":0},{"$f":"Blad3!G2962","v":0}]
[{"$f":"Blad3!H2963","v":"-"},{"$f":"Tidsram!$B$2","v":0},{"$f":"Tidsram!$B$3","v":0},{"$f":"Blad3!G2963","v":0}]
[{"$f":"Blad3!H2964","v":"-"},{"$f":"Tidsram!$B$2","v":0},{"$f":"Tidsram!$B$3","v":0},{"$f":"Blad3!G2964","v":0}]
[{"$f":"Blad3!H2965","v":"-"},{"$f":"Tidsram!$B$2","v":0},{"$f":"Tidsram!$B$3","v":0},{"$f":"Blad3!G2965","v":0}]
[{"$f":"Blad3!H2966","v":"-"},{"$f":"Tidsram!$B$2","v":0},{"$f":"Tidsram!$B$3","v":0},{"$f":"Blad3!G2966","v":0}]
[{"$f":"Blad3!H2967","v":"-"},{"$f":"Tidsram!$B$2","v":0},{"$f":"Tidsram!$B$3","v":0},{"$f":"Blad3!G2967","v":0}]
[{"$f":"Blad3!H2968","v":"-"},{"$f":"Tidsram!$B$2","v":0},{"$f":"Tidsram!$B$3","v":0},{"$f":"Blad3!G2968","v":0}]
[{"$f":"Blad3!H2969","v":"-"},{"$f":"Tidsram!$B$2","v":0},{"$f":"Tidsram!$B$3","v":0},{"$f":"Blad3!G2969","v":0}]
[{"$f":"Blad3!H2970","v":"-"},{"$f":"Tidsram!$B$2","v":0},{"$f":"Tidsram!$B$3","v":0},{"$f":"Blad3!G2970","v":0}]
[{"$f":"Blad3!H2971","v":"-"},{"$f":"Tidsram!$B$2","v":0},{"$f":"Tidsram!$B$3","v":0},{"$f":"Blad3!G2971","v":0}]
[{"$f":"Blad3!H2972","v":"-"},{"$f":"Tidsram!$B$2","v":0},{"$f":"Tidsram!$B$3","v":0},{"$f":"Blad3!G2972","v":0}]
[{"$f":"Blad3!H2973","v":"-"},{"$f":"Tidsram!$B$2","v":0},{"$f":"Tidsram!$B$3","v":0},{"$f":"Blad3!G2973","v":0}]
[{"$f":"Blad3!H2974","v":"-"},{"$f":"Tidsram!$B$2","v":0},{"$f":"Tidsram!$B$3","v":0},{"$f":"Blad3!G2974","v":0}]
[{"$f":"Blad3!H2975","v":"-"},{"$f":"Tidsram!$B$2","v":0},{"$f":"Tidsram!$B$3","v":0},{"$f":"Blad3!G2975","v":0}]
[{"$f":"Blad3!H2976","v":"-"},{"$f":"Tidsram!$B$2","v":0},{"$f":"Tidsram!$B$3","v":0},{"$f":"Blad3!G2976","v":0}]
[{"$f":"Blad3!H2977","v":"-"},{"$f":"Tidsram!$B$2","v":0},{"$f":"Tidsram!$B$3","v":0},{"$f":"Blad3!G2977","v":0}]
[{"$f":"Blad3!H2978","v":"-"},{"$f":"Tidsram!$B$2","v":0},{"$f":"Tidsram!$B$3","v":0},{"$f":"Blad3!G2978","v":0}]
[{"$f":"Blad3!H2979","v":"-"},{"$f":"Tidsram!$B$2","v":0},{"$f":"Tidsram!$B$3","v":0},{"$f":"Blad3!G2979","v":0}]
[{"$f":"Blad3!H2980","v":"-"},{"$f":"Tidsram!$B$2","v":0},{"$f":"Tidsram!$B$3","v":0},{"$f":"Blad3!G2980","v":0}]
[{"$f":"Blad3!H2981","v":"-"},{"$f":"Tidsram!$B$2","v":0},{"$f":"Tidsram!$B$3","v":0},{"$f":"Blad3!G2981","v":0}]
[{"$f":"Blad3!H2982","v":"-"},{"$f":"Tidsram!$B$2","v":0},{"$f":"Tidsram!$B$3","v":0},{"$f":"Blad3!G2982","v":0}]
[{"$f":"Blad3!H2983","v":"-"},{"$f":"Tidsram!$B$2","v":0},{"$f":"Tidsram!$B$3","v":0},{"$f":"Blad3!G2983","v":0}]
[{"$f":"Blad3!H2984","v":"-"},{"$f":"Tidsram!$B$2","v":0},{"$f":"Tidsram!$B$3","v":0},{"$f":"Blad3!G2984","v":0}]
[{"$f":"Blad3!H2985","v":"-"},{"$f":"Tidsram!$B$2","v":0},{"$f":"Tidsram!$B$3","v":0},{"$f":"Blad3!G2985","v":0}]
[{"$f":"Blad3!H2986","v":"-"},{"$f":"Tidsram!$B$2","v":0},{"$f":"Tidsram!$B$3","v":0},{"$f":"Blad3!G2986","v":0}]
[{"$f":"Blad3!H2987","v":"-"},{"$f":"Tidsram!$B$2","v":0},{"$f":"Tidsram!$B$3","v":0},{"$f":"Blad3!G2987","v":0}]
[{"$f":"Blad3!H2988","v":"-"},{"$f":"Tidsram!$B$2","v":0},{"$f":"Tidsram!$B$3","v":0},{"$f":"Blad3!G2988","v":0}]
[{"$f":"Blad3!H2989","v":"-"},{"$f":"Tidsram!$B$2","v":0},{"$f":"Tidsram!$B$3","v":0},{"$f":"Blad3!G2989","v":0}]
[{"$f":"Blad3!H2990","v":"-"},{"$f":"Tidsram!$B$2","v":0},{"$f":"Tidsram!$B$3","v":0},{"$f":"Blad3!G2990","v":0}]
[{"$f":"Blad3!H2991","v":"-"},{"$f":"Tidsram!$B$2","v":0},{"$f":"Tidsram!$B$3","v":0},{"$f":"Blad3!G2991","v":0}]
[{"$f":"Blad3!H2992","v":"-"},{"$f":"Tidsram!$B$2","v":0},{"$f":"Tidsram!$B$3","v":0},{"$f":"Blad3!G2992","v":0}]
[{"$f":"Blad3!H2993","v":"-"},{"$f":"Tidsram!$B$2","v":0},{"$f":"Tidsram!$B$3","v":0},{"$f":"Blad3!G2993","v":0}]
[{"$f":"Blad3!H2994","v":"-"},{"$f":"Tidsram!$B$2","v":0},{"$f":"Tidsram!$B$3","v":0},{"$f":"Blad3!G2994","v":0}]
[{"$f":"Blad3!H2995","v":"-"},{"$f":"Tidsram!$B$2","v":0},{"$f":"Tidsram!$B$3","v":0},{"$f":"Blad3!G2995","v":0}]
[{"$f":"Blad3!H2996","v":"-"},{"$f":"Tidsram!$B$2","v":0},{"$f":"Tidsram!$B$3","v":0},{"$f":"Blad3!G2996","v":0}]
[{"$f":"Blad3!H2997","v":"-"},{"$f":"Tidsram!$B$2","v":0},{"$f":"Tidsram!$B$3","v":0},{"$f":"Blad3!G2997","v":0}]
[{"$f":"Blad3!H2998","v":"-"},{"$f":"Tidsram!$B$2","v":0},{"$f":"Tidsram!$B$3","v":0},{"$f":"Blad3!G2998","v":0}]
[{"$f":"Blad3!H2999","v":"-"},{"$f":"Tidsram!$B$2","v":0},{"$f":"Tidsram!$B$3","v":0},{"$f":"Blad3!G2999","v":0}]
[{"$f":"Blad3!H3000","v":"-"},{"$f":"Tidsram!$B$2","v":0},{"$f":"Tidsram!$B$3","v":0},{"$f":"Blad3!G3000","v":0}]
[{"$f":"Blad3!H3001","v":"-"},{"$f":"Tidsram!$B$2","v":0},{"$f":"Tidsram!$B$3","v":0},{"$f":"Blad3!G3001","v":0}]
[{"$f":"Blad3!H3002","v":"-"},{"$f":"Tidsram!$B$2","v":0},{"$f":"Tidsram!$B$3","v":0},{"$f":"Blad3!G3002","v":0}]
[{"$f":"Blad3!H3003","v":"-"},{"$f":"Tidsram!$B$2","v":0},{"$f":"Tidsram!$B$3","v":0},{"$f":"Blad3!G3003","v":0}]
[{"$f":"Blad3!H3004","v":"-"},{"$f":"Tidsram!$B$2","v":0},{"$f":"Tidsram!$B$3","v":0},{"$f":"Blad3!G3004","v":0}]
[{"$f":"Blad3!H3005","v":"-"},{"$f":"Tidsram!$B$2","v":0},{"$f":"Tidsram!$B$3","v":0},{"$f":"Blad3!G3005","v":0}]
[{"$f":"Blad3!H3006","v":"-"},{"$f":"Tidsram!$B$2","v":0},{"$f":"Tidsram!$B$3","v":0},{"$f":"Blad3!G3006","v":0}]
[{"$f":"Blad3!H3007","v":"-"},{"$f":"Tidsram!$B$2","v":0},{"$f":"Tidsram!$B$3","v":0},{"$f":"Blad3!G3007","v":0}]
[{"$f":"Blad3!H3008","v":"-"},{"$f":"Tidsram!$B$2","v":0},{"$f":"Tidsram!$B$3","v":0},{"$f":"Blad3!G3008","v":0}]
[{"$f":"Blad3!H3009","v":"-"},{"$f":"Tidsram!$B$2","v":0},{"$f":"Tidsram!$B$3","v":0},{"$f":"Blad3!G3009","v":0}]
[{"$f":"Blad3!H3010","v":"-"},{"$f":"Tidsram!$B$2","v":0},{"$f":"Tidsram!$B$3","v":0},{"$f":"Blad3!G3010","v":0}]
[{"$f":"Blad3!H3011","v":"-"},{"$f":"Tidsram!$B$2","v":0},{"$f":"Tidsram!$B$3","v":0},{"$f":"Blad3!G3011","v":0}]
[{"$f":"Blad3!H3012","v":"-"},{"$f":"Tidsram!$B$2","v":0},{"$f":"Tidsram!$B$3","v":0},{"$f":"Blad3!G3012","v":0}]
[{"$f":"Blad3!H3013","v":"-"},{"$f":"Tidsram!$B$2","v":0},{"$f":"Tidsram!$B$3","v":0},{"$f":"Blad3!G3013","v":0}]
[{"$f":"Blad3!H3014","v":"-"},{"$f":"Tidsram!$B$2","v":0},{"$f":"Tidsram!$B$3","v":0},{"$f":"Blad3!G3014","v":0}]
[{"$f":"Blad3!H3015","v":"-"},{"$f":"Tidsram!$B$2","v":0},{"$f":"Tidsram!$B$3","v":0},{"$f":"Blad3!G3015","v":0}]
[{"$f":"Blad3!H3016","v":"-"},{"$f":"Tidsram!$B$2","v":0},{"$f":"Tidsram!$B$3","v":0},{"$f":"Blad3!G3016","v":0}]
[{"$f":"Blad3!H3017","v":"-"},{"$f":"Tidsram!$B$2","v":0},{"$f":"Tidsram!$B$3","v":0},{"$f":"Blad3!G3017","v":0}]
[{"$f":"Blad3!H3018","v":"-"},{"$f":"Tidsram!$B$2","v":0},{"$f":"Tidsram!$B$3","v":0},{"$f":"Blad3!G3018","v":0}]
[{"$f":"Blad3!H3019","v":"-"},{"$f":"Tidsram!$B$2","v":0},{"$f":"Tidsram!$B$3","v":0},{"$f":"Blad3!G3019","v":0}]
[{"$f":"Blad3!H3020","v":"-"},{"$f":"Tidsram!$B$2","v":0},{"$f":"Tidsram!$B$3","v":0},{"$f":"Blad3!G3020","v":0}]
[{"$f":"Blad3!H3021","v":"-"},{"$f":"Tidsram!$B$2","v":0},{"$f":"Tidsram!$B$3","v":0},{"$f":"Blad3!G3021","v":0}]
[{"$f":"Blad3!H3022","v":"-"},{"$f":"Tidsram!$B$2","v":0},{"$f":"Tidsram!$B$3","v":0},{"$f":"Blad3!G3022","v":0}]
[{"$f":"Blad3!H3023","v":"-"},{"$f":"Tidsram!$B$2","v":0},{"$f":"Tidsram!$B$3","v":0},{"$f":"Blad3!G3023","v":0}]
[{"$f":"Blad3!H3024","v":"-"},{"$f":"Tidsram!$B$2","v":0},{"$f":"Tidsram!$B$3","v":0},{"$f":"Blad3!G3024","v":0}]
[{"$f":"Blad3!H3025","v":"-"},{"$f":"Tidsram!$B$2","v":0},{"$f":"Tidsram!$B$3","v":0},{"$f":"Blad3!G3025","v":0}]
[{"$f":"Blad3!H3026","v":"-"},{"$f":"Tidsram!$B$2","v":0},{"$f":"Tidsram!$B$3","v":0},{"$f":"Blad3!G3026","v":0}]
[{"$f":"Blad3!H3027","v":"-"},{"$f":"Tidsram!$B$2","v":0},{"$f":"Tidsram!$B$3","v":0},{"$f":"Blad3!G3027","v":0}]
[{"$f":"Blad3!H3028","v":"-"},{"$f":"Tidsram!$B$2","v":0},{"$f":"Tidsram!$B$3","v":0},{"$f":"Blad3!G3028","v":0}]
[{"$f":"Blad3!H3029","v":"-"},{"$f":"Tidsram!$B$2","v":0},{"$f":"Tidsram!$B$3","v":0},{"$f":"Blad3!G3029","v":0}]
[{"$f":"Blad3!H3030","v":"-"},{"$f":"Tidsram!$B$2","v":0},{"$f":"Tidsram!$B$3","v":0},{"$f":"Blad3!G3030","v":0}]
[{"$f":"Blad3!H3031","v":"-"},{"$f":"Tidsram!$B$2","v":0},{"$f":"Tidsram!$B$3","v":0},{"$f":"Blad3!G3031","v":0}]
[{"$f":"Blad3!H3032","v":"-"},{"$f":"Tidsram!$B$2","v":0},{"$f":"Tidsram!$B$3","v":0},{"$f":"Blad3!G3032","v":0}]
[{"$f":"Blad3!H3033","v":"-"},{"$f":"Tidsram!$B$2","v":0},{"$f":"Tidsram!$B$3","v":0},{"$f":"Blad3!G3033","v":0}]
[{"$f":"Blad3!H3034","v":"-"},{"$f":"Tidsram!$B$2","v":0},{"$f":"Tidsram!$B$3","v":0},{"$f":"Blad3!G3034","v":0}]
[{"$f":"Blad3!H3035","v":"-"},{"$f":"Tidsram!$B$2","v":0},{"$f":"Tidsram!$B$3","v":0},{"$f":"Blad3!G3035","v":0}]
[{"$f":"Blad3!H3036","v":"-"},{"$f":"Tidsram!$B$2","v":0},{"$f":"Tidsram!$B$3","v":0},{"$f":"Blad3!G3036","v":0}]
[{"$f":"Blad3!H3037","v":"-"},{"$f":"Tidsram!$B$2","v":0},{"$f":"Tidsram!$B$3","v":0},{"$f":"Blad3!G3037","v":0}]
[{"$f":"Blad3!H3038","v":"-"},{"$f":"Tidsram!$B$2","v":0},{"$f":"Tidsram!$B$3","v":0},{"$f":"Blad3!G3038","v":0}]
[{"$f":"Blad3!H3039","v":"-"},{"$f":"Tidsram!$B$2","v":0},{"$f":"Tidsram!$B$3","v":0},{"$f":"Blad3!G3039","v":0}]
[{"$f":"Blad3!H3040","v":"-"},{"$f":"Tidsram!$B$2","v":0},{"$f":"Tidsram!$B$3","v":0},{"$f":"Blad3!G3040","v":0}]
[{"$f":"Blad3!H3041","v":"-"},{"$f":"Tidsram!$B$2","v":0},{"$f":"Tidsram!$B$3","v":0},{"$f":"Blad3!G3041","v":0}]
[{"$f":"Blad3!H3042","v":"-"},{"$f":"Tidsram!$B$2","v":0},{"$f":"Tidsram!$B$3","v":0},{"$f":"Blad3!G3042","v":0}]
[{"$f":"Blad3!H3043","v":"-"},{"$f":"Tidsram!$B$2","v":0},{"$f":"Tidsram!$B$3","v":0},{"$f":"Blad3!G3043","v":0}]
[{"$f":"Blad3!H3044","v":"-"},{"$f":"Tidsram!$B$2","v":0},{"$f":"Tidsram!$B$3","v":0},{"$f":"Blad3!G3044","v":0}]
[{"$f":"Blad3!H3045","v":"-"},{"$f":"Tidsram!$B$2","v":0},{"$f":"Tidsram!$B$3","v":0},{"$f":"Blad3!G3045","v":0}]
[{"$f":"Blad3!H3046","v":"-"},{"$f":"Tidsram!$B$2","v":0},{"$f":"Tidsram!$B$3","v":0},{"$f":"Blad3!G3046","v":0}]
[{"$f":"Blad3!H3047","v":"-"},{"$f":"Tidsram!$B$2","v":0},{"$f":"Tidsram!$B$3","v":0},{"$f":"Blad3!G3047","v":0}]
[{"$f":"Blad3!H3048","v":"-"},{"$f":"Tidsram!$B$2","v":0},{"$f":"Tidsram!$B$3","v":0},{"$f":"Blad3!G3048","v":0}]
[{"$f":"Blad3!H3049","v":"-"},{"$f":"Tidsram!$B$2","v":0},{"$f":"Tidsram!$B$3","v":0},{"$f":"Blad3!G3049","v":0}]
[{"$f":"Blad3!H3050","v":"-"},{"$f":"Tidsram!$B$2","v":0},{"$f":"Tidsram!$B$3","v":0},{"$f":"Blad3!G3050","v":0}]
[{"$f":"Blad3!H3051","v":"-"},{"$f":"Tidsram!$B$2","v":0},{"$f":"Tidsram!$B$3","v":0},{"$f":"Blad3!G3051","v":0}]
[{"$f":"Blad3!H3052","v":"-"},{"$f":"Tidsram!$B$2","v":0},{"$f":"Tidsram!$B$3","v":0},{"$f":"Blad3!G3052","v":0}]
[{"$f":"Blad3!H3053","v":"-"},{"$f":"Tidsram!$B$2","v":0},{"$f":"Tidsram!$B$3","v":0},{"$f":"Blad3!G3053","v":0}]
[{"$f":"Blad3!H3054","v":"-"},{"$f":"Tidsram!$B$2","v":0},{"$f":"Tidsram!$B$3","v":0},{"$f":"Blad3!G3054","v":0}]
[{"$f":"Blad3!H3055","v":"-"},{"$f":"Tidsram!$B$2","v":0},{"$f":"Tidsram!$B$3","v":0},{"$f":"Blad3!G3055","v":0}]
[{"$f":"Blad3!H3056","v":"-"},{"$f":"Tidsram!$B$2","v":0},{"$f":"Tidsram!$B$3","v":0},{"$f":"Blad3!G3056","v":0}]
[{"$f":"Blad3!H3057","v":"-"},{"$f":"Tidsram!$B$2","v":0},{"$f":"Tidsram!$B$3","v":0},{"$f":"Blad3!G3057","v":0}]
[{"$f":"Blad3!H3058","v":"-"},{"$f":"Tidsram!$B$2","v":0},{"$f":"Tidsram!$B$3","v":0},{"$f":"Blad3!G3058","v":0}]
[{"$f":"Blad3!H3059","v":"-"},{"$f":"Tidsram!$B$2","v":0},{"$f":"Tidsram!$B$3","v":0},{"$f":"Blad3!G3059","v":0}]
[{"$f":"Blad3!H3060","v":"-"},{"$f":"Tidsram!$B$2","v":0},{"$f":"Tidsram!$B$3","v":0},{"$f":"Blad3!G3060","v":0}]
[{"$f":"Blad3!H3061","v":"-"},{"$f":"Tidsram!$B$2","v":0},{"$f":"Tidsram!$B$3","v":0},{"$f":"Blad3!G3061","v":0}]
[{"$f":"Blad3!H3062","v":"-"},{"$f":"Tidsram!$B$2","v":0},{"$f":"Tidsram!$B$3","v":0},{"$f":"Blad3!G3062","v":0}]
[{"$f":"Blad3!H3063","v":"-"},{"$f":"Tidsram!$B$2","v":0},{"$f":"Tidsram!$B$3","v":0},{"$f":"Blad3!G3063","v":0}]
[{"$f":"Blad3!H3064","v":"-"},{"$f":"Tidsram!$B$2","v":0},{"$f":"Tidsram!$B$3","v":0},{"$f":"Blad3!G3064","v":0}]
[{"$f":"Blad3!H3065","v":"-"},{"$f":"Tidsram!$B$2","v":0},{"$f":"Tidsram!$B$3","v":0},{"$f":"Blad3!G3065","v":0}]
[{"$f":"Blad3!H3066","v":"-"},{"$f":"Tidsram!$B$2","v":0},{"$f":"Tidsram!$B$3","v":0},{"$f":"Blad3!G3066","v":0}]
[{"$f":"Blad3!H3067","v":"-"},{"$f":"Tidsram!$B$2","v":0},{"$f":"Tidsram!$B$3","v":0},{"$f":"Blad3!G3067","v":0}]
[{"$f":"Blad3!H3068","v":"-"},{"$f":"Tidsram!$B$2","v":0},{"$f":"Tidsram!$B$3","v":0},{"$f":"Blad3!G3068","v":0}]
[{"$f":"Blad3!H3069","v":"-"},{"$f":"Tidsram!$B$2","v":0},{"$f":"Tidsram!$B$3","v":0},{"$f":"Blad3!G3069","v":0}]
[{"$f":"Blad3!H3070","v":"-"},{"$f":"Tidsram!$B$2","v":0},{"$f":"Tidsram!$B$3","v":0},{"$f":"Blad3!G3070","v":0}]
[{"$f":"Blad3!H3071","v":"-"},{"$f":"Tidsram!$B$2","v":0},{"$f":"Tidsram!$B$3","v":0},{"$f":"Blad3!G3071","v":0}]
[{"$f":"Blad3!H3072","v":"-"},{"$f":"Tidsram!$B$2","v":0},{"$f":"Tidsram!$B$3","v":0},{"$f":"Blad3!G3072","v":0}]
[{"$f":"Blad3!H3073","v":"-"},{"$f":"Tidsram!$B$2","v":0},{"$f":"Tidsram!$B$3","v":0},{"$f":"Blad3!G3073","v":0}]
[{"$f":"Blad3!H3074","v":"-"},{"$f":"Tidsram!$B$2","v":0},{"$f":"Tidsram!$B$3","v":0},{"$f":"Blad3!G3074","v":0}]
[{"$f":"Blad3!H3075","v":"-"},{"$f":"Tidsram!$B$2","v":0},{"$f":"Tidsram!$B$3","v":0},{"$f":"Blad3!G3075","v":0}]
[{"$f":"Blad3!H3076","v":"-"},{"$f":"Tidsram!$B$2","v":0},{"$f":"Tidsram!$B$3","v":0},{"$f":"Blad3!G3076","v":0}]
[{"$f":"Blad3!H3077","v":"-"},{"$f":"Tidsram!$B$2","v":0},{"$f":"Tidsram!$B$3","v":0},{"$f":"Blad3!G3077","v":0}]
[{"$f":"Blad3!H3078","v":"-"},{"$f":"Tidsram!$B$2","v":0},{"$f":"Tidsram!$B$3","v":0},{"$f":"Blad3!G3078","v":0}]
[{"$f":"Blad3!H3079","v":"-"},{"$f":"Tidsram!$B$2","v":0},{"$f":"Tidsram!$B$3","v":0},{"$f":"Blad3!G3079","v":0}]
[{"$f":"Blad3!H3080","v":"-"},{"$f":"Tidsram!$B$2","v":0},{"$f":"Tidsram!$B$3","v":0},{"$f":"Blad3!G3080","v":0}]
[{"$f":"Blad3!H3081","v":"-"},{"$f":"Tidsram!$B$2","v":0},{"$f":"Tidsram!$B$3","v":0},{"$f":"Blad3!G3081","v":0}]
[{"$f":"Blad3!H3082","v":"-"},{"$f":"Tidsram!$B$2","v":0},{"$f":"Tidsram!$B$3","v":0},{"$f":"Blad3!G3082","v":0}]
[{"$f":"Blad3!H3083","v":"-"},{"$f":"Tidsram!$B$2","v":0},{"$f":"Tidsram!$B$3","v":0},{"$f":"Blad3!G3083","v":0}]
[{"$f":"Blad3!H3084","v":"-"},{"$f":"Tidsram!$B$2","v":0},{"$f":"Tidsram!$B$3","v":0},{"$f":"Blad3!G3084","v":0}]
[{"$f":"Blad3!H3085","v":"-"},{"$f":"Tidsram!$B$2","v":0},{"$f":"Tidsram!$B$3","v":0},{"$f":"Blad3!G3085","v":0}]
[{"$f":"Blad3!H3086","v":"-"},{"$f":"Tidsram!$B$2","v":0},{"$f":"Tidsram!$B$3","v":0},{"$f":"Blad3!G3086","v":0}]
[{"$f":"Blad3!H3087","v":"-"},{"$f":"Tidsram!$B$2","v":0},{"$f":"Tidsram!$B$3","v":0},{"$f":"Blad3!G3087","v":0}]
[{"$f":"Blad3!H3088","v":"-"},{"$f":"Tidsram!$B$2","v":0},{"$f":"Tidsram!$B$3","v":0},{"$f":"Blad3!G3088","v":0}]
[{"$f":"Blad3!H3089","v":"-"},{"$f":"Tidsram!$B$2","v":0},{"$f":"Tidsram!$B$3","v":0},{"$f":"Blad3!G3089","v":0}]
[{"$f":"Blad3!H3090","v":"-"},{"$f":"Tidsram!$B$2","v":0},{"$f":"Tidsram!$B$3","v":0},{"$f":"Blad3!G3090","v":0}]
[{"$f":"Blad3!H3091","v":"-"},{"$f":"Tidsram!$B$2","v":0},{"$f":"Tidsram!$B$3","v":0},{"$f":"Blad3!G3091","v":0}]
[{"$f":"Blad3!H3092","v":"-"},{"$f":"Tidsram!$B$2","v":0},{"$f":"Tidsram!$B$3","v":0},{"$f":"Blad3!G3092","v":0}]
[{"$f":"Blad3!H3093","v":"-"},{"$f":"Tidsram!$B$2","v":0},{"$f":"Tidsram!$B$3","v":0},{"$f":"Blad3!G3093","v":0}]
[{"$f":"Blad3!H3094","v":"-"},{"$f":"Tidsram!$B$2","v":0},{"$f":"Tidsram!$B$3","v":0},{"$f":"Blad3!G3094","v":0}]
[{"$f":"Blad3!H3095","v":"-"},{"$f":"Tidsram!$B$2","v":0},{"$f":"Tidsram!$B$3","v":0},{"$f":"Blad3!G3095","v":0}]
[{"$f":"Blad3!H3096","v":"-"},{"$f":"Tidsram!$B$2","v":0},{"$f":"Tidsram!$B$3","v":0},{"$f":"Blad3!G3096","v":0}]
[{"$f":"Blad3!H3097","v":"-"},{"$f":"Tidsram!$B$2","v":0},{"$f":"Tidsram!$B$3","v":0},{"$f":"Blad3!G3097","v":0}]
[{"$f":"Blad3!H3098","v":"-"},{"$f":"Tidsram!$B$2","v":0},{"$f":"Tidsram!$B$3","v":0},{"$f":"Blad3!G3098","v":0}]
[{"$f":"Blad3!H3099","v":"-"},{"$f":"Tidsram!$B$2","v":0},{"$f":"Tidsram!$B$3","v":0},{"$f":"Blad3!G3099","v":0}]
[{"$f":"Blad3!H3100","v":"-"},{"$f":"Tidsram!$B$2","v":0},{"$f":"Tidsram!$B$3","v":0},{"$f":"Blad3!G3100","v":0}]
[{"$f":"Blad3!H3101","v":"-"},{"$f":"Tidsram!$B$2","v":0},{"$f":"Tidsram!$B$3","v":0},{"$f":"Blad3!G3101","v":0}]
[{"$f":"Blad3!H3102","v":"-"},{"$f":"Tidsram!$B$2","v":0},{"$f":"Tidsram!$B$3","v":0},{"$f":"Blad3!G3102","v":0}]
[{"$f":"Blad3!H3103","v":"-"},{"$f":"Tidsram!$B$2","v":0},{"$f":"Tidsram!$B$3","v":0},{"$f":"Blad3!G3103","v":0}]
[{"$f":"Blad3!H3104","v":"-"},{"$f":"Tidsram!$B$2","v":0},{"$f":"Tidsram!$B$3","v":0},{"$f":"Blad3!G3104","v":0}]
[{"$f":"Blad3!H3105","v":"-"},{"$f":"Tidsram!$B$2","v":0},{"$f":"Tidsram!$B$3","v":0},{"$f":"Blad3!G3105","v":0}]
[{"$f":"Blad3!H3106","v":"-"},{"$f":"Tidsram!$B$2","v":0},{"$f":"Tidsram!$B$3","v":0},{"$f":"Blad3!G3106","v":0}]
[{"$f":"Blad3!H3107","v":"-"},{"$f":"Tidsram!$B$2","v":0},{"$f":"Tidsram!$B$3","v":0},{"$f":"Blad3!G3107","v":0}]
[{"$f":"Blad3!H3108","v":"-"},{"$f":"Tidsram!$B$2","v":0},{"$f":"Tidsram!$B$3","v":0},{"$f":"Blad3!G3108","v":0}]
[{"$f":"Blad3!H3109","v":"-"},{"$f":"Tidsram!$B$2","v":0},{"$f":"Tidsram!$B$3","v":0},{"$f":"Blad3!G3109","v":0}]
[{"$f":"Blad3!H3110","v":"-"},{"$f":"Tidsram!$B$2","v":0},{"$f":"Tidsram!$B$3","v":0},{"$f":"Blad3!G3110","v":0}]
[{"$f":"Blad3!H3111","v":"-"},{"$f":"Tidsram!$B$2","v":0},{"$f":"Tidsram!$B$3","v":0},{"$f":"Blad3!G3111","v":0}]
[{"$f":"Blad3!H3112","v":"-"},{"$f":"Tidsram!$B$2","v":0},{"$f":"Tidsram!$B$3","v":0},{"$f":"Blad3!G3112","v":0}]
[{"$f":"Blad3!H3113","v":"-"},{"$f":"Tidsram!$B$2","v":0},{"$f":"Tidsram!$B$3","v":0},{"$f":"Blad3!G3113","v":0}]
[{"$f":"Blad3!H3114","v":"-"},{"$f":"Tidsram!$B$2","v":0},{"$f":"Tidsram!$B$3","v":0},{"$f":"Blad3!G3114","v":0}]
[{"$f":"Blad3!H3115","v":"-"},{"$f":"Tidsram!$B$2","v":0},{"$f":"Tidsram!$B$3","v":0},{"$f":"Blad3!G3115","v":0}]
[{"$f":"Blad3!H3116","v":"-"},{"$f":"Tidsram!$B$2","v":0},{"$f":"Tidsram!$B$3","v":0},{"$f":"Blad3!G3116","v":0}]
[{"$f":"Blad3!H3117","v":"-"},{"$f":"Tidsram!$B$2","v":0},{"$f":"Tidsram!$B$3","v":0},{"$f":"Blad3!G3117","v":0}]
[{"$f":"Blad3!H3118","v":"-"},{"$f":"Tidsram!$B$2","v":0},{"$f":"Tidsram!$B$3","v":0},{"$f":"Blad3!G3118","v":0}]
[{"$f":"Blad3!H3119","v":"-"},{"$f":"Tidsram!$B$2","v":0},{"$f":"Tidsram!$B$3","v":0},{"$f":"Blad3!G3119","v":0}]
[{"$f":"Blad3!H3120","v":"-"},{"$f":"Tidsram!$B$2","v":0},{"$f":"Tidsram!$B$3","v":0},{"$f":"Blad3!G3120","v":0}]
[{"$f":"Blad3!H3121","v":"-"},{"$f":"Tidsram!$B$2","v":0},{"$f":"Tidsram!$B$3","v":0},{"$f":"Blad3!G3121","v":0}]
[{"$f":"Blad3!H3122","v":"-"},{"$f":"Tidsram!$B$2","v":0},{"$f":"Tidsram!$B$3","v":0},{"$f":"Blad3!G3122","v":0}]
[{"$f":"Blad3!H3123","v":"-"},{"$f":"Tidsram!$B$2","v":0},{"$f":"Tidsram!$B$3","v":0},{"$f":"Blad3!G3123","v":0}]
[{"$f":"Blad3!H3124","v":"-"},{"$f":"Tidsram!$B$2","v":0},{"$f":"Tidsram!$B$3","v":0},{"$f":"Blad3!G3124","v":0}]
[{"$f":"Blad3!H3125","v":"-"},{"$f":"Tidsram!$B$2","v":0},{"$f":"Tidsram!$B$3","v":0},{"$f":"Blad3!G3125","v":0}]
[{"$f":"Blad3!H3126","v":"-"},{"$f":"Tidsram!$B$2","v":0},{"$f":"Tidsram!$B$3","v":0},{"$f":"Blad3!G3126","v":0}]
[{"$f":"Blad3!H3127","v":"-"},{"$f":"Tidsram!$B$2","v":0},{"$f":"Tidsram!$B$3","v":0},{"$f":"Blad3!G3127","v":0}]
[{"$f":"Blad3!H3128","v":"-"},{"$f":"Tidsram!$B$2","v":0},{"$f":"Tidsram!$B$3","v":0},{"$f":"Blad3!G3128","v":0}]
[{"$f":"Blad3!H3129","v":"-"},{"$f":"Tidsram!$B$2","v":0},{"$f":"Tidsram!$B$3","v":0},{"$f":"Blad3!G3129","v":0}]
[{"$f":"Blad3!H3130","v":"-"},{"$f":"Tidsram!$B$2","v":0},{"$f":"Tidsram!$B$3","v":0},{"$f":"Blad3!G3130","v":0}]
[{"$f":"Blad3!H3131","v":"-"},{"$f":"Tidsram!$B$2","v":0},{"$f":"Tidsram!$B$3","v":0},{"$f":"Blad3!G3131","v":0}]
[{"$f":"Blad3!H3132","v":"-"},{"$f":"Tidsram!$B$2","v":0},{"$f":"Tidsram!$B$3","v":0},{"$f":"Blad3!G3132","v":0}]
[{"$f":"Blad3!H3133","v":"-"},{"$f":"Tidsram!$B$2","v":0},{"$f":"Tidsram!$B$3","v":0},{"$f":"Blad3!G3133","v":0}]
[{"$f":"Blad3!H3134","v":"-"},{"$f":"Tidsram!$B$2","v":0},{"$f":"Tidsram!$B$3","v":0},{"$f":"Blad3!G3134","v":0}]
[{"$f":"Blad3!H3135","v":"-"},{"$f":"Tidsram!$B$2","v":0},{"$f":"Tidsram!$B$3","v":0},{"$f":"Blad3!G3135","v":0}]
[{"$f":"Blad3!H3136","v":"-"},{"$f":"Tidsram!$B$2","v":0},{"$f":"Tidsram!$B$3","v":0},{"$f":"Blad3!G3136","v":0}]
[{"$f":"Blad3!H3137","v":"-"},{"$f":"Tidsram!$B$2","v":0},{"$f":"Tidsram!$B$3","v":0},{"$f":"Blad3!G3137","v":0}]
[{"$f":"Blad3!H3138","v":"-"},{"$f":"Tidsram!$B$2","v":0},{"$f":"Tidsram!$B$3","v":0},{"$f":"Blad3!G3138","v":0}]
[{"$f":"Blad3!H3139","v":"-"},{"$f":"Tidsram!$B$2","v":0},{"$f":"Tidsram!$B$3","v":0},{"$f":"Blad3!G3139","v":0}]
[{"$f":"Blad3!H3140","v":"-"},{"$f":"Tidsram!$B$2","v":0},{"$f":"Tidsram!$B$3","v":0},{"$f":"Blad3!G3140","v":0}]
[{"$f":"Blad3!H3141","v":"-"},{"$f":"Tidsram!$B$2","v":0},{"$f":"Tidsram!$B$3","v":0},{"$f":"Blad3!G3141","v":0}]
[{"$f":"Blad3!H3142","v":"-"},{"$f":"Tidsram!$B$2","v":0},{"$f":"Tidsram!$B$3","v":0},{"$f":"Blad3!G3142","v":0}]
[{"$f":"Blad3!H3143","v":"-"},{"$f":"Tidsram!$B$2","v":0},{"$f":"Tidsram!$B$3","v":0},{"$f":"Blad3!G3143","v":0}]
[{"$f":"Blad3!H3144","v":"-"},{"$f":"Tidsram!$B$2","v":0},{"$f":"Tidsram!$B$3","v":0},{"$f":"Blad3!G3144","v":0}]
[{"$f":"Blad3!H3145","v":"-"},{"$f":"Tidsram!$B$2","v":0},{"$f":"Tidsram!$B$3","v":0},{"$f":"Blad3!G3145","v":0}]
[{"$f":"Blad3!H3146","v":"-"},{"$f":"Tidsram!$B$2","v":0},{"$f":"Tidsram!$B$3","v":0},{"$f":"Blad3!G3146","v":0}]
[{"$f":"Blad3!H3147","v":"-"},{"$f":"Tidsram!$B$2","v":0},{"$f":"Tidsram!$B$3","v":0},{"$f":"Blad3!G3147","v":0}]
[{"$f":"Blad3!H3148","v":"-"},{"$f":"Tidsram!$B$2","v":0},{"$f":"Tidsram!$B$3","v":0},{"$f":"Blad3!G3148","v":0}]
[{"$f":"Blad3!H3149","v":"-"},{"$f":"Tidsram!$B$2","v":0},{"$f":"Tidsram!$B$3","v":0},{"$f":"Blad3!G3149","v":0}]
[{"$f":"Blad3!H3150","v":"-"},{"$f":"Tidsram!$B$2","v":0},{"$f":"Tidsram!$B$3","v":0},{"$f":"Blad3!G3150","v":0}]
[{"$f":"Blad3!H3151","v":"-"},{"$f":"Tidsram!$B$2","v":0},{"$f":"Tidsram!$B$3","v":0},{"$f":"Blad3!G3151","v":0}]
[{"$f":"Blad3!H3152","v":"-"},{"$f":"Tidsram!$B$2","v":0},{"$f":"Tidsram!$B$3","v":0},{"$f":"Blad3!G3152","v":0}]
[{"$f":"Blad3!H3153","v":"-"},{"$f":"Tidsram!$B$2","v":0},{"$f":"Tidsram!$B$3","v":0},{"$f":"Blad3!G3153","v":0}]
[{"$f":"Blad3!H3154","v":"-"},{"$f":"Tidsram!$B$2","v":0},{"$f":"Tidsram!$B$3","v":0},{"$f":"Blad3!G3154","v":0}]
[{"$f":"Blad3!H3155","v":"-"},{"$f":"Tidsram!$B$2","v":0},{"$f":"Tidsram!$B$3","v":0},{"$f":"Blad3!G3155","v":0}]
[{"$f":"Blad3!H3156","v":"-"},{"$f":"Tidsram!$B$2","v":0},{"$f":"Tidsram!$B$3","v":0},{"$f":"Blad3!G3156","v":0}]
[{"$f":"Blad3!H3157","v":"-"},{"$f":"Tidsram!$B$2","v":0},{"$f":"Tidsram!$B$3","v":0},{"$f":"Blad3!G3157","v":0}]
[{"$f":"Blad3!H3158","v":"-"},{"$f":"Tidsram!$B$2","v":0},{"$f":"Tidsram!$B$3","v":0},{"$f":"Blad3!G3158","v":0}]
[{"$f":"Blad3!H3159","v":"-"},{"$f":"Tidsram!$B$2","v":0},{"$f":"Tidsram!$B$3","v":0},{"$f":"Blad3!G3159","v":0}]
[{"$f":"Blad3!H3160","v":"-"},{"$f":"Tidsram!$B$2","v":0},{"$f":"Tidsram!$B$3","v":0},{"$f":"Blad3!G3160","v":0}]
[{"$f":"Blad3!H3161","v":"-"},{"$f":"Tidsram!$B$2","v":0},{"$f":"Tidsram!$B$3","v":0},{"$f":"Blad3!G3161","v":0}]
[{"$f":"Blad3!H3162","v":"-"},{"$f":"Tidsram!$B$2","v":0},{"$f":"Tidsram!$B$3","v":0},{"$f":"Blad3!G3162","v":0}]
[{"$f":"Blad3!H3163","v":"-"},{"$f":"Tidsram!$B$2","v":0},{"$f":"Tidsram!$B$3","v":0},{"$f":"Blad3!G3163","v":0}]
[{"$f":"Blad3!H3164","v":"-"},{"$f":"Tidsram!$B$2","v":0},{"$f":"Tidsram!$B$3","v":0},{"$f":"Blad3!G3164","v":0}]
[{"$f":"Blad3!H3165","v":"-"},{"$f":"Tidsram!$B$2","v":0},{"$f":"Tidsram!$B$3","v":0},{"$f":"Blad3!G3165","v":0}]
[{"$f":"Blad3!H3166","v":"-"},{"$f":"Tidsram!$B$2","v":0},{"$f":"Tidsram!$B$3","v":0},{"$f":"Blad3!G3166","v":0}]
[{"$f":"Blad3!H3167","v":"-"},{"$f":"Tidsram!$B$2","v":0},{"$f":"Tidsram!$B$3","v":0},{"$f":"Blad3!G3167","v":0}]
[{"$f":"Blad3!H3168","v":"-"},{"$f":"Tidsram!$B$2","v":0},{"$f":"Tidsram!$B$3","v":0},{"$f":"Blad3!G3168","v":0}]
[{"$f":"Blad3!H3169","v":"-"},{"$f":"Tidsram!$B$2","v":0},{"$f":"Tidsram!$B$3","v":0},{"$f":"Blad3!G3169","v":0}]
[{"$f":"Blad3!H3170","v":"-"},{"$f":"Tidsram!$B$2","v":0},{"$f":"Tidsram!$B$3","v":0},{"$f":"Blad3!G3170","v":0}]
[{"$f":"Blad3!H3171","v":"-"},{"$f":"Tidsram!$B$2","v":0},{"$f":"Tidsram!$B$3","v":0},{"$f":"Blad3!G3171","v":0}]
[{"$f":"Blad3!H3172","v":"-"},{"$f":"Tidsram!$B$2","v":0},{"$f":"Tidsram!$B$3","v":0},{"$f":"Blad3!G3172","v":0}]
[{"$f":"Blad3!H3173","v":"-"},{"$f":"Tidsram!$B$2","v":0},{"$f":"Tidsram!$B$3","v":0},{"$f":"Blad3!G3173","v":0}]
[{"$f":"Blad3!H3174","v":"-"},{"$f":"Tidsram!$B$2","v":0},{"$f":"Tidsram!$B$3","v":0},{"$f":"Blad3!G3174","v":0}]
[{"$f":"Blad3!H3175","v":"-"},{"$f":"Tidsram!$B$2","v":0},{"$f":"Tidsram!$B$3","v":0},{"$f":"Blad3!G3175","v":0}]
[{"$f":"Blad3!H3176","v":"-"},{"$f":"Tidsram!$B$2","v":0},{"$f":"Tidsram!$B$3","v":0},{"$f":"Blad3!G3176","v":0}]
[{"$f":"Blad3!H3177","v":"-"},{"$f":"Tidsram!$B$2","v":0},{"$f":"Tidsram!$B$3","v":0},{"$f":"Blad3!G3177","v":0}]
[{"$f":"Blad3!H3178","v":"-"},{"$f":"Tidsram!$B$2","v":0},{"$f":"Tidsram!$B$3","v":0},{"$f":"Blad3!G3178","v":0}]
[{"$f":"Blad3!H3179","v":"-"},{"$f":"Tidsram!$B$2","v":0},{"$f":"Tidsram!$B$3","v":0},{"$f":"Blad3!G3179","v":0}]
[{"$f":"Blad3!H3180","v":"-"},{"$f":"Tidsram!$B$2","v":0},{"$f":"Tidsram!$B$3","v":0},{"$f":"Blad3!G3180","v":0}]
[{"$f":"Blad3!H3181","v":"-"},{"$f":"Tidsram!$B$2","v":0},{"$f":"Tidsram!$B$3","v":0},{"$f":"Blad3!G3181","v":0}]
[{"$f":"Blad3!H3182","v":"-"},{"$f":"Tidsram!$B$2","v":0},{"$f":"Tidsram!$B$3","v":0},{"$f":"Blad3!G3182","v":0}]
[{"$f":"Blad3!H3183","v":"-"},{"$f":"Tidsram!$B$2","v":0},{"$f":"Tidsram!$B$3","v":0},{"$f":"Blad3!G3183","v":0}]
[{"$f":"Blad3!H3184","v":"-"},{"$f":"Tidsram!$B$2","v":0},{"$f":"Tidsram!$B$3","v":0},{"$f":"Blad3!G3184","v":0}]
[{"$f":"Blad3!H3185","v":"-"},{"$f":"Tidsram!$B$2","v":0},{"$f":"Tidsram!$B$3","v":0},{"$f":"Blad3!G3185","v":0}]
[{"$f":"Blad3!H3186","v":"-"},{"$f":"Tidsram!$B$2","v":0},{"$f":"Tidsram!$B$3","v":0},{"$f":"Blad3!G3186","v":0}]
[{"$f":"Blad3!H3187","v":"-"},{"$f":"Tidsram!$B$2","v":0},{"$f":"Tidsram!$B$3","v":0},{"$f":"Blad3!G3187","v":0}]
[{"$f":"Blad3!H3188","v":"-"},{"$f":"Tidsram!$B$2","v":0},{"$f":"Tidsram!$B$3","v":0},{"$f":"Blad3!G3188","v":0}]
[{"$f":"Blad3!H3189","v":"-"},{"$f":"Tidsram!$B$2","v":0},{"$f":"Tidsram!$B$3","v":0},{"$f":"Blad3!G3189","v":0}]
[{"$f":"Blad3!H3190","v":"-"},{"$f":"Tidsram!$B$2","v":0},{"$f":"Tidsram!$B$3","v":0},{"$f":"Blad3!G3190","v":0}]
[{"$f":"Blad3!H3191","v":"-"},{"$f":"Tidsram!$B$2","v":0},{"$f":"Tidsram!$B$3","v":0},{"$f":"Blad3!G3191","v":0}]
[{"$f":"Blad3!H3192","v":"-"},{"$f":"Tidsram!$B$2","v":0},{"$f":"Tidsram!$B$3","v":0},{"$f":"Blad3!G3192","v":0}]
[{"$f":"Blad3!H3193","v":"-"},{"$f":"Tidsram!$B$2","v":0},{"$f":"Tidsram!$B$3","v":0},{"$f":"Blad3!G3193","v":0}]
[{"$f":"Blad3!H3194","v":"-"},{"$f":"Tidsram!$B$2","v":0},{"$f":"Tidsram!$B$3","v":0},{"$f":"Blad3!G3194","v":0}]
[{"$f":"Blad3!H3195","v":"-"},{"$f":"Tidsram!$B$2","v":0},{"$f":"Tidsram!$B$3","v":0},{"$f":"Blad3!G3195","v":0}]
[{"$f":"Blad3!H3196","v":"-"},{"$f":"Tidsram!$B$2","v":0},{"$f":"Tidsram!$B$3","v":0},{"$f":"Blad3!G3196","v":0}]
[{"$f":"Blad3!H3197","v":"-"},{"$f":"Tidsram!$B$2","v":0},{"$f":"Tidsram!$B$3","v":0},{"$f":"Blad3!G3197","v":0}]
[{"$f":"Blad3!H3198","v":"-"},{"$f":"Tidsram!$B$2","v":0},{"$f":"Tidsram!$B$3","v":0},{"$f":"Blad3!G3198","v":0}]
[{"$f":"Blad3!H3199","v":"-"},{"$f":"Tidsram!$B$2","v":0},{"$f":"Tidsram!$B$3","v":0},{"$f":"Blad3!G3199","v":0}]
[{"$f":"Blad3!H3200","v":"-"},{"$f":"Tidsram!$B$2","v":0},{"$f":"Tidsram!$B$3","v":0},{"$f":"Blad3!G3200","v":0}]
[{"$f":"Blad3!H3201","v":"-"},{"$f":"Tidsram!$B$2","v":0},{"$f":"Tidsram!$B$3","v":0},{"$f":"Blad3!G3201","v":0}]
[{"$f":"Blad3!H3202","v":"-"},{"$f":"Tidsram!$B$2","v":0},{"$f":"Tidsram!$B$3","v":0},{"$f":"Blad3!G3202","v":0}]
[{"$f":"Blad3!H3203","v":"-"},{"$f":"Tidsram!$B$2","v":0},{"$f":"Tidsram!$B$3","v":0},{"$f":"Blad3!G3203","v":0}]
[{"$f":"Blad3!H3204","v":"-"},{"$f":"Tidsram!$B$2","v":0},{"$f":"Tidsram!$B$3","v":0},{"$f":"Blad3!G3204","v":0}]
[{"$f":"Blad3!H3205","v":"-"},{"$f":"Tidsram!$B$2","v":0},{"$f":"Tidsram!$B$3","v":0},{"$f":"Blad3!G3205","v":0}]
[{"$f":"Blad3!H3206","v":"-"},{"$f":"Tidsram!$B$2","v":0},{"$f":"Tidsram!$B$3","v":0},{"$f":"Blad3!G3206","v":0}]
[{"$f":"Blad3!H3207","v":"-"},{"$f":"Tidsram!$B$2","v":0},{"$f":"Tidsram!$B$3","v":0},{"$f":"Blad3!G3207","v":0}]
[{"$f":"Blad3!H3208","v":"-"},{"$f":"Tidsram!$B$2","v":0},{"$f":"Tidsram!$B$3","v":0},{"$f":"Blad3!G3208","v":0}]
[{"$f":"Blad3!H3209","v":"-"},{"$f":"Tidsram!$B$2","v":0},{"$f":"Tidsram!$B$3","v":0},{"$f":"Blad3!G3209","v":0}]
[{"$f":"Blad3!H3210","v":"-"},{"$f":"Tidsram!$B$2","v":0},{"$f":"Tidsram!$B$3","v":0},{"$f":"Blad3!G3210","v":0}]
[{"$f":"Blad3!H3211","v":"-"},{"$f":"Tidsram!$B$2","v":0},{"$f":"Tidsram!$B$3","v":0},{"$f":"Blad3!G3211","v":0}]
[{"$f":"Blad3!H3212","v":"-"},{"$f":"Tidsram!$B$2","v":0},{"$f":"Tidsram!$B$3","v":0},{"$f":"Blad3!G3212","v":0}]
[{"$f":"Blad3!H3213","v":"-"},{"$f":"Tidsram!$B$2","v":0},{"$f":"Tidsram!$B$3","v":0},{"$f":"Blad3!G3213","v":0}]
[{"$f":"Blad3!H3214","v":"-"},{"$f":"Tidsram!$B$2","v":0},{"$f":"Tidsram!$B$3","v":0},{"$f":"Blad3!G3214","v":0}]
[{"$f":"Blad3!H3215","v":"-"},{"$f":"Tidsram!$B$2","v":0},{"$f":"Tidsram!$B$3","v":0},{"$f":"Blad3!G3215","v":0}]
[{"$f":"Blad3!H3216","v":"-"},{"$f":"Tidsram!$B$2","v":0},{"$f":"Tidsram!$B$3","v":0},{"$f":"Blad3!G3216","v":0}]
[{"$f":"Blad3!H3217","v":"-"},{"$f":"Tidsram!$B$2","v":0},{"$f":"Tidsram!$B$3","v":0},{"$f":"Blad3!G3217","v":0}]
[{"$f":"Blad3!H3218","v":"-"},{"$f":"Tidsram!$B$2","v":0},{"$f":"Tidsram!$B$3","v":0},{"$f":"Blad3!G3218","v":0}]
[{"$f":"Blad3!H3219","v":"-"},{"$f":"Tidsram!$B$2","v":0},{"$f":"Tidsram!$B$3","v":0},{"$f":"Blad3!G3219","v":0}]
[{"$f":"Blad3!H3220","v":"-"},{"$f":"Tidsram!$B$2","v":0},{"$f":"Tidsram!$B$3","v":0},{"$f":"Blad3!G3220","v":0}]
[{"$f":"Blad3!H3221","v":"-"},{"$f":"Tidsram!$B$2","v":0},{"$f":"Tidsram!$B$3","v":0},{"$f":"Blad3!G3221","v":0}]
[{"$f":"Blad3!H3222","v":"-"},{"$f":"Tidsram!$B$2","v":0},{"$f":"Tidsram!$B$3","v":0},{"$f":"Blad3!G3222","v":0}]
[{"$f":"Blad3!H3223","v":"-"},{"$f":"Tidsram!$B$2","v":0},{"$f":"Tidsram!$B$3","v":0},{"$f":"Blad3!G3223","v":0}]
[{"$f":"Blad3!H3224","v":"-"},{"$f":"Tidsram!$B$2","v":0},{"$f":"Tidsram!$B$3","v":0},{"$f":"Blad3!G3224","v":0}]
[{"$f":"Blad3!H3225","v":"-"},{"$f":"Tidsram!$B$2","v":0},{"$f":"Tidsram!$B$3","v":0},{"$f":"Blad3!G3225","v":0}]
[{"$f":"Blad3!H3226","v":"-"},{"$f":"Tidsram!$B$2","v":0},{"$f":"Tidsram!$B$3","v":0},{"$f":"Blad3!G3226","v":0}]
[{"$f":"Blad3!H3227","v":"-"},{"$f":"Tidsram!$B$2","v":0},{"$f":"Tidsram!$B$3","v":0},{"$f":"Blad3!G3227","v":0}]
[{"$f":"Blad3!H3228","v":"-"},{"$f":"Tidsram!$B$2","v":0},{"$f":"Tidsram!$B$3","v":0},{"$f":"Blad3!G3228","v":0}]
[{"$f":"Blad3!H3229","v":"-"},{"$f":"Tidsram!$B$2","v":0},{"$f":"Tidsram!$B$3","v":0},{"$f":"Blad3!G3229","v":0}]
[{"$f":"Blad3!H3230","v":"-"},{"$f":"Tidsram!$B$2","v":0},{"$f":"Tidsram!$B$3","v":0},{"$f":"Blad3!G3230","v":0}]
[{"$f":"Blad3!H3231","v":"-"},{"$f":"Tidsram!$B$2","v":0},{"$f":"Tidsram!$B$3","v":0},{"$f":"Blad3!G3231","v":0}]
[{"$f":"Blad3!H3232","v":"-"},{"$f":"Tidsram!$B$2","v":0},{"$f":"Tidsram!$B$3","v":0},{"$f":"Blad3!G3232","v":0}]
[{"$f":"Blad3!H3233","v":"-"},{"$f":"Tidsram!$B$2","v":0},{"$f":"Tidsram!$B$3","v":0},{"$f":"Blad3!G3233","v":0}]
[{"$f":"Blad3!H3234","v":"-"},{"$f":"Tidsram!$B$2","v":0},{"$f":"Tidsram!$B$3","v":0},{"$f":"Blad3!G3234","v":0}]
[{"$f":"Blad3!H3235","v":"-"},{"$f":"Tidsram!$B$2","v":0},{"$f":"Tidsram!$B$3","v":0},{"$f":"Blad3!G3235","v":0}]
[{"$f":"Blad3!H3236","v":"-"},{"$f":"Tidsram!$B$2","v":0},{"$f":"Tidsram!$B$3","v":0},{"$f":"Blad3!G3236","v":0}]
[{"$f":"Blad3!H3237","v":"-"},{"$f":"Tidsram!$B$2","v":0},{"$f":"Tidsram!$B$3","v":0},{"$f":"Blad3!G3237","v":0}]
[{"$f":"Blad3!H3238","v":"-"},{"$f":"Tidsram!$B$2","v":0},{"$f":"Tidsram!$B$3","v":0},{"$f":"Blad3!G3238","v":0}]
[{"$f":"Blad3!H3239","v":"-"},{"$f":"Tidsram!$B$2","v":0},{"$f":"Tidsram!$B$3","v":0},{"$f":"Blad3!G3239","v":0}]
[{"$f":"Blad3!H3240","v":"-"},{"$f":"Tidsram!$B$2","v":0},{"$f":"Tidsram!$B$3","v":0},{"$f":"Blad3!G3240","v":0}]
[{"$f":"Blad3!H3241","v":"-"},{"$f":"Tidsram!$B$2","v":0},{"$f":"Tidsram!$B$3","v":0},{"$f":"Blad3!G3241","v":0}]
[{"$f":"Blad3!H3242","v":"-"},{"$f":"Tidsram!$B$2","v":0},{"$f":"Tidsram!$B$3","v":0},{"$f":"Blad3!G3242","v":0}]
[{"$f":"Blad3!H3243","v":"-"},{"$f":"Tidsram!$B$2","v":0},{"$f":"Tidsram!$B$3","v":0},{"$f":"Blad3!G3243","v":0}]
[{"$f":"Blad3!H3244","v":"-"},{"$f":"Tidsram!$B$2","v":0},{"$f":"Tidsram!$B$3","v":0},{"$f":"Blad3!G3244","v":0}]
[{"$f":"Blad3!H3245","v":"-"},{"$f":"Tidsram!$B$2","v":0},{"$f":"Tidsram!$B$3","v":0},{"$f":"Blad3!G3245","v":0}]
[{"$f":"Blad3!H3246","v":"-"},{"$f":"Tidsram!$B$2","v":0},{"$f":"Tidsram!$B$3","v":0},{"$f":"Blad3!G3246","v":0}]
[{"$f":"Blad3!H3247","v":"-"},{"$f":"Tidsram!$B$2","v":0},{"$f":"Tidsram!$B$3","v":0},{"$f":"Blad3!G3247","v":0}]
[{"$f":"Blad3!H3248","v":"-"},{"$f":"Tidsram!$B$2","v":0},{"$f":"Tidsram!$B$3","v":0},{"$f":"Blad3!G3248","v":0}]
[{"$f":"Blad3!H3249","v":"-"},{"$f":"Tidsram!$B$2","v":0},{"$f":"Tidsram!$B$3","v":0},{"$f":"Blad3!G3249","v":0}]
[{"$f":"Blad3!H3250","v":"-"},{"$f":"Tidsram!$B$2","v":0},{"$f":"Tidsram!$B$3","v":0},{"$f":"Blad3!G3250","v":0}]
[{"$f":"Blad3!H3251","v":"-"},{"$f":"Tidsram!$B$2","v":0},{"$f":"Tidsram!$B$3","v":0},{"$f":"Blad3!G3251","v":0}]
[{"$f":"Blad3!H3252","v":"-"},{"$f":"Tidsram!$B$2","v":0},{"$f":"Tidsram!$B$3","v":0},{"$f":"Blad3!G3252","v":0}]
[{"$f":"Blad3!H3253","v":"-"},{"$f":"Tidsram!$B$2","v":0},{"$f":"Tidsram!$B$3","v":0},{"$f":"Blad3!G3253","v":0}]
[{"$f":"Blad3!H3254","v":"-"},{"$f":"Tidsram!$B$2","v":0},{"$f":"Tidsram!$B$3","v":0},{"$f":"Blad3!G3254","v":0}]
[{"$f":"Blad3!H3255","v":"-"},{"$f":"Tidsram!$B$2","v":0},{"$f":"Tidsram!$B$3","v":0},{"$f":"Blad3!G3255","v":0}]
[{"$f":"Blad3!H3256","v":"-"},{"$f":"Tidsram!$B$2","v":0},{"$f":"Tidsram!$B$3","v":0},{"$f":"Blad3!G3256","v":0}]
[{"$f":"Blad3!H3257","v":"-"},{"$f":"Tidsram!$B$2","v":0},{"$f":"Tidsram!$B$3","v":0},{"$f":"Blad3!G3257","v":0}]
[{"$f":"Blad3!H3258","v":"-"},{"$f":"Tidsram!$B$2","v":0},{"$f":"Tidsram!$B$3","v":0},{"$f":"Blad3!G3258","v":0}]
[{"$f":"Blad3!H3259","v":"-"},{"$f":"Tidsram!$B$2","v":0},{"$f":"Tidsram!$B$3","v":0},{"$f":"Blad3!G3259","v":0}]
[{"$f":"Blad3!H3260","v":"-"},{"$f":"Tidsram!$B$2","v":0},{"$f":"Tidsram!$B$3","v":0},{"$f":"Blad3!G3260","v":0}]
[{"$f":"Blad3!H3261","v":"-"},{"$f":"Tidsram!$B$2","v":0},{"$f":"Tidsram!$B$3","v":0},{"$f":"Blad3!G3261","v":0}]
[{"$f":"Blad3!H3262","v":"-"},{"$f":"Tidsram!$B$2","v":0},{"$f":"Tidsram!$B$3","v":0},{"$f":"Blad3!G3262","v":0}]
[{"$f":"Blad3!H3263","v":"-"},{"$f":"Tidsram!$B$2","v":0},{"$f":"Tidsram!$B$3","v":0},{"$f":"Blad3!G3263","v":0}]
[{"$f":"Blad3!H3264","v":"-"},{"$f":"Tidsram!$B$2","v":0},{"$f":"Tidsram!$B$3","v":0},{"$f":"Blad3!G3264","v":0}]
[{"$f":"Blad3!H3265","v":"-"},{"$f":"Tidsram!$B$2","v":0},{"$f":"Tidsram!$B$3","v":0},{"$f":"Blad3!G3265","v":0}]
[{"$f":"Blad3!H3266","v":"-"},{"$f":"Tidsram!$B$2","v":0},{"$f":"Tidsram!$B$3","v":0},{"$f":"Blad3!G3266","v":0}]
[{"$f":"Blad3!H3267","v":"-"},{"$f":"Tidsram!$B$2","v":0},{"$f":"Tidsram!$B$3","v":0},{"$f":"Blad3!G3267","v":0}]
[{"$f":"Blad3!H3268","v":"-"},{"$f":"Tidsram!$B$2","v":0},{"$f":"Tidsram!$B$3","v":0},{"$f":"Blad3!G3268","v":0}]
[{"$f":"Blad3!H3269","v":"-"},{"$f":"Tidsram!$B$2","v":0},{"$f":"Tidsram!$B$3","v":0},{"$f":"Blad3!G3269","v":0}]
[{"$f":"Blad3!H3270","v":"-"},{"$f":"Tidsram!$B$2","v":0},{"$f":"Tidsram!$B$3","v":0},{"$f":"Blad3!G3270","v":0}]
[{"$f":"Blad3!H3271","v":"-"},{"$f":"Tidsram!$B$2","v":0},{"$f":"Tidsram!$B$3","v":0},{"$f":"Blad3!G3271","v":0}]
[{"$f":"Blad3!H3272","v":"-"},{"$f":"Tidsram!$B$2","v":0},{"$f":"Tidsram!$B$3","v":0},{"$f":"Blad3!G3272","v":0}]
[{"$f":"Blad3!H3273","v":"-"},{"$f":"Tidsram!$B$2","v":0},{"$f":"Tidsram!$B$3","v":0},{"$f":"Blad3!G3273","v":0}]
[{"$f":"Blad3!H3274","v":"-"},{"$f":"Tidsram!$B$2","v":0},{"$f":"Tidsram!$B$3","v":0},{"$f":"Blad3!G3274","v":0}]
[{"$f":"Blad3!H3275","v":"-"},{"$f":"Tidsram!$B$2","v":0},{"$f":"Tidsram!$B$3","v":0},{"$f":"Blad3!G3275","v":0}]
[{"$f":"Blad3!H3276","v":"-"},{"$f":"Tidsram!$B$2","v":0},{"$f":"Tidsram!$B$3","v":0},{"$f":"Blad3!G3276","v":0}]
[{"$f":"Blad3!H3277","v":"-"},{"$f":"Tidsram!$B$2","v":0},{"$f":"Tidsram!$B$3","v":0},{"$f":"Blad3!G3277","v":0}]
[{"$f":"Blad3!H3278","v":"-"},{"$f":"Tidsram!$B$2","v":0},{"$f":"Tidsram!$B$3","v":0},{"$f":"Blad3!G3278","v":0}]
[{"$f":"Blad3!H3279","v":"-"},{"$f":"Tidsram!$B$2","v":0},{"$f":"Tidsram!$B$3","v":0},{"$f":"Blad3!G3279","v":0}]
[{"$f":"Blad3!H3280","v":"-"},{"$f":"Tidsram!$B$2","v":0},{"$f":"Tidsram!$B$3","v":0},{"$f":"Blad3!G3280","v":0}]
[{"$f":"Blad3!H3281","v":"-"},{"$f":"Tidsram!$B$2","v":0},{"$f":"Tidsram!$B$3","v":0},{"$f":"Blad3!G3281","v":0}]
[{"$f":"Blad3!H3282","v":"-"},{"$f":"Tidsram!$B$2","v":0},{"$f":"Tidsram!$B$3","v":0},{"$f":"Blad3!G3282","v":0}]
[{"$f":"Blad3!H3283","v":"-"},{"$f":"Tidsram!$B$2","v":0},{"$f":"Tidsram!$B$3","v":0},{"$f":"Blad3!G3283","v":0}]
[{"$f":"Blad3!H3284","v":"-"},{"$f":"Tidsram!$B$2","v":0},{"$f":"Tidsram!$B$3","v":0},{"$f":"Blad3!G3284","v":0}]
[{"$f":"Blad3!H3285","v":"-"},{"$f":"Tidsram!$B$2","v":0},{"$f":"Tidsram!$B$3","v":0},{"$f":"Blad3!G3285","v":0}]
[{"$f":"Blad3!H3286","v":"-"},{"$f":"Tidsram!$B$2","v":0},{"$f":"Tidsram!$B$3","v":0},{"$f":"Blad3!G3286","v":0}]
[{"$f":"Blad3!H3287","v":"-"},{"$f":"Tidsram!$B$2","v":0},{"$f":"Tidsram!$B$3","v":0},{"$f":"Blad3!G3287","v":0}]
[{"$f":"Blad3!H3288","v":"-"},{"$f":"Tidsram!$B$2","v":0},{"$f":"Tidsram!$B$3","v":0},{"$f":"Blad3!G3288","v":0}]
[{"$f":"Blad3!H3289","v":"-"},{"$f":"Tidsram!$B$2","v":0},{"$f":"Tidsram!$B$3","v":0},{"$f":"Blad3!G3289","v":0}]
[{"$f":"Blad3!H3290","v":"-"},{"$f":"Tidsram!$B$2","v":0},{"$f":"Tidsram!$B$3","v":0},{"$f":"Blad3!G3290","v":0}]
[{"$f":"Blad3!H3291","v":"-"},{"$f":"Tidsram!$B$2","v":0},{"$f":"Tidsram!$B$3","v":0},{"$f":"Blad3!G3291","v":0}]
[{"$f":"Blad3!H3292","v":"-"},{"$f":"Tidsram!$B$2","v":0},{"$f":"Tidsram!$B$3","v":0},{"$f":"Blad3!G3292","v":0}]
[{"$f":"Blad3!H3293","v":"-"},{"$f":"Tidsram!$B$2","v":0},{"$f":"Tidsram!$B$3","v":0},{"$f":"Blad3!G3293","v":0}]
[{"$f":"Blad3!H3294","v":"-"},{"$f":"Tidsram!$B$2","v":0},{"$f":"Tidsram!$B$3","v":0},{"$f":"Blad3!G3294","v":0}]
[{"$f":"Blad3!H3295","v":"-"},{"$f":"Tidsram!$B$2","v":0},{"$f":"Tidsram!$B$3","v":0},{"$f":"Blad3!G3295","v":0}]
[{"$f":"Blad3!H3296","v":"-"},{"$f":"Tidsram!$B$2","v":0},{"$f":"Tidsram!$B$3","v":0},{"$f":"Blad3!G3296","v":0}]
[{"$f":"Blad3!H3297","v":"-"},{"$f":"Tidsram!$B$2","v":0},{"$f":"Tidsram!$B$3","v":0},{"$f":"Blad3!G3297","v":0}]
[{"$f":"Blad3!H3298","v":"-"},{"$f":"Tidsram!$B$2","v":0},{"$f":"Tidsram!$B$3","v":0},{"$f":"Blad3!G3298","v":0}]
[{"$f":"Blad3!H3299","v":"-"},{"$f":"Tidsram!$B$2","v":0},{"$f":"Tidsram!$B$3","v":0},{"$f":"Blad3!G3299","v":0}]
[{"$f":"Blad3!H3300","v":"-"},{"$f":"Tidsram!$B$2","v":0},{"$f":"Tidsram!$B$3","v":0},{"$f":"Blad3!G3300","v":0}]
[{"$f":"Blad3!H3301","v":"-"},{"$f":"Tidsram!$B$2","v":0},{"$f":"Tidsram!$B$3","v":0},{"$f":"Blad3!G3301","v":0}]
[{"$f":"Blad3!H3302","v":"-"},{"$f":"Tidsram!$B$2","v":0},{"$f":"Tidsram!$B$3","v":0},{"$f":"Blad3!G3302","v":0}]
[{"$f":"Blad3!H3303","v":"-"},{"$f":"Tidsram!$B$2","v":0},{"$f":"Tidsram!$B$3","v":0},{"$f":"Blad3!G3303","v":0}]
[{"$f":"Blad3!H3304","v":"-"},{"$f":"Tidsram!$B$2","v":0},{"$f":"Tidsram!$B$3","v":0},{"$f":"Blad3!G3304","v":0}]
[{"$f":"Blad3!H3305","v":"-"},{"$f":"Tidsram!$B$2","v":0},{"$f":"Tidsram!$B$3","v":0},{"$f":"Blad3!G3305","v":0}]
[{"$f":"Blad3!H3306","v":"-"},{"$f":"Tidsram!$B$2","v":0},{"$f":"Tidsram!$B$3","v":0},{"$f":"Blad3!G3306","v":0}]
[{"$f":"Blad3!H3307","v":"-"},{"$f":"Tidsram!$B$2","v":0},{"$f":"Tidsram!$B$3","v":0},{"$f":"Blad3!G3307","v":0}]
[{"$f":"Blad3!H3308","v":"-"},{"$f":"Tidsram!$B$2","v":0},{"$f":"Tidsram!$B$3","v":0},{"$f":"Blad3!G3308","v":0}]
[{"$f":"Blad3!H3309","v":"-"},{"$f":"Tidsram!$B$2","v":0},{"$f":"Tidsram!$B$3","v":0},{"$f":"Blad3!G3309","v":0}]
[{"$f":"Blad3!H3310","v":"-"},{"$f":"Tidsram!$B$2","v":0},{"$f":"Tidsram!$B$3","v":0},{"$f":"Blad3!G3310","v":0}]
[{"$f":"Blad3!H3311","v":"-"},{"$f":"Tidsram!$B$2","v":0},{"$f":"Tidsram!$B$3","v":0},{"$f":"Blad3!G3311","v":0}]
[{"$f":"Blad3!H3312","v":"-"},{"$f":"Tidsram!$B$2","v":0},{"$f":"Tidsram!$B$3","v":0},{"$f":"Blad3!G3312","v":0}]
[{"$f":"Blad3!H3313","v":"-"},{"$f":"Tidsram!$B$2","v":0},{"$f":"Tidsram!$B$3","v":0},{"$f":"Blad3!G3313","v":0}]
[{"$f":"Blad3!H3314","v":"-"},{"$f":"Tidsram!$B$2","v":0},{"$f":"Tidsram!$B$3","v":0},{"$f":"Blad3!G3314","v":0}]
[{"$f":"Blad3!H3315","v":"-"},{"$f":"Tidsram!$B$2","v":0},{"$f":"Tidsram!$B$3","v":0},{"$f":"Blad3!G3315","v":0}]
[{"$f":"Blad3!H3316","v":"-"},{"$f":"Tidsram!$B$2","v":0},{"$f":"Tidsram!$B$3","v":0},{"$f":"Blad3!G3316","v":0}]
[{"$f":"Blad3!H3317","v":"-"},{"$f":"Tidsram!$B$2","v":0},{"$f":"Tidsram!$B$3","v":0},{"$f":"Blad3!G3317","v":0}]
[{"$f":"Blad3!H3318","v":"-"},{"$f":"Tidsram!$B$2","v":0},{"$f":"Tidsram!$B$3","v":0},{"$f":"Blad3!G3318","v":0}]
[{"$f":"Blad3!H3319","v":"-"},{"$f":"Tidsram!$B$2","v":0},{"$f":"Tidsram!$B$3","v":0},{"$f":"Blad3!G3319","v":0}]
[{"$f":"Blad3!H3320","v":"-"},{"$f":"Tidsram!$B$2","v":0},{"$f":"Tidsram!$B$3","v":0},{"$f":"Blad3!G3320","v":0}]
[{"$f":"Blad3!H3321","v":"-"},{"$f":"Tidsram!$B$2","v":0},{"$f":"Tidsram!$B$3","v":0},{"$f":"Blad3!G3321","v":0}]
[{"$f":"Blad3!H3322","v":"-"},{"$f":"Tidsram!$B$2","v":0},{"$f":"Tidsram!$B$3","v":0},{"$f":"Blad3!G3322","v":0}]
[{"$f":"Blad3!H3323","v":"-"},{"$f":"Tidsram!$B$2","v":0},{"$f":"Tidsram!$B$3","v":0},{"$f":"Blad3!G3323","v":0}]
[{"$f":"Blad3!H3324","v":"-"},{"$f":"Tidsram!$B$2","v":0},{"$f":"Tidsram!$B$3","v":0},{"$f":"Blad3!G3324","v":0}]
[{"$f":"Blad3!H3325","v":"-"},{"$f":"Tidsram!$B$2","v":0},{"$f":"Tidsram!$B$3","v":0},{"$f":"Blad3!G3325","v":0}]
[{"$f":"Blad3!H3326","v":"-"},{"$f":"Tidsram!$B$2","v":0},{"$f":"Tidsram!$B$3","v":0},{"$f":"Blad3!G3326","v":0}]
[{"$f":"Blad3!H3327","v":"-"},{"$f":"Tidsram!$B$2","v":0},{"$f":"Tidsram!$B$3","v":0},{"$f":"Blad3!G3327","v":0}]
[{"$f":"Blad3!H3328","v":"-"},{"$f":"Tidsram!$B$2","v":0},{"$f":"Tidsram!$B$3","v":0},{"$f":"Blad3!G3328","v":0}]
[{"$f":"Blad3!H3329","v":"-"},{"$f":"Tidsram!$B$2","v":0},{"$f":"Tidsram!$B$3","v":0},{"$f":"Blad3!G3329","v":0}]
[{"$f":"Blad3!H3330","v":"-"},{"$f":"Tidsram!$B$2","v":0},{"$f":"Tidsram!$B$3","v":0},{"$f":"Blad3!G3330","v":0}]
[{"$f":"Blad3!H3331","v":"-"},{"$f":"Tidsram!$B$2","v":0},{"$f":"Tidsram!$B$3","v":0},{"$f":"Blad3!G3331","v":0}]
[{"$f":"Blad3!H3332","v":"-"},{"$f":"Tidsram!$B$2","v":0},{"$f":"Tidsram!$B$3","v":0},{"$f":"Blad3!G3332","v":0}]
[{"$f":"Blad3!H3333","v":"-"},{"$f":"Tidsram!$B$2","v":0},{"$f":"Tidsram!$B$3","v":0},{"$f":"Blad3!G3333","v":0}]
[{"$f":"Blad3!H3334","v":"-"},{"$f":"Tidsram!$B$2","v":0},{"$f":"Tidsram!$B$3","v":0},{"$f":"Blad3!G3334","v":0}]
[{"$f":"Blad3!H3335","v":"-"},{"$f":"Tidsram!$B$2","v":0},{"$f":"Tidsram!$B$3","v":0},{"$f":"Blad3!G3335","v":0}]
[{"$f":"Blad3!H3336","v":"-"},{"$f":"Tidsram!$B$2","v":0},{"$f":"Tidsram!$B$3","v":0},{"$f":"Blad3!G3336","v":0}]
[{"$f":"Blad3!H3337","v":"-"},{"$f":"Tidsram!$B$2","v":0},{"$f":"Tidsram!$B$3","v":0},{"$f":"Blad3!G3337","v":0}]
[{"$f":"Blad3!H3338","v":"-"},{"$f":"Tidsram!$B$2","v":0},{"$f":"Tidsram!$B$3","v":0},{"$f":"Blad3!G3338","v":0}]
[{"$f":"Blad3!H3339","v":"-"},{"$f":"Tidsram!$B$2","v":0},{"$f":"Tidsram!$B$3","v":0},{"$f":"Blad3!G3339","v":0}]
[{"$f":"Blad3!H3340","v":"-"},{"$f":"Tidsram!$B$2","v":0},{"$f":"Tidsram!$B$3","v":0},{"$f":"Blad3!G3340","v":0}]
[{"$f":"Blad3!H3341","v":"-"},{"$f":"Tidsram!$B$2","v":0},{"$f":"Tidsram!$B$3","v":0},{"$f":"Blad3!G3341","v":0}]
[{"$f":"Blad3!H3342","v":"-"},{"$f":"Tidsram!$B$2","v":0},{"$f":"Tidsram!$B$3","v":0},{"$f":"Blad3!G3342","v":0}]
[{"$f":"Blad3!H3343","v":"-"},{"$f":"Tidsram!$B$2","v":0},{"$f":"Tidsram!$B$3","v":0},{"$f":"Blad3!G3343","v":0}]
[{"$f":"Blad3!H3344","v":"-"},{"$f":"Tidsram!$B$2","v":0},{"$f":"Tidsram!$B$3","v":0},{"$f":"Blad3!G3344","v":0}]
[{"$f":"Blad3!H3345","v":"-"},{"$f":"Tidsram!$B$2","v":0},{"$f":"Tidsram!$B$3","v":0},{"$f":"Blad3!G3345","v":0}]
[{"$f":"Blad3!H3346","v":"-"},{"$f":"Tidsram!$B$2","v":0},{"$f":"Tidsram!$B$3","v":0},{"$f":"Blad3!G3346","v":0}]
[{"$f":"Blad3!H3347","v":"-"},{"$f":"Tidsram!$B$2","v":0},{"$f":"Tidsram!$B$3","v":0},{"$f":"Blad3!G3347","v":0}]
[{"$f":"Blad3!H3348","v":"-"},{"$f":"Tidsram!$B$2","v":0},{"$f":"Tidsram!$B$3","v":0},{"$f":"Blad3!G3348","v":0}]
[{"$f":"Blad3!H3349","v":"-"},{"$f":"Tidsram!$B$2","v":0},{"$f":"Tidsram!$B$3","v":0},{"$f":"Blad3!G3349","v":0}]
[{"$f":"Blad3!H3350","v":"-"},{"$f":"Tidsram!$B$2","v":0},{"$f":"Tidsram!$B$3","v":0},{"$f":"Blad3!G3350","v":0}]
[{"$f":"Blad3!H3351","v":"-"},{"$f":"Tidsram!$B$2","v":0},{"$f":"Tidsram!$B$3","v":0},{"$f":"Blad3!G3351","v":0}]
[{"$f":"Blad3!H3352","v":"-"},{"$f":"Tidsram!$B$2","v":0},{"$f":"Tidsram!$B$3","v":0},{"$f":"Blad3!G3352","v":0}]
[{"$f":"Blad3!H3353","v":"-"},{"$f":"Tidsram!$B$2","v":0},{"$f":"Tidsram!$B$3","v":0},{"$f":"Blad3!G3353","v":0}]
[{"$f":"Blad3!H3354","v":"-"},{"$f":"Tidsram!$B$2","v":0},{"$f":"Tidsram!$B$3","v":0},{"$f":"Blad3!G3354","v":0}]
[{"$f":"Blad3!H3355","v":"-"},{"$f":"Tidsram!$B$2","v":0},{"$f":"Tidsram!$B$3","v":0},{"$f":"Blad3!G3355","v":0}]
[{"$f":"Blad3!H3356","v":"-"},{"$f":"Tidsram!$B$2","v":0},{"$f":"Tidsram!$B$3","v":0},{"$f":"Blad3!G3356","v":0}]
[{"$f":"Blad3!H3357","v":"-"},{"$f":"Tidsram!$B$2","v":0},{"$f":"Tidsram!$B$3","v":0},{"$f":"Blad3!G3357","v":0}]
[{"$f":"Blad3!H3358","v":"-"},{"$f":"Tidsram!$B$2","v":0},{"$f":"Tidsram!$B$3","v":0},{"$f":"Blad3!G3358","v":0}]
[{"$f":"Blad3!H3359","v":"-"},{"$f":"Tidsram!$B$2","v":0},{"$f":"Tidsram!$B$3","v":0},{"$f":"Blad3!G3359","v":0}]
[{"$f":"Blad3!H3360","v":"-"},{"$f":"Tidsram!$B$2","v":0},{"$f":"Tidsram!$B$3","v":0},{"$f":"Blad3!G3360","v":0}]
[{"$f":"Blad3!H3361","v":"-"},{"$f":"Tidsram!$B$2","v":0},{"$f":"Tidsram!$B$3","v":0},{"$f":"Blad3!G3361","v":0}]
[{"$f":"Blad3!H3362","v":"-"},{"$f":"Tidsram!$B$2","v":0},{"$f":"Tidsram!$B$3","v":0},{"$f":"Blad3!G3362","v":0}]
[{"$f":"Blad3!H3363","v":"-"},{"$f":"Tidsram!$B$2","v":0},{"$f":"Tidsram!$B$3","v":0},{"$f":"Blad3!G3363","v":0}]
[{"$f":"Blad3!H3364","v":"-"},{"$f":"Tidsram!$B$2","v":0},{"$f":"Tidsram!$B$3","v":0},{"$f":"Blad3!G3364","v":0}]
[{"$f":"Blad3!H3365","v":"-"},{"$f":"Tidsram!$B$2","v":0},{"$f":"Tidsram!$B$3","v":0},{"$f":"Blad3!G3365","v":0}]
[{"$f":"Blad3!H3366","v":"-"},{"$f":"Tidsram!$B$2","v":0},{"$f":"Tidsram!$B$3","v":0},{"$f":"Blad3!G3366","v":0}]
[{"$f":"Blad3!H3367","v":"-"},{"$f":"Tidsram!$B$2","v":0},{"$f":"Tidsram!$B$3","v":0},{"$f":"Blad3!G3367","v":0}]
[{"$f":"Blad3!H3368","v":"-"},{"$f":"Tidsram!$B$2","v":0},{"$f":"Tidsram!$B$3","v":0},{"$f":"Blad3!G3368","v":0}]
[{"$f":"Blad3!H3369","v":"-"},{"$f":"Tidsram!$B$2","v":0},{"$f":"Tidsram!$B$3","v":0},{"$f":"Blad3!G3369","v":0}]
[{"$f":"Blad3!H3370","v":"-"},{"$f":"Tidsram!$B$2","v":0},{"$f":"Tidsram!$B$3","v":0},{"$f":"Blad3!G3370","v":0}]
[{"$f":"Blad3!H3371","v":"-"},{"$f":"Tidsram!$B$2","v":0},{"$f":"Tidsram!$B$3","v":0},{"$f":"Blad3!G3371","v":0}]
[{"$f":"Blad3!H3372","v":"-"},{"$f":"Tidsram!$B$2","v":0},{"$f":"Tidsram!$B$3","v":0},{"$f":"Blad3!G3372","v":0}]
[{"$f":"Blad3!H3373","v":"-"},{"$f":"Tidsram!$B$2","v":0},{"$f":"Tidsram!$B$3","v":0},{"$f":"Blad3!G3373","v":0}]
[{"$f":"Blad3!H3374","v":"-"},{"$f":"Tidsram!$B$2","v":0},{"$f":"Tidsram!$B$3","v":0},{"$f":"Blad3!G3374","v":0}]
[{"$f":"Blad3!H3375","v":"-"},{"$f":"Tidsram!$B$2","v":0},{"$f":"Tidsram!$B$3","v":0},{"$f":"Blad3!G3375","v":0}]
[{"$f":"Blad3!H3376","v":"-"},{"$f":"Tidsram!$B$2","v":0},{"$f":"Tidsram!$B$3","v":0},{"$f":"Blad3!G3376","v":0}]
[{"$f":"Blad3!H3377","v":"-"},{"$f":"Tidsram!$B$2","v":0},{"$f":"Tidsram!$B$3","v":0},{"$f":"Blad3!G3377","v":0}]
[{"$f":"Blad3!H3378","v":"-"},{"$f":"Tidsram!$B$2","v":0},{"$f":"Tidsram!$B$3","v":0},{"$f":"Blad3!G3378","v":0}]
[{"$f":"Blad3!H3379","v":"-"},{"$f":"Tidsram!$B$2","v":0},{"$f":"Tidsram!$B$3","v":0},{"$f":"Blad3!G3379","v":0}]
[{"$f":"Blad3!H3380","v":"-"},{"$f":"Tidsram!$B$2","v":0},{"$f":"Tidsram!$B$3","v":0},{"$f":"Blad3!G3380","v":0}]
[{"$f":"Blad3!H3381","v":"-"},{"$f":"Tidsram!$B$2","v":0},{"$f":"Tidsram!$B$3","v":0},{"$f":"Blad3!G3381","v":0}]
[{"$f":"Blad3!H3382","v":"-"},{"$f":"Tidsram!$B$2","v":0},{"$f":"Tidsram!$B$3","v":0},{"$f":"Blad3!G3382","v":0}]
[{"$f":"Blad3!H3383","v":"-"},{"$f":"Tidsram!$B$2","v":0},{"$f":"Tidsram!$B$3","v":0},{"$f":"Blad3!G3383","v":0}]
[{"$f":"Blad3!H3384","v":"-"},{"$f":"Tidsram!$B$2","v":0},{"$f":"Tidsram!$B$3","v":0},{"$f":"Blad3!G3384","v":0}]
[{"$f":"Blad3!H3385","v":"-"},{"$f":"Tidsram!$B$2","v":0},{"$f":"Tidsram!$B$3","v":0},{"$f":"Blad3!G3385","v":0}]
[{"$f":"Blad3!H3386","v":"-"},{"$f":"Tidsram!$B$2","v":0},{"$f":"Tidsram!$B$3","v":0},{"$f":"Blad3!G3386","v":0}]
[{"$f":"Blad3!H3387","v":"-"},{"$f":"Tidsram!$B$2","v":0},{"$f":"Tidsram!$B$3","v":0},{"$f":"Blad3!G3387","v":0}]
[{"$f":"Blad3!H3388","v":"-"},{"$f":"Tidsram!$B$2","v":0},{"$f":"Tidsram!$B$3","v":0},{"$f":"Blad3!G3388","v":0}]
[{"$f":"Blad3!H3389","v":"-"},{"$f":"Tidsram!$B$2","v":0},{"$f":"Tidsram!$B$3","v":0},{"$f":"Blad3!G3389","v":0}]
[{"$f":"Blad3!H3390","v":"-"},{"$f":"Tidsram!$B$2","v":0},{"$f":"Tidsram!$B$3","v":0},{"$f":"Blad3!G3390","v":0}]
[{"$f":"Blad3!H3391","v":"-"},{"$f":"Tidsram!$B$2","v":0},{"$f":"Tidsram!$B$3","v":0},{"$f":"Blad3!G3391","v":0}]
[{"$f":"Blad3!H3392","v":"-"},{"$f":"Tidsram!$B$2","v":0},{"$f":"Tidsram!$B$3","v":0},{"$f":"Blad3!G3392","v":0}]
[{"$f":"Blad3!H3393","v":"-"},{"$f":"Tidsram!$B$2","v":0},{"$f":"Tidsram!$B$3","v":0},{"$f":"Blad3!G3393","v":0}]
[{"$f":"Blad3!H3394","v":"-"},{"$f":"Tidsram!$B$2","v":0},{"$f":"Tidsram!$B$3","v":0},{"$f":"Blad3!G3394","v":0}]
[{"$f":"Blad3!H3395","v":"-"},{"$f":"Tidsram!$B$2","v":0},{"$f":"Tidsram!$B$3","v":0},{"$f":"Blad3!G3395","v":0}]
[{"$f":"Blad3!H3396","v":"-"},{"$f":"Tidsram!$B$2","v":0},{"$f":"Tidsram!$B$3","v":0},{"$f":"Blad3!G3396","v":0}]
[{"$f":"Blad3!H3397","v":"-"},{"$f":"Tidsram!$B$2","v":0},{"$f":"Tidsram!$B$3","v":0},{"$f":"Blad3!G3397","v":0}]
[{"$f":"Blad3!H3398","v":"-"},{"$f":"Tidsram!$B$2","v":0},{"$f":"Tidsram!$B$3","v":0},{"$f":"Blad3!G3398","v":0}]
[{"$f":"Blad3!H3399","v":"-"},{"$f":"Tidsram!$B$2","v":0},{"$f":"Tidsram!$B$3","v":0},{"$f":"Blad3!G3399","v":0}]
[{"$f":"Blad3!H3400","v":"-"},{"$f":"Tidsram!$B$2","v":0},{"$f":"Tidsram!$B$3","v":0},{"$f":"Blad3!G3400","v":0}]
[{"$f":"Blad3!H3401","v":"-"},{"$f":"Tidsram!$B$2","v":0},{"$f":"Tidsram!$B$3","v":0},{"$f":"Blad3!G3401","v":0}]
[{"$f":"Blad3!H3402","v":"-"},{"$f":"Tidsram!$B$2","v":0},{"$f":"Tidsram!$B$3","v":0},{"$f":"Blad3!G3402","v":0}]
[{"$f":"Blad3!H3403","v":"-"},{"$f":"Tidsram!$B$2","v":0},{"$f":"Tidsram!$B$3","v":0},{"$f":"Blad3!G3403","v":0}]
[{"$f":"Blad3!H3404","v":"-"},{"$f":"Tidsram!$B$2","v":0},{"$f":"Tidsram!$B$3","v":0},{"$f":"Blad3!G3404","v":0}]
[{"$f":"Blad3!H3405","v":"-"},{"$f":"Tidsram!$B$2","v":0},{"$f":"Tidsram!$B$3","v":0},{"$f":"Blad3!G3405","v":0}]
[{"$f":"Blad3!H3406","v":"-"},{"$f":"Tidsram!$B$2","v":0},{"$f":"Tidsram!$B$3","v":0},{"$f":"Blad3!G3406","v":0}]
[{"$f":"Blad3!H3407","v":"-"},{"$f":"Tidsram!$B$2","v":0},{"$f":"Tidsram!$B$3","v":0},{"$f":"Blad3!G3407","v":0}]
[{"$f":"Blad3!H3408","v":"-"},{"$f":"Tidsram!$B$2","v":0},{"$f":"Tidsram!$B$3","v":0},{"$f":"Blad3!G3408","v":0}]
[{"$f":"Blad3!H3409","v":"-"},{"$f":"Tidsram!$B$2","v":0},{"$f":"Tidsram!$B$3","v":0},{"$f":"Blad3!G3409","v":0}]
[{"$f":"Blad3!H3410","v":"-"},{"$f":"Tidsram!$B$2","v":0},{"$f":"Tidsram!$B$3","v":0},{"$f":"Blad3!G3410","v":0}]
[{"$f":"Blad3!H3411","v":"-"},{"$f":"Tidsram!$B$2","v":0},{"$f":"Tidsram!$B$3","v":0},{"$f":"Blad3!G3411","v":0}]
[{"$f":"Blad3!H3412","v":"-"},{"$f":"Tidsram!$B$2","v":0},{"$f":"Tidsram!$B$3","v":0},{"$f":"Blad3!G3412","v":0}]
[{"$f":"Blad3!H3413","v":"-"},{"$f":"Tidsram!$B$2","v":0},{"$f":"Tidsram!$B$3","v":0},{"$f":"Blad3!G3413","v":0}]
[{"$f":"Blad3!H3414","v":"-"},{"$f":"Tidsram!$B$2","v":0},{"$f":"Tidsram!$B$3","v":0},{"$f":"Blad3!G3414","v":0}]
[{"$f":"Blad3!H3415","v":"-"},{"$f":"Tidsram!$B$2","v":0},{"$f":"Tidsram!$B$3","v":0},{"$f":"Blad3!G3415","v":0}]
[{"$f":"Blad3!H3416","v":"-"},{"$f":"Tidsram!$B$2","v":0},{"$f":"Tidsram!$B$3","v":0},{"$f":"Blad3!G3416","v":0}]
[{"$f":"Blad3!H3417","v":"-"},{"$f":"Tidsram!$B$2","v":0},{"$f":"Tidsram!$B$3","v":0},{"$f":"Blad3!G3417","v":0}]
[{"$f":"Blad3!H3418","v":"-"},{"$f":"Tidsram!$B$2","v":0},{"$f":"Tidsram!$B$3","v":0},{"$f":"Blad3!G3418","v":0}]
[{"$f":"Blad3!H3419","v":"-"},{"$f":"Tidsram!$B$2","v":0},{"$f":"Tidsram!$B$3","v":0},{"$f":"Blad3!G3419","v":0}]
[{"$f":"Blad3!H3420","v":"-"},{"$f":"Tidsram!$B$2","v":0},{"$f":"Tidsram!$B$3","v":0},{"$f":"Blad3!G3420","v":0}]
[{"$f":"Blad3!H3421","v":"-"},{"$f":"Tidsram!$B$2","v":0},{"$f":"Tidsram!$B$3","v":0},{"$f":"Blad3!G3421","v":0}]
[{"$f":"Blad3!H3422","v":"-"},{"$f":"Tidsram!$B$2","v":0},{"$f":"Tidsram!$B$3","v":0},{"$f":"Blad3!G3422","v":0}]
[{"$f":"Blad3!H3423","v":"-"},{"$f":"Tidsram!$B$2","v":0},{"$f":"Tidsram!$B$3","v":0},{"$f":"Blad3!G3423","v":0}]
[{"$f":"Blad3!H3424","v":"-"},{"$f":"Tidsram!$B$2","v":0},{"$f":"Tidsram!$B$3","v":0},{"$f":"Blad3!G3424","v":0}]
[{"$f":"Blad3!H3425","v":"-"},{"$f":"Tidsram!$B$2","v":0},{"$f":"Tidsram!$B$3","v":0},{"$f":"Blad3!G3425","v":0}]
[{"$f":"Blad3!H3426","v":"-"},{"$f":"Tidsram!$B$2","v":0},{"$f":"Tidsram!$B$3","v":0},{"$f":"Blad3!G3426","v":0}]
[{"$f":"Blad3!H3427","v":"-"},{"$f":"Tidsram!$B$2","v":0},{"$f":"Tidsram!$B$3","v":0},{"$f":"Blad3!G3427","v":0}]
[{"$f":"Blad3!H3428","v":"-"},{"$f":"Tidsram!$B$2","v":0},{"$f":"Tidsram!$B$3","v":0},{"$f":"Blad3!G3428","v":0}]
[{"$f":"Blad3!H3429","v":"-"},{"$f":"Tidsram!$B$2","v":0},{"$f":"Tidsram!$B$3","v":0},{"$f":"Blad3!G3429","v":0}]
[{"$f":"Blad3!H3430","v":"-"},{"$f":"Tidsram!$B$2","v":0},{"$f":"Tidsram!$B$3","v":0},{"$f":"Blad3!G3430","v":0}]
[{"$f":"Blad3!H3431","v":"-"},{"$f":"Tidsram!$B$2","v":0},{"$f":"Tidsram!$B$3","v":0},{"$f":"Blad3!G3431","v":0}]
[{"$f":"Blad3!H3432","v":"-"},{"$f":"Tidsram!$B$2","v":0},{"$f":"Tidsram!$B$3","v":0},{"$f":"Blad3!G3432","v":0}]
[{"$f":"Blad3!H3433","v":"-"},{"$f":"Tidsram!$B$2","v":0},{"$f":"Tidsram!$B$3","v":0},{"$f":"Blad3!G3433","v":0}]
[{"$f":"Blad3!H3434","v":"-"},{"$f":"Tidsram!$B$2","v":0},{"$f":"Tidsram!$B$3","v":0},{"$f":"Blad3!G3434","v":0}]
[{"$f":"Blad3!H3435","v":"-"},{"$f":"Tidsram!$B$2","v":0},{"$f":"Tidsram!$B$3","v":0},{"$f":"Blad3!G3435","v":0}]
[{"$f":"Blad3!H3436","v":"-"},{"$f":"Tidsram!$B$2","v":0},{"$f":"Tidsram!$B$3","v":0},{"$f":"Blad3!G3436","v":0}]
[{"$f":"Blad3!H3437","v":"-"},{"$f":"Tidsram!$B$2","v":0},{"$f":"Tidsram!$B$3","v":0},{"$f":"Blad3!G3437","v":0}]
[{"$f":"Blad3!H3438","v":"-"},{"$f":"Tidsram!$B$2","v":0},{"$f":"Tidsram!$B$3","v":0},{"$f":"Blad3!G3438","v":0}]
[{"$f":"Blad3!H3439","v":"-"},{"$f":"Tidsram!$B$2","v":0},{"$f":"Tidsram!$B$3","v":0},{"$f":"Blad3!G3439","v":0}]
[{"$f":"Blad3!H3440","v":"-"},{"$f":"Tidsram!$B$2","v":0},{"$f":"Tidsram!$B$3","v":0},{"$f":"Blad3!G3440","v":0}]
[{"$f":"Blad3!H3441","v":"-"},{"$f":"Tidsram!$B$2","v":0},{"$f":"Tidsram!$B$3","v":0},{"$f":"Blad3!G3441","v":0}]
[{"$f":"Blad3!H3442","v":"-"},{"$f":"Tidsram!$B$2","v":0},{"$f":"Tidsram!$B$3","v":0},{"$f":"Blad3!G3442","v":0}]
[{"$f":"Blad3!H3443","v":"-"},{"$f":"Tidsram!$B$2","v":0},{"$f":"Tidsram!$B$3","v":0},{"$f":"Blad3!G3443","v":0}]
[{"$f":"Blad3!H3444","v":"-"},{"$f":"Tidsram!$B$2","v":0},{"$f":"Tidsram!$B$3","v":0},{"$f":"Blad3!G3444","v":0}]
[{"$f":"Blad3!H3445","v":"-"},{"$f":"Tidsram!$B$2","v":0},{"$f":"Tidsram!$B$3","v":0},{"$f":"Blad3!G3445","v":0}]
[{"$f":"Blad3!H3446","v":"-"},{"$f":"Tidsram!$B$2","v":0},{"$f":"Tidsram!$B$3","v":0},{"$f":"Blad3!G3446","v":0}]
[{"$f":"Blad3!H3447","v":"-"},{"$f":"Tidsram!$B$2","v":0},{"$f":"Tidsram!$B$3","v":0},{"$f":"Blad3!G3447","v":0}]
[{"$f":"Blad3!H3448","v":"-"},{"$f":"Tidsram!$B$2","v":0},{"$f":"Tidsram!$B$3","v":0},{"$f":"Blad3!G3448","v":0}]
[{"$f":"Blad3!H3449","v":"-"},{"$f":"Tidsram!$B$2","v":0},{"$f":"Tidsram!$B$3","v":0},{"$f":"Blad3!G3449","v":0}]
[{"$f":"Blad3!H3450","v":"-"},{"$f":"Tidsram!$B$2","v":0},{"$f":"Tidsram!$B$3","v":0},{"$f":"Blad3!G3450","v":0}]
[{"$f":"Blad3!H3451","v":"-"},{"$f":"Tidsram!$B$2","v":0},{"$f":"Tidsram!$B$3","v":0},{"$f":"Blad3!G3451","v":0}]
[{"$f":"Blad3!H3452","v":"-"},{"$f":"Tidsram!$B$2","v":0},{"$f":"Tidsram!$B$3","v":0},{"$f":"Blad3!G3452","v":0}]
[{"$f":"Blad3!H3453","v":"-"},{"$f":"Tidsram!$B$2","v":0},{"$f":"Tidsram!$B$3","v":0},{"$f":"Blad3!G3453","v":0}]
[{"$f":"Blad3!H3454","v":"-"},{"$f":"Tidsram!$B$2","v":0},{"$f":"Tidsram!$B$3","v":0},{"$f":"Blad3!G3454","v":0}]
[{"$f":"Blad3!H3455","v":"-"},{"$f":"Tidsram!$B$2","v":0},{"$f":"Tidsram!$B$3","v":0},{"$f":"Blad3!G3455","v":0}]
[{"$f":"Blad3!H3456","v":"-"},{"$f":"Tidsram!$B$2","v":0},{"$f":"Tidsram!$B$3","v":0},{"$f":"Blad3!G3456","v":0}]
[{"$f":"Blad3!H3457","v":"-"},{"$f":"Tidsram!$B$2","v":0},{"$f":"Tidsram!$B$3","v":0},{"$f":"Blad3!G3457","v":0}]
[{"$f":"Blad3!H3458","v":"-"},{"$f":"Tidsram!$B$2","v":0},{"$f":"Tidsram!$B$3","v":0},{"$f":"Blad3!G3458","v":0}]
[{"$f":"Blad3!H3459","v":"-"},{"$f":"Tidsram!$B$2","v":0},{"$f":"Tidsram!$B$3","v":0},{"$f":"Blad3!G3459","v":0}]
[{"$f":"Blad3!H3460","v":"-"},{"$f":"Tidsram!$B$2","v":0},{"$f":"Tidsram!$B$3","v":0},{"$f":"Blad3!G3460","v":0}]
[{"$f":"Blad3!H3461","v":"-"},{"$f":"Tidsram!$B$2","v":0},{"$f":"Tidsram!$B$3","v":0},{"$f":"Blad3!G3461","v":0}]
[{"$f":"Blad3!H3462","v":"-"},{"$f":"Tidsram!$B$2","v":0},{"$f":"Tidsram!$B$3","v":0},{"$f":"Blad3!G3462","v":0}]
[{"$f":"Blad3!H3463","v":"-"},{"$f":"Tidsram!$B$2","v":0},{"$f":"Tidsram!$B$3","v":0},{"$f":"Blad3!G3463","v":0}]
[{"$f":"Blad3!H3464","v":"-"},{"$f":"Tidsram!$B$2","v":0},{"$f":"Tidsram!$B$3","v":0},{"$f":"Blad3!G3464","v":0}]
[{"$f":"Blad3!H3465","v":"-"},{"$f":"Tidsram!$B$2","v":0},{"$f":"Tidsram!$B$3","v":0},{"$f":"Blad3!G3465","v":0}]
[{"$f":"Blad3!H3466","v":"-"},{"$f":"Tidsram!$B$2","v":0},{"$f":"Tidsram!$B$3","v":0},{"$f":"Blad3!G3466","v":0}]
[{"$f":"Blad3!H3467","v":"-"},{"$f":"Tidsram!$B$2","v":0},{"$f":"Tidsram!$B$3","v":0},{"$f":"Blad3!G3467","v":0}]
[{"$f":"Blad3!H3468","v":"-"},{"$f":"Tidsram!$B$2","v":0},{"$f":"Tidsram!$B$3","v":0},{"$f":"Blad3!G3468","v":0}]
[{"$f":"Blad3!H3469","v":"-"},{"$f":"Tidsram!$B$2","v":0},{"$f":"Tidsram!$B$3","v":0},{"$f":"Blad3!G3469","v":0}]
[{"$f":"Blad3!H3470","v":"-"},{"$f":"Tidsram!$B$2","v":0},{"$f":"Tidsram!$B$3","v":0},{"$f":"Blad3!G3470","v":0}]
[{"$f":"Blad3!H3471","v":"-"},{"$f":"Tidsram!$B$2","v":0},{"$f":"Tidsram!$B$3","v":0},{"$f":"Blad3!G3471","v":0}]
[{"$f":"Blad3!H3472","v":"-"},{"$f":"Tidsram!$B$2","v":0},{"$f":"Tidsram!$B$3","v":0},{"$f":"Blad3!G3472","v":0}]
[{"$f":"Blad3!H3473","v":"-"},{"$f":"Tidsram!$B$2","v":0},{"$f":"Tidsram!$B$3","v":0},{"$f":"Blad3!G3473","v":0}]
[{"$f":"Blad3!H3474","v":"-"},{"$f":"Tidsram!$B$2","v":0},{"$f":"Tidsram!$B$3","v":0},{"$f":"Blad3!G3474","v":0}]
[{"$f":"Blad3!H3475","v":"-"},{"$f":"Tidsram!$B$2","v":0},{"$f":"Tidsram!$B$3","v":0},{"$f":"Blad3!G3475","v":0}]
[{"$f":"Blad3!H3476","v":"-"},{"$f":"Tidsram!$B$2","v":0},{"$f":"Tidsram!$B$3","v":0},{"$f":"Blad3!G3476","v":0}]
[{"$f":"Blad3!H3477","v":"-"},{"$f":"Tidsram!$B$2","v":0},{"$f":"Tidsram!$B$3","v":0},{"$f":"Blad3!G3477","v":0}]
[{"$f":"Blad3!H3478","v":"-"},{"$f":"Tidsram!$B$2","v":0},{"$f":"Tidsram!$B$3","v":0},{"$f":"Blad3!G3478","v":0}]
[{"$f":"Blad3!H3479","v":"-"},{"$f":"Tidsram!$B$2","v":0},{"$f":"Tidsram!$B$3","v":0},{"$f":"Blad3!G3479","v":0}]
[{"$f":"Blad3!H3480","v":"-"},{"$f":"Tidsram!$B$2","v":0},{"$f":"Tidsram!$B$3","v":0},{"$f":"Blad3!G3480","v":0}]
[{"$f":"Blad3!H3481","v":"-"},{"$f":"Tidsram!$B$2","v":0},{"$f":"Tidsram!$B$3","v":0},{"$f":"Blad3!G3481","v":0}]
[{"$f":"Blad3!H3482","v":"-"},{"$f":"Tidsram!$B$2","v":0},{"$f":"Tidsram!$B$3","v":0},{"$f":"Blad3!G3482","v":0}]
[{"$f":"Blad3!H3483","v":"-"},{"$f":"Tidsram!$B$2","v":0},{"$f":"Tidsram!$B$3","v":0},{"$f":"Blad3!G3483","v":0}]
[{"$f":"Blad3!H3484","v":"-"},{"$f":"Tidsram!$B$2","v":0},{"$f":"Tidsram!$B$3","v":0},{"$f":"Blad3!G3484","v":0}]
[{"$f":"Blad3!H3485","v":"-"},{"$f":"Tidsram!$B$2","v":0},{"$f":"Tidsram!$B$3","v":0},{"$f":"Blad3!G3485","v":0}]
[{"$f":"Blad3!H3486","v":"-"},{"$f":"Tidsram!$B$2","v":0},{"$f":"Tidsram!$B$3","v":0},{"$f":"Blad3!G3486","v":0}]
[{"$f":"Blad3!H3487","v":"-"},{"$f":"Tidsram!$B$2","v":0},{"$f":"Tidsram!$B$3","v":0},{"$f":"Blad3!G3487","v":0}]
[{"$f":"Blad3!H3488","v":"-"},{"$f":"Tidsram!$B$2","v":0},{"$f":"Tidsram!$B$3","v":0},{"$f":"Blad3!G3488","v":0}]
[{"$f":"Blad3!H3489","v":"-"},{"$f":"Tidsram!$B$2","v":0},{"$f":"Tidsram!$B$3","v":0},{"$f":"Blad3!G3489","v":0}]
[{"$f":"Blad3!H3490","v":"-"},{"$f":"Tidsram!$B$2","v":0},{"$f":"Tidsram!$B$3","v":0},{"$f":"Blad3!G3490","v":0}]
[{"$f":"Blad3!H3491","v":"-"},{"$f":"Tidsram!$B$2","v":0},{"$f":"Tidsram!$B$3","v":0},{"$f":"Blad3!G3491","v":0}]
[{"$f":"Blad3!H3492","v":"-"},{"$f":"Tidsram!$B$2","v":0},{"$f":"Tidsram!$B$3","v":0},{"$f":"Blad3!G3492","v":0}]
[{"$f":"Blad3!H3493","v":"-"},{"$f":"Tidsram!$B$2","v":0},{"$f":"Tidsram!$B$3","v":0},{"$f":"Blad3!G3493","v":0}]
[{"$f":"Blad3!H3494","v":"-"},{"$f":"Tidsram!$B$2","v":0},{"$f":"Tidsram!$B$3","v":0},{"$f":"Blad3!G3494","v":0}]
[{"$f":"Blad3!H3495","v":"-"},{"$f":"Tidsram!$B$2","v":0},{"$f":"Tidsram!$B$3","v":0},{"$f":"Blad3!G3495","v":0}]
[{"$f":"Blad3!H3496","v":"-"},{"$f":"Tidsram!$B$2","v":0},{"$f":"Tidsram!$B$3","v":0},{"$f":"Blad3!G3496","v":0}]
[{"$f":"Blad3!H3497","v":"-"},{"$f":"Tidsram!$B$2","v":0},{"$f":"Tidsram!$B$3","v":0},{"$f":"Blad3!G3497","v":0}]
[{"$f":"Blad3!H3498","v":"-"},{"$f":"Tidsram!$B$2","v":0},{"$f":"Tidsram!$B$3","v":0},{"$f":"Blad3!G3498","v":0}]
[{"$f":"Blad3!H3499","v":"-"},{"$f":"Tidsram!$B$2","v":0},{"$f":"Tidsram!$B$3","v":0},{"$f":"Blad3!G3499","v":0}]
[{"$f":"Blad3!H3500","v":"-"},{"$f":"Tidsram!$B$2","v":0},{"$f":"Tidsram!$B$3","v":0},{"$f":"Blad3!G3500","v":0}]
[{"$f":"Blad3!H3501","v":"-"},{"$f":"Tidsram!$B$2","v":0},{"$f":"Tidsram!$B$3","v":0},{"$f":"Blad3!G3501","v":0}]
[{"$f":"Blad3!H3502","v":"-"},{"$f":"Tidsram!$B$2","v":0},{"$f":"Tidsram!$B$3","v":0},{"$f":"Blad3!G3502","v":0}]
[{"$f":"Blad3!H3503","v":"-"},{"$f":"Tidsram!$B$2","v":0},{"$f":"Tidsram!$B$3","v":0},{"$f":"Blad3!G3503","v":0}]

{"sheet":"Blad2","index":5,"n_rows":0,"n_cols":0,"rows_kept":0,"cut":false,"hidden":true,"merged":[]}